{"text_format":"1","workbook":"xlsx","n_sheets":10,"sheets":["First","Yearly Data","Instructions","Signature","3.09.1","3.09.1a","3.09.2","3.09.3","Summary","Last"],"not_rendered":{"charts":0,"images":0,"macros":1,"external_links":0,"defined_names":12,"comments":0,"pivot_tables":0},"unopened":[],"bounds":{"document_bytes":16777216,"sheet_cells":100000,"rows_first":2000,"rows_last":500,"rows_between":2000,"halvings":0,"cell_chars":16384,"cell_head_chars":4096},"cells_cut":0,"cells_raw":0,"read":"whole","date_system":"1900"}

{"sheet":"First","index":0,"n_rows":1,"n_cols":1,"rows_kept":1,"cut":false,"hidden":true,"merged":[]}
["Do not delete sheet"]

{"sheet":"Yearly Data","index":1,"n_rows":86,"n_cols":5,"rows_kept":86,"cut":false,"hidden":true,"merged":[]}
["Year",2019,null,null,"Yes"]
["Beginning of Year","2018-07-01",null,null,"No"]
[]
[]
["The following information must be reviewed and updated as necessary annually:"]
[]
["AGCY  CODE","AGENCY NAME","FY Added"]
["A010","LEGISLATIVE DEPARTMENT - THE SENATE"]
["A050","LEGISLATIVE DEPARTMENT - HOUSE OF REPRESENTATIVES"]
["A150","LEGISLATIVE DEPARTMENT - CODIFICATION OF LAWS & LEGISLATIVE COUNCIL"]
["A170","LEGISLATIVE DEPARTMENT - LEGISLATIVE SERVICES AGENCY"]
["A200","LEGISLATIVE DEPARTMENT - LEGISLATIVE AUDIT COUNCIL"]
["A850","EDUCATION OVERSIGHT COMMITTEE"]
["B040","JUDICIAL DEPARTMENT"]
["C050","ADMINISTRATIVE LAW JUDGES"]
["D050","GOVERNOR'S OFFICE--EXECUTIVE CONTROL OF STATE"]
["D100","GOVERNOR'S OFFICE--STATE LAW ENFORCEMENT DIVISION"]
["D170","GOVERNOR'S OFFICE-- EXECUTIVE POLICY & PROGRAMS"]
["D200","GOVERNOR'S OFFICE--MANSION & GROUNDS"]
["D250","INSPECTOR GENERAL"]
["D500","DEPARTMENT OF ADMINSTRATION"]
["E040","LIEUTENANT GOVERNOR'S OFFICE"]
["E080","SECRETARY OF STATE'S OFFICE"]
["E120","COMPTROLLER GENERAL'S OFFICE\n"]
["E160","STATE TREASURER'S OFFICE                                                                       "]
["E190","RETIREMENT SYSTEM  INVESTMENT COMMISSION"]
["E200","ATTORNEY GENERAL'S OFFICE"]
["E210","PROSECUTION COORDINATION  COMMISSION"]
["E230","COMMISSION ON INDIGENT DEFENSE "]
["E240","ADJUTANT GENERAL'S OFFICE"]
["E280","ELECTION COMMISSION"]
["E500","REVENUE AND FISCAL AFFAIRS OFFICE"]
["E550","STATE FISCAL ACCOUNTABILITY AUTHORITY"]
["F270","STATE AUDITOR"]
["H030","COMMISSION ON HIGHER EDUCATION"]
["H060","HIGHER EDUCATION TUITION GRANTS COMMISSION"]
["H590","BOARD FOR TECHNICAL & COMPREHENSIVE EDUCATION"]
["H630","DEPARTMENT OF EDUCATION"]
["H670","EDUCATIONAL TELEVISION COMMISSION (ETV)"]
["H710","WIL LOU GRAY OPPORTUNITY SCHOOL"]
["H730","VOCATIONAL REHABILITATION"]
["H750","SCHOOL FOR THE DEAF AND BLIND"]
["H790","DEPARTMENT OF ARCHIVES AND HISTORY"]
["H870","STATE LIBRARY"]
["H910","ARTS COMMISSION"]
["H950","MUSEUM COMMISSION"]
["H960","CONFEDERATE RELIC ROOM AND MILITARY MUSEUM COMMISSION"]
["J020","DEPARTMENT OF HEALTH AND HUMAN SERVICES"]
["J040","DEPARTMENT OF HEALTH AND ENVIRONMENTAL CONTROL"]
["J120","DEPARTMENT OF MENTAL HEALTH"]
["J160","DEPARTMENT OF DISABILITIES AND SPECIAL NEEDS"]
["J200","DEPARTMENT OF ALCOHOL AND OTHER DRUG ABUSE SERVICES"]
["K050","DEPARTMENT OF PUBLIC SAFETY"]
["L040","DEPARTMENT OF SOCIAL SERVICES"]
["L060","DIVISION ON AGING",2019]
["L080","CHILDREN'S ADVOCACY",2019]
["L120","JOHN DE LA HOWE SCHOOL"]
["L240","COMMISSION FOR THE BLIND"]
["L360","HUMAN AFFAIRS COMMISSION"]
["L460","STATE COMMISSION FOR MINORITY AFFAIRS"]
["N040","DEPARTMENT OF CORRECTIONS"]
["N080","DEPARTMENT OF PROBATION, PAROLE AND PARDON"]
["N120","DEPARTMENT OF JUVENILE JUSTICE"]
["N200","LAW ENFORCEMENT TRAINING COUNCIL"]
["P120","FORESTRY COMMISSION"]
["P160","DEPARTMENT OF AGRICULTURE"]
["P240","DEPARTMENT OF NATURAL RESOURCES"]
["P260","SEA GRANT CONSORTIUM"]
["P280","DEPARTMENT OF PARKS, RECREATION AND TOURISM"]
["P320","DEPARTMENT OF COMMERCE"]
["P400","SOUTH CAROLINA CONSERVATION BANK"]
["P450","RURAL INFASTRUCTURE AUTHORITY"]
["R040","PUBLIC SERVICE COMMISSION"]
["R060","OFFICE OF REGULATORY STAFF"]
["R080","WORKER'S COMPENSATION COMMISSION"]
["R200","DEPARTMENT OF INSURANCE"]
["R230","BOARD OF FINANCIAL INSTITUTIONS"]
["R280","DEPARTMENT OF CONSUMER AFFAIRS"]
["R360","DEPARTMENT OF LABOR, LICENSING, AND REGULATION"]
["R400","DEPARTMENT OF MOTOR VEHICLES"]
["R440","DEPARTMENT OF REVENUE AND TAXATION"]
["R520","STATE ETHICS COMMISSION"]
["R600","DEPARTMENT OF EMPLOYMENT WORKFORCE"]
["S600","PROCUREMENT REVIEW PANEL"]
["U300","AERONAUTICS DIVISION"]
["X440","AID TO SUBDIVISIONS--DEPARTMENT OF REVENUE   (Note 2)"]

{"sheet":"Instructions","index":2,"n_rows":100,"n_cols":8,"rows_kept":100,"cut":false,"hidden":false,"merged":[[99,1,99,10],[48,1,48,10],[47,2,47,10],[11,1,11,10]]}
["STATE OF SOUTH CAROLINA"]
["YEAR-END REPORTING PROCEDURES MANUAL"]
["SECTION 3.09, OPERATING LEASES REPORTING PACKAGE"]
[]
[]
[null,"PURPOSE and OBJECTIVES:"]
[null,"GAAP require the State disclose in the Notes to its financial statements the terms of  noncancelable "]
[null,"operating leases.  In addition to total rental expenditures for the current year, future minimum rental "]
[null,"payments are presented for each of the five succeeding fiscal years and in five year increments thereafter.  "]
[null,"Any payments for contingent rentals are required to be disclosed separately."]
[]
[null,"New for FY19 reporting and in preparation of GASB 87, copies of ALL leases must be submitted to the CG's office with this closing packet.  Those leases are to include contingent rental leases and long term future minimum lease payment leases reported on this packet."]
[]
[null,"INSTRUCTIONS FOR COMPLETION OF FORMS:"]
[null,"Operating Leases Summary Form - Lessee",null,null,null,null,null,"3.09.1"]
[null,"Use this form to report reconciled rent payments, contingent rents, and modifications of lease "]
[null,"terms (scheduled, unscheduled, permanent, or temporary). "]
[null,"● Complete the information indicated by the descriptions on the form."]
[null,"○   Features included in the form:"]
[null,"►    The year for reporting is provided as a drop-down menu selection."]
[null,"►    Responses to Yes/No questions are provided as drop-down menu selection."]
[null,"►    Based on the responses to the Yes/No question, instructions for the completion"]
[null,"of the remainder of the form will appear.  Follow those instructions."]
[null,"►    Under Part II make sure a rate or rate range is provided for each contingent lease line."]
[null,"If the space provided for submission of identified leases with scheduled rent increases or rent holidays "]
[null,"is insufficient to report all of your information, please create a list and attach it to the reporting package."]
[null,"Upon completion of the information requested:"]
[null,"● The individual completing the form should review the form for accuracy and completeness."]
[null,"● The Finance Director or Executive Director should review the form indicating agreement "]
[null,"with the information’s accuracy and completeness before sending it to the Comptroller General's "]
[null,"Office."]
[null,"● Both the preparer and approver certify that the information provided on this reporting package"]
[null,"is complete and accurate to the best of their knowledge."]
[null,"● Send the completed form to the Comptroller General's Office no later than August 23."]
[null,"● The agency should retain a copy of the completed form as part of its year-end working papers.  The "]
[null,"Comptroller General's Office will contact the individual completing the form if there are any "]
[null,"questions. "]
[]
[null,"Operating Leases Future Minimum Payment Schedule",null,null,null,null,null,"3.09.1a"]
[null,"Use this form to report required minimum lease payments and future minimum lease payments in accordance "]
[null,"the terms of the lease agreement.  "]
[null,"● Complete the information indicated by the descriptions on the form."]
[null,"○   Features included in the form:"]
[null,"►    The year for reporting is derived from the selection on 3.09.1."]
[null,"►    The Business Area and Name of the Agency is derived from the input on 3.09.1."]
[null,"►    Responses to Yes/No questions are provided as drop-down menu selection."]
[null,"►    The schedule of years for which information is requested is driven from the year for reporting."]
[null,"  ","Critical this year- make sure effective date, expiration date, periodic minimum payment, frequency of payment, Does payment amount change, along with the is the lease prepaid columns are completed correctly because these columns are used in the calculation to derive the notes column."]
[null,"    ►    The total for each year is a calculated field, please confirm its accuracy.  The notes column has been  added to assist with accuracy of reporting."]
[null,"►    The total for each year is a calculated field, please confirm its accuracy.","  Make sure the column \"Is the lease prepaid?\" properly completed for each lease."]
[null,"● Create as many copies of the form as is needed to report all of the active leases.  Provide a count of "]
[null,"the number of schedules in the Part ___ of ___ section."]
[null,"Upon completion of the information requested:"]
[null,"● The individual completing the form should review the form for accuracy and completeness."]
[null,"● The Finance Director or Executive Director should review the form indicating agreement "]
[null,"with the information’s accuracy and completeness before sending it to the Comptroller General's Office."]
[null,"● Both the preparer and approver certify that the information provided on this reporting package"]
[null,"is complete and accurate to the best of their knowledge."]
[null,"● Send the completed form to the Comptroller General's Office no later than August 23."]
[null,"● The agency should retain a copy of the completed form as part of its year-end working papers.  The "]
[null,"Comptroller General's Office will contact the individual completing the form if there are any "]
[null,"questions. "]
[]
[null,"Operating Leases Summary Form - Lessor",null,null,null,null,null,"3.09.2"]
[null,"Use this form to report all lease transactions as the Lessor."]
[null,"● Complete the information indicated by the descriptions on the form."]
[null,"○   Features included in the form:"]
[null,"►    The year for reporting is provided as a drop-down menu selection."]
[null,"►    A validation check is provided for keying errors in Fund Number."]
[null,"►    An edit check is provided to restrict entry to whole numbers only."]
[null,"►    The schedule of years for which information is requested is driven from the year for reporting."]
[null,"►    The totals are calculated fields, please confirm accuracy of the calculation."]
[null,"►    Responses to Yes/No questions are provided as drop-down menu selection."]
[null,"►    Based on the response to the Yes/No question, instructions for the completion"]
[null,"of the remainder of the form will appear.  Follow those instructions."]
[null,"Upon completion of the information requested:"]
[null,"● The individual completing the form should review the form for accuracy and completeness."]
[null,"● The Finance Director or Executive Director should review the form indicating agreement "]
[null,"with the information’s accuracy and completeness before sending it to the Comptroller General's "]
[null,"Office."]
[null,"● Both the preparer and approver certify that the information provided on this reporting package"]
[null,"is complete and accurate to the best of their knowledge."]
[null,"● Send the completed form to the Comptroller General's Office no later than August 23."]
[null,"● The agency should retain a copy of the completed form as part of its year-end working papers.  The "]
[null,"Comptroller General's Office will contact the individual completing the form if there are any "]
[null,"questions. "]
[]
[null,"Reviewer's Checklist",null,null,null,null,null,"3.09.3"]
[null,"Use this Checklist as a mechanism for review.  It should be completed prior to reviewer's signature on"]
[null,"the information forms.  A No response indicates an error.  If errors are identified, return the package"]
[null,"to the preparer for correction prior to further review.  A N/A response requires documentation in writing "]
[null,"of an explanation why the question would not be applicable for the agency to be retained for audit purposes."]
[null,"►    The year for reporting has been derived from the selection made on 3.09.1 or 3.09.2"]
[null,"Upon completion of the checklist:"]
[null,"● A completed reviewer's checklist must accompany the agency submitted packet."]
[null,"● Retain a copy in the accounting records of the agency as documentation of the control procedure."]
[null,"● An auditor may request to examine the completed document."]
[]
[null,"Signature Sheet"]
[null,"Please complete this form and submit via PDF format.  It is the only form to be submitted in PDF format all other tabs are submitted in the excel format."]

{"sheet":"Signature","index":3,"n_rows":46,"n_cols":6,"rows_kept":46,"cut":false,"hidden":false,"merged":[[45,1,45,5],[42,1,42,5],[34,1,34,5],[36,1,36,5],[38,1,38,5],[40,1,40,5]]}
[null,null,"3.09 Operating Leases Reporting Packet"]
[]
[]
[null,null,"CAFR Reporting Period:",null,{"$f":"Year","v":2019}]
[null,null,"Agency Number:",null,null," "]
[null,null,"Agency Name",null,{"$f":"IF(ISERROR(VLOOKUP(AgencyCode,'Yearly Data'!A8:B86,2,FALSE))=TRUE,\"\",VLOOKUP(AgencyCode,'Yearly Data'!A8:B86,2,FALSE))","v":""}]
[]
[]
[]
[]
[]
[null,null,"Preparer","Date:",null," "]
[null,null,null,"Name:",null," "]
[null,null,null,"Title:",null," "]
[null,null,null,"e-mail:",null," "]
[null,null,null,"Phone Number:",null," "]
[null,null,null,"Signature:",null," "]
[]
[null,null,{"$f":"IF('3.09.3'!L66=TRUE,\"The review of the closing package is incomplete.\",\"\")","v":"The review of the closing package is incomplete."}]
[null,null,"Reviewer","Date:",null," "]
[null,null,null,"Name:",null," "]
[null,null,null,"Title:",null," "]
[null,null,null,"e-mail:",null," "]
[null,null,null,"Phone Number:",null," "]
[null,null,null,"Signature:",null," "]
[]
[null,null,"Signatures are an assertion of the accuracy and completeness of the information reported.  "]
[]
[]
[]
["Your signature on this form certifies that the information provided on the reporting packages is complete and accurate to the best of your knowledge."]
[]
["Representations made by signing as the approver:"]
[]
[null,"I acknowledge and have fulfilled the responsibility for implementation and maintenance of internal control relevant to the preparation and fair presentation of the year end packets that are free from material misstatement, whether due to fraud or error."]
[]
[null,"We have recorded or disclosed all accounting estimates that could be material to the financial statements in accordance with the requirements of U.S. GAAP. "]
[]
[null,"Related party relationships and transactions, including, but not limited to, revenues, expenditures/expenses, loans, transfers, leasing arrangements, and guarantees, and amounts receivable from or payable to related parties have been appropriately accounted for and disclosed in accordance with the requirements of U.S. GAAP."]
[]
[null,"All events occurring subsequent to the date of the financial statements and for which U.S. GAAP requires adjustment or disclosure have been adjusted or disclosed."]
[]
[null,"Guarantees, whether written or oral, under which the State is contingently liable, if any, have been properly recorded or disclosed in accordance with U.S. GAAP."]
[]
[]
[null,"Note: This is the ONLY form from packet 3.09 that is to be submitted in pdf format, all others are submitted via excel format."]

{"sheet":"3.09.1","index":4,"n_rows":82,"n_cols":28,"rows_kept":82,"cut":false,"hidden":false,"merged":[[84,2,84,5],[84,7,84,11],[84,14,84,22],[31,2,31,12],[32,2,32,12],[64,9,64,12],[65,9,65,12],[72,9,72,12],[73,9,73,12],[58,1,58,3],[46,14,46,15],[46,17,46,18],[46,20,46,23],[64,4,64,6],[65,4,65,6],[72,4,72,6],[58,5,58,9],[58,11,58,12],[58,14,58,15],[56,14,56,15],[53,11,53,12],[53,14,53,15],[71,4,71,6],[71,9,71,12],[86,7,86,11],[86,14,86,22],[17,18,17,21],[43,1,43,3],[43,5,43,9],[42,5,42,9],[41,1,41,3],[42,1,42,3],[43,11,43,12],[73,4,73,6],[75,4,75,6],[75,9,75,12],[82,7,82,11],[82,14,82,22],[85,2,85,5],[85,7,85,11],[85,14,85,22],[83,2,83,5],[83,7,83,11],[83,14,83,22],[58,17,58,18],[58,20,58,23],[54,1,54,3],[54,5,54,9],[86,2,86,5],[35,18,35,21],[31,18,31,21],[44,11,44,12],[53,1,53,3],[52,1,52,3],[52,5,52,9],[44,14,44,15],[44,17,44,18],[44,20,44,23],[45,5,45,9],[45,11,45,12],[45,14,45,15],[45,17,45,18],[45,20,45,23],[47,5,47,9],[47,11,47,12],[47,14,47,15],[52,11,52,12],[52,14,52,15],[52,17,52,18],[52,20,52,23],[56,17,56,18],[56,20,56,23],[53,5,53,9],[82,2,82,5],[63,9,63,12],[66,9,66,12],[67,9,67,12],[66,4,66,6],[57,11,57,12],[74,4,74,6],[74,9,74,12],[67,4,67,6],[54,11,54,12],[57,1,57,3],[57,5,57,9],[55,5,55,9],[55,11,55,12],[45,1,45,3],[47,1,47,3],[46,1,46,3],[46,5,46,9],[46,11,46,12],[49,1,49,3],[49,5,49,9],[49,11,49,12],[48,1,48,3],[48,5,48,9],[48,11,48,12],[47,17,47,18],[47,20,47,23],[49,17,49,18],[49,20,49,23],[48,17,48,18],[48,20,48,23],[51,11,51,12],[51,14,51,15],[51,17,51,18],[51,20,51,23],[50,17,50,18],[50,20,50,23],[50,1,50,3],[50,5,50,9],[50,11,50,12],[50,14,50,15],[63,4,63,6],[49,14,49,15],[53,17,53,18],[48,14,48,15],[53,20,53,23],[51,1,51,3],[51,5,51,9],[55,14,55,15],[55,17,55,18],[55,20,55,23],[57,14,57,15],[57,17,57,18],[57,20,57,23],[54,14,54,15],[54,17,54,18],[54,20,54,23],[56,1,56,3],[56,5,56,9],[56,11,56,12],[55,1,55,3],[10,5,10,15],[0,22,0,24],[2,22,2,24],[0,1,0,21],[5,2,5,3],[5,5,5,15],[1,1,1,21],[43,14,43,15],[33,18,33,21],[43,17,43,18],[43,20,43,23],[30,2,30,12],[33,2,33,12],[14,18,14,21],[42,11,42,12],[42,14,42,15],[42,17,42,18],[42,20,42,23],[16,18,16,21],[27,18,27,21],[8,5,8,15],[30,18,30,21],[32,18,32,21],[2,1,2,21],[44,5,44,9],[20,2,20,12],[20,18,20,21],[21,2,21,12],[21,18,21,21],[24,2,24,12],[24,18,24,21],[19,2,19,12],[19,18,19,21],[22,2,22,12],[22,18,22,21],[23,2,23,12],[23,18,23,21],[44,1,44,3],[26,18,26,21],[26,2,26,12],[27,2,27,12],[28,2,28,12],[28,18,28,21]]}
[null,"STATE OF SOUTH CAROLINA"]
[null,"OPERATING LEASES SUMMARY FORM- LESSEE"]
[null,{"$f":"\"FOR THE FISCAL YEAR ENDED JUNE 30, \"&Year","v":"FOR THE FISCAL YEAR ENDED JUNE 30, 2019"}]
[]
[]
["Agency:",null,{"$f":"IF(AgencyCode=\"\",\"\",AgencyCode)","v":""},null,null,{"$f":"IF(AgencyName=\"\",\"\",AgencyName)","v":""}]
[null,null,"Business Area",null,null,"Agency Name"]
[]
["Typed Preparer name:"]
[]
["Typed Reviewer name:"]
[]
[]
["I.","CURRENT RENT EXPENSE"]
[null,"Enter the total from the SCEIS report "]
[null,"Reconciliaton of amounts reported:"]
[null,"One time or unusual in nature rental payments"]
[null,"Contingent Rental Payments (ties to Part II below)",null,null,null,null,null,null,null,null,null,null,null,null,null,null,null,null,null,null,null,null,null,null,null,null,null,{"$f":"IF(S18=U59,\"\",\"Contingent Rental Payments does not agree to Part II below\")","v":""}]
[null,"Other detailed rental charges:"]
[null,null,"PO Box rentals"]
[null,null,"Month to month rentals "]
[null,null,"Cancelable leases as defined on page 72 & 85 of policy and procedure manual"]
[null,null,"payment for supplies"]
[null,null,"Other rental charges not classified above"]
[]
[null,"Items to be subtracted from the SCEIS report"]
[]
[]
[]
[null,"Items to be added to the SCEIS report"]
[]
[]
[]
[]
[]
[null,"Required minimum lease payments for operating leases (ties to column P on 3.09.1a)",null,null,null,null,null,null,null,null,null,null,null,null,null,null,null,null,{"$f":"S15-SUM(S17:V29)+SUM(S31:V34)","v":0},null,null,null,null,null,null,null,null,{"$f":"IF(S36=SUM(First:Last!V45),\"\",\"Balance does not agree to tabs 3.09.1a. Please investigate the difference of $\"&S36-SUM(First:Last!V45)&\".\")","v":""}]
[]
["II.","LEASES WITH CONTINGENT RENTS"]
[null,"Do any of the lease agreements contain contingent rents (see Reporting Manual for key terms.)?"]
[]
[null,"Copies of all leases reported below must be submitted with the closing packet."]
[null,"Agency Lease"]
[null,"ID Number",null,null,null,"Vendor Name/Number",null,null,null,null,null,"Effective",null,null,"Expiration",null,null,"Rate",null,null,"Current Yr Pmts"]
[]
[]
[]
[]
[]
[]
[]
[]
[]
[]
[]
[]
[]
[]
[]
[null,"Total",null,null,null,null,null,null,null,null,null,null,null,null,null,null,null,null,null,null,{"$f":"SUM(U44:X58)","v":0}]
[]
["III.","LEASES WITH SCHEDULED RENT INCREASES"]
[null,"Were any of the payments made during the year affected by a rate increase?"]
[]
[null,null,null,null,"Agency Lease ID Number"]
[null,null,null,null,"Agency Lease ID Number"]
[null,null,null,null,"Agency Lease ID Number"]
[null,null,null,null,"Agency Lease ID Number"]
[null,null,null,null,"Agency Lease ID Number"]
[]
[null,"Will any of the future minimum lease payments be affected by rate increases?"]
[]
[null,null,null,null,"Agency Lease ID Number"]
[null,null,null,null,"Agency Lease ID Number"]
[null,null,null,null,"Agency Lease ID Number"]
[null,null,null,null,"Agency Lease ID Number"]
[null,null,null,null,"Agency Lease ID Number"]
[]
["IV.","LEASES WITH RENT HOLIDAY PROVISIONS"]
[null,"Were the payments made during the year reduced by \"rent holiday\" (see Key Terms) provisions "]
[null,"or other adjustments?"]
[]
[null,null,"Agency Lease ID Number",null,null,null,null,"Amount of rent holiday",null,null,null,null,null,null,"Describe occurrence & expected recurrence"]

{"sheet":"3.09.1a","index":5,"n_rows":55,"n_cols":39,"rows_kept":55,"cut":false,"hidden":false,"merged":[[0,0,0,16],[1,0,1,16],[2,0,2,16],[33,33,33,35],[24,33,24,35],[20,29,20,31],[29,33,29,35],[31,23,31,25],[32,23,32,25],[33,23,33,25],[16,33,16,35],[26,23,26,25],[27,23,27,25],[28,23,28,25],[29,23,29,25],[30,23,30,25],[23,23,23,25],[18,23,18,25],[24,29,24,31],[18,33,18,35],[19,33,19,35],[20,33,20,35],[21,33,21,35],[22,33,22,35],[23,33,23,35],[22,29,22,31],[23,29,23,31],[21,29,21,31],[0,33,0,35],[2,31,2,35],[19,23,19,25],[18,29,18,31],[19,29,19,31],[18,26,18,28],[19,26,19,28],[25,33,25,35],[26,33,26,35],[40,29,40,31],[39,29,39,31],[26,29,26,31],[27,29,27,31],[28,29,28,31],[29,29,29,31],[30,29,30,31],[31,29,31,31],[32,29,32,31],[33,29,33,31],[34,29,34,31],[35,29,35,31],[36,29,36,31],[37,29,37,31],[25,29,25,31],[44,29,44,31],[44,33,44,35],[39,23,39,25],[39,26,39,28],[36,26,36,28],[37,26,37,28],[38,29,38,31],[41,29,41,31],[42,29,42,31],[38,23,38,25],[41,23,41,25],[42,23,42,25],[38,26,38,28],[41,26,41,28],[42,26,42,28],[40,23,40,25],[30,26,30,28],[31,26,31,28],[32,26,32,28],[34,26,34,28],[44,23,44,25],[44,26,44,28],[34,23,34,25],[35,23,35,25],[36,23,36,25],[37,23,37,25],[35,26,35,28],[40,26,40,28],[33,26,33,28],[26,26,26,28],[27,26,27,28],[5,5,5,9],[28,26,28,28],[29,26,29,28],[25,23,25,25],[25,26,25,28],[24,23,24,25],[20,26,20,28],[21,26,21,28],[22,26,22,28],[23,26,23,28],[24,26,24,28],[20,23,20,25],[21,23,21,25],[22,23,22,25]]}
["STATE OF SOUTH CAROLINA      "]
["OPERATING LEASES FUTURE MINIMUM PAYMENT SCHEDULE"]
[{"$f":"\"FOR THE FISCAL YEAR ENDED JUNE 30, \"&Year","v":"FOR THE FISCAL YEAR ENDED JUNE 30, 2019"}]
[]
[]
[null,2008,"Agency:  ",{"$f":"IF(AgencyCode=\"\",\"\",AgencyCode)","v":""},null,{"$f":"IF(AgencyName=\"\",\"\",AgencyName)","v":""},null,null,null,null,null,null,null,null,null,null,null,null,null,null,null,null,null,null,null,null,null,null,{"$f":"IF(($E$3-1)=\"\",\"\",\"Reporting Fiscal Year \"&Year)","v":"Reporting Fiscal Year 2019"}]
[null,null,null,"Business Area",null,"Agency Name",null,null,null,null,null,null,null,null,null,null,null,null,null,null,null,null,null,null,null,null,null,null,null,null,"Part",null,"of"]
[]
[null,null,"Typed preparer name:"]
[]
[null,null,"Typed reviewer name:"]
[]
[]
[null,"V.  LEASES WITH FUTURE MINIMUM LEASE PAYMENTS"]
[null,null,"Copies of all leases reported on this tab must be submitted with the closing packet."]
[null,null,"Agency   ",null,null,"Effective","Expiration","Periodic","Frequency","Does Pmt","Number of","Calculated",null,null,null,"Is lease","Current ",null,"Future Minimum Payments for Fiscal Years Ending June 30, "]
[null,null,"Lease ID","Description of Leased Property","Lessor (Vendor Pmts paid to)","Date","Date","Min Pmt","of Pmt","Amount Change","Payments","Payments","Variance",null,"Note","prepaid?","Expense",null,{"$f":"IF((Year-1)=\"\",\"\",(Year)+1)","v":2020},{"$f":"IF(S17=\"\",\"\",S17+1)","v":2021},{"$f":"IF(T17=\"\",\"\",T17+1)","v":2022},{"$f":"IF(U17=\"\",\"\",U17+1)","v":2023},{"$f":"IF(V17=\"\",\"\",V17+1)","v":2024},{"$f":"IF(W17=\"\",\"\",W17+1)","v":2025},"to",{"$f":"IF(X17=\"\",\"\",X17+4)","v":2029},{"$f":"IF(Z17=\"\",\"\",Z17+1)","v":2030},"to ",{"$f":"IF(AA17=\"\",\"\",AA17+4)","v":2034},{"$f":"IF(AC17=\"\",\"\",AC17+1)","v":2035},"to",{"$f":"IF(AD17=\"\",\"\",AD17+4)","v":2039},null,"Thereafter",null,null,null,null,"Explanation of Note"]
[]
[null,"1.",null,null,null,null,null,null,null,null,{"$f":"IF(ISERROR(IF(I19=\"\",\"\",IF(P19=\"No\",IF(I19=\"Monthly\",DATEDIF(MAX(F19,Beginning),G19,\"m\"),IF(I19=\"Quarterly\",FLOOR(((YEAR(G19)*12+MONTH(G19))-(YEAR(MAX(F19,Beginning))*12+MONTH(MAX(F19,Beginning))))/3,1),IF(I19=\"Semi-Annually\",FLOOR(((YEAR(G19)*12+MONTH(G19))-(YEAR(MAX(F19,Beginning))*12+MONTH(MAX(F19,Beginning))))/6,1),IF(I19=\"Annually\",FLOOR(((YEAR(G19)*12+MONTH(G19))-(YEAR(MAX(F19,Beginning))*12+MONTH(MAX(F19,Beginning))))/12,1),\"Please contact CG's Office\")))),IF(I19=\"Monthly\",DATEDIF(MAX(F19,Beginning),G19,\"m\"),IF(I19=\"Quarterly\",FLOOR(((YEAR(G19)*12+MONTH(G19))-(YEAR(MAX(F19,Beginning))*12+MONTH(MAX(F19,Beginning))))/3,1),IF(I19=\"Semi-Annually\",FLOOR(((YEAR(G19)*12+MONTH(G19))-(YEAR(MAX(F19,Beginning))*12+MONTH(MAX(F19,Beginning))))/6,1),IF(I19=\"Annually\",FLOOR(((YEAR(G19)*12+MONTH(G19))-(YEAR(MAX(F19,Beginning))*12+MONTH(MAX(F19,Beginning))))/12,1),\"Please contact CG's Office\"))))-1))+1)=TRUE,\"\",IF(I19=\"\",\"\",IF(P19=\"No\",IF(I19=\"Monthly\",DATEDIF(MAX(F19,Beginning),G19,\"m\"),IF(I19=\"Quarterly\",FLOOR(((YEAR(G19)*12+MONTH(G19))-(YEAR(MAX(F19,Beginning))*12+MONTH(MAX(F19,Beginning))))/3,1),IF(I19=\"Semi-Annually\",FLOOR(((YEAR(G19)*12+MONTH(G19))-(YEAR(MAX(F19,Beginning))*12+MONTH(MAX(F19,Beginning))))/6,1),IF(I19=\"Annually\",FLOOR(((YEAR(G19)*12+MONTH(G19))-(YEAR(MAX(F19,Beginning))*12+MONTH(MAX(F19,Beginning))))/12,1),\"Please contact CG's Office\")))),IF(I19=\"Monthly\",DATEDIF(MAX(F19,Beginning),G19,\"m\"),IF(I19=\"Quarterly\",FLOOR(((YEAR(G19)*12+MONTH(G19))-(YEAR(MAX(F19,Beginning))*12+MONTH(MAX(F19,Beginning))))/3,1),IF(I19=\"Semi-Annually\",FLOOR(((YEAR(G19)*12+MONTH(G19))-(YEAR(MAX(F19,Beginning))*12+MONTH(MAX(F19,Beginning))))/6,1),IF(I19=\"Annually\",FLOOR(((YEAR(G19)*12+MONTH(G19))-(YEAR(MAX(F19,Beginning))*12+MONTH(MAX(F19,Beginning))))/12,1),\"Please contact CG's Office\"))))-1))+1)","v":""},{"$f":"IF(I19=\"\",0,K19*H19)","v":0},{"$f":"Q19+S19+T19+U19+V19+W19+X19+AA19+AD19+AH19-L19","v":0},null,{"$f":"IF(F19=\"\",\"\",IF(J19=\"Yes\",IF(M19>=0,\"A\",\"B\"),IF(Q19=\"\",\"E\",IF(M19=0,\"C\",IF(M19>0,\"B\",\"D\")))))","v":""},null,null,"$",null,null,null,null,null,null,null,null,null,null,null,null,null,null,"$",null,null,null,null,null,{"$f":"IF(F19=\"\",\"\",IF(J19=\"Yes\",IF(M19>=0,\"Calculated payments are acceptable\",\"Calculated payments are greater than recorded payments.  Please verify the amounts.  This should only occur if payments are decreasing in future years.\"),IF(M19=0,\"Calculated payments equal reported payments\",\"Please correct reported payments.  Currently out of balance by \"&M19&\".\")))","v":""}]
[null,"2.",null,null,null,null,null,null,null,null,"",{"$f":"IF(I20=\"\",0,K20*H20)","v":0},{"$f":"Q20+S20+T20+U20+V20+W20+X20+AA20+AD20+AH20-L20","v":0},null,{"$f":"IF(F20=\"\",\"\",IF(J20=\"Yes\",IF(M20>=0,\"A\",\"B\"),IF(Q20=\"\",\"E\",IF(M20=0,\"C\",IF(M20>0,\"B\",\"D\")))))","v":""},null,null,"$",null,null,null,null,null,null,null,null,null,null,null,null,null,null,null,null,null,null,null,null,{"$f":"IF(F20=\"\",\"\",IF(J20=\"Yes\",IF(M20>=0,\"Calculated payments are acceptable\",\"Calculated payments are greater than recorded payments.  Please verify the amounts.  This should only occur if payments are decreasing in future years.\"),IF(M20=0,\"Calculated payments equal reported payments\",\"Please correct reported payments.  Currently out of balance by \"&M20&\".\")))","v":""}]
[null,"3.",null,null,null,null,null,null,null,null,"",0,0,null,"",null,null,"$",null,null,null,null,null,null,null,null,null,null,null,null,null,null,null,null,null,null,null,null,""]
[null,"4.",null,null,null,null,null,null,null,null,"",0,0,null,"",null,null,"$",null,null,null,null,null,null,null,null,null,null,null,null,null,null,null,null,null,null,null,null,""]
[null,"5.",null,null,null,null,null,null,null,null,"",0,0,null,"",null,null,"$",null,null,null,null,null,null,null,null,null,null,null,null,null,null,null,null,null,null,null,null,""]
[null,"6.",null,null,null,null,null,null,null,null,"",0,0,null,"",null,null,"$",null,null,null,null,null,null,null,null,null,null,null,null,null,null,null,null,null,null,null,null,""]
[null,"7.",null,null,null,null,null,null,null,null,"",0,0,null,"",null,null,"$",null,null,null,null,null,null,null,null,null,null,null,null,null,null,null,null,null,null,null,null,""]
[null,"8.",null,null,null,null,null,null,null,null,"",0,0,null,"",null,null,"$",null,null,null,null,null,null,null,null,null,null,null,null,null,null,null,null,null,null,null,null,""]
[null,"9.",null,null,null,null,null,null,null,null,"",0,0,null,"",null,null,"$",null,null,null,null,null,null,null,null,null,null,null,null,null,null,null,null,null,null,null,null,""]
[null,"10.",null,null,null,null,null,null,null,null,"",0,0,null,"",null,null,"$",null,null,null,null,null,null,null,null,null,null,null,null,null,null,null,null,null,null,null,null,""]
[null,"11.",null,null,null,null,null,null,null,null,"",0,0,null,"",null,null,"$",null,null,null,null,null,null,null,null,null,null,null,null,null,null,null,null,null,null,null,null,""]
[null,"12.",null,null,null,null,null,null,null,null,"",0,0,null,"",null,null,"$",null,null,null,null,null,null,null,null,null,null,null,null,null,null,null,null,null,null,null,null,""]
[null,"13.",null,null,null,null,null,null,null,null,"",0,0,null,"",null,null,"$",null,null,null,null,null,null,null,null,null,null,null,null,null,null,null,null,null,null,null,null,""]
[null,"14.",null,null,null,null,null,null,null,null,"",0,0,null,"",null,null,"$",null,null,null,null,null,null,null,null,null,null,null,null,null,null,null,null,null,null,null,null,""]
[null,"15.",null,null,null,null,null,null,null,null,"",0,0,null,"",null,null,"$",null,null,null,null,null,null,null,null,null,null,null,null,null,null,null,null,null,null,null,null,""]
[null,"16.",null,null,null,null,null,null,null,null,"",0,0,null,"",null,null,"$",null,null,null,null,null,null,null,null,null,null,null,null,null,null,null,null,null,null,null,null,""]
[null,"17.",null,null,null,null,null,null,null,null,"",0,0,null,"",null,null,"$",null,null,null,null,null,null,null,null,null,null,null,null,null,null,null,null,null,null,null,null,""]
[null,"18.",null,null,null,null,null,null,null,null,"",0,0,null,"",null,null,"$",null,null,null,null,null,null,null,null,null,null,null,null,null,null,null,null,null,null,null,null,""]
[null,"19.",null,null,null,null,null,null,null,null,"",0,0,null,"",null,null,"$",null,null,null,null,null,null,null,null,null,null,null,null,null,null,null,null,null,null,null,null,""]
[null,"20.",null,null,null,null,null,null,null,null,"",0,0,null,"",null,null,"$",null,null,null,null,null,null,null,null,null,null,null,null,null,null,null,null,null,null,null,null,""]
[null,"21.",null,null,null,null,null,null,null,null,"",0,0,null,"",null,null,"$",null,null,null,null,null,null,null,null,null,null,null,null,null,null,null,null,null,null,null,null,""]
[null,"22.",null,null,null,null,null,null,null,null,"",0,0,null,"",null,null,"$",null,null,null,null,null,null,null,null,null,null,null,null,null,null,null,null,null,null,null,null,""]
[null,"23.",null,null,null,null,null,null,null,null,"",0,0,null,"",null,null,"$",null,null,null,null,null,null,null,null,null,null,null,null,null,null,null,null,null,null,null,null,""]
[null,"24.",null,null,null,null,null,null,null,null,"",0,0,null,"",null,null,"$",null,null,null,null,null,null,null,null,null,null,null,null,null,null,null,null,null,null,null,null,""]
[null,"25.",null,null,null,null,null,null,null,null,"",0,0,null,"",null,null,"$",null,null,null,null,null,null,null,null,null,null,null,null,null,null,null,null,null,null,null,null,""]
[]
[null,null,"TOTAL (current year expense ties to Part I on 3.09.1)",null,null,null,null,null,null,null,null,null,null,null,null,null,{"$f":"SUM(Q19:Q43)","v":0},"$",{"$f":"SUM(S19:S43)","v":0},{"$f":"SUM(T19:T43)","v":0},{"$f":"SUM(U19:U43)","v":0},{"$f":"SUM(V19:V43)","v":0},{"$f":"SUM(W19:W43)","v":0},{"$f":"SUM(X19:Z44)","v":0},null,null,{"$f":"SUM(AA19:AC44)","v":0},null,null,{"$f":"SUM(AD19:AF44)","v":0},null,null,"$",{"$f":"SUM(AH19:AJ44)","v":0}]
[]
[null,null,"Explanation of Notes from above"]
[null,null,"A","Calculated payments are acceptable"]
[null,null,"B","Calculated payments are greater than recorded payments.  Please verify the amounts."]
[null,null,"C","Calculated payments equal reported payments"]
[null,null,"D","Calculated payments are less than recorded payments.  Please review future payment amounts."]
[null,null,"E","Please verify no current year expense."]
[]
[]
[null,null,null,"Note: For additional pages click the button to the right"]

{"sheet":"3.09.2","index":6,"n_rows":54,"n_cols":13,"rows_kept":54,"cut":false,"hidden":false,"merged":[[0,1,0,14],[1,1,1,14],[2,1,2,14],[35,12,35,13],[20,12,20,13],[6,5,6,8],[26,12,26,13],[23,2,23,5],[5,5,5,8],[22,12,22,13],[23,12,23,13],[24,12,24,13],[25,12,25,13],[24,2,24,5],[25,2,25,5],[8,5,8,8],[10,5,10,8],[36,12,36,13],[46,12,46,13],[55,2,55,4],[54,12,54,13],[55,12,55,13],[37,12,37,13],[38,12,38,13],[39,12,39,13],[40,12,40,13],[41,12,41,13],[42,12,42,13],[43,12,43,13],[45,12,45,13],[44,12,44,13]]}
[null,"STATE OF SOUTH CAROLINA"]
[null,"OPERATING LEASE SUMMARY FORM- LESSOR "]
[null,{"$f":"\"FOR THE FISCAL YEAR ENDED JUNE 30, \"&Year","v":"FOR THE FISCAL YEAR ENDED JUNE 30, 2019"}]
[]
[]
[null,null,"Agency:",{"$f":"IF(AgencyCode=\"\",\"\",AgencyCode)","v":""},null,{"$f":"IF(AgencyName=\"\",\"\",AgencyName)","v":""}]
[null,null,null,"Business Area",null,"Agency Name"]
[]
[null,null,"Typed preparer name:"]
[]
[null,null,"Typed reviewer name:"]
[]
[]
[null,null,"I.  TOTAL COST OF PROPERTY LEASED TO OTHERS UNDER OPERATING LEASES:"]
[]
[null,null,"Please list the total cost of the property your agency leases to non-State entities (or holds for leasing) under"]
[null,null,"operating leases by the following categories:"]
[]
[null,null,null,null,null,null,"if additional space is needed please, copy this form."]
[null,null,null,null,null,null,"Provide Fund Numbers in which the assets are recorded:"]
[]
[]
[null,null,"Land",null,null,"$",null,"$",null,"$",null,"$"]
[null,null,"Buildings"]
[null,null,"Equipment"]
[null,null,"Less:  Accumulated Depreciation"]
[null,null,"Total Carrying Amount",null,null,"$",{"$f":"SUM(G23:G25)-G26","v":0},"$",{"$f":"SUM(I23:I25)-I26","v":0},"$",{"$f":"SUM(K23:K25)-K26","v":0},"$",{"$f":"SUM(M23:M25)-M26","v":0}]
[]
[null,null,"II.  FUTURE RENTAL PAYMENTS TO BE RECEIVED:"]
[]
[null,null,"Minimum future rental payments to be received from non-State entities under non-cancelable"]
[null,null,"operating leases with future minimum rent payments as of June 30:"]
[]
[null,null,null,"Year",null,null,"if additional space is needed please, copy this form."]
[null,null,null,"Ending",null,null,"Provide Fund Numbers in which receipts are recorded:"]
[null,null,null,"June 30"]
[]
[null,null,null,{"$f":"IF(J3=\"\",\"\",J3+1)","v":""},null,"$",null,"$",null,"$",null,"$"]
[null,null,null,{"$f":"IF(D38=\"\",\"\",D38+1)","v":""}]
[null,null,null,{"$f":"IF(D39=\"\",\"\",D39+1)","v":""}]
[null,null,null,{"$f":"IF(D40=\"\",\"\",D40+1)","v":""}]
[null,null,null,{"$f":"IF(D41=\"\",\"\",D41+1)","v":""}]
[null,null,null,{"$f":"IF(D42=\"\",\"\",D42+1&\" - \"&D42+5)","v":""}]
[null,null,null,{"$f":"IF(D43=\"\",\"\",D42+6&\" - \"&D42+10)","v":""}]
[null,null,null,{"$f":"IF(D44=\"\",\"\",D42+11&\" - \"&D42+15)","v":""}]
[null,null,null,"Thereafter"]
[null,null,"Total minimum future rentals",null,null,"$",{"$f":"SUM(G38:G46)","v":0},"$",{"$f":"SUM(I38:I46)","v":0},"$",{"$f":"SUM(K38:K46)","v":0},"$",{"$f":"SUM(M38:M46)","v":0}]
[]
[null,null,"III.  LEASES WITH SCHEDULED RATE INCREASES:"]
[]
[null,null,"Do any noncancelable operating leases contain a provision for scheduled rent "]
[null,null,"increases?"]
[]
[null,null,null,{"$f":"IF(M52=\"\",\"\",IF(M52=\"Yes\",\"Attach a sheet identifying the leases with rate increase and provide the provisions.\",\"STOP.  Sign the form and submit for review.\"))","v":""}]

{"sheet":"3.09.3","index":7,"n_rows":66,"n_cols":12,"rows_kept":66,"cut":false,"hidden":false,"merged":[[0,0,0,12],[1,0,1,12],[2,0,2,12],[3,0,3,12],[35,1,35,9]]}
["STATE OF SOUTH CAROLINA"]
["OPERATING LEASES REPORTING PACKAGE"]
["REVIEWER CHECKLIST"]
[{"$f":"\"FISCAL YEAR \"&Year","v":"FISCAL YEAR 2019"}]
[]
["Agency:",null,{"$f":"IF(AgencyCode=\"\",\"\",AgencyCode)","v":""}]
[]
[null,null,null,null,"Date Last Review Step Was Completed:   "]
[]
[]
[]
["REVIEW STEP"]
["Responses for Lessee Reporting Package Form (Form 3.09.1):"]
[{"$f":"COUNT(A$13:A13)+1","v":1},"Can all amounts reported on the form be traced to the agency's accounting "]
[null,"records?"]
[]
[{"$f":"COUNT(A$13:A16)+1","v":2},"Was the rent expenditures reconciled to the SCEIS report provided by"]
[null,"the Comptroller General's Office?"]
[]
[{"$f":"COUNT(A$13:A19)+1","v":3},"Was the rent expenditures reconciled to the terms included in the operating"]
[null,"lease agreement?"]
[]
[{"$f":"COUNT(A$13:A22)+1","v":4},"Have all noncancelable operating leases effective on June 30 been included"]
[null,"on the form?"]
[]
[{"$f":"COUNT(A$13:A25)+1","v":5},"Are all of the leases in effect at June 30 included in the schedule?"]
[]
[{"$f":"COUNT(A$13:A27)+1","v":6},"Have the annual amounts been tested for clerical accuracy based on the"]
[null,"terms of the lease agreement?"]
[]
[{"$f":"COUNT(A$13:A30)+1","v":7},"Have the summations for the five-year intervals been tested for clerical "]
[null,"accuracy?"]
[]
[{"$f":"COUNT(A$13:A33)+1","v":8},"Have the calculated fields (Totals) been examined for accuracy?"]
[]
[{"$f":"COUNT(A$13:A34)+1","v":9},"Has a copy of all leases been provided for those reported under Part II on 3.09.1 and all lease reported on 3.09.1a?"]
[]
["Responses for Lessor Reporting Package Form (Form 3.09.2):"]
[{"$f":"COUNT(A$13:A38)+1","v":10},"Can all amounts reported on form be traced to the agency's accounting "]
[null,"records?"]
[]
[{"$f":"COUNT(A$13:A41)+1","v":11},"Are the funds numbers accurately reported?"]
[]
[{"$f":"COUNT(A$13:A43)+1","v":12},"Are all State-owned property for which the agency receives lease  "]
[null,"payments from non-State parties under operating leases and all"]
[null,"State-owned property held specifically for leasing under operating"]
[null,"leases to non-State parties, even if not currently leased, reported?"]
[]
[{"$f":"COUNT(A$13:A48)+1","v":13},"Have any cancelable leases been excluded from the reporting? "]
[]
[{"$f":"COUNT(A$13:A50)+1","v":14},"Have any leases entered after June 30 been excluded from the reporting?"]
[]
[{"$f":"COUNT(A$13:A52)+1","v":15},"Have contingent rental fees been excluded?"]
[]
[{"$f":"COUNT(A$13:A54)+1","v":16},"Have the calculated fields (Totals) been examined for accuracy?"]
[]
["Responses for All Lease Reporting Package Forms:"]
[{"$f":"COUNT(A$13:A57)+1","v":17},"Is the reviewer of the form someone other than the person who prepared it?"]
[]
[{"$f":"COUNT(A$13:A59)+1","v":18},"Has the balances and activity reporting been compared with the prior "]
[null,"year, documenting causes for any large fluctuations that can be easily "]
[null,"obtained and explained to individuals not familiar with the daily operations "]
[null,"of the agency?"]
[]
[]
[null,null,null,null,null,null,null,null,null,null,null,{"$f":"OR(C6=\"\",F8=\"\",L15=\"\",L18=\"\",L21=\"\",L24=\"\",L26=\"\",L29=\"\",L32=\"\",L34=\"\",L36=\"\",L40=\"\",L42=\"\",L47=\"\",L49=\"\",L51=\"\",L53=\"\",L55=\"\",L58=\"\",L63=\"\")","v":true}]

{"sheet":"Summary","index":8,"n_rows":251,"n_cols":24,"rows_kept":251,"cut":false,"hidden":true,"merged":[]}
["Business Area","Form","Line Numer","Agency Lease ID","Description of Leased Property","Lessor (Vendor Pmts paid to)","Effective Date","Expiration Date","Periodic Min Pmt","Frequency of Pmt","Does Pmt Amount Change","Note","Is Lease Prepaid","Current Expense",2020,2021,2022,2023,2024,"2025-2029","2030-2034","2035-2039","Thereafter","Explanation of Note"]
[{"$f":"AgencyCode","v":0},"3.09.1a",{"$f":"IF(ISERROR(INDIRECT(\"'3.09.1a'!b19\"))=TRUE,\"\",INDIRECT(\"'3.09.1a'!b19\"))","v":"1."},{"$f":"IF(ISERROR(INDIRECT(\"'3.09.1a'!c19\"))=TRUE,\"\",INDIRECT(\"'3.09.1a'!c19\"))","v":0},{"$f":"IF(ISERROR(INDIRECT(\"'3.09.1a'!D19\"))=TRUE,\"\",INDIRECT(\"'3.09.1a'!D19\"))","v":0},{"$f":"IF(ISERROR(INDIRECT(\"'3.09.1a'!e19\"))=TRUE,\"\",INDIRECT(\"'3.09.1a'!e19\"))","v":0},{"$f":"IF(ISERROR(INDIRECT(\"'3.09.1a'!f19\"))=TRUE,\"\",INDIRECT(\"'3.09.1a'!f19\"))","v":"00:00:00"},{"$f":"IF(ISERROR(INDIRECT(\"'3.09.1a'!g19\"))=TRUE,\"\",INDIRECT(\"'3.09.1a'!g19\"))","v":"00:00:00"},{"$f":"IF(ISERROR(INDIRECT(\"'3.09.1a'!h19\"))=TRUE,\"\",INDIRECT(\"'3.09.1a'!h19\"))","v":0},{"$f":"IF(ISERROR(INDIRECT(\"'3.09.1a'!i19\"))=TRUE,\"\",INDIRECT(\"'3.09.1a'!i19\"))","v":0},{"$f":"IF(ISERROR(INDIRECT(\"'3.09.1a'!j19\"))=TRUE,\"\",INDIRECT(\"'3.09.1a'!j19\"))","v":0},{"$f":"IF(ISERROR(INDIRECT(\"'3.09.1a'!o19\"))=TRUE,\"\",INDIRECT(\"'3.09.1a'!o19\"))","v":""},{"$f":"IF(ISERROR(INDIRECT(\"'3.09.1a'!p19\"))=TRUE,\"\",INDIRECT(\"'3.09.1a'!p19\"))","v":0},{"$f":"IF(ISERROR(INDIRECT(\"'3.09.1a'!q19\"))=TRUE,\"\",INDIRECT(\"'3.09.1a'!q19\"))","v":0},{"$f":"IF(ISERROR(INDIRECT(\"'3.09.1a'!s19\"))=TRUE,\"\",INDIRECT(\"'3.09.1a'!s19\"))","v":0},{"$f":"IF(ISERROR(INDIRECT(\"'3.09.1a'!t19\"))=TRUE,\"\",INDIRECT(\"'3.09.1a'!t19\"))","v":0},{"$f":"IF(ISERROR(INDIRECT(\"'3.09.1a'!u19\"))=TRUE,\"\",INDIRECT(\"'3.09.1a'!u19\"))","v":0},{"$f":"IF(ISERROR(INDIRECT(\"'3.09.1a'!v19\"))=TRUE,\"\",INDIRECT(\"'3.09.1a'!v19\"))","v":0},{"$f":"IF(ISERROR(INDIRECT(\"'3.09.1a'!w19\"))=TRUE,\"\",INDIRECT(\"'3.09.1a'!w19\"))","v":0},{"$f":"IF(ISERROR(INDIRECT(\"'3.09.1a'!x19\"))=TRUE,\"\",INDIRECT(\"'3.09.1a'!x19\"))","v":0},{"$f":"IF(ISERROR(INDIRECT(\"'3.09.1a'!aa19\"))=TRUE,\"\",INDIRECT(\"'3.09.1a'!aa19\"))","v":0},{"$f":"IF(ISERROR(INDIRECT(\"'3.09.1a'!ad19\"))=TRUE,\"\",INDIRECT(\"'3.09.1a'!ad19\"))","v":0},{"$f":"IF(ISERROR(INDIRECT(\"'3.09.1a'!ah19\"))=TRUE,\"\",INDIRECT(\"'3.09.1a'!ah19\"))","v":0},{"$f":"IF(ISERROR(INDIRECT(\"'3.09.1a'!am19\"))=TRUE,\"\",INDIRECT(\"'3.09.1a'!am19\"))","v":""}]
[0,"3.09.1a",{"$f":"IF(ISERROR(INDIRECT(\"'3.09.1a'!b20\"))=TRUE,\"\",INDIRECT(\"'3.09.1a'!b20\"))","v":"2."},{"$f":"IF(ISERROR(INDIRECT(\"'3.09.1a'!c20\"))=TRUE,\"\",INDIRECT(\"'3.09.1a'!c20\"))","v":0},{"$f":"IF(ISERROR(INDIRECT(\"'3.09.1a'!d20\"))=TRUE,\"\",INDIRECT(\"'3.09.1a'!d20\"))","v":0},{"$f":"IF(ISERROR(INDIRECT(\"'3.09.1a'!e20\"))=TRUE,\"\",INDIRECT(\"'3.09.1a'!e20\"))","v":0},{"$f":"IF(ISERROR(INDIRECT(\"'3.09.1a'!f20\"))=TRUE,\"\",INDIRECT(\"'3.09.1a'!f20\"))","v":"00:00:00"},{"$f":"IF(ISERROR(INDIRECT(\"'3.09.1a'!g20\"))=TRUE,\"\",INDIRECT(\"'3.09.1a'!g20\"))","v":"00:00:00"},{"$f":"IF(ISERROR(INDIRECT(\"'3.09.1a'!h20\"))=TRUE,\"\",INDIRECT(\"'3.09.1a'!h20\"))","v":0},{"$f":"IF(ISERROR(INDIRECT(\"'3.09.1a'!i20\"))=TRUE,\"\",INDIRECT(\"'3.09.1a'!i20\"))","v":0},{"$f":"IF(ISERROR(INDIRECT(\"'3.09.1a'!j20\"))=TRUE,\"\",INDIRECT(\"'3.09.1a'!j20\"))","v":0},{"$f":"IF(ISERROR(INDIRECT(\"'3.09.1a'!o20\"))=TRUE,\"\",INDIRECT(\"'3.09.1a'!o20\"))","v":""},{"$f":"IF(ISERROR(INDIRECT(\"'3.09.1a'!p20\"))=TRUE,\"\",INDIRECT(\"'3.09.1a'!p20\"))","v":0},{"$f":"IF(ISERROR(INDIRECT(\"'3.09.1a'!q20\"))=TRUE,\"\",INDIRECT(\"'3.09.1a'!q20\"))","v":0},{"$f":"IF(ISERROR(INDIRECT(\"'3.09.1a'!s20\"))=TRUE,\"\",INDIRECT(\"'3.09.1a'!s20\"))","v":0},{"$f":"IF(ISERROR(INDIRECT(\"'3.09.1a'!t20\"))=TRUE,\"\",INDIRECT(\"'3.09.1a'!t20\"))","v":0},{"$f":"IF(ISERROR(INDIRECT(\"'3.09.1a'!u20\"))=TRUE,\"\",INDIRECT(\"'3.09.1a'!u20\"))","v":0},{"$f":"IF(ISERROR(INDIRECT(\"'3.09.1a'!v20\"))=TRUE,\"\",INDIRECT(\"'3.09.1a'!v20\"))","v":0},{"$f":"IF(ISERROR(INDIRECT(\"'3.09.1a'!w20\"))=TRUE,\"\",INDIRECT(\"'3.09.1a'!w20\"))","v":0},{"$f":"IF(ISERROR(INDIRECT(\"'3.09.1a'!x20\"))=TRUE,\"\",INDIRECT(\"'3.09.1a'!x20\"))","v":0},{"$f":"IF(ISERROR(INDIRECT(\"'3.09.1a'!aa20\"))=TRUE,\"\",INDIRECT(\"'3.09.1a'!aa20\"))","v":0},{"$f":"IF(ISERROR(INDIRECT(\"'3.09.1a'!ad20\"))=TRUE,\"\",INDIRECT(\"'3.09.1a'!ad20\"))","v":0},{"$f":"IF(ISERROR(INDIRECT(\"'3.09.1a'!ah20\"))=TRUE,\"\",INDIRECT(\"'3.09.1a'!ah20\"))","v":0},{"$f":"IF(ISERROR(INDIRECT(\"'3.09.1a'!am20\"))=TRUE,\"\",INDIRECT(\"'3.09.1a'!am20\"))","v":""}]
[0,"3.09.1a",{"$f":"IF(ISERROR(INDIRECT(\"'3.09.1a'!b21\"))=TRUE,\"\",INDIRECT(\"'3.09.1a'!b21\"))","v":"3."},{"$f":"IF(ISERROR(INDIRECT(\"'3.09.1a'!c21\"))=TRUE,\"\",INDIRECT(\"'3.09.1a'!c21\"))","v":0},{"$f":"IF(ISERROR(INDIRECT(\"'3.09.1a'!d21\"))=TRUE,\"\",INDIRECT(\"'3.09.1a'!d21\"))","v":0},{"$f":"IF(ISERROR(INDIRECT(\"'3.09.1a'!e21\"))=TRUE,\"\",INDIRECT(\"'3.09.1a'!e21\"))","v":0},{"$f":"IF(ISERROR(INDIRECT(\"'3.09.1a'!f21\"))=TRUE,\"\",INDIRECT(\"'3.09.1a'!f21\"))","v":"00:00:00"},{"$f":"IF(ISERROR(INDIRECT(\"'3.09.1a'!g21\"))=TRUE,\"\",INDIRECT(\"'3.09.1a'!g21\"))","v":"00:00:00"},{"$f":"IF(ISERROR(INDIRECT(\"'3.09.1a'!h21\"))=TRUE,\"\",INDIRECT(\"'3.09.1a'!h21\"))","v":0},{"$f":"IF(ISERROR(INDIRECT(\"'3.09.1a'!i21\"))=TRUE,\"\",INDIRECT(\"'3.09.1a'!i21\"))","v":0},{"$f":"IF(ISERROR(INDIRECT(\"'3.09.1a'!j21\"))=TRUE,\"\",INDIRECT(\"'3.09.1a'!j21\"))","v":0},{"$f":"IF(ISERROR(INDIRECT(\"'3.09.1a'!o21\"))=TRUE,\"\",INDIRECT(\"'3.09.1a'!o21\"))","v":""},{"$f":"IF(ISERROR(INDIRECT(\"'3.09.1a'!p21\"))=TRUE,\"\",INDIRECT(\"'3.09.1a'!p21\"))","v":0},{"$f":"IF(ISERROR(INDIRECT(\"'3.09.1a'!q21\"))=TRUE,\"\",INDIRECT(\"'3.09.1a'!q21\"))","v":0},{"$f":"IF(ISERROR(INDIRECT(\"'3.09.1a'!s21\"))=TRUE,\"\",INDIRECT(\"'3.09.1a'!s21\"))","v":0},{"$f":"IF(ISERROR(INDIRECT(\"'3.09.1a'!t21\"))=TRUE,\"\",INDIRECT(\"'3.09.1a'!t21\"))","v":0},{"$f":"IF(ISERROR(INDIRECT(\"'3.09.1a'!u21\"))=TRUE,\"\",INDIRECT(\"'3.09.1a'!u21\"))","v":0},{"$f":"IF(ISERROR(INDIRECT(\"'3.09.1a'!v21\"))=TRUE,\"\",INDIRECT(\"'3.09.1a'!v21\"))","v":0},{"$f":"IF(ISERROR(INDIRECT(\"'3.09.1a'!w21\"))=TRUE,\"\",INDIRECT(\"'3.09.1a'!w21\"))","v":0},{"$f":"IF(ISERROR(INDIRECT(\"'3.09.1a'!x21\"))=TRUE,\"\",INDIRECT(\"'3.09.1a'!x21\"))","v":0},{"$f":"IF(ISERROR(INDIRECT(\"'3.09.1a'!aa21\"))=TRUE,\"\",INDIRECT(\"'3.09.1a'!aa21\"))","v":0},{"$f":"IF(ISERROR(INDIRECT(\"'3.09.1a'!ad21\"))=TRUE,\"\",INDIRECT(\"'3.09.1a'!ad21\"))","v":0},{"$f":"IF(ISERROR(INDIRECT(\"'3.09.1a'!ah21\"))=TRUE,\"\",INDIRECT(\"'3.09.1a'!ah21\"))","v":0},{"$f":"IF(ISERROR(INDIRECT(\"'3.09.1a'!am21\"))=TRUE,\"\",INDIRECT(\"'3.09.1a'!am21\"))","v":""}]
[0,"3.09.1a",{"$f":"IF(ISERROR(INDIRECT(\"'3.09.1a'!b22\"))=TRUE,\"\",INDIRECT(\"'3.09.1a'!b22\"))","v":"4."},{"$f":"IF(ISERROR(INDIRECT(\"'3.09.1a'!c22\"))=TRUE,\"\",INDIRECT(\"'3.09.1a'!c22\"))","v":0},{"$f":"IF(ISERROR(INDIRECT(\"'3.09.1a'!d22\"))=TRUE,\"\",INDIRECT(\"'3.09.1a'!d22\"))","v":0},{"$f":"IF(ISERROR(INDIRECT(\"'3.09.1a'!e22\"))=TRUE,\"\",INDIRECT(\"'3.09.1a'!e22\"))","v":0},{"$f":"IF(ISERROR(INDIRECT(\"'3.09.1a'!f22\"))=TRUE,\"\",INDIRECT(\"'3.09.1a'!f22\"))","v":"00:00:00"},{"$f":"IF(ISERROR(INDIRECT(\"'3.09.1a'!g22\"))=TRUE,\"\",INDIRECT(\"'3.09.1a'!g22\"))","v":"00:00:00"},{"$f":"IF(ISERROR(INDIRECT(\"'3.09.1a'!h22\"))=TRUE,\"\",INDIRECT(\"'3.09.1a'!h22\"))","v":0},{"$f":"IF(ISERROR(INDIRECT(\"'3.09.1a'!i22\"))=TRUE,\"\",INDIRECT(\"'3.09.1a'!i22\"))","v":0},{"$f":"IF(ISERROR(INDIRECT(\"'3.09.1a'!j22\"))=TRUE,\"\",INDIRECT(\"'3.09.1a'!j22\"))","v":0},{"$f":"IF(ISERROR(INDIRECT(\"'3.09.1a'!o22\"))=TRUE,\"\",INDIRECT(\"'3.09.1a'!o22\"))","v":""},{"$f":"IF(ISERROR(INDIRECT(\"'3.09.1a'!p22\"))=TRUE,\"\",INDIRECT(\"'3.09.1a'!p22\"))","v":0},{"$f":"IF(ISERROR(INDIRECT(\"'3.09.1a'!q22\"))=TRUE,\"\",INDIRECT(\"'3.09.1a'!q22\"))","v":0},{"$f":"IF(ISERROR(INDIRECT(\"'3.09.1a'!s22\"))=TRUE,\"\",INDIRECT(\"'3.09.1a'!s22\"))","v":0},{"$f":"IF(ISERROR(INDIRECT(\"'3.09.1a'!t22\"))=TRUE,\"\",INDIRECT(\"'3.09.1a'!t22\"))","v":0},{"$f":"IF(ISERROR(INDIRECT(\"'3.09.1a'!u22\"))=TRUE,\"\",INDIRECT(\"'3.09.1a'!u22\"))","v":0},{"$f":"IF(ISERROR(INDIRECT(\"'3.09.1a'!v22\"))=TRUE,\"\",INDIRECT(\"'3.09.1a'!v22\"))","v":0},{"$f":"IF(ISERROR(INDIRECT(\"'3.09.1a'!w22\"))=TRUE,\"\",INDIRECT(\"'3.09.1a'!w22\"))","v":0},{"$f":"IF(ISERROR(INDIRECT(\"'3.09.1a'!x22\"))=TRUE,\"\",INDIRECT(\"'3.09.1a'!x22\"))","v":0},{"$f":"IF(ISERROR(INDIRECT(\"'3.09.1a'!aa22\"))=TRUE,\"\",INDIRECT(\"'3.09.1a'!aa22\"))","v":0},{"$f":"IF(ISERROR(INDIRECT(\"'3.09.1a'!ad22\"))=TRUE,\"\",INDIRECT(\"'3.09.1a'!ad22\"))","v":0},{"$f":"IF(ISERROR(INDIRECT(\"'3.09.1a'!ah22\"))=TRUE,\"\",INDIRECT(\"'3.09.1a'!ah22\"))","v":0},{"$f":"IF(ISERROR(INDIRECT(\"'3.09.1a'!am22\"))=TRUE,\"\",INDIRECT(\"'3.09.1a'!am22\"))","v":""}]
[0,"3.09.1a",{"$f":"IF(ISERROR(INDIRECT(\"'3.09.1a'!b23\"))=TRUE,\"\",INDIRECT(\"'3.09.1a'!b23\"))","v":"5."},{"$f":"IF(ISERROR(INDIRECT(\"'3.09.1a'!c23\"))=TRUE,\"\",INDIRECT(\"'3.09.1a'!c23\"))","v":0},{"$f":"IF(ISERROR(INDIRECT(\"'3.09.1a'!d23\"))=TRUE,\"\",INDIRECT(\"'3.09.1a'!d23\"))","v":0},{"$f":"IF(ISERROR(INDIRECT(\"'3.09.1a'!e23\"))=TRUE,\"\",INDIRECT(\"'3.09.1a'!e23\"))","v":0},{"$f":"IF(ISERROR(INDIRECT(\"'3.09.1a'!f23\"))=TRUE,\"\",INDIRECT(\"'3.09.1a'!f23\"))","v":"00:00:00"},{"$f":"IF(ISERROR(INDIRECT(\"'3.09.1a'!g23\"))=TRUE,\"\",INDIRECT(\"'3.09.1a'!g23\"))","v":"00:00:00"},{"$f":"IF(ISERROR(INDIRECT(\"'3.09.1a'!h23\"))=TRUE,\"\",INDIRECT(\"'3.09.1a'!h23\"))","v":0},{"$f":"IF(ISERROR(INDIRECT(\"'3.09.1a'!i23\"))=TRUE,\"\",INDIRECT(\"'3.09.1a'!i23\"))","v":0},{"$f":"IF(ISERROR(INDIRECT(\"'3.09.1a'!j23\"))=TRUE,\"\",INDIRECT(\"'3.09.1a'!j23\"))","v":0},{"$f":"IF(ISERROR(INDIRECT(\"'3.09.1a'!o23\"))=TRUE,\"\",INDIRECT(\"'3.09.1a'!o23\"))","v":""},{"$f":"IF(ISERROR(INDIRECT(\"'3.09.1a'!p23\"))=TRUE,\"\",INDIRECT(\"'3.09.1a'!p23\"))","v":0},{"$f":"IF(ISERROR(INDIRECT(\"'3.09.1a'!q23\"))=TRUE,\"\",INDIRECT(\"'3.09.1a'!q23\"))","v":0},{"$f":"IF(ISERROR(INDIRECT(\"'3.09.1a'!s23\"))=TRUE,\"\",INDIRECT(\"'3.09.1a'!s23\"))","v":0},{"$f":"IF(ISERROR(INDIRECT(\"'3.09.1a'!t23\"))=TRUE,\"\",INDIRECT(\"'3.09.1a'!t23\"))","v":0},{"$f":"IF(ISERROR(INDIRECT(\"'3.09.1a'!u23\"))=TRUE,\"\",INDIRECT(\"'3.09.1a'!u23\"))","v":0},{"$f":"IF(ISERROR(INDIRECT(\"'3.09.1a'!v23\"))=TRUE,\"\",INDIRECT(\"'3.09.1a'!v23\"))","v":0},{"$f":"IF(ISERROR(INDIRECT(\"'3.09.1a'!w23\"))=TRUE,\"\",INDIRECT(\"'3.09.1a'!w23\"))","v":0},{"$f":"IF(ISERROR(INDIRECT(\"'3.09.1a'!x23\"))=TRUE,\"\",INDIRECT(\"'3.09.1a'!x23\"))","v":0},{"$f":"IF(ISERROR(INDIRECT(\"'3.09.1a'!aa23\"))=TRUE,\"\",INDIRECT(\"'3.09.1a'!aa23\"))","v":0},{"$f":"IF(ISERROR(INDIRECT(\"'3.09.1a'!ad23\"))=TRUE,\"\",INDIRECT(\"'3.09.1a'!ad23\"))","v":0},{"$f":"IF(ISERROR(INDIRECT(\"'3.09.1a'!ah23\"))=TRUE,\"\",INDIRECT(\"'3.09.1a'!ah23\"))","v":0},{"$f":"IF(ISERROR(INDIRECT(\"'3.09.1a'!am23\"))=TRUE,\"\",INDIRECT(\"'3.09.1a'!am23\"))","v":""}]
[0,"3.09.1a",{"$f":"IF(ISERROR(INDIRECT(\"'3.09.1a'!b24\"))=TRUE,\"\",INDIRECT(\"'3.09.1a'!b24\"))","v":"6."},{"$f":"IF(ISERROR(INDIRECT(\"'3.09.1a'!c24\"))=TRUE,\"\",INDIRECT(\"'3.09.1a'!c24\"))","v":0},{"$f":"IF(ISERROR(INDIRECT(\"'3.09.1a'!d24\"))=TRUE,\"\",INDIRECT(\"'3.09.1a'!d24\"))","v":0},{"$f":"IF(ISERROR(INDIRECT(\"'3.09.1a'!e24\"))=TRUE,\"\",INDIRECT(\"'3.09.1a'!e24\"))","v":0},{"$f":"IF(ISERROR(INDIRECT(\"'3.09.1a'!f24\"))=TRUE,\"\",INDIRECT(\"'3.09.1a'!f24\"))","v":"00:00:00"},{"$f":"IF(ISERROR(INDIRECT(\"'3.09.1a'!g24\"))=TRUE,\"\",INDIRECT(\"'3.09.1a'!g24\"))","v":"00:00:00"},{"$f":"IF(ISERROR(INDIRECT(\"'3.09.1a'!h24\"))=TRUE,\"\",INDIRECT(\"'3.09.1a'!h24\"))","v":0},{"$f":"IF(ISERROR(INDIRECT(\"'3.09.1a'!i24\"))=TRUE,\"\",INDIRECT(\"'3.09.1a'!i24\"))","v":0},{"$f":"IF(ISERROR(INDIRECT(\"'3.09.1a'!j24\"))=TRUE,\"\",INDIRECT(\"'3.09.1a'!j24\"))","v":0},{"$f":"IF(ISERROR(INDIRECT(\"'3.09.1a'!o24\"))=TRUE,\"\",INDIRECT(\"'3.09.1a'!o24\"))","v":""},{"$f":"IF(ISERROR(INDIRECT(\"'3.09.1a'!p24\"))=TRUE,\"\",INDIRECT(\"'3.09.1a'!p24\"))","v":0},{"$f":"IF(ISERROR(INDIRECT(\"'3.09.1a'!q24\"))=TRUE,\"\",INDIRECT(\"'3.09.1a'!q24\"))","v":0},{"$f":"IF(ISERROR(INDIRECT(\"'3.09.1a'!s24\"))=TRUE,\"\",INDIRECT(\"'3.09.1a'!s24\"))","v":0},{"$f":"IF(ISERROR(INDIRECT(\"'3.09.1a'!t24\"))=TRUE,\"\",INDIRECT(\"'3.09.1a'!t24\"))","v":0},{"$f":"IF(ISERROR(INDIRECT(\"'3.09.1a'!u24\"))=TRUE,\"\",INDIRECT(\"'3.09.1a'!u24\"))","v":0},{"$f":"IF(ISERROR(INDIRECT(\"'3.09.1a'!v24\"))=TRUE,\"\",INDIRECT(\"'3.09.1a'!v24\"))","v":0},{"$f":"IF(ISERROR(INDIRECT(\"'3.09.1a'!w24\"))=TRUE,\"\",INDIRECT(\"'3.09.1a'!w24\"))","v":0},{"$f":"IF(ISERROR(INDIRECT(\"'3.09.1a'!x24\"))=TRUE,\"\",INDIRECT(\"'3.09.1a'!x24\"))","v":0},{"$f":"IF(ISERROR(INDIRECT(\"'3.09.1a'!aa24\"))=TRUE,\"\",INDIRECT(\"'3.09.1a'!aa24\"))","v":0},{"$f":"IF(ISERROR(INDIRECT(\"'3.09.1a'!ad24\"))=TRUE,\"\",INDIRECT(\"'3.09.1a'!ad24\"))","v":0},{"$f":"IF(ISERROR(INDIRECT(\"'3.09.1a'!ah24\"))=TRUE,\"\",INDIRECT(\"'3.09.1a'!ah24\"))","v":0},{"$f":"IF(ISERROR(INDIRECT(\"'3.09.1a'!am24\"))=TRUE,\"\",INDIRECT(\"'3.09.1a'!am24\"))","v":""}]
[0,"3.09.1a",{"$f":"IF(ISERROR(INDIRECT(\"'3.09.1a'!b25\"))=TRUE,\"\",INDIRECT(\"'3.09.1a'!b25\"))","v":"7."},{"$f":"IF(ISERROR(INDIRECT(\"'3.09.1a'!c25\"))=TRUE,\"\",INDIRECT(\"'3.09.1a'!c25\"))","v":0},{"$f":"IF(ISERROR(INDIRECT(\"'3.09.1a'!d25\"))=TRUE,\"\",INDIRECT(\"'3.09.1a'!d25\"))","v":0},{"$f":"IF(ISERROR(INDIRECT(\"'3.09.1a'!e25\"))=TRUE,\"\",INDIRECT(\"'3.09.1a'!e25\"))","v":0},{"$f":"IF(ISERROR(INDIRECT(\"'3.09.1a'!f25\"))=TRUE,\"\",INDIRECT(\"'3.09.1a'!f25\"))","v":"00:00:00"},{"$f":"IF(ISERROR(INDIRECT(\"'3.09.1a'!g25\"))=TRUE,\"\",INDIRECT(\"'3.09.1a'!g25\"))","v":"00:00:00"},{"$f":"IF(ISERROR(INDIRECT(\"'3.09.1a'!h25\"))=TRUE,\"\",INDIRECT(\"'3.09.1a'!h25\"))","v":0},{"$f":"IF(ISERROR(INDIRECT(\"'3.09.1a'!i25\"))=TRUE,\"\",INDIRECT(\"'3.09.1a'!i25\"))","v":0},{"$f":"IF(ISERROR(INDIRECT(\"'3.09.1a'!j25\"))=TRUE,\"\",INDIRECT(\"'3.09.1a'!j25\"))","v":0},{"$f":"IF(ISERROR(INDIRECT(\"'3.09.1a'!o25\"))=TRUE,\"\",INDIRECT(\"'3.09.1a'!o25\"))","v":""},{"$f":"IF(ISERROR(INDIRECT(\"'3.09.1a'!p25\"))=TRUE,\"\",INDIRECT(\"'3.09.1a'!p25\"))","v":0},{"$f":"IF(ISERROR(INDIRECT(\"'3.09.1a'!q25\"))=TRUE,\"\",INDIRECT(\"'3.09.1a'!q25\"))","v":0},{"$f":"IF(ISERROR(INDIRECT(\"'3.09.1a'!s25\"))=TRUE,\"\",INDIRECT(\"'3.09.1a'!s25\"))","v":0},{"$f":"IF(ISERROR(INDIRECT(\"'3.09.1a'!t25\"))=TRUE,\"\",INDIRECT(\"'3.09.1a'!t25\"))","v":0},{"$f":"IF(ISERROR(INDIRECT(\"'3.09.1a'!u25\"))=TRUE,\"\",INDIRECT(\"'3.09.1a'!u25\"))","v":0},{"$f":"IF(ISERROR(INDIRECT(\"'3.09.1a'!v25\"))=TRUE,\"\",INDIRECT(\"'3.09.1a'!v25\"))","v":0},{"$f":"IF(ISERROR(INDIRECT(\"'3.09.1a'!w25\"))=TRUE,\"\",INDIRECT(\"'3.09.1a'!w25\"))","v":0},{"$f":"IF(ISERROR(INDIRECT(\"'3.09.1a'!x25\"))=TRUE,\"\",INDIRECT(\"'3.09.1a'!x25\"))","v":0},{"$f":"IF(ISERROR(INDIRECT(\"'3.09.1a'!aa25\"))=TRUE,\"\",INDIRECT(\"'3.09.1a'!aa25\"))","v":0},{"$f":"IF(ISERROR(INDIRECT(\"'3.09.1a'!ad25\"))=TRUE,\"\",INDIRECT(\"'3.09.1a'!ad25\"))","v":0},{"$f":"IF(ISERROR(INDIRECT(\"'3.09.1a'!ah25\"))=TRUE,\"\",INDIRECT(\"'3.09.1a'!ah25\"))","v":0},{"$f":"IF(ISERROR(INDIRECT(\"'3.09.1a'!am25\"))=TRUE,\"\",INDIRECT(\"'3.09.1a'!am25\"))","v":""}]
[0,"3.09.1a",{"$f":"IF(ISERROR(INDIRECT(\"'3.09.1a'!b26\"))=TRUE,\"\",INDIRECT(\"'3.09.1a'!b26\"))","v":"8."},{"$f":"IF(ISERROR(INDIRECT(\"'3.09.1a'!c26\"))=TRUE,\"\",INDIRECT(\"'3.09.1a'!c26\"))","v":0},{"$f":"IF(ISERROR(INDIRECT(\"'3.09.1a'!d26\"))=TRUE,\"\",INDIRECT(\"'3.09.1a'!d26\"))","v":0},{"$f":"IF(ISERROR(INDIRECT(\"'3.09.1a'!e26\"))=TRUE,\"\",INDIRECT(\"'3.09.1a'!e26\"))","v":0},{"$f":"IF(ISERROR(INDIRECT(\"'3.09.1a'!f26\"))=TRUE,\"\",INDIRECT(\"'3.09.1a'!f26\"))","v":"00:00:00"},{"$f":"IF(ISERROR(INDIRECT(\"'3.09.1a'!g26\"))=TRUE,\"\",INDIRECT(\"'3.09.1a'!g26\"))","v":"00:00:00"},{"$f":"IF(ISERROR(INDIRECT(\"'3.09.1a'!h26\"))=TRUE,\"\",INDIRECT(\"'3.09.1a'!h26\"))","v":0},{"$f":"IF(ISERROR(INDIRECT(\"'3.09.1a'!i26\"))=TRUE,\"\",INDIRECT(\"'3.09.1a'!i26\"))","v":0},{"$f":"IF(ISERROR(INDIRECT(\"'3.09.1a'!j26\"))=TRUE,\"\",INDIRECT(\"'3.09.1a'!j26\"))","v":0},{"$f":"IF(ISERROR(INDIRECT(\"'3.09.1a'!o26\"))=TRUE,\"\",INDIRECT(\"'3.09.1a'!o26\"))","v":""},{"$f":"IF(ISERROR(INDIRECT(\"'3.09.1a'!p26\"))=TRUE,\"\",INDIRECT(\"'3.09.1a'!p26\"))","v":0},{"$f":"IF(ISERROR(INDIRECT(\"'3.09.1a'!q26\"))=TRUE,\"\",INDIRECT(\"'3.09.1a'!q26\"))","v":0},{"$f":"IF(ISERROR(INDIRECT(\"'3.09.1a'!s26\"))=TRUE,\"\",INDIRECT(\"'3.09.1a'!s26\"))","v":0},{"$f":"IF(ISERROR(INDIRECT(\"'3.09.1a'!t26\"))=TRUE,\"\",INDIRECT(\"'3.09.1a'!t26\"))","v":0},{"$f":"IF(ISERROR(INDIRECT(\"'3.09.1a'!u26\"))=TRUE,\"\",INDIRECT(\"'3.09.1a'!u26\"))","v":0},{"$f":"IF(ISERROR(INDIRECT(\"'3.09.1a'!v26\"))=TRUE,\"\",INDIRECT(\"'3.09.1a'!v26\"))","v":0},{"$f":"IF(ISERROR(INDIRECT(\"'3.09.1a'!w26\"))=TRUE,\"\",INDIRECT(\"'3.09.1a'!w26\"))","v":0},{"$f":"IF(ISERROR(INDIRECT(\"'3.09.1a'!x26\"))=TRUE,\"\",INDIRECT(\"'3.09.1a'!x26\"))","v":0},{"$f":"IF(ISERROR(INDIRECT(\"'3.09.1a'!aa26\"))=TRUE,\"\",INDIRECT(\"'3.09.1a'!aa26\"))","v":0},{"$f":"IF(ISERROR(INDIRECT(\"'3.09.1a'!ad26\"))=TRUE,\"\",INDIRECT(\"'3.09.1a'!ad26\"))","v":0},{"$f":"IF(ISERROR(INDIRECT(\"'3.09.1a'!ah26\"))=TRUE,\"\",INDIRECT(\"'3.09.1a'!ah26\"))","v":0},{"$f":"IF(ISERROR(INDIRECT(\"'3.09.1a'!am26\"))=TRUE,\"\",INDIRECT(\"'3.09.1a'!am26\"))","v":""}]
[0,"3.09.1a",{"$f":"IF(ISERROR(INDIRECT(\"'3.09.1a'!b27\"))=TRUE,\"\",INDIRECT(\"'3.09.1a'!b27\"))","v":"9."},{"$f":"IF(ISERROR(INDIRECT(\"'3.09.1a'!c27\"))=TRUE,\"\",INDIRECT(\"'3.09.1a'!c27\"))","v":0},{"$f":"IF(ISERROR(INDIRECT(\"'3.09.1a'!d27\"))=TRUE,\"\",INDIRECT(\"'3.09.1a'!d27\"))","v":0},{"$f":"IF(ISERROR(INDIRECT(\"'3.09.1a'!e27\"))=TRUE,\"\",INDIRECT(\"'3.09.1a'!e27\"))","v":0},{"$f":"IF(ISERROR(INDIRECT(\"'3.09.1a'!f27\"))=TRUE,\"\",INDIRECT(\"'3.09.1a'!f27\"))","v":"00:00:00"},{"$f":"IF(ISERROR(INDIRECT(\"'3.09.1a'!g27\"))=TRUE,\"\",INDIRECT(\"'3.09.1a'!g27\"))","v":"00:00:00"},{"$f":"IF(ISERROR(INDIRECT(\"'3.09.1a'!h27\"))=TRUE,\"\",INDIRECT(\"'3.09.1a'!h27\"))","v":0},{"$f":"IF(ISERROR(INDIRECT(\"'3.09.1a'!i27\"))=TRUE,\"\",INDIRECT(\"'3.09.1a'!i27\"))","v":0},{"$f":"IF(ISERROR(INDIRECT(\"'3.09.1a'!j27\"))=TRUE,\"\",INDIRECT(\"'3.09.1a'!j27\"))","v":0},{"$f":"IF(ISERROR(INDIRECT(\"'3.09.1a'!o27\"))=TRUE,\"\",INDIRECT(\"'3.09.1a'!o27\"))","v":""},{"$f":"IF(ISERROR(INDIRECT(\"'3.09.1a'!p27\"))=TRUE,\"\",INDIRECT(\"'3.09.1a'!p27\"))","v":0},{"$f":"IF(ISERROR(INDIRECT(\"'3.09.1a'!q27\"))=TRUE,\"\",INDIRECT(\"'3.09.1a'!q27\"))","v":0},{"$f":"IF(ISERROR(INDIRECT(\"'3.09.1a'!s27\"))=TRUE,\"\",INDIRECT(\"'3.09.1a'!s27\"))","v":0},{"$f":"IF(ISERROR(INDIRECT(\"'3.09.1a'!t27\"))=TRUE,\"\",INDIRECT(\"'3.09.1a'!t27\"))","v":0},{"$f":"IF(ISERROR(INDIRECT(\"'3.09.1a'!u27\"))=TRUE,\"\",INDIRECT(\"'3.09.1a'!u27\"))","v":0},{"$f":"IF(ISERROR(INDIRECT(\"'3.09.1a'!v27\"))=TRUE,\"\",INDIRECT(\"'3.09.1a'!v27\"))","v":0},{"$f":"IF(ISERROR(INDIRECT(\"'3.09.1a'!w27\"))=TRUE,\"\",INDIRECT(\"'3.09.1a'!w27\"))","v":0},{"$f":"IF(ISERROR(INDIRECT(\"'3.09.1a'!x27\"))=TRUE,\"\",INDIRECT(\"'3.09.1a'!x27\"))","v":0},{"$f":"IF(ISERROR(INDIRECT(\"'3.09.1a'!aa27\"))=TRUE,\"\",INDIRECT(\"'3.09.1a'!aa27\"))","v":0},{"$f":"IF(ISERROR(INDIRECT(\"'3.09.1a'!ad27\"))=TRUE,\"\",INDIRECT(\"'3.09.1a'!ad27\"))","v":0},{"$f":"IF(ISERROR(INDIRECT(\"'3.09.1a'!ah27\"))=TRUE,\"\",INDIRECT(\"'3.09.1a'!ah27\"))","v":0},{"$f":"IF(ISERROR(INDIRECT(\"'3.09.1a'!am27\"))=TRUE,\"\",INDIRECT(\"'3.09.1a'!am27\"))","v":""}]
[0,"3.09.1a",{"$f":"IF(ISERROR(INDIRECT(\"'3.09.1a'!b28\"))=TRUE,\"\",INDIRECT(\"'3.09.1a'!b28\"))","v":"10."},{"$f":"IF(ISERROR(INDIRECT(\"'3.09.1a'!c28\"))=TRUE,\"\",INDIRECT(\"'3.09.1a'!c28\"))","v":0},{"$f":"IF(ISERROR(INDIRECT(\"'3.09.1a'!d28\"))=TRUE,\"\",INDIRECT(\"'3.09.1a'!d28\"))","v":0},{"$f":"IF(ISERROR(INDIRECT(\"'3.09.1a'!e28\"))=TRUE,\"\",INDIRECT(\"'3.09.1a'!e28\"))","v":0},{"$f":"IF(ISERROR(INDIRECT(\"'3.09.1a'!f28\"))=TRUE,\"\",INDIRECT(\"'3.09.1a'!f28\"))","v":"00:00:00"},{"$f":"IF(ISERROR(INDIRECT(\"'3.09.1a'!g28\"))=TRUE,\"\",INDIRECT(\"'3.09.1a'!g28\"))","v":"00:00:00"},{"$f":"IF(ISERROR(INDIRECT(\"'3.09.1a'!h28\"))=TRUE,\"\",INDIRECT(\"'3.09.1a'!h28\"))","v":0},{"$f":"IF(ISERROR(INDIRECT(\"'3.09.1a'!i28\"))=TRUE,\"\",INDIRECT(\"'3.09.1a'!i28\"))","v":0},{"$f":"IF(ISERROR(INDIRECT(\"'3.09.1a'!j28\"))=TRUE,\"\",INDIRECT(\"'3.09.1a'!j28\"))","v":0},{"$f":"IF(ISERROR(INDIRECT(\"'3.09.1a'!o28\"))=TRUE,\"\",INDIRECT(\"'3.09.1a'!o28\"))","v":""},{"$f":"IF(ISERROR(INDIRECT(\"'3.09.1a'!p28\"))=TRUE,\"\",INDIRECT(\"'3.09.1a'!p28\"))","v":0},{"$f":"IF(ISERROR(INDIRECT(\"'3.09.1a'!q28\"))=TRUE,\"\",INDIRECT(\"'3.09.1a'!q28\"))","v":0},{"$f":"IF(ISERROR(INDIRECT(\"'3.09.1a'!s28\"))=TRUE,\"\",INDIRECT(\"'3.09.1a'!s28\"))","v":0},{"$f":"IF(ISERROR(INDIRECT(\"'3.09.1a'!t28\"))=TRUE,\"\",INDIRECT(\"'3.09.1a'!t28\"))","v":0},{"$f":"IF(ISERROR(INDIRECT(\"'3.09.1a'!u28\"))=TRUE,\"\",INDIRECT(\"'3.09.1a'!u28\"))","v":0},{"$f":"IF(ISERROR(INDIRECT(\"'3.09.1a'!v28\"))=TRUE,\"\",INDIRECT(\"'3.09.1a'!v28\"))","v":0},{"$f":"IF(ISERROR(INDIRECT(\"'3.09.1a'!w28\"))=TRUE,\"\",INDIRECT(\"'3.09.1a'!w28\"))","v":0},{"$f":"IF(ISERROR(INDIRECT(\"'3.09.1a'!x28\"))=TRUE,\"\",INDIRECT(\"'3.09.1a'!x28\"))","v":0},{"$f":"IF(ISERROR(INDIRECT(\"'3.09.1a'!aa28\"))=TRUE,\"\",INDIRECT(\"'3.09.1a'!aa28\"))","v":0},{"$f":"IF(ISERROR(INDIRECT(\"'3.09.1a'!ad28\"))=TRUE,\"\",INDIRECT(\"'3.09.1a'!ad28\"))","v":0},{"$f":"IF(ISERROR(INDIRECT(\"'3.09.1a'!ah28\"))=TRUE,\"\",INDIRECT(\"'3.09.1a'!ah28\"))","v":0},{"$f":"IF(ISERROR(INDIRECT(\"'3.09.1a'!am28\"))=TRUE,\"\",INDIRECT(\"'3.09.1a'!am28\"))","v":""}]
[0,"3.09.1a",{"$f":"IF(ISERROR(INDIRECT(\"'3.09.1a'!b29\"))=TRUE,\"\",INDIRECT(\"'3.09.1a'!b29\"))","v":"11."},{"$f":"IF(ISERROR(INDIRECT(\"'3.09.1a'!c29\"))=TRUE,\"\",INDIRECT(\"'3.09.1a'!c29\"))","v":0},{"$f":"IF(ISERROR(INDIRECT(\"'3.09.1a'!d29\"))=TRUE,\"\",INDIRECT(\"'3.09.1a'!d29\"))","v":0},{"$f":"IF(ISERROR(INDIRECT(\"'3.09.1a'!e29\"))=TRUE,\"\",INDIRECT(\"'3.09.1a'!e29\"))","v":0},{"$f":"IF(ISERROR(INDIRECT(\"'3.09.1a'!f29\"))=TRUE,\"\",INDIRECT(\"'3.09.1a'!f29\"))","v":"00:00:00"},{"$f":"IF(ISERROR(INDIRECT(\"'3.09.1a'!g29\"))=TRUE,\"\",INDIRECT(\"'3.09.1a'!g29\"))","v":"00:00:00"},{"$f":"IF(ISERROR(INDIRECT(\"'3.09.1a'!h29\"))=TRUE,\"\",INDIRECT(\"'3.09.1a'!h29\"))","v":0},{"$f":"IF(ISERROR(INDIRECT(\"'3.09.1a'!i29\"))=TRUE,\"\",INDIRECT(\"'3.09.1a'!i29\"))","v":0},{"$f":"IF(ISERROR(INDIRECT(\"'3.09.1a'!j29\"))=TRUE,\"\",INDIRECT(\"'3.09.1a'!j29\"))","v":0},{"$f":"IF(ISERROR(INDIRECT(\"'3.09.1a'!o29\"))=TRUE,\"\",INDIRECT(\"'3.09.1a'!o29\"))","v":""},{"$f":"IF(ISERROR(INDIRECT(\"'3.09.1a'!p29\"))=TRUE,\"\",INDIRECT(\"'3.09.1a'!p29\"))","v":0},{"$f":"IF(ISERROR(INDIRECT(\"'3.09.1a'!q29\"))=TRUE,\"\",INDIRECT(\"'3.09.1a'!q29\"))","v":0},{"$f":"IF(ISERROR(INDIRECT(\"'3.09.1a'!s29\"))=TRUE,\"\",INDIRECT(\"'3.09.1a'!s29\"))","v":0},{"$f":"IF(ISERROR(INDIRECT(\"'3.09.1a'!t29\"))=TRUE,\"\",INDIRECT(\"'3.09.1a'!t29\"))","v":0},{"$f":"IF(ISERROR(INDIRECT(\"'3.09.1a'!u29\"))=TRUE,\"\",INDIRECT(\"'3.09.1a'!u29\"))","v":0},{"$f":"IF(ISERROR(INDIRECT(\"'3.09.1a'!v29\"))=TRUE,\"\",INDIRECT(\"'3.09.1a'!v29\"))","v":0},{"$f":"IF(ISERROR(INDIRECT(\"'3.09.1a'!w29\"))=TRUE,\"\",INDIRECT(\"'3.09.1a'!w29\"))","v":0},{"$f":"IF(ISERROR(INDIRECT(\"'3.09.1a'!x29\"))=TRUE,\"\",INDIRECT(\"'3.09.1a'!x29\"))","v":0},{"$f":"IF(ISERROR(INDIRECT(\"'3.09.1a'!aa29\"))=TRUE,\"\",INDIRECT(\"'3.09.1a'!aa29\"))","v":0},{"$f":"IF(ISERROR(INDIRECT(\"'3.09.1a'!ad29\"))=TRUE,\"\",INDIRECT(\"'3.09.1a'!ad29\"))","v":0},{"$f":"IF(ISERROR(INDIRECT(\"'3.09.1a'!ah29\"))=TRUE,\"\",INDIRECT(\"'3.09.1a'!ah29\"))","v":0},{"$f":"IF(ISERROR(INDIRECT(\"'3.09.1a'!am29\"))=TRUE,\"\",INDIRECT(\"'3.09.1a'!am29\"))","v":""}]
[0,"3.09.1a",{"$f":"IF(ISERROR(INDIRECT(\"'3.09.1a'!b30\"))=TRUE,\"\",INDIRECT(\"'3.09.1a'!b30\"))","v":"12."},{"$f":"IF(ISERROR(INDIRECT(\"'3.09.1a'!c30\"))=TRUE,\"\",INDIRECT(\"'3.09.1a'!c30\"))","v":0},{"$f":"IF(ISERROR(INDIRECT(\"'3.09.1a'!d30\"))=TRUE,\"\",INDIRECT(\"'3.09.1a'!d30\"))","v":0},{"$f":"IF(ISERROR(INDIRECT(\"'3.09.1a'!e30\"))=TRUE,\"\",INDIRECT(\"'3.09.1a'!e30\"))","v":0},{"$f":"IF(ISERROR(INDIRECT(\"'3.09.1a'!f30\"))=TRUE,\"\",INDIRECT(\"'3.09.1a'!f30\"))","v":"00:00:00"},{"$f":"IF(ISERROR(INDIRECT(\"'3.09.1a'!g30\"))=TRUE,\"\",INDIRECT(\"'3.09.1a'!g30\"))","v":"00:00:00"},{"$f":"IF(ISERROR(INDIRECT(\"'3.09.1a'!h30\"))=TRUE,\"\",INDIRECT(\"'3.09.1a'!h30\"))","v":0},{"$f":"IF(ISERROR(INDIRECT(\"'3.09.1a'!i30\"))=TRUE,\"\",INDIRECT(\"'3.09.1a'!i30\"))","v":0},{"$f":"IF(ISERROR(INDIRECT(\"'3.09.1a'!j30\"))=TRUE,\"\",INDIRECT(\"'3.09.1a'!j30\"))","v":0},{"$f":"IF(ISERROR(INDIRECT(\"'3.09.1a'!o30\"))=TRUE,\"\",INDIRECT(\"'3.09.1a'!o30\"))","v":""},{"$f":"IF(ISERROR(INDIRECT(\"'3.09.1a'!p30\"))=TRUE,\"\",INDIRECT(\"'3.09.1a'!p30\"))","v":0},{"$f":"IF(ISERROR(INDIRECT(\"'3.09.1a'!q30\"))=TRUE,\"\",INDIRECT(\"'3.09.1a'!q30\"))","v":0},{"$f":"IF(ISERROR(INDIRECT(\"'3.09.1a'!s30\"))=TRUE,\"\",INDIRECT(\"'3.09.1a'!s30\"))","v":0},{"$f":"IF(ISERROR(INDIRECT(\"'3.09.1a'!t30\"))=TRUE,\"\",INDIRECT(\"'3.09.1a'!t30\"))","v":0},{"$f":"IF(ISERROR(INDIRECT(\"'3.09.1a'!u30\"))=TRUE,\"\",INDIRECT(\"'3.09.1a'!u30\"))","v":0},{"$f":"IF(ISERROR(INDIRECT(\"'3.09.1a'!v30\"))=TRUE,\"\",INDIRECT(\"'3.09.1a'!v30\"))","v":0},{"$f":"IF(ISERROR(INDIRECT(\"'3.09.1a'!w30\"))=TRUE,\"\",INDIRECT(\"'3.09.1a'!w30\"))","v":0},{"$f":"IF(ISERROR(INDIRECT(\"'3.09.1a'!x30\"))=TRUE,\"\",INDIRECT(\"'3.09.1a'!x30\"))","v":0},{"$f":"IF(ISERROR(INDIRECT(\"'3.09.1a'!aa30\"))=TRUE,\"\",INDIRECT(\"'3.09.1a'!aa30\"))","v":0},{"$f":"IF(ISERROR(INDIRECT(\"'3.09.1a'!ad30\"))=TRUE,\"\",INDIRECT(\"'3.09.1a'!ad30\"))","v":0},{"$f":"IF(ISERROR(INDIRECT(\"'3.09.1a'!ah30\"))=TRUE,\"\",INDIRECT(\"'3.09.1a'!ah30\"))","v":0},{"$f":"IF(ISERROR(INDIRECT(\"'3.09.1a'!am30\"))=TRUE,\"\",INDIRECT(\"'3.09.1a'!am30\"))","v":""}]
[0,"3.09.1a",{"$f":"IF(ISERROR(INDIRECT(\"'3.09.1a'!b31\"))=TRUE,\"\",INDIRECT(\"'3.09.1a'!b31\"))","v":"13."},{"$f":"IF(ISERROR(INDIRECT(\"'3.09.1a'!c31\"))=TRUE,\"\",INDIRECT(\"'3.09.1a'!c31\"))","v":0},{"$f":"IF(ISERROR(INDIRECT(\"'3.09.1a'!d31\"))=TRUE,\"\",INDIRECT(\"'3.09.1a'!d31\"))","v":0},{"$f":"IF(ISERROR(INDIRECT(\"'3.09.1a'!e31\"))=TRUE,\"\",INDIRECT(\"'3.09.1a'!e31\"))","v":0},{"$f":"IF(ISERROR(INDIRECT(\"'3.09.1a'!f31\"))=TRUE,\"\",INDIRECT(\"'3.09.1a'!f31\"))","v":"00:00:00"},{"$f":"IF(ISERROR(INDIRECT(\"'3.09.1a'!g31\"))=TRUE,\"\",INDIRECT(\"'3.09.1a'!g31\"))","v":"00:00:00"},{"$f":"IF(ISERROR(INDIRECT(\"'3.09.1a'!h31\"))=TRUE,\"\",INDIRECT(\"'3.09.1a'!h31\"))","v":0},{"$f":"IF(ISERROR(INDIRECT(\"'3.09.1a'!i31\"))=TRUE,\"\",INDIRECT(\"'3.09.1a'!i31\"))","v":0},{"$f":"IF(ISERROR(INDIRECT(\"'3.09.1a'!j31\"))=TRUE,\"\",INDIRECT(\"'3.09.1a'!j31\"))","v":0},{"$f":"IF(ISERROR(INDIRECT(\"'3.09.1a'!o31\"))=TRUE,\"\",INDIRECT(\"'3.09.1a'!o31\"))","v":""},{"$f":"IF(ISERROR(INDIRECT(\"'3.09.1a'!p31\"))=TRUE,\"\",INDIRECT(\"'3.09.1a'!p31\"))","v":0},{"$f":"IF(ISERROR(INDIRECT(\"'3.09.1a'!q31\"))=TRUE,\"\",INDIRECT(\"'3.09.1a'!q31\"))","v":0},{"$f":"IF(ISERROR(INDIRECT(\"'3.09.1a'!s31\"))=TRUE,\"\",INDIRECT(\"'3.09.1a'!s31\"))","v":0},{"$f":"IF(ISERROR(INDIRECT(\"'3.09.1a'!t31\"))=TRUE,\"\",INDIRECT(\"'3.09.1a'!t31\"))","v":0},{"$f":"IF(ISERROR(INDIRECT(\"'3.09.1a'!u31\"))=TRUE,\"\",INDIRECT(\"'3.09.1a'!u31\"))","v":0},{"$f":"IF(ISERROR(INDIRECT(\"'3.09.1a'!v31\"))=TRUE,\"\",INDIRECT(\"'3.09.1a'!v31\"))","v":0},{"$f":"IF(ISERROR(INDIRECT(\"'3.09.1a'!w31\"))=TRUE,\"\",INDIRECT(\"'3.09.1a'!w31\"))","v":0},{"$f":"IF(ISERROR(INDIRECT(\"'3.09.1a'!x31\"))=TRUE,\"\",INDIRECT(\"'3.09.1a'!x31\"))","v":0},{"$f":"IF(ISERROR(INDIRECT(\"'3.09.1a'!aa31\"))=TRUE,\"\",INDIRECT(\"'3.09.1a'!aa31\"))","v":0},{"$f":"IF(ISERROR(INDIRECT(\"'3.09.1a'!ad31\"))=TRUE,\"\",INDIRECT(\"'3.09.1a'!ad31\"))","v":0},{"$f":"IF(ISERROR(INDIRECT(\"'3.09.1a'!ah31\"))=TRUE,\"\",INDIRECT(\"'3.09.1a'!ah31\"))","v":0},{"$f":"IF(ISERROR(INDIRECT(\"'3.09.1a'!am31\"))=TRUE,\"\",INDIRECT(\"'3.09.1a'!am31\"))","v":""}]
[0,"3.09.1a",{"$f":"IF(ISERROR(INDIRECT(\"'3.09.1a'!b32\"))=TRUE,\"\",INDIRECT(\"'3.09.1a'!b32\"))","v":"14."},{"$f":"IF(ISERROR(INDIRECT(\"'3.09.1a'!c32\"))=TRUE,\"\",INDIRECT(\"'3.09.1a'!c32\"))","v":0},{"$f":"IF(ISERROR(INDIRECT(\"'3.09.1a'!d32\"))=TRUE,\"\",INDIRECT(\"'3.09.1a'!d32\"))","v":0},{"$f":"IF(ISERROR(INDIRECT(\"'3.09.1a'!e32\"))=TRUE,\"\",INDIRECT(\"'3.09.1a'!e32\"))","v":0},{"$f":"IF(ISERROR(INDIRECT(\"'3.09.1a'!f32\"))=TRUE,\"\",INDIRECT(\"'3.09.1a'!f32\"))","v":"00:00:00"},{"$f":"IF(ISERROR(INDIRECT(\"'3.09.1a'!g32\"))=TRUE,\"\",INDIRECT(\"'3.09.1a'!g32\"))","v":"00:00:00"},{"$f":"IF(ISERROR(INDIRECT(\"'3.09.1a'!h32\"))=TRUE,\"\",INDIRECT(\"'3.09.1a'!h32\"))","v":0},{"$f":"IF(ISERROR(INDIRECT(\"'3.09.1a'!i32\"))=TRUE,\"\",INDIRECT(\"'3.09.1a'!i32\"))","v":0},{"$f":"IF(ISERROR(INDIRECT(\"'3.09.1a'!j32\"))=TRUE,\"\",INDIRECT(\"'3.09.1a'!j32\"))","v":0},{"$f":"IF(ISERROR(INDIRECT(\"'3.09.1a'!o32\"))=TRUE,\"\",INDIRECT(\"'3.09.1a'!o32\"))","v":""},{"$f":"IF(ISERROR(INDIRECT(\"'3.09.1a'!p32\"))=TRUE,\"\",INDIRECT(\"'3.09.1a'!p32\"))","v":0},{"$f":"IF(ISERROR(INDIRECT(\"'3.09.1a'!q32\"))=TRUE,\"\",INDIRECT(\"'3.09.1a'!q32\"))","v":0},{"$f":"IF(ISERROR(INDIRECT(\"'3.09.1a'!s32\"))=TRUE,\"\",INDIRECT(\"'3.09.1a'!s32\"))","v":0},{"$f":"IF(ISERROR(INDIRECT(\"'3.09.1a'!t32\"))=TRUE,\"\",INDIRECT(\"'3.09.1a'!t32\"))","v":0},{"$f":"IF(ISERROR(INDIRECT(\"'3.09.1a'!u32\"))=TRUE,\"\",INDIRECT(\"'3.09.1a'!u32\"))","v":0},{"$f":"IF(ISERROR(INDIRECT(\"'3.09.1a'!v32\"))=TRUE,\"\",INDIRECT(\"'3.09.1a'!v32\"))","v":0},{"$f":"IF(ISERROR(INDIRECT(\"'3.09.1a'!w32\"))=TRUE,\"\",INDIRECT(\"'3.09.1a'!w32\"))","v":0},{"$f":"IF(ISERROR(INDIRECT(\"'3.09.1a'!x32\"))=TRUE,\"\",INDIRECT(\"'3.09.1a'!x32\"))","v":0},{"$f":"IF(ISERROR(INDIRECT(\"'3.09.1a'!aa32\"))=TRUE,\"\",INDIRECT(\"'3.09.1a'!aa32\"))","v":0},{"$f":"IF(ISERROR(INDIRECT(\"'3.09.1a'!ad32\"))=TRUE,\"\",INDIRECT(\"'3.09.1a'!ad32\"))","v":0},{"$f":"IF(ISERROR(INDIRECT(\"'3.09.1a'!ah32\"))=TRUE,\"\",INDIRECT(\"'3.09.1a'!ah32\"))","v":0},{"$f":"IF(ISERROR(INDIRECT(\"'3.09.1a'!am32\"))=TRUE,\"\",INDIRECT(\"'3.09.1a'!am32\"))","v":""}]
[0,"3.09.1a",{"$f":"IF(ISERROR(INDIRECT(\"'3.09.1a'!b33\"))=TRUE,\"\",INDIRECT(\"'3.09.1a'!b33\"))","v":"15."},{"$f":"IF(ISERROR(INDIRECT(\"'3.09.1a'!c33\"))=TRUE,\"\",INDIRECT(\"'3.09.1a'!c33\"))","v":0},{"$f":"IF(ISERROR(INDIRECT(\"'3.09.1a'!d33\"))=TRUE,\"\",INDIRECT(\"'3.09.1a'!d33\"))","v":0},{"$f":"IF(ISERROR(INDIRECT(\"'3.09.1a'!e33\"))=TRUE,\"\",INDIRECT(\"'3.09.1a'!e33\"))","v":0},{"$f":"IF(ISERROR(INDIRECT(\"'3.09.1a'!f33\"))=TRUE,\"\",INDIRECT(\"'3.09.1a'!f33\"))","v":"00:00:00"},{"$f":"IF(ISERROR(INDIRECT(\"'3.09.1a'!g33\"))=TRUE,\"\",INDIRECT(\"'3.09.1a'!g33\"))","v":"00:00:00"},{"$f":"IF(ISERROR(INDIRECT(\"'3.09.1a'!h33\"))=TRUE,\"\",INDIRECT(\"'3.09.1a'!h33\"))","v":0},{"$f":"IF(ISERROR(INDIRECT(\"'3.09.1a'!i33\"))=TRUE,\"\",INDIRECT(\"'3.09.1a'!i33\"))","v":0},{"$f":"IF(ISERROR(INDIRECT(\"'3.09.1a'!j33\"))=TRUE,\"\",INDIRECT(\"'3.09.1a'!j33\"))","v":0},{"$f":"IF(ISERROR(INDIRECT(\"'3.09.1a'!o33\"))=TRUE,\"\",INDIRECT(\"'3.09.1a'!o33\"))","v":""},{"$f":"IF(ISERROR(INDIRECT(\"'3.09.1a'!p33\"))=TRUE,\"\",INDIRECT(\"'3.09.1a'!p33\"))","v":0},{"$f":"IF(ISERROR(INDIRECT(\"'3.09.1a'!q33\"))=TRUE,\"\",INDIRECT(\"'3.09.1a'!q33\"))","v":0},{"$f":"IF(ISERROR(INDIRECT(\"'3.09.1a'!s33\"))=TRUE,\"\",INDIRECT(\"'3.09.1a'!s33\"))","v":0},{"$f":"IF(ISERROR(INDIRECT(\"'3.09.1a'!t33\"))=TRUE,\"\",INDIRECT(\"'3.09.1a'!t33\"))","v":0},{"$f":"IF(ISERROR(INDIRECT(\"'3.09.1a'!u33\"))=TRUE,\"\",INDIRECT(\"'3.09.1a'!u33\"))","v":0},{"$f":"IF(ISERROR(INDIRECT(\"'3.09.1a'!v33\"))=TRUE,\"\",INDIRECT(\"'3.09.1a'!v33\"))","v":0},{"$f":"IF(ISERROR(INDIRECT(\"'3.09.1a'!w33\"))=TRUE,\"\",INDIRECT(\"'3.09.1a'!w33\"))","v":0},{"$f":"IF(ISERROR(INDIRECT(\"'3.09.1a'!x33\"))=TRUE,\"\",INDIRECT(\"'3.09.1a'!x33\"))","v":0},{"$f":"IF(ISERROR(INDIRECT(\"'3.09.1a'!aa33\"))=TRUE,\"\",INDIRECT(\"'3.09.1a'!aa33\"))","v":0},{"$f":"IF(ISERROR(INDIRECT(\"'3.09.1a'!ad33\"))=TRUE,\"\",INDIRECT(\"'3.09.1a'!ad33\"))","v":0},{"$f":"IF(ISERROR(INDIRECT(\"'3.09.1a'!ah33\"))=TRUE,\"\",INDIRECT(\"'3.09.1a'!ah33\"))","v":0},{"$f":"IF(ISERROR(INDIRECT(\"'3.09.1a'!am33\"))=TRUE,\"\",INDIRECT(\"'3.09.1a'!am33\"))","v":""}]
[0,"3.09.1a",{"$f":"IF(ISERROR(INDIRECT(\"'3.09.1a'!b34\"))=TRUE,\"\",INDIRECT(\"'3.09.1a'!b34\"))","v":"16."},{"$f":"IF(ISERROR(INDIRECT(\"'3.09.1a'!c34\"))=TRUE,\"\",INDIRECT(\"'3.09.1a'!c34\"))","v":0},{"$f":"IF(ISERROR(INDIRECT(\"'3.09.1a'!d34\"))=TRUE,\"\",INDIRECT(\"'3.09.1a'!d34\"))","v":0},{"$f":"IF(ISERROR(INDIRECT(\"'3.09.1a'!e34\"))=TRUE,\"\",INDIRECT(\"'3.09.1a'!e34\"))","v":0},{"$f":"IF(ISERROR(INDIRECT(\"'3.09.1a'!f34\"))=TRUE,\"\",INDIRECT(\"'3.09.1a'!f34\"))","v":"00:00:00"},{"$f":"IF(ISERROR(INDIRECT(\"'3.09.1a'!g34\"))=TRUE,\"\",INDIRECT(\"'3.09.1a'!g34\"))","v":"00:00:00"},{"$f":"IF(ISERROR(INDIRECT(\"'3.09.1a'!h34\"))=TRUE,\"\",INDIRECT(\"'3.09.1a'!h34\"))","v":0},{"$f":"IF(ISERROR(INDIRECT(\"'3.09.1a'!i34\"))=TRUE,\"\",INDIRECT(\"'3.09.1a'!i34\"))","v":0},{"$f":"IF(ISERROR(INDIRECT(\"'3.09.1a'!j34\"))=TRUE,\"\",INDIRECT(\"'3.09.1a'!j34\"))","v":0},{"$f":"IF(ISERROR(INDIRECT(\"'3.09.1a'!o34\"))=TRUE,\"\",INDIRECT(\"'3.09.1a'!o34\"))","v":""},{"$f":"IF(ISERROR(INDIRECT(\"'3.09.1a'!p34\"))=TRUE,\"\",INDIRECT(\"'3.09.1a'!p34\"))","v":0},{"$f":"IF(ISERROR(INDIRECT(\"'3.09.1a'!q34\"))=TRUE,\"\",INDIRECT(\"'3.09.1a'!q34\"))","v":0},{"$f":"IF(ISERROR(INDIRECT(\"'3.09.1a'!s34\"))=TRUE,\"\",INDIRECT(\"'3.09.1a'!s34\"))","v":0},{"$f":"IF(ISERROR(INDIRECT(\"'3.09.1a'!t34\"))=TRUE,\"\",INDIRECT(\"'3.09.1a'!t34\"))","v":0},{"$f":"IF(ISERROR(INDIRECT(\"'3.09.1a'!u34\"))=TRUE,\"\",INDIRECT(\"'3.09.1a'!u34\"))","v":0},{"$f":"IF(ISERROR(INDIRECT(\"'3.09.1a'!v34\"))=TRUE,\"\",INDIRECT(\"'3.09.1a'!v34\"))","v":0},{"$f":"IF(ISERROR(INDIRECT(\"'3.09.1a'!w34\"))=TRUE,\"\",INDIRECT(\"'3.09.1a'!w34\"))","v":0},{"$f":"IF(ISERROR(INDIRECT(\"'3.09.1a'!x34\"))=TRUE,\"\",INDIRECT(\"'3.09.1a'!x34\"))","v":0},{"$f":"IF(ISERROR(INDIRECT(\"'3.09.1a'!aa34\"))=TRUE,\"\",INDIRECT(\"'3.09.1a'!aa34\"))","v":0},{"$f":"IF(ISERROR(INDIRECT(\"'3.09.1a'!ad34\"))=TRUE,\"\",INDIRECT(\"'3.09.1a'!ad34\"))","v":0},{"$f":"IF(ISERROR(INDIRECT(\"'3.09.1a'!ah34\"))=TRUE,\"\",INDIRECT(\"'3.09.1a'!ah34\"))","v":0},{"$f":"IF(ISERROR(INDIRECT(\"'3.09.1a'!am34\"))=TRUE,\"\",INDIRECT(\"'3.09.1a'!am34\"))","v":""}]
[0,"3.09.1a",{"$f":"IF(ISERROR(INDIRECT(\"'3.09.1a'!b35\"))=TRUE,\"\",INDIRECT(\"'3.09.1a'!b35\"))","v":"17."},{"$f":"IF(ISERROR(INDIRECT(\"'3.09.1a'!c35\"))=TRUE,\"\",INDIRECT(\"'3.09.1a'!c35\"))","v":0},{"$f":"IF(ISERROR(INDIRECT(\"'3.09.1a'!d35\"))=TRUE,\"\",INDIRECT(\"'3.09.1a'!d35\"))","v":0},{"$f":"IF(ISERROR(INDIRECT(\"'3.09.1a'!e35\"))=TRUE,\"\",INDIRECT(\"'3.09.1a'!e35\"))","v":0},{"$f":"IF(ISERROR(INDIRECT(\"'3.09.1a'!f35\"))=TRUE,\"\",INDIRECT(\"'3.09.1a'!f35\"))","v":"00:00:00"},{"$f":"IF(ISERROR(INDIRECT(\"'3.09.1a'!g35\"))=TRUE,\"\",INDIRECT(\"'3.09.1a'!g35\"))","v":"00:00:00"},{"$f":"IF(ISERROR(INDIRECT(\"'3.09.1a'!h35\"))=TRUE,\"\",INDIRECT(\"'3.09.1a'!h35\"))","v":0},{"$f":"IF(ISERROR(INDIRECT(\"'3.09.1a'!i35\"))=TRUE,\"\",INDIRECT(\"'3.09.1a'!i35\"))","v":0},{"$f":"IF(ISERROR(INDIRECT(\"'3.09.1a'!j35\"))=TRUE,\"\",INDIRECT(\"'3.09.1a'!j35\"))","v":0},{"$f":"IF(ISERROR(INDIRECT(\"'3.09.1a'!o35\"))=TRUE,\"\",INDIRECT(\"'3.09.1a'!o35\"))","v":""},{"$f":"IF(ISERROR(INDIRECT(\"'3.09.1a'!p35\"))=TRUE,\"\",INDIRECT(\"'3.09.1a'!p35\"))","v":0},{"$f":"IF(ISERROR(INDIRECT(\"'3.09.1a'!q35\"))=TRUE,\"\",INDIRECT(\"'3.09.1a'!q35\"))","v":0},{"$f":"IF(ISERROR(INDIRECT(\"'3.09.1a'!s35\"))=TRUE,\"\",INDIRECT(\"'3.09.1a'!s35\"))","v":0},{"$f":"IF(ISERROR(INDIRECT(\"'3.09.1a'!t35\"))=TRUE,\"\",INDIRECT(\"'3.09.1a'!t35\"))","v":0},{"$f":"IF(ISERROR(INDIRECT(\"'3.09.1a'!u35\"))=TRUE,\"\",INDIRECT(\"'3.09.1a'!u35\"))","v":0},{"$f":"IF(ISERROR(INDIRECT(\"'3.09.1a'!v35\"))=TRUE,\"\",INDIRECT(\"'3.09.1a'!v35\"))","v":0},{"$f":"IF(ISERROR(INDIRECT(\"'3.09.1a'!w35\"))=TRUE,\"\",INDIRECT(\"'3.09.1a'!w35\"))","v":0},{"$f":"IF(ISERROR(INDIRECT(\"'3.09.1a'!x35\"))=TRUE,\"\",INDIRECT(\"'3.09.1a'!x35\"))","v":0},{"$f":"IF(ISERROR(INDIRECT(\"'3.09.1a'!aa35\"))=TRUE,\"\",INDIRECT(\"'3.09.1a'!aa35\"))","v":0},{"$f":"IF(ISERROR(INDIRECT(\"'3.09.1a'!ad35\"))=TRUE,\"\",INDIRECT(\"'3.09.1a'!ad35\"))","v":0},{"$f":"IF(ISERROR(INDIRECT(\"'3.09.1a'!ah35\"))=TRUE,\"\",INDIRECT(\"'3.09.1a'!ah35\"))","v":0},{"$f":"IF(ISERROR(INDIRECT(\"'3.09.1a'!am35\"))=TRUE,\"\",INDIRECT(\"'3.09.1a'!am35\"))","v":""}]
[0,"3.09.1a",{"$f":"IF(ISERROR(INDIRECT(\"'3.09.1a'!b36\"))=TRUE,\"\",INDIRECT(\"'3.09.1a'!b36\"))","v":"18."},{"$f":"IF(ISERROR(INDIRECT(\"'3.09.1a'!c36\"))=TRUE,\"\",INDIRECT(\"'3.09.1a'!c36\"))","v":0},{"$f":"IF(ISERROR(INDIRECT(\"'3.09.1a'!d36\"))=TRUE,\"\",INDIRECT(\"'3.09.1a'!d36\"))","v":0},{"$f":"IF(ISERROR(INDIRECT(\"'3.09.1a'!e36\"))=TRUE,\"\",INDIRECT(\"'3.09.1a'!e36\"))","v":0},{"$f":"IF(ISERROR(INDIRECT(\"'3.09.1a'!f36\"))=TRUE,\"\",INDIRECT(\"'3.09.1a'!f36\"))","v":"00:00:00"},{"$f":"IF(ISERROR(INDIRECT(\"'3.09.1a'!g36\"))=TRUE,\"\",INDIRECT(\"'3.09.1a'!g36\"))","v":"00:00:00"},{"$f":"IF(ISERROR(INDIRECT(\"'3.09.1a'!h36\"))=TRUE,\"\",INDIRECT(\"'3.09.1a'!h36\"))","v":0},{"$f":"IF(ISERROR(INDIRECT(\"'3.09.1a'!i36\"))=TRUE,\"\",INDIRECT(\"'3.09.1a'!i36\"))","v":0},{"$f":"IF(ISERROR(INDIRECT(\"'3.09.1a'!j36\"))=TRUE,\"\",INDIRECT(\"'3.09.1a'!j36\"))","v":0},{"$f":"IF(ISERROR(INDIRECT(\"'3.09.1a'!o36\"))=TRUE,\"\",INDIRECT(\"'3.09.1a'!o36\"))","v":""},{"$f":"IF(ISERROR(INDIRECT(\"'3.09.1a'!p36\"))=TRUE,\"\",INDIRECT(\"'3.09.1a'!p36\"))","v":0},{"$f":"IF(ISERROR(INDIRECT(\"'3.09.1a'!q36\"))=TRUE,\"\",INDIRECT(\"'3.09.1a'!q36\"))","v":0},{"$f":"IF(ISERROR(INDIRECT(\"'3.09.1a'!s36\"))=TRUE,\"\",INDIRECT(\"'3.09.1a'!s36\"))","v":0},{"$f":"IF(ISERROR(INDIRECT(\"'3.09.1a'!t36\"))=TRUE,\"\",INDIRECT(\"'3.09.1a'!t36\"))","v":0},{"$f":"IF(ISERROR(INDIRECT(\"'3.09.1a'!u36\"))=TRUE,\"\",INDIRECT(\"'3.09.1a'!u36\"))","v":0},{"$f":"IF(ISERROR(INDIRECT(\"'3.09.1a'!v36\"))=TRUE,\"\",INDIRECT(\"'3.09.1a'!v36\"))","v":0},{"$f":"IF(ISERROR(INDIRECT(\"'3.09.1a'!w36\"))=TRUE,\"\",INDIRECT(\"'3.09.1a'!w36\"))","v":0},{"$f":"IF(ISERROR(INDIRECT(\"'3.09.1a'!x36\"))=TRUE,\"\",INDIRECT(\"'3.09.1a'!x36\"))","v":0},{"$f":"IF(ISERROR(INDIRECT(\"'3.09.1a'!aa36\"))=TRUE,\"\",INDIRECT(\"'3.09.1a'!aa36\"))","v":0},{"$f":"IF(ISERROR(INDIRECT(\"'3.09.1a'!ad36\"))=TRUE,\"\",INDIRECT(\"'3.09.1a'!ad36\"))","v":0},{"$f":"IF(ISERROR(INDIRECT(\"'3.09.1a'!ah36\"))=TRUE,\"\",INDIRECT(\"'3.09.1a'!ah36\"))","v":0},{"$f":"IF(ISERROR(INDIRECT(\"'3.09.1a'!am36\"))=TRUE,\"\",INDIRECT(\"'3.09.1a'!am36\"))","v":""}]
[0,"3.09.1a",{"$f":"IF(ISERROR(INDIRECT(\"'3.09.1a'!b37\"))=TRUE,\"\",INDIRECT(\"'3.09.1a'!b37\"))","v":"19."},{"$f":"IF(ISERROR(INDIRECT(\"'3.09.1a'!c37\"))=TRUE,\"\",INDIRECT(\"'3.09.1a'!c37\"))","v":0},{"$f":"IF(ISERROR(INDIRECT(\"'3.09.1a'!d37\"))=TRUE,\"\",INDIRECT(\"'3.09.1a'!d37\"))","v":0},{"$f":"IF(ISERROR(INDIRECT(\"'3.09.1a'!e37\"))=TRUE,\"\",INDIRECT(\"'3.09.1a'!e37\"))","v":0},{"$f":"IF(ISERROR(INDIRECT(\"'3.09.1a'!f37\"))=TRUE,\"\",INDIRECT(\"'3.09.1a'!f37\"))","v":"00:00:00"},{"$f":"IF(ISERROR(INDIRECT(\"'3.09.1a'!g37\"))=TRUE,\"\",INDIRECT(\"'3.09.1a'!g37\"))","v":"00:00:00"},{"$f":"IF(ISERROR(INDIRECT(\"'3.09.1a'!h37\"))=TRUE,\"\",INDIRECT(\"'3.09.1a'!h37\"))","v":0},{"$f":"IF(ISERROR(INDIRECT(\"'3.09.1a'!i37\"))=TRUE,\"\",INDIRECT(\"'3.09.1a'!i37\"))","v":0},{"$f":"IF(ISERROR(INDIRECT(\"'3.09.1a'!j37\"))=TRUE,\"\",INDIRECT(\"'3.09.1a'!j37\"))","v":0},{"$f":"IF(ISERROR(INDIRECT(\"'3.09.1a'!o37\"))=TRUE,\"\",INDIRECT(\"'3.09.1a'!o37\"))","v":""},{"$f":"IF(ISERROR(INDIRECT(\"'3.09.1a'!p37\"))=TRUE,\"\",INDIRECT(\"'3.09.1a'!p37\"))","v":0},{"$f":"IF(ISERROR(INDIRECT(\"'3.09.1a'!q37\"))=TRUE,\"\",INDIRECT(\"'3.09.1a'!q37\"))","v":0},{"$f":"IF(ISERROR(INDIRECT(\"'3.09.1a'!s37\"))=TRUE,\"\",INDIRECT(\"'3.09.1a'!s37\"))","v":0},{"$f":"IF(ISERROR(INDIRECT(\"'3.09.1a'!t37\"))=TRUE,\"\",INDIRECT(\"'3.09.1a'!t37\"))","v":0},{"$f":"IF(ISERROR(INDIRECT(\"'3.09.1a'!u37\"))=TRUE,\"\",INDIRECT(\"'3.09.1a'!u37\"))","v":0},{"$f":"IF(ISERROR(INDIRECT(\"'3.09.1a'!v37\"))=TRUE,\"\",INDIRECT(\"'3.09.1a'!v37\"))","v":0},{"$f":"IF(ISERROR(INDIRECT(\"'3.09.1a'!w37\"))=TRUE,\"\",INDIRECT(\"'3.09.1a'!w37\"))","v":0},{"$f":"IF(ISERROR(INDIRECT(\"'3.09.1a'!x37\"))=TRUE,\"\",INDIRECT(\"'3.09.1a'!x37\"))","v":0},{"$f":"IF(ISERROR(INDIRECT(\"'3.09.1a'!aa37\"))=TRUE,\"\",INDIRECT(\"'3.09.1a'!aa37\"))","v":0},{"$f":"IF(ISERROR(INDIRECT(\"'3.09.1a'!ad37\"))=TRUE,\"\",INDIRECT(\"'3.09.1a'!ad37\"))","v":0},{"$f":"IF(ISERROR(INDIRECT(\"'3.09.1a'!ah37\"))=TRUE,\"\",INDIRECT(\"'3.09.1a'!ah37\"))","v":0},{"$f":"IF(ISERROR(INDIRECT(\"'3.09.1a'!am37\"))=TRUE,\"\",INDIRECT(\"'3.09.1a'!am37\"))","v":""}]
[0,"3.09.1a",{"$f":"IF(ISERROR(INDIRECT(\"'3.09.1a'!b38\"))=TRUE,\"\",INDIRECT(\"'3.09.1a'!b38\"))","v":"20."},{"$f":"IF(ISERROR(INDIRECT(\"'3.09.1a'!c38\"))=TRUE,\"\",INDIRECT(\"'3.09.1a'!c38\"))","v":0},{"$f":"IF(ISERROR(INDIRECT(\"'3.09.1a'!d38\"))=TRUE,\"\",INDIRECT(\"'3.09.1a'!d38\"))","v":0},{"$f":"IF(ISERROR(INDIRECT(\"'3.09.1a'!e38\"))=TRUE,\"\",INDIRECT(\"'3.09.1a'!e38\"))","v":0},{"$f":"IF(ISERROR(INDIRECT(\"'3.09.1a'!f38\"))=TRUE,\"\",INDIRECT(\"'3.09.1a'!f38\"))","v":"00:00:00"},{"$f":"IF(ISERROR(INDIRECT(\"'3.09.1a'!g38\"))=TRUE,\"\",INDIRECT(\"'3.09.1a'!g38\"))","v":"00:00:00"},{"$f":"IF(ISERROR(INDIRECT(\"'3.09.1a'!h38\"))=TRUE,\"\",INDIRECT(\"'3.09.1a'!h38\"))","v":0},{"$f":"IF(ISERROR(INDIRECT(\"'3.09.1a'!i38\"))=TRUE,\"\",INDIRECT(\"'3.09.1a'!i38\"))","v":0},{"$f":"IF(ISERROR(INDIRECT(\"'3.09.1a'!j38\"))=TRUE,\"\",INDIRECT(\"'3.09.1a'!j38\"))","v":0},{"$f":"IF(ISERROR(INDIRECT(\"'3.09.1a'!o38\"))=TRUE,\"\",INDIRECT(\"'3.09.1a'!o38\"))","v":""},{"$f":"IF(ISERROR(INDIRECT(\"'3.09.1a'!p38\"))=TRUE,\"\",INDIRECT(\"'3.09.1a'!p38\"))","v":0},{"$f":"IF(ISERROR(INDIRECT(\"'3.09.1a'!q38\"))=TRUE,\"\",INDIRECT(\"'3.09.1a'!q38\"))","v":0},{"$f":"IF(ISERROR(INDIRECT(\"'3.09.1a'!s38\"))=TRUE,\"\",INDIRECT(\"'3.09.1a'!s38\"))","v":0},{"$f":"IF(ISERROR(INDIRECT(\"'3.09.1a'!t38\"))=TRUE,\"\",INDIRECT(\"'3.09.1a'!t38\"))","v":0},{"$f":"IF(ISERROR(INDIRECT(\"'3.09.1a'!u38\"))=TRUE,\"\",INDIRECT(\"'3.09.1a'!u38\"))","v":0},{"$f":"IF(ISERROR(INDIRECT(\"'3.09.1a'!v38\"))=TRUE,\"\",INDIRECT(\"'3.09.1a'!v38\"))","v":0},{"$f":"IF(ISERROR(INDIRECT(\"'3.09.1a'!w38\"))=TRUE,\"\",INDIRECT(\"'3.09.1a'!w38\"))","v":0},{"$f":"IF(ISERROR(INDIRECT(\"'3.09.1a'!x38\"))=TRUE,\"\",INDIRECT(\"'3.09.1a'!x38\"))","v":0},{"$f":"IF(ISERROR(INDIRECT(\"'3.09.1a'!aa38\"))=TRUE,\"\",INDIRECT(\"'3.09.1a'!aa38\"))","v":0},{"$f":"IF(ISERROR(INDIRECT(\"'3.09.1a'!ad38\"))=TRUE,\"\",INDIRECT(\"'3.09.1a'!ad38\"))","v":0},{"$f":"IF(ISERROR(INDIRECT(\"'3.09.1a'!ah38\"))=TRUE,\"\",INDIRECT(\"'3.09.1a'!ah38\"))","v":0},{"$f":"IF(ISERROR(INDIRECT(\"'3.09.1a'!am38\"))=TRUE,\"\",INDIRECT(\"'3.09.1a'!am38\"))","v":""}]
[0,"3.09.1a",{"$f":"IF(ISERROR(INDIRECT(\"'3.09.1a'!b39\"))=TRUE,\"\",INDIRECT(\"'3.09.1a'!b39\"))","v":"21."},{"$f":"IF(ISERROR(INDIRECT(\"'3.09.1a'!c39\"))=TRUE,\"\",INDIRECT(\"'3.09.1a'!c39\"))","v":0},{"$f":"IF(ISERROR(INDIRECT(\"'3.09.1a'!d39\"))=TRUE,\"\",INDIRECT(\"'3.09.1a'!d39\"))","v":0},{"$f":"IF(ISERROR(INDIRECT(\"'3.09.1a'!e39\"))=TRUE,\"\",INDIRECT(\"'3.09.1a'!e39\"))","v":0},{"$f":"IF(ISERROR(INDIRECT(\"'3.09.1a'!f39\"))=TRUE,\"\",INDIRECT(\"'3.09.1a'!f39\"))","v":"00:00:00"},{"$f":"IF(ISERROR(INDIRECT(\"'3.09.1a'!g39\"))=TRUE,\"\",INDIRECT(\"'3.09.1a'!g39\"))","v":"00:00:00"},{"$f":"IF(ISERROR(INDIRECT(\"'3.09.1a'!h39\"))=TRUE,\"\",INDIRECT(\"'3.09.1a'!h39\"))","v":0},{"$f":"IF(ISERROR(INDIRECT(\"'3.09.1a'!i39\"))=TRUE,\"\",INDIRECT(\"'3.09.1a'!i39\"))","v":0},{"$f":"IF(ISERROR(INDIRECT(\"'3.09.1a'!j39\"))=TRUE,\"\",INDIRECT(\"'3.09.1a'!j39\"))","v":0},{"$f":"IF(ISERROR(INDIRECT(\"'3.09.1a'!o39\"))=TRUE,\"\",INDIRECT(\"'3.09.1a'!o39\"))","v":""},{"$f":"IF(ISERROR(INDIRECT(\"'3.09.1a'!p39\"))=TRUE,\"\",INDIRECT(\"'3.09.1a'!p39\"))","v":0},{"$f":"IF(ISERROR(INDIRECT(\"'3.09.1a'!q39\"))=TRUE,\"\",INDIRECT(\"'3.09.1a'!q39\"))","v":0},{"$f":"IF(ISERROR(INDIRECT(\"'3.09.1a'!s39\"))=TRUE,\"\",INDIRECT(\"'3.09.1a'!s39\"))","v":0},{"$f":"IF(ISERROR(INDIRECT(\"'3.09.1a'!t39\"))=TRUE,\"\",INDIRECT(\"'3.09.1a'!t39\"))","v":0},{"$f":"IF(ISERROR(INDIRECT(\"'3.09.1a'!u39\"))=TRUE,\"\",INDIRECT(\"'3.09.1a'!u39\"))","v":0},{"$f":"IF(ISERROR(INDIRECT(\"'3.09.1a'!v39\"))=TRUE,\"\",INDIRECT(\"'3.09.1a'!v39\"))","v":0},{"$f":"IF(ISERROR(INDIRECT(\"'3.09.1a'!w39\"))=TRUE,\"\",INDIRECT(\"'3.09.1a'!w39\"))","v":0},{"$f":"IF(ISERROR(INDIRECT(\"'3.09.1a'!x39\"))=TRUE,\"\",INDIRECT(\"'3.09.1a'!x39\"))","v":0},{"$f":"IF(ISERROR(INDIRECT(\"'3.09.1a'!aa39\"))=TRUE,\"\",INDIRECT(\"'3.09.1a'!aa39\"))","v":0},{"$f":"IF(ISERROR(INDIRECT(\"'3.09.1a'!ad39\"))=TRUE,\"\",INDIRECT(\"'3.09.1a'!ad39\"))","v":0},{"$f":"IF(ISERROR(INDIRECT(\"'3.09.1a'!ah39\"))=TRUE,\"\",INDIRECT(\"'3.09.1a'!ah39\"))","v":0},{"$f":"IF(ISERROR(INDIRECT(\"'3.09.1a'!am39\"))=TRUE,\"\",INDIRECT(\"'3.09.1a'!am39\"))","v":""}]
[0,"3.09.1a",{"$f":"IF(ISERROR(INDIRECT(\"'3.09.1a'!b40\"))=TRUE,\"\",INDIRECT(\"'3.09.1a'!b40\"))","v":"22."},{"$f":"IF(ISERROR(INDIRECT(\"'3.09.1a'!c40\"))=TRUE,\"\",INDIRECT(\"'3.09.1a'!c40\"))","v":0},{"$f":"IF(ISERROR(INDIRECT(\"'3.09.1a'!d40\"))=TRUE,\"\",INDIRECT(\"'3.09.1a'!d40\"))","v":0},{"$f":"IF(ISERROR(INDIRECT(\"'3.09.1a'!e40\"))=TRUE,\"\",INDIRECT(\"'3.09.1a'!e40\"))","v":0},{"$f":"IF(ISERROR(INDIRECT(\"'3.09.1a'!f40\"))=TRUE,\"\",INDIRECT(\"'3.09.1a'!f40\"))","v":"00:00:00"},{"$f":"IF(ISERROR(INDIRECT(\"'3.09.1a'!g40\"))=TRUE,\"\",INDIRECT(\"'3.09.1a'!g40\"))","v":"00:00:00"},{"$f":"IF(ISERROR(INDIRECT(\"'3.09.1a'!h40\"))=TRUE,\"\",INDIRECT(\"'3.09.1a'!h40\"))","v":0},{"$f":"IF(ISERROR(INDIRECT(\"'3.09.1a'!i40\"))=TRUE,\"\",INDIRECT(\"'3.09.1a'!i40\"))","v":0},{"$f":"IF(ISERROR(INDIRECT(\"'3.09.1a'!j40\"))=TRUE,\"\",INDIRECT(\"'3.09.1a'!j40\"))","v":0},{"$f":"IF(ISERROR(INDIRECT(\"'3.09.1a'!o40\"))=TRUE,\"\",INDIRECT(\"'3.09.1a'!o40\"))","v":""},{"$f":"IF(ISERROR(INDIRECT(\"'3.09.1a'!p40\"))=TRUE,\"\",INDIRECT(\"'3.09.1a'!p40\"))","v":0},{"$f":"IF(ISERROR(INDIRECT(\"'3.09.1a'!q40\"))=TRUE,\"\",INDIRECT(\"'3.09.1a'!q40\"))","v":0},{"$f":"IF(ISERROR(INDIRECT(\"'3.09.1a'!s40\"))=TRUE,\"\",INDIRECT(\"'3.09.1a'!s40\"))","v":0},{"$f":"IF(ISERROR(INDIRECT(\"'3.09.1a'!t40\"))=TRUE,\"\",INDIRECT(\"'3.09.1a'!t40\"))","v":0},{"$f":"IF(ISERROR(INDIRECT(\"'3.09.1a'!u40\"))=TRUE,\"\",INDIRECT(\"'3.09.1a'!u40\"))","v":0},{"$f":"IF(ISERROR(INDIRECT(\"'3.09.1a'!v40\"))=TRUE,\"\",INDIRECT(\"'3.09.1a'!v40\"))","v":0},{"$f":"IF(ISERROR(INDIRECT(\"'3.09.1a'!w40\"))=TRUE,\"\",INDIRECT(\"'3.09.1a'!w40\"))","v":0},{"$f":"IF(ISERROR(INDIRECT(\"'3.09.1a'!x40\"))=TRUE,\"\",INDIRECT(\"'3.09.1a'!x40\"))","v":0},{"$f":"IF(ISERROR(INDIRECT(\"'3.09.1a'!aa40\"))=TRUE,\"\",INDIRECT(\"'3.09.1a'!aa40\"))","v":0},{"$f":"IF(ISERROR(INDIRECT(\"'3.09.1a'!ad40\"))=TRUE,\"\",INDIRECT(\"'3.09.1a'!ad40\"))","v":0},{"$f":"IF(ISERROR(INDIRECT(\"'3.09.1a'!ah40\"))=TRUE,\"\",INDIRECT(\"'3.09.1a'!ah40\"))","v":0},{"$f":"IF(ISERROR(INDIRECT(\"'3.09.1a'!am40\"))=TRUE,\"\",INDIRECT(\"'3.09.1a'!am40\"))","v":""}]
[0,"3.09.1a",{"$f":"IF(ISERROR(INDIRECT(\"'3.09.1a'!b41\"))=TRUE,\"\",INDIRECT(\"'3.09.1a'!b41\"))","v":"23."},{"$f":"IF(ISERROR(INDIRECT(\"'3.09.1a'!c41\"))=TRUE,\"\",INDIRECT(\"'3.09.1a'!c41\"))","v":0},{"$f":"IF(ISERROR(INDIRECT(\"'3.09.1a'!d41\"))=TRUE,\"\",INDIRECT(\"'3.09.1a'!d41\"))","v":0},{"$f":"IF(ISERROR(INDIRECT(\"'3.09.1a'!e41\"))=TRUE,\"\",INDIRECT(\"'3.09.1a'!e41\"))","v":0},{"$f":"IF(ISERROR(INDIRECT(\"'3.09.1a'!f41\"))=TRUE,\"\",INDIRECT(\"'3.09.1a'!f41\"))","v":"00:00:00"},{"$f":"IF(ISERROR(INDIRECT(\"'3.09.1a'!g41\"))=TRUE,\"\",INDIRECT(\"'3.09.1a'!g41\"))","v":"00:00:00"},{"$f":"IF(ISERROR(INDIRECT(\"'3.09.1a'!h41\"))=TRUE,\"\",INDIRECT(\"'3.09.1a'!h41\"))","v":0},{"$f":"IF(ISERROR(INDIRECT(\"'3.09.1a'!i41\"))=TRUE,\"\",INDIRECT(\"'3.09.1a'!i41\"))","v":0},{"$f":"IF(ISERROR(INDIRECT(\"'3.09.1a'!j41\"))=TRUE,\"\",INDIRECT(\"'3.09.1a'!j41\"))","v":0},{"$f":"IF(ISERROR(INDIRECT(\"'3.09.1a'!o41\"))=TRUE,\"\",INDIRECT(\"'3.09.1a'!o41\"))","v":""},{"$f":"IF(ISERROR(INDIRECT(\"'3.09.1a'!p41\"))=TRUE,\"\",INDIRECT(\"'3.09.1a'!p41\"))","v":0},{"$f":"IF(ISERROR(INDIRECT(\"'3.09.1a'!q41\"))=TRUE,\"\",INDIRECT(\"'3.09.1a'!q41\"))","v":0},{"$f":"IF(ISERROR(INDIRECT(\"'3.09.1a'!s41\"))=TRUE,\"\",INDIRECT(\"'3.09.1a'!s41\"))","v":0},{"$f":"IF(ISERROR(INDIRECT(\"'3.09.1a'!t41\"))=TRUE,\"\",INDIRECT(\"'3.09.1a'!t41\"))","v":0},{"$f":"IF(ISERROR(INDIRECT(\"'3.09.1a'!u41\"))=TRUE,\"\",INDIRECT(\"'3.09.1a'!u41\"))","v":0},{"$f":"IF(ISERROR(INDIRECT(\"'3.09.1a'!v41\"))=TRUE,\"\",INDIRECT(\"'3.09.1a'!v41\"))","v":0},{"$f":"IF(ISERROR(INDIRECT(\"'3.09.1a'!w41\"))=TRUE,\"\",INDIRECT(\"'3.09.1a'!w41\"))","v":0},{"$f":"IF(ISERROR(INDIRECT(\"'3.09.1a'!x41\"))=TRUE,\"\",INDIRECT(\"'3.09.1a'!x41\"))","v":0},{"$f":"IF(ISERROR(INDIRECT(\"'3.09.1a'!aa41\"))=TRUE,\"\",INDIRECT(\"'3.09.1a'!aa41\"))","v":0},{"$f":"IF(ISERROR(INDIRECT(\"'3.09.1a'!ad41\"))=TRUE,\"\",INDIRECT(\"'3.09.1a'!ad41\"))","v":0},{"$f":"IF(ISERROR(INDIRECT(\"'3.09.1a'!ah41\"))=TRUE,\"\",INDIRECT(\"'3.09.1a'!ah41\"))","v":0},{"$f":"IF(ISERROR(INDIRECT(\"'3.09.1a'!am41\"))=TRUE,\"\",INDIRECT(\"'3.09.1a'!am41\"))","v":""}]
[0,"3.09.1a",{"$f":"IF(ISERROR(INDIRECT(\"'3.09.1a'!b42\"))=TRUE,\"\",INDIRECT(\"'3.09.1a'!b42\"))","v":"24."},{"$f":"IF(ISERROR(INDIRECT(\"'3.09.1a'!c42\"))=TRUE,\"\",INDIRECT(\"'3.09.1a'!c42\"))","v":0},{"$f":"IF(ISERROR(INDIRECT(\"'3.09.1a'!d42\"))=TRUE,\"\",INDIRECT(\"'3.09.1a'!d42\"))","v":0},{"$f":"IF(ISERROR(INDIRECT(\"'3.09.1a'!e42\"))=TRUE,\"\",INDIRECT(\"'3.09.1a'!e42\"))","v":0},{"$f":"IF(ISERROR(INDIRECT(\"'3.09.1a'!f42\"))=TRUE,\"\",INDIRECT(\"'3.09.1a'!f42\"))","v":"00:00:00"},{"$f":"IF(ISERROR(INDIRECT(\"'3.09.1a'!g42\"))=TRUE,\"\",INDIRECT(\"'3.09.1a'!g42\"))","v":"00:00:00"},{"$f":"IF(ISERROR(INDIRECT(\"'3.09.1a'!h42\"))=TRUE,\"\",INDIRECT(\"'3.09.1a'!h42\"))","v":0},{"$f":"IF(ISERROR(INDIRECT(\"'3.09.1a'!i42\"))=TRUE,\"\",INDIRECT(\"'3.09.1a'!i42\"))","v":0},{"$f":"IF(ISERROR(INDIRECT(\"'3.09.1a'!j42\"))=TRUE,\"\",INDIRECT(\"'3.09.1a'!j42\"))","v":0},{"$f":"IF(ISERROR(INDIRECT(\"'3.09.1a'!o42\"))=TRUE,\"\",INDIRECT(\"'3.09.1a'!o42\"))","v":""},{"$f":"IF(ISERROR(INDIRECT(\"'3.09.1a'!p42\"))=TRUE,\"\",INDIRECT(\"'3.09.1a'!p42\"))","v":0},{"$f":"IF(ISERROR(INDIRECT(\"'3.09.1a'!q42\"))=TRUE,\"\",INDIRECT(\"'3.09.1a'!q42\"))","v":0},{"$f":"IF(ISERROR(INDIRECT(\"'3.09.1a'!s42\"))=TRUE,\"\",INDIRECT(\"'3.09.1a'!s42\"))","v":0},{"$f":"IF(ISERROR(INDIRECT(\"'3.09.1a'!t42\"))=TRUE,\"\",INDIRECT(\"'3.09.1a'!t42\"))","v":0},{"$f":"IF(ISERROR(INDIRECT(\"'3.09.1a'!u42\"))=TRUE,\"\",INDIRECT(\"'3.09.1a'!u42\"))","v":0},{"$f":"IF(ISERROR(INDIRECT(\"'3.09.1a'!v42\"))=TRUE,\"\",INDIRECT(\"'3.09.1a'!v42\"))","v":0},{"$f":"IF(ISERROR(INDIRECT(\"'3.09.1a'!w42\"))=TRUE,\"\",INDIRECT(\"'3.09.1a'!w42\"))","v":0},{"$f":"IF(ISERROR(INDIRECT(\"'3.09.1a'!x42\"))=TRUE,\"\",INDIRECT(\"'3.09.1a'!x42\"))","v":0},{"$f":"IF(ISERROR(INDIRECT(\"'3.09.1a'!aa42\"))=TRUE,\"\",INDIRECT(\"'3.09.1a'!aa42\"))","v":0},{"$f":"IF(ISERROR(INDIRECT(\"'3.09.1a'!ad42\"))=TRUE,\"\",INDIRECT(\"'3.09.1a'!ad42\"))","v":0},{"$f":"IF(ISERROR(INDIRECT(\"'3.09.1a'!ah42\"))=TRUE,\"\",INDIRECT(\"'3.09.1a'!ah42\"))","v":0},{"$f":"IF(ISERROR(INDIRECT(\"'3.09.1a'!am42\"))=TRUE,\"\",INDIRECT(\"'3.09.1a'!am42\"))","v":""}]
[0,"3.09.1a",{"$f":"IF(ISERROR(INDIRECT(\"'3.09.1a'!b43\"))=TRUE,\"\",INDIRECT(\"'3.09.1a'!b43\"))","v":"25."},{"$f":"IF(ISERROR(INDIRECT(\"'3.09.1a'!c43\"))=TRUE,\"\",INDIRECT(\"'3.09.1a'!c43\"))","v":0},{"$f":"IF(ISERROR(INDIRECT(\"'3.09.1a'!d43\"))=TRUE,\"\",INDIRECT(\"'3.09.1a'!d43\"))","v":0},{"$f":"IF(ISERROR(INDIRECT(\"'3.09.1a'!e43\"))=TRUE,\"\",INDIRECT(\"'3.09.1a'!e43\"))","v":0},{"$f":"IF(ISERROR(INDIRECT(\"'3.09.1a'!f43\"))=TRUE,\"\",INDIRECT(\"'3.09.1a'!f43\"))","v":"00:00:00"},{"$f":"IF(ISERROR(INDIRECT(\"'3.09.1a'!g43\"))=TRUE,\"\",INDIRECT(\"'3.09.1a'!g43\"))","v":"00:00:00"},{"$f":"IF(ISERROR(INDIRECT(\"'3.09.1a'!h43\"))=TRUE,\"\",INDIRECT(\"'3.09.1a'!h43\"))","v":0},{"$f":"IF(ISERROR(INDIRECT(\"'3.09.1a'!i43\"))=TRUE,\"\",INDIRECT(\"'3.09.1a'!i43\"))","v":0},{"$f":"IF(ISERROR(INDIRECT(\"'3.09.1a'!j43\"))=TRUE,\"\",INDIRECT(\"'3.09.1a'!j43\"))","v":0},{"$f":"IF(ISERROR(INDIRECT(\"'3.09.1a'!o43\"))=TRUE,\"\",INDIRECT(\"'3.09.1a'!o43\"))","v":""},{"$f":"IF(ISERROR(INDIRECT(\"'3.09.1a'!p43\"))=TRUE,\"\",INDIRECT(\"'3.09.1a'!p43\"))","v":0},{"$f":"IF(ISERROR(INDIRECT(\"'3.09.1a'!q43\"))=TRUE,\"\",INDIRECT(\"'3.09.1a'!q43\"))","v":0},{"$f":"IF(ISERROR(INDIRECT(\"'3.09.1a'!s43\"))=TRUE,\"\",INDIRECT(\"'3.09.1a'!s43\"))","v":0},{"$f":"IF(ISERROR(INDIRECT(\"'3.09.1a'!t43\"))=TRUE,\"\",INDIRECT(\"'3.09.1a'!t43\"))","v":0},{"$f":"IF(ISERROR(INDIRECT(\"'3.09.1a'!u43\"))=TRUE,\"\",INDIRECT(\"'3.09.1a'!u43\"))","v":0},{"$f":"IF(ISERROR(INDIRECT(\"'3.09.1a'!v43\"))=TRUE,\"\",INDIRECT(\"'3.09.1a'!v43\"))","v":0},{"$f":"IF(ISERROR(INDIRECT(\"'3.09.1a'!w43\"))=TRUE,\"\",INDIRECT(\"'3.09.1a'!w43\"))","v":0},{"$f":"IF(ISERROR(INDIRECT(\"'3.09.1a'!x43\"))=TRUE,\"\",INDIRECT(\"'3.09.1a'!x43\"))","v":0},{"$f":"IF(ISERROR(INDIRECT(\"'3.09.1a'!aa43\"))=TRUE,\"\",INDIRECT(\"'3.09.1a'!aa43\"))","v":0},{"$f":"IF(ISERROR(INDIRECT(\"'3.09.1a'!ad43\"))=TRUE,\"\",INDIRECT(\"'3.09.1a'!ad43\"))","v":0},{"$f":"IF(ISERROR(INDIRECT(\"'3.09.1a'!ah43\"))=TRUE,\"\",INDIRECT(\"'3.09.1a'!ah43\"))","v":0},{"$f":"IF(ISERROR(INDIRECT(\"'3.09.1a'!am43\"))=TRUE,\"\",INDIRECT(\"'3.09.1a'!am43\"))","v":""}]
[{"$f":"AgencyCode","v":0},"3.09.1a (2)",{"$f":"IF(ISERROR(INDIRECT(\"'3.09.1a (2)'!b19\"))=TRUE,\"\",INDIRECT(\"'3.09.1a (2)'!b19\"))","v":""},{"$f":"IF(ISERROR(INDIRECT(\"'3.09.1a (2)'!c19\"))=TRUE,\"\",INDIRECT(\"'3.09.1a (2)'!c19\"))","v":""},{"$f":"IF(ISERROR(INDIRECT(\"'3.09.1a (2)'!D19\"))=TRUE,\"\",INDIRECT(\"'3.09.1a (2)'!D19\"))","v":""},{"$f":"IF(ISERROR(INDIRECT(\"'3.09.1a (2)'!e19\"))=TRUE,\"\",INDIRECT(\"'3.09.1a (2)'!e19\"))","v":""},{"$f":"IF(ISERROR(INDIRECT(\"'3.09.1a (2)'!f19\"))=TRUE,\"\",INDIRECT(\"'3.09.1a (2)'!f19\"))","v":""},{"$f":"IF(ISERROR(INDIRECT(\"'3.09.1a (2)'!g19\"))=TRUE,\"\",INDIRECT(\"'3.09.1a (2)'!g19\"))","v":""},{"$f":"IF(ISERROR(INDIRECT(\"'3.09.1a (2)'!h19\"))=TRUE,\"\",INDIRECT(\"'3.09.1a (2)'!h19\"))","v":""},{"$f":"IF(ISERROR(INDIRECT(\"'3.09.1a (2)'!i19\"))=TRUE,\"\",INDIRECT(\"'3.09.1a (2)'!i19\"))","v":""},{"$f":"IF(ISERROR(INDIRECT(\"'3.09.1a (2)'!j19\"))=TRUE,\"\",INDIRECT(\"'3.09.1a (2)'!j19\"))","v":""},{"$f":"IF(ISERROR(INDIRECT(\"'3.09.1a (2)'!o19\"))=TRUE,\"\",INDIRECT(\"'3.09.1a (2)'!o19\"))","v":""},{"$f":"IF(ISERROR(INDIRECT(\"'3.09.1a (2)'!p19\"))=TRUE,\"\",INDIRECT(\"'3.09.1a (2)'!p19\"))","v":""},{"$f":"IF(ISERROR(INDIRECT(\"'3.09.1a (2)'!q19\"))=TRUE,\"\",INDIRECT(\"'3.09.1a (2)'!q19\"))","v":""},{"$f":"IF(ISERROR(INDIRECT(\"'3.09.1a (2)'!s19\"))=TRUE,\"\",INDIRECT(\"'3.09.1a (2)'!s19\"))","v":""},{"$f":"IF(ISERROR(INDIRECT(\"'3.09.1a (2)'!t19\"))=TRUE,\"\",INDIRECT(\"'3.09.1a (2)'!t19\"))","v":""},{"$f":"IF(ISERROR(INDIRECT(\"'3.09.1a (2)'!u19\"))=TRUE,\"\",INDIRECT(\"'3.09.1a (2)'!u19\"))","v":""},{"$f":"IF(ISERROR(INDIRECT(\"'3.09.1a (2)'!v19\"))=TRUE,\"\",INDIRECT(\"'3.09.1a (2)'!v19\"))","v":""},{"$f":"IF(ISERROR(INDIRECT(\"'3.09.1a (2)'!w19\"))=TRUE,\"\",INDIRECT(\"'3.09.1a (2)'!w19\"))","v":""},{"$f":"IF(ISERROR(INDIRECT(\"'3.09.1a (2)'!x19\"))=TRUE,\"\",INDIRECT(\"'3.09.1a (2)'!x19\"))","v":""},{"$f":"IF(ISERROR(INDIRECT(\"'3.09.1a (2)'!aa19\"))=TRUE,\"\",INDIRECT(\"'3.09.1a (2)'!aa19\"))","v":""},{"$f":"IF(ISERROR(INDIRECT(\"'3.09.1a (2)'!ad19\"))=TRUE,\"\",INDIRECT(\"'3.09.1a (2)'!ad19\"))","v":""},{"$f":"IF(ISERROR(INDIRECT(\"'3.09.1a (2)'!ah19\"))=TRUE,\"\",INDIRECT(\"'3.09.1a (2)'!ah19\"))","v":""},{"$f":"IF(ISERROR(INDIRECT(\"'3.09.1a (2)'!am19\"))=TRUE,\"\",INDIRECT(\"'3.09.1a (2)'!am19\"))","v":""}]
[0,"3.09.1a (2)",{"$f":"IF(ISERROR(INDIRECT(\"'3.09.1a (2)'!b20\"))=TRUE,\"\",INDIRECT(\"'3.09.1a (2)'!b20\"))","v":""},{"$f":"IF(ISERROR(INDIRECT(\"'3.09.1a (2)'!c20\"))=TRUE,\"\",INDIRECT(\"'3.09.1a (2)'!c20\"))","v":""},{"$f":"IF(ISERROR(INDIRECT(\"'3.09.1a (2)'!d20\"))=TRUE,\"\",INDIRECT(\"'3.09.1a (2)'!d20\"))","v":""},{"$f":"IF(ISERROR(INDIRECT(\"'3.09.1a (2)'!e20\"))=TRUE,\"\",INDIRECT(\"'3.09.1a (2)'!e20\"))","v":""},{"$f":"IF(ISERROR(INDIRECT(\"'3.09.1a (2)'!f20\"))=TRUE,\"\",INDIRECT(\"'3.09.1a (2)'!f20\"))","v":""},{"$f":"IF(ISERROR(INDIRECT(\"'3.09.1a (2)'!g20\"))=TRUE,\"\",INDIRECT(\"'3.09.1a (2)'!g20\"))","v":""},{"$f":"IF(ISERROR(INDIRECT(\"'3.09.1a (2)'!h20\"))=TRUE,\"\",INDIRECT(\"'3.09.1a (2)'!h20\"))","v":""},{"$f":"IF(ISERROR(INDIRECT(\"'3.09.1a (2)'!i20\"))=TRUE,\"\",INDIRECT(\"'3.09.1a (2)'!i20\"))","v":""},{"$f":"IF(ISERROR(INDIRECT(\"'3.09.1a (2)'!j20\"))=TRUE,\"\",INDIRECT(\"'3.09.1a (2)'!j20\"))","v":""},{"$f":"IF(ISERROR(INDIRECT(\"'3.09.1a (2)'!o20\"))=TRUE,\"\",INDIRECT(\"'3.09.1a (2)'!o20\"))","v":""},{"$f":"IF(ISERROR(INDIRECT(\"'3.09.1a (2)'!p20\"))=TRUE,\"\",INDIRECT(\"'3.09.1a (2)'!p20\"))","v":""},{"$f":"IF(ISERROR(INDIRECT(\"'3.09.1a (2)'!q20\"))=TRUE,\"\",INDIRECT(\"'3.09.1a (2)'!q20\"))","v":""},{"$f":"IF(ISERROR(INDIRECT(\"'3.09.1a (2)'!s20\"))=TRUE,\"\",INDIRECT(\"'3.09.1a (2)'!s20\"))","v":""},{"$f":"IF(ISERROR(INDIRECT(\"'3.09.1a (2)'!t20\"))=TRUE,\"\",INDIRECT(\"'3.09.1a (2)'!t20\"))","v":""},{"$f":"IF(ISERROR(INDIRECT(\"'3.09.1a (2)'!u20\"))=TRUE,\"\",INDIRECT(\"'3.09.1a (2)'!u20\"))","v":""},{"$f":"IF(ISERROR(INDIRECT(\"'3.09.1a (2)'!v20\"))=TRUE,\"\",INDIRECT(\"'3.09.1a (2)'!v20\"))","v":""},{"$f":"IF(ISERROR(INDIRECT(\"'3.09.1a (2)'!w20\"))=TRUE,\"\",INDIRECT(\"'3.09.1a (2)'!w20\"))","v":""},{"$f":"IF(ISERROR(INDIRECT(\"'3.09.1a (2)'!x20\"))=TRUE,\"\",INDIRECT(\"'3.09.1a (2)'!x20\"))","v":""},{"$f":"IF(ISERROR(INDIRECT(\"'3.09.1a (2)'!aa20\"))=TRUE,\"\",INDIRECT(\"'3.09.1a (2)'!aa20\"))","v":""},{"$f":"IF(ISERROR(INDIRECT(\"'3.09.1a (2)'!ad20\"))=TRUE,\"\",INDIRECT(\"'3.09.1a (2)'!ad20\"))","v":""},{"$f":"IF(ISERROR(INDIRECT(\"'3.09.1a (2)'!ah20\"))=TRUE,\"\",INDIRECT(\"'3.09.1a (2)'!ah20\"))","v":""},{"$f":"IF(ISERROR(INDIRECT(\"'3.09.1a (2)'!am20\"))=TRUE,\"\",INDIRECT(\"'3.09.1a (2)'!am20\"))","v":""}]
[0,"3.09.1a (2)",{"$f":"IF(ISERROR(INDIRECT(\"'3.09.1a (2)'!b21\"))=TRUE,\"\",INDIRECT(\"'3.09.1a (2)'!b21\"))","v":""},{"$f":"IF(ISERROR(INDIRECT(\"'3.09.1a (2)'!c21\"))=TRUE,\"\",INDIRECT(\"'3.09.1a (2)'!c21\"))","v":""},{"$f":"IF(ISERROR(INDIRECT(\"'3.09.1a (2)'!d21\"))=TRUE,\"\",INDIRECT(\"'3.09.1a (2)'!d21\"))","v":""},{"$f":"IF(ISERROR(INDIRECT(\"'3.09.1a (2)'!e21\"))=TRUE,\"\",INDIRECT(\"'3.09.1a (2)'!e21\"))","v":""},{"$f":"IF(ISERROR(INDIRECT(\"'3.09.1a (2)'!f21\"))=TRUE,\"\",INDIRECT(\"'3.09.1a (2)'!f21\"))","v":""},{"$f":"IF(ISERROR(INDIRECT(\"'3.09.1a (2)'!g21\"))=TRUE,\"\",INDIRECT(\"'3.09.1a (2)'!g21\"))","v":""},{"$f":"IF(ISERROR(INDIRECT(\"'3.09.1a (2)'!h21\"))=TRUE,\"\",INDIRECT(\"'3.09.1a (2)'!h21\"))","v":""},{"$f":"IF(ISERROR(INDIRECT(\"'3.09.1a (2)'!i21\"))=TRUE,\"\",INDIRECT(\"'3.09.1a (2)'!i21\"))","v":""},{"$f":"IF(ISERROR(INDIRECT(\"'3.09.1a (2)'!j21\"))=TRUE,\"\",INDIRECT(\"'3.09.1a (2)'!j21\"))","v":""},{"$f":"IF(ISERROR(INDIRECT(\"'3.09.1a (2)'!o21\"))=TRUE,\"\",INDIRECT(\"'3.09.1a (2)'!o21\"))","v":""},{"$f":"IF(ISERROR(INDIRECT(\"'3.09.1a (2)'!p21\"))=TRUE,\"\",INDIRECT(\"'3.09.1a (2)'!p21\"))","v":""},{"$f":"IF(ISERROR(INDIRECT(\"'3.09.1a (2)'!q21\"))=TRUE,\"\",INDIRECT(\"'3.09.1a (2)'!q21\"))","v":""},{"$f":"IF(ISERROR(INDIRECT(\"'3.09.1a (2)'!s21\"))=TRUE,\"\",INDIRECT(\"'3.09.1a (2)'!s21\"))","v":""},{"$f":"IF(ISERROR(INDIRECT(\"'3.09.1a (2)'!t21\"))=TRUE,\"\",INDIRECT(\"'3.09.1a (2)'!t21\"))","v":""},{"$f":"IF(ISERROR(INDIRECT(\"'3.09.1a (2)'!u21\"))=TRUE,\"\",INDIRECT(\"'3.09.1a (2)'!u21\"))","v":""},{"$f":"IF(ISERROR(INDIRECT(\"'3.09.1a (2)'!v21\"))=TRUE,\"\",INDIRECT(\"'3.09.1a (2)'!v21\"))","v":""},{"$f":"IF(ISERROR(INDIRECT(\"'3.09.1a (2)'!w21\"))=TRUE,\"\",INDIRECT(\"'3.09.1a (2)'!w21\"))","v":""},{"$f":"IF(ISERROR(INDIRECT(\"'3.09.1a (2)'!x21\"))=TRUE,\"\",INDIRECT(\"'3.09.1a (2)'!x21\"))","v":""},{"$f":"IF(ISERROR(INDIRECT(\"'3.09.1a (2)'!aa21\"))=TRUE,\"\",INDIRECT(\"'3.09.1a (2)'!aa21\"))","v":""},{"$f":"IF(ISERROR(INDIRECT(\"'3.09.1a (2)'!ad21\"))=TRUE,\"\",INDIRECT(\"'3.09.1a (2)'!ad21\"))","v":""},{"$f":"IF(ISERROR(INDIRECT(\"'3.09.1a (2)'!ah21\"))=TRUE,\"\",INDIRECT(\"'3.09.1a (2)'!ah21\"))","v":""},{"$f":"IF(ISERROR(INDIRECT(\"'3.09.1a (2)'!am21\"))=TRUE,\"\",INDIRECT(\"'3.09.1a (2)'!am21\"))","v":""}]
[0,"3.09.1a (2)",{"$f":"IF(ISERROR(INDIRECT(\"'3.09.1a (2)'!b22\"))=TRUE,\"\",INDIRECT(\"'3.09.1a (2)'!b22\"))","v":""},{"$f":"IF(ISERROR(INDIRECT(\"'3.09.1a (2)'!c22\"))=TRUE,\"\",INDIRECT(\"'3.09.1a (2)'!c22\"))","v":""},{"$f":"IF(ISERROR(INDIRECT(\"'3.09.1a (2)'!d22\"))=TRUE,\"\",INDIRECT(\"'3.09.1a (2)'!d22\"))","v":""},{"$f":"IF(ISERROR(INDIRECT(\"'3.09.1a (2)'!e22\"))=TRUE,\"\",INDIRECT(\"'3.09.1a (2)'!e22\"))","v":""},{"$f":"IF(ISERROR(INDIRECT(\"'3.09.1a (2)'!f22\"))=TRUE,\"\",INDIRECT(\"'3.09.1a (2)'!f22\"))","v":""},{"$f":"IF(ISERROR(INDIRECT(\"'3.09.1a (2)'!g22\"))=TRUE,\"\",INDIRECT(\"'3.09.1a (2)'!g22\"))","v":""},{"$f":"IF(ISERROR(INDIRECT(\"'3.09.1a (2)'!h22\"))=TRUE,\"\",INDIRECT(\"'3.09.1a (2)'!h22\"))","v":""},{"$f":"IF(ISERROR(INDIRECT(\"'3.09.1a (2)'!i22\"))=TRUE,\"\",INDIRECT(\"'3.09.1a (2)'!i22\"))","v":""},{"$f":"IF(ISERROR(INDIRECT(\"'3.09.1a (2)'!j22\"))=TRUE,\"\",INDIRECT(\"'3.09.1a (2)'!j22\"))","v":""},{"$f":"IF(ISERROR(INDIRECT(\"'3.09.1a (2)'!o22\"))=TRUE,\"\",INDIRECT(\"'3.09.1a (2)'!o22\"))","v":""},{"$f":"IF(ISERROR(INDIRECT(\"'3.09.1a (2)'!p22\"))=TRUE,\"\",INDIRECT(\"'3.09.1a (2)'!p22\"))","v":""},{"$f":"IF(ISERROR(INDIRECT(\"'3.09.1a (2)'!q22\"))=TRUE,\"\",INDIRECT(\"'3.09.1a (2)'!q22\"))","v":""},{"$f":"IF(ISERROR(INDIRECT(\"'3.09.1a (2)'!s22\"))=TRUE,\"\",INDIRECT(\"'3.09.1a (2)'!s22\"))","v":""},{"$f":"IF(ISERROR(INDIRECT(\"'3.09.1a (2)'!t22\"))=TRUE,\"\",INDIRECT(\"'3.09.1a (2)'!t22\"))","v":""},{"$f":"IF(ISERROR(INDIRECT(\"'3.09.1a (2)'!u22\"))=TRUE,\"\",INDIRECT(\"'3.09.1a (2)'!u22\"))","v":""},{"$f":"IF(ISERROR(INDIRECT(\"'3.09.1a (2)'!v22\"))=TRUE,\"\",INDIRECT(\"'3.09.1a (2)'!v22\"))","v":""},{"$f":"IF(ISERROR(INDIRECT(\"'3.09.1a (2)'!w22\"))=TRUE,\"\",INDIRECT(\"'3.09.1a (2)'!w22\"))","v":""},{"$f":"IF(ISERROR(INDIRECT(\"'3.09.1a (2)'!x22\"))=TRUE,\"\",INDIRECT(\"'3.09.1a (2)'!x22\"))","v":""},{"$f":"IF(ISERROR(INDIRECT(\"'3.09.1a (2)'!aa22\"))=TRUE,\"\",INDIRECT(\"'3.09.1a (2)'!aa22\"))","v":""},{"$f":"IF(ISERROR(INDIRECT(\"'3.09.1a (2)'!ad22\"))=TRUE,\"\",INDIRECT(\"'3.09.1a (2)'!ad22\"))","v":""},{"$f":"IF(ISERROR(INDIRECT(\"'3.09.1a (2)'!ah22\"))=TRUE,\"\",INDIRECT(\"'3.09.1a (2)'!ah22\"))","v":""},{"$f":"IF(ISERROR(INDIRECT(\"'3.09.1a (2)'!am22\"))=TRUE,\"\",INDIRECT(\"'3.09.1a (2)'!am22\"))","v":""}]
[0,"3.09.1a (2)",{"$f":"IF(ISERROR(INDIRECT(\"'3.09.1a (2)'!b23\"))=TRUE,\"\",INDIRECT(\"'3.09.1a (2)'!b23\"))","v":""},{"$f":"IF(ISERROR(INDIRECT(\"'3.09.1a (2)'!c23\"))=TRUE,\"\",INDIRECT(\"'3.09.1a (2)'!c23\"))","v":""},{"$f":"IF(ISERROR(INDIRECT(\"'3.09.1a (2)'!d23\"))=TRUE,\"\",INDIRECT(\"'3.09.1a (2)'!d23\"))","v":""},{"$f":"IF(ISERROR(INDIRECT(\"'3.09.1a (2)'!e23\"))=TRUE,\"\",INDIRECT(\"'3.09.1a (2)'!e23\"))","v":""},{"$f":"IF(ISERROR(INDIRECT(\"'3.09.1a (2)'!f23\"))=TRUE,\"\",INDIRECT(\"'3.09.1a (2)'!f23\"))","v":""},{"$f":"IF(ISERROR(INDIRECT(\"'3.09.1a (2)'!g23\"))=TRUE,\"\",INDIRECT(\"'3.09.1a (2)'!g23\"))","v":""},{"$f":"IF(ISERROR(INDIRECT(\"'3.09.1a (2)'!h23\"))=TRUE,\"\",INDIRECT(\"'3.09.1a (2)'!h23\"))","v":""},{"$f":"IF(ISERROR(INDIRECT(\"'3.09.1a (2)'!i23\"))=TRUE,\"\",INDIRECT(\"'3.09.1a (2)'!i23\"))","v":""},{"$f":"IF(ISERROR(INDIRECT(\"'3.09.1a (2)'!j23\"))=TRUE,\"\",INDIRECT(\"'3.09.1a (2)'!j23\"))","v":""},{"$f":"IF(ISERROR(INDIRECT(\"'3.09.1a (2)'!o23\"))=TRUE,\"\",INDIRECT(\"'3.09.1a (2)'!o23\"))","v":""},{"$f":"IF(ISERROR(INDIRECT(\"'3.09.1a (2)'!p23\"))=TRUE,\"\",INDIRECT(\"'3.09.1a (2)'!p23\"))","v":""},{"$f":"IF(ISERROR(INDIRECT(\"'3.09.1a (2)'!q23\"))=TRUE,\"\",INDIRECT(\"'3.09.1a (2)'!q23\"))","v":""},{"$f":"IF(ISERROR(INDIRECT(\"'3.09.1a (2)'!s23\"))=TRUE,\"\",INDIRECT(\"'3.09.1a (2)'!s23\"))","v":""},{"$f":"IF(ISERROR(INDIRECT(\"'3.09.1a (2)'!t23\"))=TRUE,\"\",INDIRECT(\"'3.09.1a (2)'!t23\"))","v":""},{"$f":"IF(ISERROR(INDIRECT(\"'3.09.1a (2)'!u23\"))=TRUE,\"\",INDIRECT(\"'3.09.1a (2)'!u23\"))","v":""},{"$f":"IF(ISERROR(INDIRECT(\"'3.09.1a (2)'!v23\"))=TRUE,\"\",INDIRECT(\"'3.09.1a (2)'!v23\"))","v":""},{"$f":"IF(ISERROR(INDIRECT(\"'3.09.1a (2)'!w23\"))=TRUE,\"\",INDIRECT(\"'3.09.1a (2)'!w23\"))","v":""},{"$f":"IF(ISERROR(INDIRECT(\"'3.09.1a (2)'!x23\"))=TRUE,\"\",INDIRECT(\"'3.09.1a (2)'!x23\"))","v":""},{"$f":"IF(ISERROR(INDIRECT(\"'3.09.1a (2)'!aa23\"))=TRUE,\"\",INDIRECT(\"'3.09.1a (2)'!aa23\"))","v":""},{"$f":"IF(ISERROR(INDIRECT(\"'3.09.1a (2)'!ad23\"))=TRUE,\"\",INDIRECT(\"'3.09.1a (2)'!ad23\"))","v":""},{"$f":"IF(ISERROR(INDIRECT(\"'3.09.1a (2)'!ah23\"))=TRUE,\"\",INDIRECT(\"'3.09.1a (2)'!ah23\"))","v":""},{"$f":"IF(ISERROR(INDIRECT(\"'3.09.1a (2)'!am23\"))=TRUE,\"\",INDIRECT(\"'3.09.1a (2)'!am23\"))","v":""}]
[0,"3.09.1a (2)",{"$f":"IF(ISERROR(INDIRECT(\"'3.09.1a (2)'!b24\"))=TRUE,\"\",INDIRECT(\"'3.09.1a (2)'!b24\"))","v":""},{"$f":"IF(ISERROR(INDIRECT(\"'3.09.1a (2)'!c24\"))=TRUE,\"\",INDIRECT(\"'3.09.1a (2)'!c24\"))","v":""},{"$f":"IF(ISERROR(INDIRECT(\"'3.09.1a (2)'!d24\"))=TRUE,\"\",INDIRECT(\"'3.09.1a (2)'!d24\"))","v":""},{"$f":"IF(ISERROR(INDIRECT(\"'3.09.1a (2)'!e24\"))=TRUE,\"\",INDIRECT(\"'3.09.1a (2)'!e24\"))","v":""},{"$f":"IF(ISERROR(INDIRECT(\"'3.09.1a (2)'!f24\"))=TRUE,\"\",INDIRECT(\"'3.09.1a (2)'!f24\"))","v":""},{"$f":"IF(ISERROR(INDIRECT(\"'3.09.1a (2)'!g24\"))=TRUE,\"\",INDIRECT(\"'3.09.1a (2)'!g24\"))","v":""},{"$f":"IF(ISERROR(INDIRECT(\"'3.09.1a (2)'!h24\"))=TRUE,\"\",INDIRECT(\"'3.09.1a (2)'!h24\"))","v":""},{"$f":"IF(ISERROR(INDIRECT(\"'3.09.1a (2)'!i24\"))=TRUE,\"\",INDIRECT(\"'3.09.1a (2)'!i24\"))","v":""},{"$f":"IF(ISERROR(INDIRECT(\"'3.09.1a (2)'!j24\"))=TRUE,\"\",INDIRECT(\"'3.09.1a (2)'!j24\"))","v":""},{"$f":"IF(ISERROR(INDIRECT(\"'3.09.1a (2)'!o24\"))=TRUE,\"\",INDIRECT(\"'3.09.1a (2)'!o24\"))","v":""},{"$f":"IF(ISERROR(INDIRECT(\"'3.09.1a (2)'!p24\"))=TRUE,\"\",INDIRECT(\"'3.09.1a (2)'!p24\"))","v":""},{"$f":"IF(ISERROR(INDIRECT(\"'3.09.1a (2)'!q24\"))=TRUE,\"\",INDIRECT(\"'3.09.1a (2)'!q24\"))","v":""},{"$f":"IF(ISERROR(INDIRECT(\"'3.09.1a (2)'!s24\"))=TRUE,\"\",INDIRECT(\"'3.09.1a (2)'!s24\"))","v":""},{"$f":"IF(ISERROR(INDIRECT(\"'3.09.1a (2)'!t24\"))=TRUE,\"\",INDIRECT(\"'3.09.1a (2)'!t24\"))","v":""},{"$f":"IF(ISERROR(INDIRECT(\"'3.09.1a (2)'!u24\"))=TRUE,\"\",INDIRECT(\"'3.09.1a (2)'!u24\"))","v":""},{"$f":"IF(ISERROR(INDIRECT(\"'3.09.1a (2)'!v24\"))=TRUE,\"\",INDIRECT(\"'3.09.1a (2)'!v24\"))","v":""},{"$f":"IF(ISERROR(INDIRECT(\"'3.09.1a (2)'!w24\"))=TRUE,\"\",INDIRECT(\"'3.09.1a (2)'!w24\"))","v":""},{"$f":"IF(ISERROR(INDIRECT(\"'3.09.1a (2)'!x24\"))=TRUE,\"\",INDIRECT(\"'3.09.1a (2)'!x24\"))","v":""},{"$f":"IF(ISERROR(INDIRECT(\"'3.09.1a (2)'!aa24\"))=TRUE,\"\",INDIRECT(\"'3.09.1a (2)'!aa24\"))","v":""},{"$f":"IF(ISERROR(INDIRECT(\"'3.09.1a (2)'!ad24\"))=TRUE,\"\",INDIRECT(\"'3.09.1a (2)'!ad24\"))","v":""},{"$f":"IF(ISERROR(INDIRECT(\"'3.09.1a (2)'!ah24\"))=TRUE,\"\",INDIRECT(\"'3.09.1a (2)'!ah24\"))","v":""},{"$f":"IF(ISERROR(INDIRECT(\"'3.09.1a (2)'!am24\"))=TRUE,\"\",INDIRECT(\"'3.09.1a (2)'!am24\"))","v":""}]
[0,"3.09.1a (2)",{"$f":"IF(ISERROR(INDIRECT(\"'3.09.1a (2)'!b25\"))=TRUE,\"\",INDIRECT(\"'3.09.1a (2)'!b25\"))","v":""},{"$f":"IF(ISERROR(INDIRECT(\"'3.09.1a (2)'!c25\"))=TRUE,\"\",INDIRECT(\"'3.09.1a (2)'!c25\"))","v":""},{"$f":"IF(ISERROR(INDIRECT(\"'3.09.1a (2)'!d25\"))=TRUE,\"\",INDIRECT(\"'3.09.1a (2)'!d25\"))","v":""},{"$f":"IF(ISERROR(INDIRECT(\"'3.09.1a (2)'!e25\"))=TRUE,\"\",INDIRECT(\"'3.09.1a (2)'!e25\"))","v":""},{"$f":"IF(ISERROR(INDIRECT(\"'3.09.1a (2)'!f25\"))=TRUE,\"\",INDIRECT(\"'3.09.1a (2)'!f25\"))","v":""},{"$f":"IF(ISERROR(INDIRECT(\"'3.09.1a (2)'!g25\"))=TRUE,\"\",INDIRECT(\"'3.09.1a (2)'!g25\"))","v":""},{"$f":"IF(ISERROR(INDIRECT(\"'3.09.1a (2)'!h25\"))=TRUE,\"\",INDIRECT(\"'3.09.1a (2)'!h25\"))","v":""},{"$f":"IF(ISERROR(INDIRECT(\"'3.09.1a (2)'!i25\"))=TRUE,\"\",INDIRECT(\"'3.09.1a (2)'!i25\"))","v":""},{"$f":"IF(ISERROR(INDIRECT(\"'3.09.1a (2)'!j25\"))=TRUE,\"\",INDIRECT(\"'3.09.1a (2)'!j25\"))","v":""},{"$f":"IF(ISERROR(INDIRECT(\"'3.09.1a (2)'!o25\"))=TRUE,\"\",INDIRECT(\"'3.09.1a (2)'!o25\"))","v":""},{"$f":"IF(ISERROR(INDIRECT(\"'3.09.1a (2)'!p25\"))=TRUE,\"\",INDIRECT(\"'3.09.1a (2)'!p25\"))","v":""},{"$f":"IF(ISERROR(INDIRECT(\"'3.09.1a (2)'!q25\"))=TRUE,\"\",INDIRECT(\"'3.09.1a (2)'!q25\"))","v":""},{"$f":"IF(ISERROR(INDIRECT(\"'3.09.1a (2)'!s25\"))=TRUE,\"\",INDIRECT(\"'3.09.1a (2)'!s25\"))","v":""},{"$f":"IF(ISERROR(INDIRECT(\"'3.09.1a (2)'!t25\"))=TRUE,\"\",INDIRECT(\"'3.09.1a (2)'!t25\"))","v":""},{"$f":"IF(ISERROR(INDIRECT(\"'3.09.1a (2)'!u25\"))=TRUE,\"\",INDIRECT(\"'3.09.1a (2)'!u25\"))","v":""},{"$f":"IF(ISERROR(INDIRECT(\"'3.09.1a (2)'!v25\"))=TRUE,\"\",INDIRECT(\"'3.09.1a (2)'!v25\"))","v":""},{"$f":"IF(ISERROR(INDIRECT(\"'3.09.1a (2)'!w25\"))=TRUE,\"\",INDIRECT(\"'3.09.1a (2)'!w25\"))","v":""},{"$f":"IF(ISERROR(INDIRECT(\"'3.09.1a (2)'!x25\"))=TRUE,\"\",INDIRECT(\"'3.09.1a (2)'!x25\"))","v":""},{"$f":"IF(ISERROR(INDIRECT(\"'3.09.1a (2)'!aa25\"))=TRUE,\"\",INDIRECT(\"'3.09.1a (2)'!aa25\"))","v":""},{"$f":"IF(ISERROR(INDIRECT(\"'3.09.1a (2)'!ad25\"))=TRUE,\"\",INDIRECT(\"'3.09.1a (2)'!ad25\"))","v":""},{"$f":"IF(ISERROR(INDIRECT(\"'3.09.1a (2)'!ah25\"))=TRUE,\"\",INDIRECT(\"'3.09.1a (2)'!ah25\"))","v":""},{"$f":"IF(ISERROR(INDIRECT(\"'3.09.1a (2)'!am25\"))=TRUE,\"\",INDIRECT(\"'3.09.1a (2)'!am25\"))","v":""}]
[0,"3.09.1a (2)",{"$f":"IF(ISERROR(INDIRECT(\"'3.09.1a (2)'!b26\"))=TRUE,\"\",INDIRECT(\"'3.09.1a (2)'!b26\"))","v":""},{"$f":"IF(ISERROR(INDIRECT(\"'3.09.1a (2)'!c26\"))=TRUE,\"\",INDIRECT(\"'3.09.1a (2)'!c26\"))","v":""},{"$f":"IF(ISERROR(INDIRECT(\"'3.09.1a (2)'!d26\"))=TRUE,\"\",INDIRECT(\"'3.09.1a (2)'!d26\"))","v":""},{"$f":"IF(ISERROR(INDIRECT(\"'3.09.1a (2)'!e26\"))=TRUE,\"\",INDIRECT(\"'3.09.1a (2)'!e26\"))","v":""},{"$f":"IF(ISERROR(INDIRECT(\"'3.09.1a (2)'!f26\"))=TRUE,\"\",INDIRECT(\"'3.09.1a (2)'!f26\"))","v":""},{"$f":"IF(ISERROR(INDIRECT(\"'3.09.1a (2)'!g26\"))=TRUE,\"\",INDIRECT(\"'3.09.1a (2)'!g26\"))","v":""},{"$f":"IF(ISERROR(INDIRECT(\"'3.09.1a (2)'!h26\"))=TRUE,\"\",INDIRECT(\"'3.09.1a (2)'!h26\"))","v":""},{"$f":"IF(ISERROR(INDIRECT(\"'3.09.1a (2)'!i26\"))=TRUE,\"\",INDIRECT(\"'3.09.1a (2)'!i26\"))","v":""},{"$f":"IF(ISERROR(INDIRECT(\"'3.09.1a (2)'!j26\"))=TRUE,\"\",INDIRECT(\"'3.09.1a (2)'!j26\"))","v":""},{"$f":"IF(ISERROR(INDIRECT(\"'3.09.1a (2)'!o26\"))=TRUE,\"\",INDIRECT(\"'3.09.1a (2)'!o26\"))","v":""},{"$f":"IF(ISERROR(INDIRECT(\"'3.09.1a (2)'!p26\"))=TRUE,\"\",INDIRECT(\"'3.09.1a (2)'!p26\"))","v":""},{"$f":"IF(ISERROR(INDIRECT(\"'3.09.1a (2)'!q26\"))=TRUE,\"\",INDIRECT(\"'3.09.1a (2)'!q26\"))","v":""},{"$f":"IF(ISERROR(INDIRECT(\"'3.09.1a (2)'!s26\"))=TRUE,\"\",INDIRECT(\"'3.09.1a (2)'!s26\"))","v":""},{"$f":"IF(ISERROR(INDIRECT(\"'3.09.1a (2)'!t26\"))=TRUE,\"\",INDIRECT(\"'3.09.1a (2)'!t26\"))","v":""},{"$f":"IF(ISERROR(INDIRECT(\"'3.09.1a (2)'!u26\"))=TRUE,\"\",INDIRECT(\"'3.09.1a (2)'!u26\"))","v":""},{"$f":"IF(ISERROR(INDIRECT(\"'3.09.1a (2)'!v26\"))=TRUE,\"\",INDIRECT(\"'3.09.1a (2)'!v26\"))","v":""},{"$f":"IF(ISERROR(INDIRECT(\"'3.09.1a (2)'!w26\"))=TRUE,\"\",INDIRECT(\"'3.09.1a (2)'!w26\"))","v":""},{"$f":"IF(ISERROR(INDIRECT(\"'3.09.1a (2)'!x26\"))=TRUE,\"\",INDIRECT(\"'3.09.1a (2)'!x26\"))","v":""},{"$f":"IF(ISERROR(INDIRECT(\"'3.09.1a (2)'!aa26\"))=TRUE,\"\",INDIRECT(\"'3.09.1a (2)'!aa26\"))","v":""},{"$f":"IF(ISERROR(INDIRECT(\"'3.09.1a (2)'!ad26\"))=TRUE,\"\",INDIRECT(\"'3.09.1a (2)'!ad26\"))","v":""},{"$f":"IF(ISERROR(INDIRECT(\"'3.09.1a (2)'!ah26\"))=TRUE,\"\",INDIRECT(\"'3.09.1a (2)'!ah26\"))","v":""},{"$f":"IF(ISERROR(INDIRECT(\"'3.09.1a (2)'!am26\"))=TRUE,\"\",INDIRECT(\"'3.09.1a (2)'!am26\"))","v":""}]
[0,"3.09.1a (2)",{"$f":"IF(ISERROR(INDIRECT(\"'3.09.1a (2)'!b27\"))=TRUE,\"\",INDIRECT(\"'3.09.1a (2)'!b27\"))","v":""},{"$f":"IF(ISERROR(INDIRECT(\"'3.09.1a (2)'!c27\"))=TRUE,\"\",INDIRECT(\"'3.09.1a (2)'!c27\"))","v":""},{"$f":"IF(ISERROR(INDIRECT(\"'3.09.1a (2)'!d27\"))=TRUE,\"\",INDIRECT(\"'3.09.1a (2)'!d27\"))","v":""},{"$f":"IF(ISERROR(INDIRECT(\"'3.09.1a (2)'!e27\"))=TRUE,\"\",INDIRECT(\"'3.09.1a (2)'!e27\"))","v":""},{"$f":"IF(ISERROR(INDIRECT(\"'3.09.1a (2)'!f27\"))=TRUE,\"\",INDIRECT(\"'3.09.1a (2)'!f27\"))","v":""},{"$f":"IF(ISERROR(INDIRECT(\"'3.09.1a (2)'!g27\"))=TRUE,\"\",INDIRECT(\"'3.09.1a (2)'!g27\"))","v":""},{"$f":"IF(ISERROR(INDIRECT(\"'3.09.1a (2)'!h27\"))=TRUE,\"\",INDIRECT(\"'3.09.1a (2)'!h27\"))","v":""},{"$f":"IF(ISERROR(INDIRECT(\"'3.09.1a (2)'!i27\"))=TRUE,\"\",INDIRECT(\"'3.09.1a (2)'!i27\"))","v":""},{"$f":"IF(ISERROR(INDIRECT(\"'3.09.1a (2)'!j27\"))=TRUE,\"\",INDIRECT(\"'3.09.1a (2)'!j27\"))","v":""},{"$f":"IF(ISERROR(INDIRECT(\"'3.09.1a (2)'!o27\"))=TRUE,\"\",INDIRECT(\"'3.09.1a (2)'!o27\"))","v":""},{"$f":"IF(ISERROR(INDIRECT(\"'3.09.1a (2)'!p27\"))=TRUE,\"\",INDIRECT(\"'3.09.1a (2)'!p27\"))","v":""},{"$f":"IF(ISERROR(INDIRECT(\"'3.09.1a (2)'!q27\"))=TRUE,\"\",INDIRECT(\"'3.09.1a (2)'!q27\"))","v":""},{"$f":"IF(ISERROR(INDIRECT(\"'3.09.1a (2)'!s27\"))=TRUE,\"\",INDIRECT(\"'3.09.1a (2)'!s27\"))","v":""},{"$f":"IF(ISERROR(INDIRECT(\"'3.09.1a (2)'!t27\"))=TRUE,\"\",INDIRECT(\"'3.09.1a (2)'!t27\"))","v":""},{"$f":"IF(ISERROR(INDIRECT(\"'3.09.1a (2)'!u27\"))=TRUE,\"\",INDIRECT(\"'3.09.1a (2)'!u27\"))","v":""},{"$f":"IF(ISERROR(INDIRECT(\"'3.09.1a (2)'!v27\"))=TRUE,\"\",INDIRECT(\"'3.09.1a (2)'!v27\"))","v":""},{"$f":"IF(ISERROR(INDIRECT(\"'3.09.1a (2)'!w27\"))=TRUE,\"\",INDIRECT(\"'3.09.1a (2)'!w27\"))","v":""},{"$f":"IF(ISERROR(INDIRECT(\"'3.09.1a (2)'!x27\"))=TRUE,\"\",INDIRECT(\"'3.09.1a (2)'!x27\"))","v":""},{"$f":"IF(ISERROR(INDIRECT(\"'3.09.1a (2)'!aa27\"))=TRUE,\"\",INDIRECT(\"'3.09.1a (2)'!aa27\"))","v":""},{"$f":"IF(ISERROR(INDIRECT(\"'3.09.1a (2)'!ad27\"))=TRUE,\"\",INDIRECT(\"'3.09.1a (2)'!ad27\"))","v":""},{"$f":"IF(ISERROR(INDIRECT(\"'3.09.1a (2)'!ah27\"))=TRUE,\"\",INDIRECT(\"'3.09.1a (2)'!ah27\"))","v":""},{"$f":"IF(ISERROR(INDIRECT(\"'3.09.1a (2)'!am27\"))=TRUE,\"\",INDIRECT(\"'3.09.1a (2)'!am27\"))","v":""}]
[0,"3.09.1a (2)",{"$f":"IF(ISERROR(INDIRECT(\"'3.09.1a (2)'!b28\"))=TRUE,\"\",INDIRECT(\"'3.09.1a (2)'!b28\"))","v":""},{"$f":"IF(ISERROR(INDIRECT(\"'3.09.1a (2)'!c28\"))=TRUE,\"\",INDIRECT(\"'3.09.1a (2)'!c28\"))","v":""},{"$f":"IF(ISERROR(INDIRECT(\"'3.09.1a (2)'!d28\"))=TRUE,\"\",INDIRECT(\"'3.09.1a (2)'!d28\"))","v":""},{"$f":"IF(ISERROR(INDIRECT(\"'3.09.1a (2)'!e28\"))=TRUE,\"\",INDIRECT(\"'3.09.1a (2)'!e28\"))","v":""},{"$f":"IF(ISERROR(INDIRECT(\"'3.09.1a (2)'!f28\"))=TRUE,\"\",INDIRECT(\"'3.09.1a (2)'!f28\"))","v":""},{"$f":"IF(ISERROR(INDIRECT(\"'3.09.1a (2)'!g28\"))=TRUE,\"\",INDIRECT(\"'3.09.1a (2)'!g28\"))","v":""},{"$f":"IF(ISERROR(INDIRECT(\"'3.09.1a (2)'!h28\"))=TRUE,\"\",INDIRECT(\"'3.09.1a (2)'!h28\"))","v":""},{"$f":"IF(ISERROR(INDIRECT(\"'3.09.1a (2)'!i28\"))=TRUE,\"\",INDIRECT(\"'3.09.1a (2)'!i28\"))","v":""},{"$f":"IF(ISERROR(INDIRECT(\"'3.09.1a (2)'!j28\"))=TRUE,\"\",INDIRECT(\"'3.09.1a (2)'!j28\"))","v":""},{"$f":"IF(ISERROR(INDIRECT(\"'3.09.1a (2)'!o28\"))=TRUE,\"\",INDIRECT(\"'3.09.1a (2)'!o28\"))","v":""},{"$f":"IF(ISERROR(INDIRECT(\"'3.09.1a (2)'!p28\"))=TRUE,\"\",INDIRECT(\"'3.09.1a (2)'!p28\"))","v":""},{"$f":"IF(ISERROR(INDIRECT(\"'3.09.1a (2)'!q28\"))=TRUE,\"\",INDIRECT(\"'3.09.1a (2)'!q28\"))","v":""},{"$f":"IF(ISERROR(INDIRECT(\"'3.09.1a (2)'!s28\"))=TRUE,\"\",INDIRECT(\"'3.09.1a (2)'!s28\"))","v":""},{"$f":"IF(ISERROR(INDIRECT(\"'3.09.1a (2)'!t28\"))=TRUE,\"\",INDIRECT(\"'3.09.1a (2)'!t28\"))","v":""},{"$f":"IF(ISERROR(INDIRECT(\"'3.09.1a (2)'!u28\"))=TRUE,\"\",INDIRECT(\"'3.09.1a (2)'!u28\"))","v":""},{"$f":"IF(ISERROR(INDIRECT(\"'3.09.1a (2)'!v28\"))=TRUE,\"\",INDIRECT(\"'3.09.1a (2)'!v28\"))","v":""},{"$f":"IF(ISERROR(INDIRECT(\"'3.09.1a (2)'!w28\"))=TRUE,\"\",INDIRECT(\"'3.09.1a (2)'!w28\"))","v":""},{"$f":"IF(ISERROR(INDIRECT(\"'3.09.1a (2)'!x28\"))=TRUE,\"\",INDIRECT(\"'3.09.1a (2)'!x28\"))","v":""},{"$f":"IF(ISERROR(INDIRECT(\"'3.09.1a (2)'!aa28\"))=TRUE,\"\",INDIRECT(\"'3.09.1a (2)'!aa28\"))","v":""},{"$f":"IF(ISERROR(INDIRECT(\"'3.09.1a (2)'!ad28\"))=TRUE,\"\",INDIRECT(\"'3.09.1a (2)'!ad28\"))","v":""},{"$f":"IF(ISERROR(INDIRECT(\"'3.09.1a (2)'!ah28\"))=TRUE,\"\",INDIRECT(\"'3.09.1a (2)'!ah28\"))","v":""},{"$f":"IF(ISERROR(INDIRECT(\"'3.09.1a (2)'!am28\"))=TRUE,\"\",INDIRECT(\"'3.09.1a (2)'!am28\"))","v":""}]
[0,"3.09.1a (2)",{"$f":"IF(ISERROR(INDIRECT(\"'3.09.1a (2)'!b29\"))=TRUE,\"\",INDIRECT(\"'3.09.1a (2)'!b29\"))","v":""},{"$f":"IF(ISERROR(INDIRECT(\"'3.09.1a (2)'!c29\"))=TRUE,\"\",INDIRECT(\"'3.09.1a (2)'!c29\"))","v":""},{"$f":"IF(ISERROR(INDIRECT(\"'3.09.1a (2)'!d29\"))=TRUE,\"\",INDIRECT(\"'3.09.1a (2)'!d29\"))","v":""},{"$f":"IF(ISERROR(INDIRECT(\"'3.09.1a (2)'!e29\"))=TRUE,\"\",INDIRECT(\"'3.09.1a (2)'!e29\"))","v":""},{"$f":"IF(ISERROR(INDIRECT(\"'3.09.1a (2)'!f29\"))=TRUE,\"\",INDIRECT(\"'3.09.1a (2)'!f29\"))","v":""},{"$f":"IF(ISERROR(INDIRECT(\"'3.09.1a (2)'!g29\"))=TRUE,\"\",INDIRECT(\"'3.09.1a (2)'!g29\"))","v":""},{"$f":"IF(ISERROR(INDIRECT(\"'3.09.1a (2)'!h29\"))=TRUE,\"\",INDIRECT(\"'3.09.1a (2)'!h29\"))","v":""},{"$f":"IF(ISERROR(INDIRECT(\"'3.09.1a (2)'!i29\"))=TRUE,\"\",INDIRECT(\"'3.09.1a (2)'!i29\"))","v":""},{"$f":"IF(ISERROR(INDIRECT(\"'3.09.1a (2)'!j29\"))=TRUE,\"\",INDIRECT(\"'3.09.1a (2)'!j29\"))","v":""},{"$f":"IF(ISERROR(INDIRECT(\"'3.09.1a (2)'!o29\"))=TRUE,\"\",INDIRECT(\"'3.09.1a (2)'!o29\"))","v":""},{"$f":"IF(ISERROR(INDIRECT(\"'3.09.1a (2)'!p29\"))=TRUE,\"\",INDIRECT(\"'3.09.1a (2)'!p29\"))","v":""},{"$f":"IF(ISERROR(INDIRECT(\"'3.09.1a (2)'!q29\"))=TRUE,\"\",INDIRECT(\"'3.09.1a (2)'!q29\"))","v":""},{"$f":"IF(ISERROR(INDIRECT(\"'3.09.1a (2)'!s29\"))=TRUE,\"\",INDIRECT(\"'3.09.1a (2)'!s29\"))","v":""},{"$f":"IF(ISERROR(INDIRECT(\"'3.09.1a (2)'!t29\"))=TRUE,\"\",INDIRECT(\"'3.09.1a (2)'!t29\"))","v":""},{"$f":"IF(ISERROR(INDIRECT(\"'3.09.1a (2)'!u29\"))=TRUE,\"\",INDIRECT(\"'3.09.1a (2)'!u29\"))","v":""},{"$f":"IF(ISERROR(INDIRECT(\"'3.09.1a (2)'!v29\"))=TRUE,\"\",INDIRECT(\"'3.09.1a (2)'!v29\"))","v":""},{"$f":"IF(ISERROR(INDIRECT(\"'3.09.1a (2)'!w29\"))=TRUE,\"\",INDIRECT(\"'3.09.1a (2)'!w29\"))","v":""},{"$f":"IF(ISERROR(INDIRECT(\"'3.09.1a (2)'!x29\"))=TRUE,\"\",INDIRECT(\"'3.09.1a (2)'!x29\"))","v":""},{"$f":"IF(ISERROR(INDIRECT(\"'3.09.1a (2)'!aa29\"))=TRUE,\"\",INDIRECT(\"'3.09.1a (2)'!aa29\"))","v":""},{"$f":"IF(ISERROR(INDIRECT(\"'3.09.1a (2)'!ad29\"))=TRUE,\"\",INDIRECT(\"'3.09.1a (2)'!ad29\"))","v":""},{"$f":"IF(ISERROR(INDIRECT(\"'3.09.1a (2)'!ah29\"))=TRUE,\"\",INDIRECT(\"'3.09.1a (2)'!ah29\"))","v":""},{"$f":"IF(ISERROR(INDIRECT(\"'3.09.1a (2)'!am29\"))=TRUE,\"\",INDIRECT(\"'3.09.1a (2)'!am29\"))","v":""}]
[0,"3.09.1a (2)",{"$f":"IF(ISERROR(INDIRECT(\"'3.09.1a (2)'!b30\"))=TRUE,\"\",INDIRECT(\"'3.09.1a (2)'!b30\"))","v":""},{"$f":"IF(ISERROR(INDIRECT(\"'3.09.1a (2)'!c30\"))=TRUE,\"\",INDIRECT(\"'3.09.1a (2)'!c30\"))","v":""},{"$f":"IF(ISERROR(INDIRECT(\"'3.09.1a (2)'!d30\"))=TRUE,\"\",INDIRECT(\"'3.09.1a (2)'!d30\"))","v":""},{"$f":"IF(ISERROR(INDIRECT(\"'3.09.1a (2)'!e30\"))=TRUE,\"\",INDIRECT(\"'3.09.1a (2)'!e30\"))","v":""},{"$f":"IF(ISERROR(INDIRECT(\"'3.09.1a (2)'!f30\"))=TRUE,\"\",INDIRECT(\"'3.09.1a (2)'!f30\"))","v":""},{"$f":"IF(ISERROR(INDIRECT(\"'3.09.1a (2)'!g30\"))=TRUE,\"\",INDIRECT(\"'3.09.1a (2)'!g30\"))","v":""},{"$f":"IF(ISERROR(INDIRECT(\"'3.09.1a (2)'!h30\"))=TRUE,\"\",INDIRECT(\"'3.09.1a (2)'!h30\"))","v":""},{"$f":"IF(ISERROR(INDIRECT(\"'3.09.1a (2)'!i30\"))=TRUE,\"\",INDIRECT(\"'3.09.1a (2)'!i30\"))","v":""},{"$f":"IF(ISERROR(INDIRECT(\"'3.09.1a (2)'!j30\"))=TRUE,\"\",INDIRECT(\"'3.09.1a (2)'!j30\"))","v":""},{"$f":"IF(ISERROR(INDIRECT(\"'3.09.1a (2)'!o30\"))=TRUE,\"\",INDIRECT(\"'3.09.1a (2)'!o30\"))","v":""},{"$f":"IF(ISERROR(INDIRECT(\"'3.09.1a (2)'!p30\"))=TRUE,\"\",INDIRECT(\"'3.09.1a (2)'!p30\"))","v":""},{"$f":"IF(ISERROR(INDIRECT(\"'3.09.1a (2)'!q30\"))=TRUE,\"\",INDIRECT(\"'3.09.1a (2)'!q30\"))","v":""},{"$f":"IF(ISERROR(INDIRECT(\"'3.09.1a (2)'!s30\"))=TRUE,\"\",INDIRECT(\"'3.09.1a (2)'!s30\"))","v":""},{"$f":"IF(ISERROR(INDIRECT(\"'3.09.1a (2)'!t30\"))=TRUE,\"\",INDIRECT(\"'3.09.1a (2)'!t30\"))","v":""},{"$f":"IF(ISERROR(INDIRECT(\"'3.09.1a (2)'!u30\"))=TRUE,\"\",INDIRECT(\"'3.09.1a (2)'!u30\"))","v":""},{"$f":"IF(ISERROR(INDIRECT(\"'3.09.1a (2)'!v30\"))=TRUE,\"\",INDIRECT(\"'3.09.1a (2)'!v30\"))","v":""},{"$f":"IF(ISERROR(INDIRECT(\"'3.09.1a (2)'!w30\"))=TRUE,\"\",INDIRECT(\"'3.09.1a (2)'!w30\"))","v":""},{"$f":"IF(ISERROR(INDIRECT(\"'3.09.1a (2)'!x30\"))=TRUE,\"\",INDIRECT(\"'3.09.1a (2)'!x30\"))","v":""},{"$f":"IF(ISERROR(INDIRECT(\"'3.09.1a (2)'!aa30\"))=TRUE,\"\",INDIRECT(\"'3.09.1a (2)'!aa30\"))","v":""},{"$f":"IF(ISERROR(INDIRECT(\"'3.09.1a (2)'!ad30\"))=TRUE,\"\",INDIRECT(\"'3.09.1a (2)'!ad30\"))","v":""},{"$f":"IF(ISERROR(INDIRECT(\"'3.09.1a (2)'!ah30\"))=TRUE,\"\",INDIRECT(\"'3.09.1a (2)'!ah30\"))","v":""},{"$f":"IF(ISERROR(INDIRECT(\"'3.09.1a (2)'!am30\"))=TRUE,\"\",INDIRECT(\"'3.09.1a (2)'!am30\"))","v":""}]
[0,"3.09.1a (2)",{"$f":"IF(ISERROR(INDIRECT(\"'3.09.1a (2)'!b31\"))=TRUE,\"\",INDIRECT(\"'3.09.1a (2)'!b31\"))","v":""},{"$f":"IF(ISERROR(INDIRECT(\"'3.09.1a (2)'!c31\"))=TRUE,\"\",INDIRECT(\"'3.09.1a (2)'!c31\"))","v":""},{"$f":"IF(ISERROR(INDIRECT(\"'3.09.1a (2)'!d31\"))=TRUE,\"\",INDIRECT(\"'3.09.1a (2)'!d31\"))","v":""},{"$f":"IF(ISERROR(INDIRECT(\"'3.09.1a (2)'!e31\"))=TRUE,\"\",INDIRECT(\"'3.09.1a (2)'!e31\"))","v":""},{"$f":"IF(ISERROR(INDIRECT(\"'3.09.1a (2)'!f31\"))=TRUE,\"\",INDIRECT(\"'3.09.1a (2)'!f31\"))","v":""},{"$f":"IF(ISERROR(INDIRECT(\"'3.09.1a (2)'!g31\"))=TRUE,\"\",INDIRECT(\"'3.09.1a (2)'!g31\"))","v":""},{"$f":"IF(ISERROR(INDIRECT(\"'3.09.1a (2)'!h31\"))=TRUE,\"\",INDIRECT(\"'3.09.1a (2)'!h31\"))","v":""},{"$f":"IF(ISERROR(INDIRECT(\"'3.09.1a (2)'!i31\"))=TRUE,\"\",INDIRECT(\"'3.09.1a (2)'!i31\"))","v":""},{"$f":"IF(ISERROR(INDIRECT(\"'3.09.1a (2)'!j31\"))=TRUE,\"\",INDIRECT(\"'3.09.1a (2)'!j31\"))","v":""},{"$f":"IF(ISERROR(INDIRECT(\"'3.09.1a (2)'!o31\"))=TRUE,\"\",INDIRECT(\"'3.09.1a (2)'!o31\"))","v":""},{"$f":"IF(ISERROR(INDIRECT(\"'3.09.1a (2)'!p31\"))=TRUE,\"\",INDIRECT(\"'3.09.1a (2)'!p31\"))","v":""},{"$f":"IF(ISERROR(INDIRECT(\"'3.09.1a (2)'!q31\"))=TRUE,\"\",INDIRECT(\"'3.09.1a (2)'!q31\"))","v":""},{"$f":"IF(ISERROR(INDIRECT(\"'3.09.1a (2)'!s31\"))=TRUE,\"\",INDIRECT(\"'3.09.1a (2)'!s31\"))","v":""},{"$f":"IF(ISERROR(INDIRECT(\"'3.09.1a (2)'!t31\"))=TRUE,\"\",INDIRECT(\"'3.09.1a (2)'!t31\"))","v":""},{"$f":"IF(ISERROR(INDIRECT(\"'3.09.1a (2)'!u31\"))=TRUE,\"\",INDIRECT(\"'3.09.1a (2)'!u31\"))","v":""},{"$f":"IF(ISERROR(INDIRECT(\"'3.09.1a (2)'!v31\"))=TRUE,\"\",INDIRECT(\"'3.09.1a (2)'!v31\"))","v":""},{"$f":"IF(ISERROR(INDIRECT(\"'3.09.1a (2)'!w31\"))=TRUE,\"\",INDIRECT(\"'3.09.1a (2)'!w31\"))","v":""},{"$f":"IF(ISERROR(INDIRECT(\"'3.09.1a (2)'!x31\"))=TRUE,\"\",INDIRECT(\"'3.09.1a (2)'!x31\"))","v":""},{"$f":"IF(ISERROR(INDIRECT(\"'3.09.1a (2)'!aa31\"))=TRUE,\"\",INDIRECT(\"'3.09.1a (2)'!aa31\"))","v":""},{"$f":"IF(ISERROR(INDIRECT(\"'3.09.1a (2)'!ad31\"))=TRUE,\"\",INDIRECT(\"'3.09.1a (2)'!ad31\"))","v":""},{"$f":"IF(ISERROR(INDIRECT(\"'3.09.1a (2)'!ah31\"))=TRUE,\"\",INDIRECT(\"'3.09.1a (2)'!ah31\"))","v":""},{"$f":"IF(ISERROR(INDIRECT(\"'3.09.1a (2)'!am31\"))=TRUE,\"\",INDIRECT(\"'3.09.1a (2)'!am31\"))","v":""}]
[0,"3.09.1a (2)",{"$f":"IF(ISERROR(INDIRECT(\"'3.09.1a (2)'!b32\"))=TRUE,\"\",INDIRECT(\"'3.09.1a (2)'!b32\"))","v":""},{"$f":"IF(ISERROR(INDIRECT(\"'3.09.1a (2)'!c32\"))=TRUE,\"\",INDIRECT(\"'3.09.1a (2)'!c32\"))","v":""},{"$f":"IF(ISERROR(INDIRECT(\"'3.09.1a (2)'!d32\"))=TRUE,\"\",INDIRECT(\"'3.09.1a (2)'!d32\"))","v":""},{"$f":"IF(ISERROR(INDIRECT(\"'3.09.1a (2)'!e32\"))=TRUE,\"\",INDIRECT(\"'3.09.1a (2)'!e32\"))","v":""},{"$f":"IF(ISERROR(INDIRECT(\"'3.09.1a (2)'!f32\"))=TRUE,\"\",INDIRECT(\"'3.09.1a (2)'!f32\"))","v":""},{"$f":"IF(ISERROR(INDIRECT(\"'3.09.1a (2)'!g32\"))=TRUE,\"\",INDIRECT(\"'3.09.1a (2)'!g32\"))","v":""},{"$f":"IF(ISERROR(INDIRECT(\"'3.09.1a (2)'!h32\"))=TRUE,\"\",INDIRECT(\"'3.09.1a (2)'!h32\"))","v":""},{"$f":"IF(ISERROR(INDIRECT(\"'3.09.1a (2)'!i32\"))=TRUE,\"\",INDIRECT(\"'3.09.1a (2)'!i32\"))","v":""},{"$f":"IF(ISERROR(INDIRECT(\"'3.09.1a (2)'!j32\"))=TRUE,\"\",INDIRECT(\"'3.09.1a (2)'!j32\"))","v":""},{"$f":"IF(ISERROR(INDIRECT(\"'3.09.1a (2)'!o32\"))=TRUE,\"\",INDIRECT(\"'3.09.1a (2)'!o32\"))","v":""},{"$f":"IF(ISERROR(INDIRECT(\"'3.09.1a (2)'!p32\"))=TRUE,\"\",INDIRECT(\"'3.09.1a (2)'!p32\"))","v":""},{"$f":"IF(ISERROR(INDIRECT(\"'3.09.1a (2)'!q32\"))=TRUE,\"\",INDIRECT(\"'3.09.1a (2)'!q32\"))","v":""},{"$f":"IF(ISERROR(INDIRECT(\"'3.09.1a (2)'!s32\"))=TRUE,\"\",INDIRECT(\"'3.09.1a (2)'!s32\"))","v":""},{"$f":"IF(ISERROR(INDIRECT(\"'3.09.1a (2)'!t32\"))=TRUE,\"\",INDIRECT(\"'3.09.1a (2)'!t32\"))","v":""},{"$f":"IF(ISERROR(INDIRECT(\"'3.09.1a (2)'!u32\"))=TRUE,\"\",INDIRECT(\"'3.09.1a (2)'!u32\"))","v":""},{"$f":"IF(ISERROR(INDIRECT(\"'3.09.1a (2)'!v32\"))=TRUE,\"\",INDIRECT(\"'3.09.1a (2)'!v32\"))","v":""},{"$f":"IF(ISERROR(INDIRECT(\"'3.09.1a (2)'!w32\"))=TRUE,\"\",INDIRECT(\"'3.09.1a (2)'!w32\"))","v":""},{"$f":"IF(ISERROR(INDIRECT(\"'3.09.1a (2)'!x32\"))=TRUE,\"\",INDIRECT(\"'3.09.1a (2)'!x32\"))","v":""},{"$f":"IF(ISERROR(INDIRECT(\"'3.09.1a (2)'!aa32\"))=TRUE,\"\",INDIRECT(\"'3.09.1a (2)'!aa32\"))","v":""},{"$f":"IF(ISERROR(INDIRECT(\"'3.09.1a (2)'!ad32\"))=TRUE,\"\",INDIRECT(\"'3.09.1a (2)'!ad32\"))","v":""},{"$f":"IF(ISERROR(INDIRECT(\"'3.09.1a (2)'!ah32\"))=TRUE,\"\",INDIRECT(\"'3.09.1a (2)'!ah32\"))","v":""},{"$f":"IF(ISERROR(INDIRECT(\"'3.09.1a (2)'!am32\"))=TRUE,\"\",INDIRECT(\"'3.09.1a (2)'!am32\"))","v":""}]
[0,"3.09.1a (2)",{"$f":"IF(ISERROR(INDIRECT(\"'3.09.1a (2)'!b33\"))=TRUE,\"\",INDIRECT(\"'3.09.1a (2)'!b33\"))","v":""},{"$f":"IF(ISERROR(INDIRECT(\"'3.09.1a (2)'!c33\"))=TRUE,\"\",INDIRECT(\"'3.09.1a (2)'!c33\"))","v":""},{"$f":"IF(ISERROR(INDIRECT(\"'3.09.1a (2)'!d33\"))=TRUE,\"\",INDIRECT(\"'3.09.1a (2)'!d33\"))","v":""},{"$f":"IF(ISERROR(INDIRECT(\"'3.09.1a (2)'!e33\"))=TRUE,\"\",INDIRECT(\"'3.09.1a (2)'!e33\"))","v":""},{"$f":"IF(ISERROR(INDIRECT(\"'3.09.1a (2)'!f33\"))=TRUE,\"\",INDIRECT(\"'3.09.1a (2)'!f33\"))","v":""},{"$f":"IF(ISERROR(INDIRECT(\"'3.09.1a (2)'!g33\"))=TRUE,\"\",INDIRECT(\"'3.09.1a (2)'!g33\"))","v":""},{"$f":"IF(ISERROR(INDIRECT(\"'3.09.1a (2)'!h33\"))=TRUE,\"\",INDIRECT(\"'3.09.1a (2)'!h33\"))","v":""},{"$f":"IF(ISERROR(INDIRECT(\"'3.09.1a (2)'!i33\"))=TRUE,\"\",INDIRECT(\"'3.09.1a (2)'!i33\"))","v":""},{"$f":"IF(ISERROR(INDIRECT(\"'3.09.1a (2)'!j33\"))=TRUE,\"\",INDIRECT(\"'3.09.1a (2)'!j33\"))","v":""},{"$f":"IF(ISERROR(INDIRECT(\"'3.09.1a (2)'!o33\"))=TRUE,\"\",INDIRECT(\"'3.09.1a (2)'!o33\"))","v":""},{"$f":"IF(ISERROR(INDIRECT(\"'3.09.1a (2)'!p33\"))=TRUE,\"\",INDIRECT(\"'3.09.1a (2)'!p33\"))","v":""},{"$f":"IF(ISERROR(INDIRECT(\"'3.09.1a (2)'!q33\"))=TRUE,\"\",INDIRECT(\"'3.09.1a (2)'!q33\"))","v":""},{"$f":"IF(ISERROR(INDIRECT(\"'3.09.1a (2)'!s33\"))=TRUE,\"\",INDIRECT(\"'3.09.1a (2)'!s33\"))","v":""},{"$f":"IF(ISERROR(INDIRECT(\"'3.09.1a (2)'!t33\"))=TRUE,\"\",INDIRECT(\"'3.09.1a (2)'!t33\"))","v":""},{"$f":"IF(ISERROR(INDIRECT(\"'3.09.1a (2)'!u33\"))=TRUE,\"\",INDIRECT(\"'3.09.1a (2)'!u33\"))","v":""},{"$f":"IF(ISERROR(INDIRECT(\"'3.09.1a (2)'!v33\"))=TRUE,\"\",INDIRECT(\"'3.09.1a (2)'!v33\"))","v":""},{"$f":"IF(ISERROR(INDIRECT(\"'3.09.1a (2)'!w33\"))=TRUE,\"\",INDIRECT(\"'3.09.1a (2)'!w33\"))","v":""},{"$f":"IF(ISERROR(INDIRECT(\"'3.09.1a (2)'!x33\"))=TRUE,\"\",INDIRECT(\"'3.09.1a (2)'!x33\"))","v":""},{"$f":"IF(ISERROR(INDIRECT(\"'3.09.1a (2)'!aa33\"))=TRUE,\"\",INDIRECT(\"'3.09.1a (2)'!aa33\"))","v":""},{"$f":"IF(ISERROR(INDIRECT(\"'3.09.1a (2)'!ad33\"))=TRUE,\"\",INDIRECT(\"'3.09.1a (2)'!ad33\"))","v":""},{"$f":"IF(ISERROR(INDIRECT(\"'3.09.1a (2)'!ah33\"))=TRUE,\"\",INDIRECT(\"'3.09.1a (2)'!ah33\"))","v":""},{"$f":"IF(ISERROR(INDIRECT(\"'3.09.1a (2)'!am33\"))=TRUE,\"\",INDIRECT(\"'3.09.1a (2)'!am33\"))","v":""}]
[0,"3.09.1a (2)",{"$f":"IF(ISERROR(INDIRECT(\"'3.09.1a (2)'!b34\"))=TRUE,\"\",INDIRECT(\"'3.09.1a (2)'!b34\"))","v":""},{"$f":"IF(ISERROR(INDIRECT(\"'3.09.1a (2)'!c34\"))=TRUE,\"\",INDIRECT(\"'3.09.1a (2)'!c34\"))","v":""},{"$f":"IF(ISERROR(INDIRECT(\"'3.09.1a (2)'!d34\"))=TRUE,\"\",INDIRECT(\"'3.09.1a (2)'!d34\"))","v":""},{"$f":"IF(ISERROR(INDIRECT(\"'3.09.1a (2)'!e34\"))=TRUE,\"\",INDIRECT(\"'3.09.1a (2)'!e34\"))","v":""},{"$f":"IF(ISERROR(INDIRECT(\"'3.09.1a (2)'!f34\"))=TRUE,\"\",INDIRECT(\"'3.09.1a (2)'!f34\"))","v":""},{"$f":"IF(ISERROR(INDIRECT(\"'3.09.1a (2)'!g34\"))=TRUE,\"\",INDIRECT(\"'3.09.1a (2)'!g34\"))","v":""},{"$f":"IF(ISERROR(INDIRECT(\"'3.09.1a (2)'!h34\"))=TRUE,\"\",INDIRECT(\"'3.09.1a (2)'!h34\"))","v":""},{"$f":"IF(ISERROR(INDIRECT(\"'3.09.1a (2)'!i34\"))=TRUE,\"\",INDIRECT(\"'3.09.1a (2)'!i34\"))","v":""},{"$f":"IF(ISERROR(INDIRECT(\"'3.09.1a (2)'!j34\"))=TRUE,\"\",INDIRECT(\"'3.09.1a (2)'!j34\"))","v":""},{"$f":"IF(ISERROR(INDIRECT(\"'3.09.1a (2)'!o34\"))=TRUE,\"\",INDIRECT(\"'3.09.1a (2)'!o34\"))","v":""},{"$f":"IF(ISERROR(INDIRECT(\"'3.09.1a (2)'!p34\"))=TRUE,\"\",INDIRECT(\"'3.09.1a (2)'!p34\"))","v":""},{"$f":"IF(ISERROR(INDIRECT(\"'3.09.1a (2)'!q34\"))=TRUE,\"\",INDIRECT(\"'3.09.1a (2)'!q34\"))","v":""},{"$f":"IF(ISERROR(INDIRECT(\"'3.09.1a (2)'!s34\"))=TRUE,\"\",INDIRECT(\"'3.09.1a (2)'!s34\"))","v":""},{"$f":"IF(ISERROR(INDIRECT(\"'3.09.1a (2)'!t34\"))=TRUE,\"\",INDIRECT(\"'3.09.1a (2)'!t34\"))","v":""},{"$f":"IF(ISERROR(INDIRECT(\"'3.09.1a (2)'!u34\"))=TRUE,\"\",INDIRECT(\"'3.09.1a (2)'!u34\"))","v":""},{"$f":"IF(ISERROR(INDIRECT(\"'3.09.1a (2)'!v34\"))=TRUE,\"\",INDIRECT(\"'3.09.1a (2)'!v34\"))","v":""},{"$f":"IF(ISERROR(INDIRECT(\"'3.09.1a (2)'!w34\"))=TRUE,\"\",INDIRECT(\"'3.09.1a (2)'!w34\"))","v":""},{"$f":"IF(ISERROR(INDIRECT(\"'3.09.1a (2)'!x34\"))=TRUE,\"\",INDIRECT(\"'3.09.1a (2)'!x34\"))","v":""},{"$f":"IF(ISERROR(INDIRECT(\"'3.09.1a (2)'!aa34\"))=TRUE,\"\",INDIRECT(\"'3.09.1a (2)'!aa34\"))","v":""},{"$f":"IF(ISERROR(INDIRECT(\"'3.09.1a (2)'!ad34\"))=TRUE,\"\",INDIRECT(\"'3.09.1a (2)'!ad34\"))","v":""},{"$f":"IF(ISERROR(INDIRECT(\"'3.09.1a (2)'!ah34\"))=TRUE,\"\",INDIRECT(\"'3.09.1a (2)'!ah34\"))","v":""},{"$f":"IF(ISERROR(INDIRECT(\"'3.09.1a (2)'!am34\"))=TRUE,\"\",INDIRECT(\"'3.09.1a (2)'!am34\"))","v":""}]
[0,"3.09.1a (2)",{"$f":"IF(ISERROR(INDIRECT(\"'3.09.1a (2)'!b35\"))=TRUE,\"\",INDIRECT(\"'3.09.1a (2)'!b35\"))","v":""},{"$f":"IF(ISERROR(INDIRECT(\"'3.09.1a (2)'!c35\"))=TRUE,\"\",INDIRECT(\"'3.09.1a (2)'!c35\"))","v":""},{"$f":"IF(ISERROR(INDIRECT(\"'3.09.1a (2)'!d35\"))=TRUE,\"\",INDIRECT(\"'3.09.1a (2)'!d35\"))","v":""},{"$f":"IF(ISERROR(INDIRECT(\"'3.09.1a (2)'!e35\"))=TRUE,\"\",INDIRECT(\"'3.09.1a (2)'!e35\"))","v":""},{"$f":"IF(ISERROR(INDIRECT(\"'3.09.1a (2)'!f35\"))=TRUE,\"\",INDIRECT(\"'3.09.1a (2)'!f35\"))","v":""},{"$f":"IF(ISERROR(INDIRECT(\"'3.09.1a (2)'!g35\"))=TRUE,\"\",INDIRECT(\"'3.09.1a (2)'!g35\"))","v":""},{"$f":"IF(ISERROR(INDIRECT(\"'3.09.1a (2)'!h35\"))=TRUE,\"\",INDIRECT(\"'3.09.1a (2)'!h35\"))","v":""},{"$f":"IF(ISERROR(INDIRECT(\"'3.09.1a (2)'!i35\"))=TRUE,\"\",INDIRECT(\"'3.09.1a (2)'!i35\"))","v":""},{"$f":"IF(ISERROR(INDIRECT(\"'3.09.1a (2)'!j35\"))=TRUE,\"\",INDIRECT(\"'3.09.1a (2)'!j35\"))","v":""},{"$f":"IF(ISERROR(INDIRECT(\"'3.09.1a (2)'!o35\"))=TRUE,\"\",INDIRECT(\"'3.09.1a (2)'!o35\"))","v":""},{"$f":"IF(ISERROR(INDIRECT(\"'3.09.1a (2)'!p35\"))=TRUE,\"\",INDIRECT(\"'3.09.1a (2)'!p35\"))","v":""},{"$f":"IF(ISERROR(INDIRECT(\"'3.09.1a (2)'!q35\"))=TRUE,\"\",INDIRECT(\"'3.09.1a (2)'!q35\"))","v":""},{"$f":"IF(ISERROR(INDIRECT(\"'3.09.1a (2)'!s35\"))=TRUE,\"\",INDIRECT(\"'3.09.1a (2)'!s35\"))","v":""},{"$f":"IF(ISERROR(INDIRECT(\"'3.09.1a (2)'!t35\"))=TRUE,\"\",INDIRECT(\"'3.09.1a (2)'!t35\"))","v":""},{"$f":"IF(ISERROR(INDIRECT(\"'3.09.1a (2)'!u35\"))=TRUE,\"\",INDIRECT(\"'3.09.1a (2)'!u35\"))","v":""},{"$f":"IF(ISERROR(INDIRECT(\"'3.09.1a (2)'!v35\"))=TRUE,\"\",INDIRECT(\"'3.09.1a (2)'!v35\"))","v":""},{"$f":"IF(ISERROR(INDIRECT(\"'3.09.1a (2)'!w35\"))=TRUE,\"\",INDIRECT(\"'3.09.1a (2)'!w35\"))","v":""},{"$f":"IF(ISERROR(INDIRECT(\"'3.09.1a (2)'!x35\"))=TRUE,\"\",INDIRECT(\"'3.09.1a (2)'!x35\"))","v":""},{"$f":"IF(ISERROR(INDIRECT(\"'3.09.1a (2)'!aa35\"))=TRUE,\"\",INDIRECT(\"'3.09.1a (2)'!aa35\"))","v":""},{"$f":"IF(ISERROR(INDIRECT(\"'3.09.1a (2)'!ad35\"))=TRUE,\"\",INDIRECT(\"'3.09.1a (2)'!ad35\"))","v":""},{"$f":"IF(ISERROR(INDIRECT(\"'3.09.1a (2)'!ah35\"))=TRUE,\"\",INDIRECT(\"'3.09.1a (2)'!ah35\"))","v":""},{"$f":"IF(ISERROR(INDIRECT(\"'3.09.1a (2)'!am35\"))=TRUE,\"\",INDIRECT(\"'3.09.1a (2)'!am35\"))","v":""}]
[0,"3.09.1a (2)",{"$f":"IF(ISERROR(INDIRECT(\"'3.09.1a (2)'!b36\"))=TRUE,\"\",INDIRECT(\"'3.09.1a (2)'!b36\"))","v":""},{"$f":"IF(ISERROR(INDIRECT(\"'3.09.1a (2)'!c36\"))=TRUE,\"\",INDIRECT(\"'3.09.1a (2)'!c36\"))","v":""},{"$f":"IF(ISERROR(INDIRECT(\"'3.09.1a (2)'!d36\"))=TRUE,\"\",INDIRECT(\"'3.09.1a (2)'!d36\"))","v":""},{"$f":"IF(ISERROR(INDIRECT(\"'3.09.1a (2)'!e36\"))=TRUE,\"\",INDIRECT(\"'3.09.1a (2)'!e36\"))","v":""},{"$f":"IF(ISERROR(INDIRECT(\"'3.09.1a (2)'!f36\"))=TRUE,\"\",INDIRECT(\"'3.09.1a (2)'!f36\"))","v":""},{"$f":"IF(ISERROR(INDIRECT(\"'3.09.1a (2)'!g36\"))=TRUE,\"\",INDIRECT(\"'3.09.1a (2)'!g36\"))","v":""},{"$f":"IF(ISERROR(INDIRECT(\"'3.09.1a (2)'!h36\"))=TRUE,\"\",INDIRECT(\"'3.09.1a (2)'!h36\"))","v":""},{"$f":"IF(ISERROR(INDIRECT(\"'3.09.1a (2)'!i36\"))=TRUE,\"\",INDIRECT(\"'3.09.1a (2)'!i36\"))","v":""},{"$f":"IF(ISERROR(INDIRECT(\"'3.09.1a (2)'!j36\"))=TRUE,\"\",INDIRECT(\"'3.09.1a (2)'!j36\"))","v":""},{"$f":"IF(ISERROR(INDIRECT(\"'3.09.1a (2)'!o36\"))=TRUE,\"\",INDIRECT(\"'3.09.1a (2)'!o36\"))","v":""},{"$f":"IF(ISERROR(INDIRECT(\"'3.09.1a (2)'!p36\"))=TRUE,\"\",INDIRECT(\"'3.09.1a (2)'!p36\"))","v":""},{"$f":"IF(ISERROR(INDIRECT(\"'3.09.1a (2)'!q36\"))=TRUE,\"\",INDIRECT(\"'3.09.1a (2)'!q36\"))","v":""},{"$f":"IF(ISERROR(INDIRECT(\"'3.09.1a (2)'!s36\"))=TRUE,\"\",INDIRECT(\"'3.09.1a (2)'!s36\"))","v":""},{"$f":"IF(ISERROR(INDIRECT(\"'3.09.1a (2)'!t36\"))=TRUE,\"\",INDIRECT(\"'3.09.1a (2)'!t36\"))","v":""},{"$f":"IF(ISERROR(INDIRECT(\"'3.09.1a (2)'!u36\"))=TRUE,\"\",INDIRECT(\"'3.09.1a (2)'!u36\"))","v":""},{"$f":"IF(ISERROR(INDIRECT(\"'3.09.1a (2)'!v36\"))=TRUE,\"\",INDIRECT(\"'3.09.1a (2)'!v36\"))","v":""},{"$f":"IF(ISERROR(INDIRECT(\"'3.09.1a (2)'!w36\"))=TRUE,\"\",INDIRECT(\"'3.09.1a (2)'!w36\"))","v":""},{"$f":"IF(ISERROR(INDIRECT(\"'3.09.1a (2)'!x36\"))=TRUE,\"\",INDIRECT(\"'3.09.1a (2)'!x36\"))","v":""},{"$f":"IF(ISERROR(INDIRECT(\"'3.09.1a (2)'!aa36\"))=TRUE,\"\",INDIRECT(\"'3.09.1a (2)'!aa36\"))","v":""},{"$f":"IF(ISERROR(INDIRECT(\"'3.09.1a (2)'!ad36\"))=TRUE,\"\",INDIRECT(\"'3.09.1a (2)'!ad36\"))","v":""},{"$f":"IF(ISERROR(INDIRECT(\"'3.09.1a (2)'!ah36\"))=TRUE,\"\",INDIRECT(\"'3.09.1a (2)'!ah36\"))","v":""},{"$f":"IF(ISERROR(INDIRECT(\"'3.09.1a (2)'!am36\"))=TRUE,\"\",INDIRECT(\"'3.09.1a (2)'!am36\"))","v":""}]
[0,"3.09.1a (2)",{"$f":"IF(ISERROR(INDIRECT(\"'3.09.1a (2)'!b37\"))=TRUE,\"\",INDIRECT(\"'3.09.1a (2)'!b37\"))","v":""},{"$f":"IF(ISERROR(INDIRECT(\"'3.09.1a (2)'!c37\"))=TRUE,\"\",INDIRECT(\"'3.09.1a (2)'!c37\"))","v":""},{"$f":"IF(ISERROR(INDIRECT(\"'3.09.1a (2)'!d37\"))=TRUE,\"\",INDIRECT(\"'3.09.1a (2)'!d37\"))","v":""},{"$f":"IF(ISERROR(INDIRECT(\"'3.09.1a (2)'!e37\"))=TRUE,\"\",INDIRECT(\"'3.09.1a (2)'!e37\"))","v":""},{"$f":"IF(ISERROR(INDIRECT(\"'3.09.1a (2)'!f37\"))=TRUE,\"\",INDIRECT(\"'3.09.1a (2)'!f37\"))","v":""},{"$f":"IF(ISERROR(INDIRECT(\"'3.09.1a (2)'!g37\"))=TRUE,\"\",INDIRECT(\"'3.09.1a (2)'!g37\"))","v":""},{"$f":"IF(ISERROR(INDIRECT(\"'3.09.1a (2)'!h37\"))=TRUE,\"\",INDIRECT(\"'3.09.1a (2)'!h37\"))","v":""},{"$f":"IF(ISERROR(INDIRECT(\"'3.09.1a (2)'!i37\"))=TRUE,\"\",INDIRECT(\"'3.09.1a (2)'!i37\"))","v":""},{"$f":"IF(ISERROR(INDIRECT(\"'3.09.1a (2)'!j37\"))=TRUE,\"\",INDIRECT(\"'3.09.1a (2)'!j37\"))","v":""},{"$f":"IF(ISERROR(INDIRECT(\"'3.09.1a (2)'!o37\"))=TRUE,\"\",INDIRECT(\"'3.09.1a (2)'!o37\"))","v":""},{"$f":"IF(ISERROR(INDIRECT(\"'3.09.1a (2)'!p37\"))=TRUE,\"\",INDIRECT(\"'3.09.1a (2)'!p37\"))","v":""},{"$f":"IF(ISERROR(INDIRECT(\"'3.09.1a (2)'!q37\"))=TRUE,\"\",INDIRECT(\"'3.09.1a (2)'!q37\"))","v":""},{"$f":"IF(ISERROR(INDIRECT(\"'3.09.1a (2)'!s37\"))=TRUE,\"\",INDIRECT(\"'3.09.1a (2)'!s37\"))","v":""},{"$f":"IF(ISERROR(INDIRECT(\"'3.09.1a (2)'!t37\"))=TRUE,\"\",INDIRECT(\"'3.09.1a (2)'!t37\"))","v":""},{"$f":"IF(ISERROR(INDIRECT(\"'3.09.1a (2)'!u37\"))=TRUE,\"\",INDIRECT(\"'3.09.1a (2)'!u37\"))","v":""},{"$f":"IF(ISERROR(INDIRECT(\"'3.09.1a (2)'!v37\"))=TRUE,\"\",INDIRECT(\"'3.09.1a (2)'!v37\"))","v":""},{"$f":"IF(ISERROR(INDIRECT(\"'3.09.1a (2)'!w37\"))=TRUE,\"\",INDIRECT(\"'3.09.1a (2)'!w37\"))","v":""},{"$f":"IF(ISERROR(INDIRECT(\"'3.09.1a (2)'!x37\"))=TRUE,\"\",INDIRECT(\"'3.09.1a (2)'!x37\"))","v":""},{"$f":"IF(ISERROR(INDIRECT(\"'3.09.1a (2)'!aa37\"))=TRUE,\"\",INDIRECT(\"'3.09.1a (2)'!aa37\"))","v":""},{"$f":"IF(ISERROR(INDIRECT(\"'3.09.1a (2)'!ad37\"))=TRUE,\"\",INDIRECT(\"'3.09.1a (2)'!ad37\"))","v":""},{"$f":"IF(ISERROR(INDIRECT(\"'3.09.1a (2)'!ah37\"))=TRUE,\"\",INDIRECT(\"'3.09.1a (2)'!ah37\"))","v":""},{"$f":"IF(ISERROR(INDIRECT(\"'3.09.1a (2)'!am37\"))=TRUE,\"\",INDIRECT(\"'3.09.1a (2)'!am37\"))","v":""}]
[0,"3.09.1a (2)",{"$f":"IF(ISERROR(INDIRECT(\"'3.09.1a (2)'!b38\"))=TRUE,\"\",INDIRECT(\"'3.09.1a (2)'!b38\"))","v":""},{"$f":"IF(ISERROR(INDIRECT(\"'3.09.1a (2)'!c38\"))=TRUE,\"\",INDIRECT(\"'3.09.1a (2)'!c38\"))","v":""},{"$f":"IF(ISERROR(INDIRECT(\"'3.09.1a (2)'!d38\"))=TRUE,\"\",INDIRECT(\"'3.09.1a (2)'!d38\"))","v":""},{"$f":"IF(ISERROR(INDIRECT(\"'3.09.1a (2)'!e38\"))=TRUE,\"\",INDIRECT(\"'3.09.1a (2)'!e38\"))","v":""},{"$f":"IF(ISERROR(INDIRECT(\"'3.09.1a (2)'!f38\"))=TRUE,\"\",INDIRECT(\"'3.09.1a (2)'!f38\"))","v":""},{"$f":"IF(ISERROR(INDIRECT(\"'3.09.1a (2)'!g38\"))=TRUE,\"\",INDIRECT(\"'3.09.1a (2)'!g38\"))","v":""},{"$f":"IF(ISERROR(INDIRECT(\"'3.09.1a (2)'!h38\"))=TRUE,\"\",INDIRECT(\"'3.09.1a (2)'!h38\"))","v":""},{"$f":"IF(ISERROR(INDIRECT(\"'3.09.1a (2)'!i38\"))=TRUE,\"\",INDIRECT(\"'3.09.1a (2)'!i38\"))","v":""},{"$f":"IF(ISERROR(INDIRECT(\"'3.09.1a (2)'!j38\"))=TRUE,\"\",INDIRECT(\"'3.09.1a (2)'!j38\"))","v":""},{"$f":"IF(ISERROR(INDIRECT(\"'3.09.1a (2)'!o38\"))=TRUE,\"\",INDIRECT(\"'3.09.1a (2)'!o38\"))","v":""},{"$f":"IF(ISERROR(INDIRECT(\"'3.09.1a (2)'!p38\"))=TRUE,\"\",INDIRECT(\"'3.09.1a (2)'!p38\"))","v":""},{"$f":"IF(ISERROR(INDIRECT(\"'3.09.1a (2)'!q38\"))=TRUE,\"\",INDIRECT(\"'3.09.1a (2)'!q38\"))","v":""},{"$f":"IF(ISERROR(INDIRECT(\"'3.09.1a (2)'!s38\"))=TRUE,\"\",INDIRECT(\"'3.09.1a (2)'!s38\"))","v":""},{"$f":"IF(ISERROR(INDIRECT(\"'3.09.1a (2)'!t38\"))=TRUE,\"\",INDIRECT(\"'3.09.1a (2)'!t38\"))","v":""},{"$f":"IF(ISERROR(INDIRECT(\"'3.09.1a (2)'!u38\"))=TRUE,\"\",INDIRECT(\"'3.09.1a (2)'!u38\"))","v":""},{"$f":"IF(ISERROR(INDIRECT(\"'3.09.1a (2)'!v38\"))=TRUE,\"\",INDIRECT(\"'3.09.1a (2)'!v38\"))","v":""},{"$f":"IF(ISERROR(INDIRECT(\"'3.09.1a (2)'!w38\"))=TRUE,\"\",INDIRECT(\"'3.09.1a (2)'!w38\"))","v":""},{"$f":"IF(ISERROR(INDIRECT(\"'3.09.1a (2)'!x38\"))=TRUE,\"\",INDIRECT(\"'3.09.1a (2)'!x38\"))","v":""},{"$f":"IF(ISERROR(INDIRECT(\"'3.09.1a (2)'!aa38\"))=TRUE,\"\",INDIRECT(\"'3.09.1a (2)'!aa38\"))","v":""},{"$f":"IF(ISERROR(INDIRECT(\"'3.09.1a (2)'!ad38\"))=TRUE,\"\",INDIRECT(\"'3.09.1a (2)'!ad38\"))","v":""},{"$f":"IF(ISERROR(INDIRECT(\"'3.09.1a (2)'!ah38\"))=TRUE,\"\",INDIRECT(\"'3.09.1a (2)'!ah38\"))","v":""},{"$f":"IF(ISERROR(INDIRECT(\"'3.09.1a (2)'!am38\"))=TRUE,\"\",INDIRECT(\"'3.09.1a (2)'!am38\"))","v":""}]
[0,"3.09.1a (2)",{"$f":"IF(ISERROR(INDIRECT(\"'3.09.1a (2)'!b39\"))=TRUE,\"\",INDIRECT(\"'3.09.1a (2)'!b39\"))","v":""},{"$f":"IF(ISERROR(INDIRECT(\"'3.09.1a (2)'!c39\"))=TRUE,\"\",INDIRECT(\"'3.09.1a (2)'!c39\"))","v":""},{"$f":"IF(ISERROR(INDIRECT(\"'3.09.1a (2)'!d39\"))=TRUE,\"\",INDIRECT(\"'3.09.1a (2)'!d39\"))","v":""},{"$f":"IF(ISERROR(INDIRECT(\"'3.09.1a (2)'!e39\"))=TRUE,\"\",INDIRECT(\"'3.09.1a (2)'!e39\"))","v":""},{"$f":"IF(ISERROR(INDIRECT(\"'3.09.1a (2)'!f39\"))=TRUE,\"\",INDIRECT(\"'3.09.1a (2)'!f39\"))","v":""},{"$f":"IF(ISERROR(INDIRECT(\"'3.09.1a (2)'!g39\"))=TRUE,\"\",INDIRECT(\"'3.09.1a (2)'!g39\"))","v":""},{"$f":"IF(ISERROR(INDIRECT(\"'3.09.1a (2)'!h39\"))=TRUE,\"\",INDIRECT(\"'3.09.1a (2)'!h39\"))","v":""},{"$f":"IF(ISERROR(INDIRECT(\"'3.09.1a (2)'!i39\"))=TRUE,\"\",INDIRECT(\"'3.09.1a (2)'!i39\"))","v":""},{"$f":"IF(ISERROR(INDIRECT(\"'3.09.1a (2)'!j39\"))=TRUE,\"\",INDIRECT(\"'3.09.1a (2)'!j39\"))","v":""},{"$f":"IF(ISERROR(INDIRECT(\"'3.09.1a (2)'!o39\"))=TRUE,\"\",INDIRECT(\"'3.09.1a (2)'!o39\"))","v":""},{"$f":"IF(ISERROR(INDIRECT(\"'3.09.1a (2)'!p39\"))=TRUE,\"\",INDIRECT(\"'3.09.1a (2)'!p39\"))","v":""},{"$f":"IF(ISERROR(INDIRECT(\"'3.09.1a (2)'!q39\"))=TRUE,\"\",INDIRECT(\"'3.09.1a (2)'!q39\"))","v":""},{"$f":"IF(ISERROR(INDIRECT(\"'3.09.1a (2)'!s39\"))=TRUE,\"\",INDIRECT(\"'3.09.1a (2)'!s39\"))","v":""},{"$f":"IF(ISERROR(INDIRECT(\"'3.09.1a (2)'!t39\"))=TRUE,\"\",INDIRECT(\"'3.09.1a (2)'!t39\"))","v":""},{"$f":"IF(ISERROR(INDIRECT(\"'3.09.1a (2)'!u39\"))=TRUE,\"\",INDIRECT(\"'3.09.1a (2)'!u39\"))","v":""},{"$f":"IF(ISERROR(INDIRECT(\"'3.09.1a (2)'!v39\"))=TRUE,\"\",INDIRECT(\"'3.09.1a (2)'!v39\"))","v":""},{"$f":"IF(ISERROR(INDIRECT(\"'3.09.1a (2)'!w39\"))=TRUE,\"\",INDIRECT(\"'3.09.1a (2)'!w39\"))","v":""},{"$f":"IF(ISERROR(INDIRECT(\"'3.09.1a (2)'!x39\"))=TRUE,\"\",INDIRECT(\"'3.09.1a (2)'!x39\"))","v":""},{"$f":"IF(ISERROR(INDIRECT(\"'3.09.1a (2)'!aa39\"))=TRUE,\"\",INDIRECT(\"'3.09.1a (2)'!aa39\"))","v":""},{"$f":"IF(ISERROR(INDIRECT(\"'3.09.1a (2)'!ad39\"))=TRUE,\"\",INDIRECT(\"'3.09.1a (2)'!ad39\"))","v":""},{"$f":"IF(ISERROR(INDIRECT(\"'3.09.1a (2)'!ah39\"))=TRUE,\"\",INDIRECT(\"'3.09.1a (2)'!ah39\"))","v":""},{"$f":"IF(ISERROR(INDIRECT(\"'3.09.1a (2)'!am39\"))=TRUE,\"\",INDIRECT(\"'3.09.1a (2)'!am39\"))","v":""}]
[0,"3.09.1a (2)",{"$f":"IF(ISERROR(INDIRECT(\"'3.09.1a (2)'!b40\"))=TRUE,\"\",INDIRECT(\"'3.09.1a (2)'!b40\"))","v":""},{"$f":"IF(ISERROR(INDIRECT(\"'3.09.1a (2)'!c40\"))=TRUE,\"\",INDIRECT(\"'3.09.1a (2)'!c40\"))","v":""},{"$f":"IF(ISERROR(INDIRECT(\"'3.09.1a (2)'!d40\"))=TRUE,\"\",INDIRECT(\"'3.09.1a (2)'!d40\"))","v":""},{"$f":"IF(ISERROR(INDIRECT(\"'3.09.1a (2)'!e40\"))=TRUE,\"\",INDIRECT(\"'3.09.1a (2)'!e40\"))","v":""},{"$f":"IF(ISERROR(INDIRECT(\"'3.09.1a (2)'!f40\"))=TRUE,\"\",INDIRECT(\"'3.09.1a (2)'!f40\"))","v":""},{"$f":"IF(ISERROR(INDIRECT(\"'3.09.1a (2)'!g40\"))=TRUE,\"\",INDIRECT(\"'3.09.1a (2)'!g40\"))","v":""},{"$f":"IF(ISERROR(INDIRECT(\"'3.09.1a (2)'!h40\"))=TRUE,\"\",INDIRECT(\"'3.09.1a (2)'!h40\"))","v":""},{"$f":"IF(ISERROR(INDIRECT(\"'3.09.1a (2)'!i40\"))=TRUE,\"\",INDIRECT(\"'3.09.1a (2)'!i40\"))","v":""},{"$f":"IF(ISERROR(INDIRECT(\"'3.09.1a (2)'!j40\"))=TRUE,\"\",INDIRECT(\"'3.09.1a (2)'!j40\"))","v":""},{"$f":"IF(ISERROR(INDIRECT(\"'3.09.1a (2)'!o40\"))=TRUE,\"\",INDIRECT(\"'3.09.1a (2)'!o40\"))","v":""},{"$f":"IF(ISERROR(INDIRECT(\"'3.09.1a (2)'!p40\"))=TRUE,\"\",INDIRECT(\"'3.09.1a (2)'!p40\"))","v":""},{"$f":"IF(ISERROR(INDIRECT(\"'3.09.1a (2)'!q40\"))=TRUE,\"\",INDIRECT(\"'3.09.1a (2)'!q40\"))","v":""},{"$f":"IF(ISERROR(INDIRECT(\"'3.09.1a (2)'!s40\"))=TRUE,\"\",INDIRECT(\"'3.09.1a (2)'!s40\"))","v":""},{"$f":"IF(ISERROR(INDIRECT(\"'3.09.1a (2)'!t40\"))=TRUE,\"\",INDIRECT(\"'3.09.1a (2)'!t40\"))","v":""},{"$f":"IF(ISERROR(INDIRECT(\"'3.09.1a (2)'!u40\"))=TRUE,\"\",INDIRECT(\"'3.09.1a (2)'!u40\"))","v":""},{"$f":"IF(ISERROR(INDIRECT(\"'3.09.1a (2)'!v40\"))=TRUE,\"\",INDIRECT(\"'3.09.1a (2)'!v40\"))","v":""},{"$f":"IF(ISERROR(INDIRECT(\"'3.09.1a (2)'!w40\"))=TRUE,\"\",INDIRECT(\"'3.09.1a (2)'!w40\"))","v":""},{"$f":"IF(ISERROR(INDIRECT(\"'3.09.1a (2)'!x40\"))=TRUE,\"\",INDIRECT(\"'3.09.1a (2)'!x40\"))","v":""},{"$f":"IF(ISERROR(INDIRECT(\"'3.09.1a (2)'!aa40\"))=TRUE,\"\",INDIRECT(\"'3.09.1a (2)'!aa40\"))","v":""},{"$f":"IF(ISERROR(INDIRECT(\"'3.09.1a (2)'!ad40\"))=TRUE,\"\",INDIRECT(\"'3.09.1a (2)'!ad40\"))","v":""},{"$f":"IF(ISERROR(INDIRECT(\"'3.09.1a (2)'!ah40\"))=TRUE,\"\",INDIRECT(\"'3.09.1a (2)'!ah40\"))","v":""},{"$f":"IF(ISERROR(INDIRECT(\"'3.09.1a (2)'!am40\"))=TRUE,\"\",INDIRECT(\"'3.09.1a (2)'!am40\"))","v":""}]
[0,"3.09.1a (2)",{"$f":"IF(ISERROR(INDIRECT(\"'3.09.1a (2)'!b41\"))=TRUE,\"\",INDIRECT(\"'3.09.1a (2)'!b41\"))","v":""},{"$f":"IF(ISERROR(INDIRECT(\"'3.09.1a (2)'!c41\"))=TRUE,\"\",INDIRECT(\"'3.09.1a (2)'!c41\"))","v":""},{"$f":"IF(ISERROR(INDIRECT(\"'3.09.1a (2)'!d41\"))=TRUE,\"\",INDIRECT(\"'3.09.1a (2)'!d41\"))","v":""},{"$f":"IF(ISERROR(INDIRECT(\"'3.09.1a (2)'!e41\"))=TRUE,\"\",INDIRECT(\"'3.09.1a (2)'!e41\"))","v":""},{"$f":"IF(ISERROR(INDIRECT(\"'3.09.1a (2)'!f41\"))=TRUE,\"\",INDIRECT(\"'3.09.1a (2)'!f41\"))","v":""},{"$f":"IF(ISERROR(INDIRECT(\"'3.09.1a (2)'!g41\"))=TRUE,\"\",INDIRECT(\"'3.09.1a (2)'!g41\"))","v":""},{"$f":"IF(ISERROR(INDIRECT(\"'3.09.1a (2)'!h41\"))=TRUE,\"\",INDIRECT(\"'3.09.1a (2)'!h41\"))","v":""},{"$f":"IF(ISERROR(INDIRECT(\"'3.09.1a (2)'!i41\"))=TRUE,\"\",INDIRECT(\"'3.09.1a (2)'!i41\"))","v":""},{"$f":"IF(ISERROR(INDIRECT(\"'3.09.1a (2)'!j41\"))=TRUE,\"\",INDIRECT(\"'3.09.1a (2)'!j41\"))","v":""},{"$f":"IF(ISERROR(INDIRECT(\"'3.09.1a (2)'!o41\"))=TRUE,\"\",INDIRECT(\"'3.09.1a (2)'!o41\"))","v":""},{"$f":"IF(ISERROR(INDIRECT(\"'3.09.1a (2)'!p41\"))=TRUE,\"\",INDIRECT(\"'3.09.1a (2)'!p41\"))","v":""},{"$f":"IF(ISERROR(INDIRECT(\"'3.09.1a (2)'!q41\"))=TRUE,\"\",INDIRECT(\"'3.09.1a (2)'!q41\"))","v":""},{"$f":"IF(ISERROR(INDIRECT(\"'3.09.1a (2)'!s41\"))=TRUE,\"\",INDIRECT(\"'3.09.1a (2)'!s41\"))","v":""},{"$f":"IF(ISERROR(INDIRECT(\"'3.09.1a (2)'!t41\"))=TRUE,\"\",INDIRECT(\"'3.09.1a (2)'!t41\"))","v":""},{"$f":"IF(ISERROR(INDIRECT(\"'3.09.1a (2)'!u41\"))=TRUE,\"\",INDIRECT(\"'3.09.1a (2)'!u41\"))","v":""},{"$f":"IF(ISERROR(INDIRECT(\"'3.09.1a (2)'!v41\"))=TRUE,\"\",INDIRECT(\"'3.09.1a (2)'!v41\"))","v":""},{"$f":"IF(ISERROR(INDIRECT(\"'3.09.1a (2)'!w41\"))=TRUE,\"\",INDIRECT(\"'3.09.1a (2)'!w41\"))","v":""},{"$f":"IF(ISERROR(INDIRECT(\"'3.09.1a (2)'!x41\"))=TRUE,\"\",INDIRECT(\"'3.09.1a (2)'!x41\"))","v":""},{"$f":"IF(ISERROR(INDIRECT(\"'3.09.1a (2)'!aa41\"))=TRUE,\"\",INDIRECT(\"'3.09.1a (2)'!aa41\"))","v":""},{"$f":"IF(ISERROR(INDIRECT(\"'3.09.1a (2)'!ad41\"))=TRUE,\"\",INDIRECT(\"'3.09.1a (2)'!ad41\"))","v":""},{"$f":"IF(ISERROR(INDIRECT(\"'3.09.1a (2)'!ah41\"))=TRUE,\"\",INDIRECT(\"'3.09.1a (2)'!ah41\"))","v":""},{"$f":"IF(ISERROR(INDIRECT(\"'3.09.1a (2)'!am41\"))=TRUE,\"\",INDIRECT(\"'3.09.1a (2)'!am41\"))","v":""}]
[0,"3.09.1a (2)",{"$f":"IF(ISERROR(INDIRECT(\"'3.09.1a (2)'!b42\"))=TRUE,\"\",INDIRECT(\"'3.09.1a (2)'!b42\"))","v":""},{"$f":"IF(ISERROR(INDIRECT(\"'3.09.1a (2)'!c42\"))=TRUE,\"\",INDIRECT(\"'3.09.1a (2)'!c42\"))","v":""},{"$f":"IF(ISERROR(INDIRECT(\"'3.09.1a (2)'!d42\"))=TRUE,\"\",INDIRECT(\"'3.09.1a (2)'!d42\"))","v":""},{"$f":"IF(ISERROR(INDIRECT(\"'3.09.1a (2)'!e42\"))=TRUE,\"\",INDIRECT(\"'3.09.1a (2)'!e42\"))","v":""},{"$f":"IF(ISERROR(INDIRECT(\"'3.09.1a (2)'!f42\"))=TRUE,\"\",INDIRECT(\"'3.09.1a (2)'!f42\"))","v":""},{"$f":"IF(ISERROR(INDIRECT(\"'3.09.1a (2)'!g42\"))=TRUE,\"\",INDIRECT(\"'3.09.1a (2)'!g42\"))","v":""},{"$f":"IF(ISERROR(INDIRECT(\"'3.09.1a (2)'!h42\"))=TRUE,\"\",INDIRECT(\"'3.09.1a (2)'!h42\"))","v":""},{"$f":"IF(ISERROR(INDIRECT(\"'3.09.1a (2)'!i42\"))=TRUE,\"\",INDIRECT(\"'3.09.1a (2)'!i42\"))","v":""},{"$f":"IF(ISERROR(INDIRECT(\"'3.09.1a (2)'!j42\"))=TRUE,\"\",INDIRECT(\"'3.09.1a (2)'!j42\"))","v":""},{"$f":"IF(ISERROR(INDIRECT(\"'3.09.1a (2)'!o42\"))=TRUE,\"\",INDIRECT(\"'3.09.1a (2)'!o42\"))","v":""},{"$f":"IF(ISERROR(INDIRECT(\"'3.09.1a (2)'!p42\"))=TRUE,\"\",INDIRECT(\"'3.09.1a (2)'!p42\"))","v":""},{"$f":"IF(ISERROR(INDIRECT(\"'3.09.1a (2)'!q42\"))=TRUE,\"\",INDIRECT(\"'3.09.1a (2)'!q42\"))","v":""},{"$f":"IF(ISERROR(INDIRECT(\"'3.09.1a (2)'!s42\"))=TRUE,\"\",INDIRECT(\"'3.09.1a (2)'!s42\"))","v":""},{"$f":"IF(ISERROR(INDIRECT(\"'3.09.1a (2)'!t42\"))=TRUE,\"\",INDIRECT(\"'3.09.1a (2)'!t42\"))","v":""},{"$f":"IF(ISERROR(INDIRECT(\"'3.09.1a (2)'!u42\"))=TRUE,\"\",INDIRECT(\"'3.09.1a (2)'!u42\"))","v":""},{"$f":"IF(ISERROR(INDIRECT(\"'3.09.1a (2)'!v42\"))=TRUE,\"\",INDIRECT(\"'3.09.1a (2)'!v42\"))","v":""},{"$f":"IF(ISERROR(INDIRECT(\"'3.09.1a (2)'!w42\"))=TRUE,\"\",INDIRECT(\"'3.09.1a (2)'!w42\"))","v":""},{"$f":"IF(ISERROR(INDIRECT(\"'3.09.1a (2)'!x42\"))=TRUE,\"\",INDIRECT(\"'3.09.1a (2)'!x42\"))","v":""},{"$f":"IF(ISERROR(INDIRECT(\"'3.09.1a (2)'!aa42\"))=TRUE,\"\",INDIRECT(\"'3.09.1a (2)'!aa42\"))","v":""},{"$f":"IF(ISERROR(INDIRECT(\"'3.09.1a (2)'!ad42\"))=TRUE,\"\",INDIRECT(\"'3.09.1a (2)'!ad42\"))","v":""},{"$f":"IF(ISERROR(INDIRECT(\"'3.09.1a (2)'!ah42\"))=TRUE,\"\",INDIRECT(\"'3.09.1a (2)'!ah42\"))","v":""},{"$f":"IF(ISERROR(INDIRECT(\"'3.09.1a (2)'!am42\"))=TRUE,\"\",INDIRECT(\"'3.09.1a (2)'!am42\"))","v":""}]
[0,"3.09.1a (2)",{"$f":"IF(ISERROR(INDIRECT(\"'3.09.1a (2)'!b43\"))=TRUE,\"\",INDIRECT(\"'3.09.1a (2)'!b43\"))","v":""},{"$f":"IF(ISERROR(INDIRECT(\"'3.09.1a (2)'!c43\"))=TRUE,\"\",INDIRECT(\"'3.09.1a (2)'!c43\"))","v":""},{"$f":"IF(ISERROR(INDIRECT(\"'3.09.1a (2)'!d43\"))=TRUE,\"\",INDIRECT(\"'3.09.1a (2)'!d43\"))","v":""},{"$f":"IF(ISERROR(INDIRECT(\"'3.09.1a (2)'!e43\"))=TRUE,\"\",INDIRECT(\"'3.09.1a (2)'!e43\"))","v":""},{"$f":"IF(ISERROR(INDIRECT(\"'3.09.1a (2)'!f43\"))=TRUE,\"\",INDIRECT(\"'3.09.1a (2)'!f43\"))","v":""},{"$f":"IF(ISERROR(INDIRECT(\"'3.09.1a (2)'!g43\"))=TRUE,\"\",INDIRECT(\"'3.09.1a (2)'!g43\"))","v":""},{"$f":"IF(ISERROR(INDIRECT(\"'3.09.1a (2)'!h43\"))=TRUE,\"\",INDIRECT(\"'3.09.1a (2)'!h43\"))","v":""},{"$f":"IF(ISERROR(INDIRECT(\"'3.09.1a (2)'!i43\"))=TRUE,\"\",INDIRECT(\"'3.09.1a (2)'!i43\"))","v":""},{"$f":"IF(ISERROR(INDIRECT(\"'3.09.1a (2)'!j43\"))=TRUE,\"\",INDIRECT(\"'3.09.1a (2)'!j43\"))","v":""},{"$f":"IF(ISERROR(INDIRECT(\"'3.09.1a (2)'!o43\"))=TRUE,\"\",INDIRECT(\"'3.09.1a (2)'!o43\"))","v":""},{"$f":"IF(ISERROR(INDIRECT(\"'3.09.1a (2)'!p43\"))=TRUE,\"\",INDIRECT(\"'3.09.1a (2)'!p43\"))","v":""},{"$f":"IF(ISERROR(INDIRECT(\"'3.09.1a (2)'!q43\"))=TRUE,\"\",INDIRECT(\"'3.09.1a (2)'!q43\"))","v":""},{"$f":"IF(ISERROR(INDIRECT(\"'3.09.1a (2)'!s43\"))=TRUE,\"\",INDIRECT(\"'3.09.1a (2)'!s43\"))","v":""},{"$f":"IF(ISERROR(INDIRECT(\"'3.09.1a (2)'!t43\"))=TRUE,\"\",INDIRECT(\"'3.09.1a (2)'!t43\"))","v":""},{"$f":"IF(ISERROR(INDIRECT(\"'3.09.1a (2)'!u43\"))=TRUE,\"\",INDIRECT(\"'3.09.1a (2)'!u43\"))","v":""},{"$f":"IF(ISERROR(INDIRECT(\"'3.09.1a (2)'!v43\"))=TRUE,\"\",INDIRECT(\"'3.09.1a (2)'!v43\"))","v":""},{"$f":"IF(ISERROR(INDIRECT(\"'3.09.1a (2)'!w43\"))=TRUE,\"\",INDIRECT(\"'3.09.1a (2)'!w43\"))","v":""},{"$f":"IF(ISERROR(INDIRECT(\"'3.09.1a (2)'!x43\"))=TRUE,\"\",INDIRECT(\"'3.09.1a (2)'!x43\"))","v":""},{"$f":"IF(ISERROR(INDIRECT(\"'3.09.1a (2)'!aa43\"))=TRUE,\"\",INDIRECT(\"'3.09.1a (2)'!aa43\"))","v":""},{"$f":"IF(ISERROR(INDIRECT(\"'3.09.1a (2)'!ad43\"))=TRUE,\"\",INDIRECT(\"'3.09.1a (2)'!ad43\"))","v":""},{"$f":"IF(ISERROR(INDIRECT(\"'3.09.1a (2)'!ah43\"))=TRUE,\"\",INDIRECT(\"'3.09.1a (2)'!ah43\"))","v":""},{"$f":"IF(ISERROR(INDIRECT(\"'3.09.1a (2)'!am43\"))=TRUE,\"\",INDIRECT(\"'3.09.1a (2)'!am43\"))","v":""}]
[{"$f":"AgencyCode","v":0},"3.09.1a (3)",{"$f":"IF(ISERROR(INDIRECT(\"'3.09.1a (3)'!b19\"))=TRUE,\"\",INDIRECT(\"'3.09.1a (3)'!b19\"))","v":""},{"$f":"IF(ISERROR(INDIRECT(\"'3.09.1a (3)'!c19\"))=TRUE,\"\",INDIRECT(\"'3.09.1a (3)'!c19\"))","v":""},{"$f":"IF(ISERROR(INDIRECT(\"'3.09.1a (3)'!D19\"))=TRUE,\"\",INDIRECT(\"'3.09.1a (3)'!D19\"))","v":""},{"$f":"IF(ISERROR(INDIRECT(\"'3.09.1a (3)'!e19\"))=TRUE,\"\",INDIRECT(\"'3.09.1a (3)'!e19\"))","v":""},{"$f":"IF(ISERROR(INDIRECT(\"'3.09.1a (3)'!f19\"))=TRUE,\"\",INDIRECT(\"'3.09.1a (3)'!f19\"))","v":""},{"$f":"IF(ISERROR(INDIRECT(\"'3.09.1a (3)'!g19\"))=TRUE,\"\",INDIRECT(\"'3.09.1a (3)'!g19\"))","v":""},{"$f":"IF(ISERROR(INDIRECT(\"'3.09.1a (3)'!h19\"))=TRUE,\"\",INDIRECT(\"'3.09.1a (3)'!h19\"))","v":""},{"$f":"IF(ISERROR(INDIRECT(\"'3.09.1a (3)'!i19\"))=TRUE,\"\",INDIRECT(\"'3.09.1a (3)'!i19\"))","v":""},{"$f":"IF(ISERROR(INDIRECT(\"'3.09.1a (3)'!j19\"))=TRUE,\"\",INDIRECT(\"'3.09.1a (3)'!j19\"))","v":""},{"$f":"IF(ISERROR(INDIRECT(\"'3.09.1a (3)'!o19\"))=TRUE,\"\",INDIRECT(\"'3.09.1a (3)'!o19\"))","v":""},{"$f":"IF(ISERROR(INDIRECT(\"'3.09.1a (3)'!p19\"))=TRUE,\"\",INDIRECT(\"'3.09.1a (3)'!p19\"))","v":""},{"$f":"IF(ISERROR(INDIRECT(\"'3.09.1a (3)'!q19\"))=TRUE,\"\",INDIRECT(\"'3.09.1a (3)'!q19\"))","v":""},{"$f":"IF(ISERROR(INDIRECT(\"'3.09.1a (3)'!s19\"))=TRUE,\"\",INDIRECT(\"'3.09.1a (3)'!s19\"))","v":""},{"$f":"IF(ISERROR(INDIRECT(\"'3.09.1a (3)'!t19\"))=TRUE,\"\",INDIRECT(\"'3.09.1a (3)'!t19\"))","v":""},{"$f":"IF(ISERROR(INDIRECT(\"'3.09.1a (3)'!u19\"))=TRUE,\"\",INDIRECT(\"'3.09.1a (3)'!u19\"))","v":""},{"$f":"IF(ISERROR(INDIRECT(\"'3.09.1a (3)'!v19\"))=TRUE,\"\",INDIRECT(\"'3.09.1a (3)'!v19\"))","v":""},{"$f":"IF(ISERROR(INDIRECT(\"'3.09.1a (3)'!w19\"))=TRUE,\"\",INDIRECT(\"'3.09.1a (3)'!w19\"))","v":""},{"$f":"IF(ISERROR(INDIRECT(\"'3.09.1a (3)'!x19\"))=TRUE,\"\",INDIRECT(\"'3.09.1a (3)'!x19\"))","v":""},{"$f":"IF(ISERROR(INDIRECT(\"'3.09.1a (3)'!aa19\"))=TRUE,\"\",INDIRECT(\"'3.09.1a (3)'!aa19\"))","v":""},{"$f":"IF(ISERROR(INDIRECT(\"'3.09.1a (3)'!ad19\"))=TRUE,\"\",INDIRECT(\"'3.09.1a (3)'!ad19\"))","v":""},{"$f":"IF(ISERROR(INDIRECT(\"'3.09.1a (3)'!ah19\"))=TRUE,\"\",INDIRECT(\"'3.09.1a (3)'!ah19\"))","v":""},{"$f":"IF(ISERROR(INDIRECT(\"'3.09.1a (3)'!am19\"))=TRUE,\"\",INDIRECT(\"'3.09.1a (3)'!am19\"))","v":""}]
[0,"3.09.1a (3)",{"$f":"IF(ISERROR(INDIRECT(\"'3.09.1a (3)'!b20\"))=TRUE,\"\",INDIRECT(\"'3.09.1a (3)'!b20\"))","v":""},{"$f":"IF(ISERROR(INDIRECT(\"'3.09.1a (3)'!c20\"))=TRUE,\"\",INDIRECT(\"'3.09.1a (3)'!c20\"))","v":""},{"$f":"IF(ISERROR(INDIRECT(\"'3.09.1a (3)'!d20\"))=TRUE,\"\",INDIRECT(\"'3.09.1a (3)'!d20\"))","v":""},{"$f":"IF(ISERROR(INDIRECT(\"'3.09.1a (3)'!e20\"))=TRUE,\"\",INDIRECT(\"'3.09.1a (3)'!e20\"))","v":""},{"$f":"IF(ISERROR(INDIRECT(\"'3.09.1a (3)'!f20\"))=TRUE,\"\",INDIRECT(\"'3.09.1a (3)'!f20\"))","v":""},{"$f":"IF(ISERROR(INDIRECT(\"'3.09.1a (3)'!g20\"))=TRUE,\"\",INDIRECT(\"'3.09.1a (3)'!g20\"))","v":""},{"$f":"IF(ISERROR(INDIRECT(\"'3.09.1a (3)'!h20\"))=TRUE,\"\",INDIRECT(\"'3.09.1a (3)'!h20\"))","v":""},{"$f":"IF(ISERROR(INDIRECT(\"'3.09.1a (3)'!i20\"))=TRUE,\"\",INDIRECT(\"'3.09.1a (3)'!i20\"))","v":""},{"$f":"IF(ISERROR(INDIRECT(\"'3.09.1a (3)'!j20\"))=TRUE,\"\",INDIRECT(\"'3.09.1a (3)'!j20\"))","v":""},{"$f":"IF(ISERROR(INDIRECT(\"'3.09.1a (3)'!o20\"))=TRUE,\"\",INDIRECT(\"'3.09.1a (3)'!o20\"))","v":""},{"$f":"IF(ISERROR(INDIRECT(\"'3.09.1a (3)'!p20\"))=TRUE,\"\",INDIRECT(\"'3.09.1a (3)'!p20\"))","v":""},{"$f":"IF(ISERROR(INDIRECT(\"'3.09.1a (3)'!q20\"))=TRUE,\"\",INDIRECT(\"'3.09.1a (3)'!q20\"))","v":""},{"$f":"IF(ISERROR(INDIRECT(\"'3.09.1a (3)'!s20\"))=TRUE,\"\",INDIRECT(\"'3.09.1a (3)'!s20\"))","v":""},{"$f":"IF(ISERROR(INDIRECT(\"'3.09.1a (3)'!t20\"))=TRUE,\"\",INDIRECT(\"'3.09.1a (3)'!t20\"))","v":""},{"$f":"IF(ISERROR(INDIRECT(\"'3.09.1a (3)'!u20\"))=TRUE,\"\",INDIRECT(\"'3.09.1a (3)'!u20\"))","v":""},{"$f":"IF(ISERROR(INDIRECT(\"'3.09.1a (3)'!v20\"))=TRUE,\"\",INDIRECT(\"'3.09.1a (3)'!v20\"))","v":""},{"$f":"IF(ISERROR(INDIRECT(\"'3.09.1a (3)'!w20\"))=TRUE,\"\",INDIRECT(\"'3.09.1a (3)'!w20\"))","v":""},{"$f":"IF(ISERROR(INDIRECT(\"'3.09.1a (3)'!x20\"))=TRUE,\"\",INDIRECT(\"'3.09.1a (3)'!x20\"))","v":""},{"$f":"IF(ISERROR(INDIRECT(\"'3.09.1a (3)'!aa20\"))=TRUE,\"\",INDIRECT(\"'3.09.1a (3)'!aa20\"))","v":""},{"$f":"IF(ISERROR(INDIRECT(\"'3.09.1a (3)'!ad20\"))=TRUE,\"\",INDIRECT(\"'3.09.1a (3)'!ad20\"))","v":""},{"$f":"IF(ISERROR(INDIRECT(\"'3.09.1a (3)'!ah20\"))=TRUE,\"\",INDIRECT(\"'3.09.1a (3)'!ah20\"))","v":""},{"$f":"IF(ISERROR(INDIRECT(\"'3.09.1a (3)'!am20\"))=TRUE,\"\",INDIRECT(\"'3.09.1a (3)'!am20\"))","v":""}]
[0,"3.09.1a (3)",{"$f":"IF(ISERROR(INDIRECT(\"'3.09.1a (3)'!b21\"))=TRUE,\"\",INDIRECT(\"'3.09.1a (3)'!b21\"))","v":""},{"$f":"IF(ISERROR(INDIRECT(\"'3.09.1a (3)'!c21\"))=TRUE,\"\",INDIRECT(\"'3.09.1a (3)'!c21\"))","v":""},{"$f":"IF(ISERROR(INDIRECT(\"'3.09.1a (3)'!d21\"))=TRUE,\"\",INDIRECT(\"'3.09.1a (3)'!d21\"))","v":""},{"$f":"IF(ISERROR(INDIRECT(\"'3.09.1a (3)'!e21\"))=TRUE,\"\",INDIRECT(\"'3.09.1a (3)'!e21\"))","v":""},{"$f":"IF(ISERROR(INDIRECT(\"'3.09.1a (3)'!f21\"))=TRUE,\"\",INDIRECT(\"'3.09.1a (3)'!f21\"))","v":""},{"$f":"IF(ISERROR(INDIRECT(\"'3.09.1a (3)'!g21\"))=TRUE,\"\",INDIRECT(\"'3.09.1a (3)'!g21\"))","v":""},{"$f":"IF(ISERROR(INDIRECT(\"'3.09.1a (3)'!h21\"))=TRUE,\"\",INDIRECT(\"'3.09.1a (3)'!h21\"))","v":""},{"$f":"IF(ISERROR(INDIRECT(\"'3.09.1a (3)'!i21\"))=TRUE,\"\",INDIRECT(\"'3.09.1a (3)'!i21\"))","v":""},{"$f":"IF(ISERROR(INDIRECT(\"'3.09.1a (3)'!j21\"))=TRUE,\"\",INDIRECT(\"'3.09.1a (3)'!j21\"))","v":""},{"$f":"IF(ISERROR(INDIRECT(\"'3.09.1a (3)'!o21\"))=TRUE,\"\",INDIRECT(\"'3.09.1a (3)'!o21\"))","v":""},{"$f":"IF(ISERROR(INDIRECT(\"'3.09.1a (3)'!p21\"))=TRUE,\"\",INDIRECT(\"'3.09.1a (3)'!p21\"))","v":""},{"$f":"IF(ISERROR(INDIRECT(\"'3.09.1a (3)'!q21\"))=TRUE,\"\",INDIRECT(\"'3.09.1a (3)'!q21\"))","v":""},{"$f":"IF(ISERROR(INDIRECT(\"'3.09.1a (3)'!s21\"))=TRUE,\"\",INDIRECT(\"'3.09.1a (3)'!s21\"))","v":""},{"$f":"IF(ISERROR(INDIRECT(\"'3.09.1a (3)'!t21\"))=TRUE,\"\",INDIRECT(\"'3.09.1a (3)'!t21\"))","v":""},{"$f":"IF(ISERROR(INDIRECT(\"'3.09.1a (3)'!u21\"))=TRUE,\"\",INDIRECT(\"'3.09.1a (3)'!u21\"))","v":""},{"$f":"IF(ISERROR(INDIRECT(\"'3.09.1a (3)'!v21\"))=TRUE,\"\",INDIRECT(\"'3.09.1a (3)'!v21\"))","v":""},{"$f":"IF(ISERROR(INDIRECT(\"'3.09.1a (3)'!w21\"))=TRUE,\"\",INDIRECT(\"'3.09.1a (3)'!w21\"))","v":""},{"$f":"IF(ISERROR(INDIRECT(\"'3.09.1a (3)'!x21\"))=TRUE,\"\",INDIRECT(\"'3.09.1a (3)'!x21\"))","v":""},{"$f":"IF(ISERROR(INDIRECT(\"'3.09.1a (3)'!aa21\"))=TRUE,\"\",INDIRECT(\"'3.09.1a (3)'!aa21\"))","v":""},{"$f":"IF(ISERROR(INDIRECT(\"'3.09.1a (3)'!ad21\"))=TRUE,\"\",INDIRECT(\"'3.09.1a (3)'!ad21\"))","v":""},{"$f":"IF(ISERROR(INDIRECT(\"'3.09.1a (3)'!ah21\"))=TRUE,\"\",INDIRECT(\"'3.09.1a (3)'!ah21\"))","v":""},{"$f":"IF(ISERROR(INDIRECT(\"'3.09.1a (3)'!am21\"))=TRUE,\"\",INDIRECT(\"'3.09.1a (3)'!am21\"))","v":""}]
[0,"3.09.1a (3)",{"$f":"IF(ISERROR(INDIRECT(\"'3.09.1a (3)'!b22\"))=TRUE,\"\",INDIRECT(\"'3.09.1a (3)'!b22\"))","v":""},{"$f":"IF(ISERROR(INDIRECT(\"'3.09.1a (3)'!c22\"))=TRUE,\"\",INDIRECT(\"'3.09.1a (3)'!c22\"))","v":""},{"$f":"IF(ISERROR(INDIRECT(\"'3.09.1a (3)'!d22\"))=TRUE,\"\",INDIRECT(\"'3.09.1a (3)'!d22\"))","v":""},{"$f":"IF(ISERROR(INDIRECT(\"'3.09.1a (3)'!e22\"))=TRUE,\"\",INDIRECT(\"'3.09.1a (3)'!e22\"))","v":""},{"$f":"IF(ISERROR(INDIRECT(\"'3.09.1a (3)'!f22\"))=TRUE,\"\",INDIRECT(\"'3.09.1a (3)'!f22\"))","v":""},{"$f":"IF(ISERROR(INDIRECT(\"'3.09.1a (3)'!g22\"))=TRUE,\"\",INDIRECT(\"'3.09.1a (3)'!g22\"))","v":""},{"$f":"IF(ISERROR(INDIRECT(\"'3.09.1a (3)'!h22\"))=TRUE,\"\",INDIRECT(\"'3.09.1a (3)'!h22\"))","v":""},{"$f":"IF(ISERROR(INDIRECT(\"'3.09.1a (3)'!i22\"))=TRUE,\"\",INDIRECT(\"'3.09.1a (3)'!i22\"))","v":""},{"$f":"IF(ISERROR(INDIRECT(\"'3.09.1a (3)'!j22\"))=TRUE,\"\",INDIRECT(\"'3.09.1a (3)'!j22\"))","v":""},{"$f":"IF(ISERROR(INDIRECT(\"'3.09.1a (3)'!o22\"))=TRUE,\"\",INDIRECT(\"'3.09.1a (3)'!o22\"))","v":""},{"$f":"IF(ISERROR(INDIRECT(\"'3.09.1a (3)'!p22\"))=TRUE,\"\",INDIRECT(\"'3.09.1a (3)'!p22\"))","v":""},{"$f":"IF(ISERROR(INDIRECT(\"'3.09.1a (3)'!q22\"))=TRUE,\"\",INDIRECT(\"'3.09.1a (3)'!q22\"))","v":""},{"$f":"IF(ISERROR(INDIRECT(\"'3.09.1a (3)'!s22\"))=TRUE,\"\",INDIRECT(\"'3.09.1a (3)'!s22\"))","v":""},{"$f":"IF(ISERROR(INDIRECT(\"'3.09.1a (3)'!t22\"))=TRUE,\"\",INDIRECT(\"'3.09.1a (3)'!t22\"))","v":""},{"$f":"IF(ISERROR(INDIRECT(\"'3.09.1a (3)'!u22\"))=TRUE,\"\",INDIRECT(\"'3.09.1a (3)'!u22\"))","v":""},{"$f":"IF(ISERROR(INDIRECT(\"'3.09.1a (3)'!v22\"))=TRUE,\"\",INDIRECT(\"'3.09.1a (3)'!v22\"))","v":""},{"$f":"IF(ISERROR(INDIRECT(\"'3.09.1a (3)'!w22\"))=TRUE,\"\",INDIRECT(\"'3.09.1a (3)'!w22\"))","v":""},{"$f":"IF(ISERROR(INDIRECT(\"'3.09.1a (3)'!x22\"))=TRUE,\"\",INDIRECT(\"'3.09.1a (3)'!x22\"))","v":""},{"$f":"IF(ISERROR(INDIRECT(\"'3.09.1a (3)'!aa22\"))=TRUE,\"\",INDIRECT(\"'3.09.1a (3)'!aa22\"))","v":""},{"$f":"IF(ISERROR(INDIRECT(\"'3.09.1a (3)'!ad22\"))=TRUE,\"\",INDIRECT(\"'3.09.1a (3)'!ad22\"))","v":""},{"$f":"IF(ISERROR(INDIRECT(\"'3.09.1a (3)'!ah22\"))=TRUE,\"\",INDIRECT(\"'3.09.1a (3)'!ah22\"))","v":""},{"$f":"IF(ISERROR(INDIRECT(\"'3.09.1a (3)'!am22\"))=TRUE,\"\",INDIRECT(\"'3.09.1a (3)'!am22\"))","v":""}]
[0,"3.09.1a (3)",{"$f":"IF(ISERROR(INDIRECT(\"'3.09.1a (3)'!b23\"))=TRUE,\"\",INDIRECT(\"'3.09.1a (3)'!b23\"))","v":""},{"$f":"IF(ISERROR(INDIRECT(\"'3.09.1a (3)'!c23\"))=TRUE,\"\",INDIRECT(\"'3.09.1a (3)'!c23\"))","v":""},{"$f":"IF(ISERROR(INDIRECT(\"'3.09.1a (3)'!d23\"))=TRUE,\"\",INDIRECT(\"'3.09.1a (3)'!d23\"))","v":""},{"$f":"IF(ISERROR(INDIRECT(\"'3.09.1a (3)'!e23\"))=TRUE,\"\",INDIRECT(\"'3.09.1a (3)'!e23\"))","v":""},{"$f":"IF(ISERROR(INDIRECT(\"'3.09.1a (3)'!f23\"))=TRUE,\"\",INDIRECT(\"'3.09.1a (3)'!f23\"))","v":""},{"$f":"IF(ISERROR(INDIRECT(\"'3.09.1a (3)'!g23\"))=TRUE,\"\",INDIRECT(\"'3.09.1a (3)'!g23\"))","v":""},{"$f":"IF(ISERROR(INDIRECT(\"'3.09.1a (3)'!h23\"))=TRUE,\"\",INDIRECT(\"'3.09.1a (3)'!h23\"))","v":""},{"$f":"IF(ISERROR(INDIRECT(\"'3.09.1a (3)'!i23\"))=TRUE,\"\",INDIRECT(\"'3.09.1a (3)'!i23\"))","v":""},{"$f":"IF(ISERROR(INDIRECT(\"'3.09.1a (3)'!j23\"))=TRUE,\"\",INDIRECT(\"'3.09.1a (3)'!j23\"))","v":""},{"$f":"IF(ISERROR(INDIRECT(\"'3.09.1a (3)'!o23\"))=TRUE,\"\",INDIRECT(\"'3.09.1a (3)'!o23\"))","v":""},{"$f":"IF(ISERROR(INDIRECT(\"'3.09.1a (3)'!p23\"))=TRUE,\"\",INDIRECT(\"'3.09.1a (3)'!p23\"))","v":""},{"$f":"IF(ISERROR(INDIRECT(\"'3.09.1a (3)'!q23\"))=TRUE,\"\",INDIRECT(\"'3.09.1a (3)'!q23\"))","v":""},{"$f":"IF(ISERROR(INDIRECT(\"'3.09.1a (3)'!s23\"))=TRUE,\"\",INDIRECT(\"'3.09.1a (3)'!s23\"))","v":""},{"$f":"IF(ISERROR(INDIRECT(\"'3.09.1a (3)'!t23\"))=TRUE,\"\",INDIRECT(\"'3.09.1a (3)'!t23\"))","v":""},{"$f":"IF(ISERROR(INDIRECT(\"'3.09.1a (3)'!u23\"))=TRUE,\"\",INDIRECT(\"'3.09.1a (3)'!u23\"))","v":""},{"$f":"IF(ISERROR(INDIRECT(\"'3.09.1a (3)'!v23\"))=TRUE,\"\",INDIRECT(\"'3.09.1a (3)'!v23\"))","v":""},{"$f":"IF(ISERROR(INDIRECT(\"'3.09.1a (3)'!w23\"))=TRUE,\"\",INDIRECT(\"'3.09.1a (3)'!w23\"))","v":""},{"$f":"IF(ISERROR(INDIRECT(\"'3.09.1a (3)'!x23\"))=TRUE,\"\",INDIRECT(\"'3.09.1a (3)'!x23\"))","v":""},{"$f":"IF(ISERROR(INDIRECT(\"'3.09.1a (3)'!aa23\"))=TRUE,\"\",INDIRECT(\"'3.09.1a (3)'!aa23\"))","v":""},{"$f":"IF(ISERROR(INDIRECT(\"'3.09.1a (3)'!ad23\"))=TRUE,\"\",INDIRECT(\"'3.09.1a (3)'!ad23\"))","v":""},{"$f":"IF(ISERROR(INDIRECT(\"'3.09.1a (3)'!ah23\"))=TRUE,\"\",INDIRECT(\"'3.09.1a (3)'!ah23\"))","v":""},{"$f":"IF(ISERROR(INDIRECT(\"'3.09.1a (3)'!am23\"))=TRUE,\"\",INDIRECT(\"'3.09.1a (3)'!am23\"))","v":""}]
[0,"3.09.1a (3)",{"$f":"IF(ISERROR(INDIRECT(\"'3.09.1a (3)'!b24\"))=TRUE,\"\",INDIRECT(\"'3.09.1a (3)'!b24\"))","v":""},{"$f":"IF(ISERROR(INDIRECT(\"'3.09.1a (3)'!c24\"))=TRUE,\"\",INDIRECT(\"'3.09.1a (3)'!c24\"))","v":""},{"$f":"IF(ISERROR(INDIRECT(\"'3.09.1a (3)'!d24\"))=TRUE,\"\",INDIRECT(\"'3.09.1a (3)'!d24\"))","v":""},{"$f":"IF(ISERROR(INDIRECT(\"'3.09.1a (3)'!e24\"))=TRUE,\"\",INDIRECT(\"'3.09.1a (3)'!e24\"))","v":""},{"$f":"IF(ISERROR(INDIRECT(\"'3.09.1a (3)'!f24\"))=TRUE,\"\",INDIRECT(\"'3.09.1a (3)'!f24\"))","v":""},{"$f":"IF(ISERROR(INDIRECT(\"'3.09.1a (3)'!g24\"))=TRUE,\"\",INDIRECT(\"'3.09.1a (3)'!g24\"))","v":""},{"$f":"IF(ISERROR(INDIRECT(\"'3.09.1a (3)'!h24\"))=TRUE,\"\",INDIRECT(\"'3.09.1a (3)'!h24\"))","v":""},{"$f":"IF(ISERROR(INDIRECT(\"'3.09.1a (3)'!i24\"))=TRUE,\"\",INDIRECT(\"'3.09.1a (3)'!i24\"))","v":""},{"$f":"IF(ISERROR(INDIRECT(\"'3.09.1a (3)'!j24\"))=TRUE,\"\",INDIRECT(\"'3.09.1a (3)'!j24\"))","v":""},{"$f":"IF(ISERROR(INDIRECT(\"'3.09.1a (3)'!o24\"))=TRUE,\"\",INDIRECT(\"'3.09.1a (3)'!o24\"))","v":""},{"$f":"IF(ISERROR(INDIRECT(\"'3.09.1a (3)'!p24\"))=TRUE,\"\",INDIRECT(\"'3.09.1a (3)'!p24\"))","v":""},{"$f":"IF(ISERROR(INDIRECT(\"'3.09.1a (3)'!q24\"))=TRUE,\"\",INDIRECT(\"'3.09.1a (3)'!q24\"))","v":""},{"$f":"IF(ISERROR(INDIRECT(\"'3.09.1a (3)'!s24\"))=TRUE,\"\",INDIRECT(\"'3.09.1a (3)'!s24\"))","v":""},{"$f":"IF(ISERROR(INDIRECT(\"'3.09.1a (3)'!t24\"))=TRUE,\"\",INDIRECT(\"'3.09.1a (3)'!t24\"))","v":""},{"$f":"IF(ISERROR(INDIRECT(\"'3.09.1a (3)'!u24\"))=TRUE,\"\",INDIRECT(\"'3.09.1a (3)'!u24\"))","v":""},{"$f":"IF(ISERROR(INDIRECT(\"'3.09.1a (3)'!v24\"))=TRUE,\"\",INDIRECT(\"'3.09.1a (3)'!v24\"))","v":""},{"$f":"IF(ISERROR(INDIRECT(\"'3.09.1a (3)'!w24\"))=TRUE,\"\",INDIRECT(\"'3.09.1a (3)'!w24\"))","v":""},{"$f":"IF(ISERROR(INDIRECT(\"'3.09.1a (3)'!x24\"))=TRUE,\"\",INDIRECT(\"'3.09.1a (3)'!x24\"))","v":""},{"$f":"IF(ISERROR(INDIRECT(\"'3.09.1a (3)'!aa24\"))=TRUE,\"\",INDIRECT(\"'3.09.1a (3)'!aa24\"))","v":""},{"$f":"IF(ISERROR(INDIRECT(\"'3.09.1a (3)'!ad24\"))=TRUE,\"\",INDIRECT(\"'3.09.1a (3)'!ad24\"))","v":""},{"$f":"IF(ISERROR(INDIRECT(\"'3.09.1a (3)'!ah24\"))=TRUE,\"\",INDIRECT(\"'3.09.1a (3)'!ah24\"))","v":""},{"$f":"IF(ISERROR(INDIRECT(\"'3.09.1a (3)'!am24\"))=TRUE,\"\",INDIRECT(\"'3.09.1a (3)'!am24\"))","v":""}]
[0,"3.09.1a (3)",{"$f":"IF(ISERROR(INDIRECT(\"'3.09.1a (3)'!b25\"))=TRUE,\"\",INDIRECT(\"'3.09.1a (3)'!b25\"))","v":""},{"$f":"IF(ISERROR(INDIRECT(\"'3.09.1a (3)'!c25\"))=TRUE,\"\",INDIRECT(\"'3.09.1a (3)'!c25\"))","v":""},{"$f":"IF(ISERROR(INDIRECT(\"'3.09.1a (3)'!d25\"))=TRUE,\"\",INDIRECT(\"'3.09.1a (3)'!d25\"))","v":""},{"$f":"IF(ISERROR(INDIRECT(\"'3.09.1a (3)'!e25\"))=TRUE,\"\",INDIRECT(\"'3.09.1a (3)'!e25\"))","v":""},{"$f":"IF(ISERROR(INDIRECT(\"'3.09.1a (3)'!f25\"))=TRUE,\"\",INDIRECT(\"'3.09.1a (3)'!f25\"))","v":""},{"$f":"IF(ISERROR(INDIRECT(\"'3.09.1a (3)'!g25\"))=TRUE,\"\",INDIRECT(\"'3.09.1a (3)'!g25\"))","v":""},{"$f":"IF(ISERROR(INDIRECT(\"'3.09.1a (3)'!h25\"))=TRUE,\"\",INDIRECT(\"'3.09.1a (3)'!h25\"))","v":""},{"$f":"IF(ISERROR(INDIRECT(\"'3.09.1a (3)'!i25\"))=TRUE,\"\",INDIRECT(\"'3.09.1a (3)'!i25\"))","v":""},{"$f":"IF(ISERROR(INDIRECT(\"'3.09.1a (3)'!j25\"))=TRUE,\"\",INDIRECT(\"'3.09.1a (3)'!j25\"))","v":""},{"$f":"IF(ISERROR(INDIRECT(\"'3.09.1a (3)'!o25\"))=TRUE,\"\",INDIRECT(\"'3.09.1a (3)'!o25\"))","v":""},{"$f":"IF(ISERROR(INDIRECT(\"'3.09.1a (3)'!p25\"))=TRUE,\"\",INDIRECT(\"'3.09.1a (3)'!p25\"))","v":""},{"$f":"IF(ISERROR(INDIRECT(\"'3.09.1a (3)'!q25\"))=TRUE,\"\",INDIRECT(\"'3.09.1a (3)'!q25\"))","v":""},{"$f":"IF(ISERROR(INDIRECT(\"'3.09.1a (3)'!s25\"))=TRUE,\"\",INDIRECT(\"'3.09.1a (3)'!s25\"))","v":""},{"$f":"IF(ISERROR(INDIRECT(\"'3.09.1a (3)'!t25\"))=TRUE,\"\",INDIRECT(\"'3.09.1a (3)'!t25\"))","v":""},{"$f":"IF(ISERROR(INDIRECT(\"'3.09.1a (3)'!u25\"))=TRUE,\"\",INDIRECT(\"'3.09.1a (3)'!u25\"))","v":""},{"$f":"IF(ISERROR(INDIRECT(\"'3.09.1a (3)'!v25\"))=TRUE,\"\",INDIRECT(\"'3.09.1a (3)'!v25\"))","v":""},{"$f":"IF(ISERROR(INDIRECT(\"'3.09.1a (3)'!w25\"))=TRUE,\"\",INDIRECT(\"'3.09.1a (3)'!w25\"))","v":""},{"$f":"IF(ISERROR(INDIRECT(\"'3.09.1a (3)'!x25\"))=TRUE,\"\",INDIRECT(\"'3.09.1a (3)'!x25\"))","v":""},{"$f":"IF(ISERROR(INDIRECT(\"'3.09.1a (3)'!aa25\"))=TRUE,\"\",INDIRECT(\"'3.09.1a (3)'!aa25\"))","v":""},{"$f":"IF(ISERROR(INDIRECT(\"'3.09.1a (3)'!ad25\"))=TRUE,\"\",INDIRECT(\"'3.09.1a (3)'!ad25\"))","v":""},{"$f":"IF(ISERROR(INDIRECT(\"'3.09.1a (3)'!ah25\"))=TRUE,\"\",INDIRECT(\"'3.09.1a (3)'!ah25\"))","v":""},{"$f":"IF(ISERROR(INDIRECT(\"'3.09.1a (3)'!am25\"))=TRUE,\"\",INDIRECT(\"'3.09.1a (3)'!am25\"))","v":""}]
[0,"3.09.1a (3)",{"$f":"IF(ISERROR(INDIRECT(\"'3.09.1a (3)'!b26\"))=TRUE,\"\",INDIRECT(\"'3.09.1a (3)'!b26\"))","v":""},{"$f":"IF(ISERROR(INDIRECT(\"'3.09.1a (3)'!c26\"))=TRUE,\"\",INDIRECT(\"'3.09.1a (3)'!c26\"))","v":""},{"$f":"IF(ISERROR(INDIRECT(\"'3.09.1a (3)'!d26\"))=TRUE,\"\",INDIRECT(\"'3.09.1a (3)'!d26\"))","v":""},{"$f":"IF(ISERROR(INDIRECT(\"'3.09.1a (3)'!e26\"))=TRUE,\"\",INDIRECT(\"'3.09.1a (3)'!e26\"))","v":""},{"$f":"IF(ISERROR(INDIRECT(\"'3.09.1a (3)'!f26\"))=TRUE,\"\",INDIRECT(\"'3.09.1a (3)'!f26\"))","v":""},{"$f":"IF(ISERROR(INDIRECT(\"'3.09.1a (3)'!g26\"))=TRUE,\"\",INDIRECT(\"'3.09.1a (3)'!g26\"))","v":""},{"$f":"IF(ISERROR(INDIRECT(\"'3.09.1a (3)'!h26\"))=TRUE,\"\",INDIRECT(\"'3.09.1a (3)'!h26\"))","v":""},{"$f":"IF(ISERROR(INDIRECT(\"'3.09.1a (3)'!i26\"))=TRUE,\"\",INDIRECT(\"'3.09.1a (3)'!i26\"))","v":""},{"$f":"IF(ISERROR(INDIRECT(\"'3.09.1a (3)'!j26\"))=TRUE,\"\",INDIRECT(\"'3.09.1a (3)'!j26\"))","v":""},{"$f":"IF(ISERROR(INDIRECT(\"'3.09.1a (3)'!o26\"))=TRUE,\"\",INDIRECT(\"'3.09.1a (3)'!o26\"))","v":""},{"$f":"IF(ISERROR(INDIRECT(\"'3.09.1a (3)'!p26\"))=TRUE,\"\",INDIRECT(\"'3.09.1a (3)'!p26\"))","v":""},{"$f":"IF(ISERROR(INDIRECT(\"'3.09.1a (3)'!q26\"))=TRUE,\"\",INDIRECT(\"'3.09.1a (3)'!q26\"))","v":""},{"$f":"IF(ISERROR(INDIRECT(\"'3.09.1a (3)'!s26\"))=TRUE,\"\",INDIRECT(\"'3.09.1a (3)'!s26\"))","v":""},{"$f":"IF(ISERROR(INDIRECT(\"'3.09.1a (3)'!t26\"))=TRUE,\"\",INDIRECT(\"'3.09.1a (3)'!t26\"))","v":""},{"$f":"IF(ISERROR(INDIRECT(\"'3.09.1a (3)'!u26\"))=TRUE,\"\",INDIRECT(\"'3.09.1a (3)'!u26\"))","v":""},{"$f":"IF(ISERROR(INDIRECT(\"'3.09.1a (3)'!v26\"))=TRUE,\"\",INDIRECT(\"'3.09.1a (3)'!v26\"))","v":""},{"$f":"IF(ISERROR(INDIRECT(\"'3.09.1a (3)'!w26\"))=TRUE,\"\",INDIRECT(\"'3.09.1a (3)'!w26\"))","v":""},{"$f":"IF(ISERROR(INDIRECT(\"'3.09.1a (3)'!x26\"))=TRUE,\"\",INDIRECT(\"'3.09.1a (3)'!x26\"))","v":""},{"$f":"IF(ISERROR(INDIRECT(\"'3.09.1a (3)'!aa26\"))=TRUE,\"\",INDIRECT(\"'3.09.1a (3)'!aa26\"))","v":""},{"$f":"IF(ISERROR(INDIRECT(\"'3.09.1a (3)'!ad26\"))=TRUE,\"\",INDIRECT(\"'3.09.1a (3)'!ad26\"))","v":""},{"$f":"IF(ISERROR(INDIRECT(\"'3.09.1a (3)'!ah26\"))=TRUE,\"\",INDIRECT(\"'3.09.1a (3)'!ah26\"))","v":""},{"$f":"IF(ISERROR(INDIRECT(\"'3.09.1a (3)'!am26\"))=TRUE,\"\",INDIRECT(\"'3.09.1a (3)'!am26\"))","v":""}]
[0,"3.09.1a (3)",{"$f":"IF(ISERROR(INDIRECT(\"'3.09.1a (3)'!b27\"))=TRUE,\"\",INDIRECT(\"'3.09.1a (3)'!b27\"))","v":""},{"$f":"IF(ISERROR(INDIRECT(\"'3.09.1a (3)'!c27\"))=TRUE,\"\",INDIRECT(\"'3.09.1a (3)'!c27\"))","v":""},{"$f":"IF(ISERROR(INDIRECT(\"'3.09.1a (3)'!d27\"))=TRUE,\"\",INDIRECT(\"'3.09.1a (3)'!d27\"))","v":""},{"$f":"IF(ISERROR(INDIRECT(\"'3.09.1a (3)'!e27\"))=TRUE,\"\",INDIRECT(\"'3.09.1a (3)'!e27\"))","v":""},{"$f":"IF(ISERROR(INDIRECT(\"'3.09.1a (3)'!f27\"))=TRUE,\"\",INDIRECT(\"'3.09.1a (3)'!f27\"))","v":""},{"$f":"IF(ISERROR(INDIRECT(\"'3.09.1a (3)'!g27\"))=TRUE,\"\",INDIRECT(\"'3.09.1a (3)'!g27\"))","v":""},{"$f":"IF(ISERROR(INDIRECT(\"'3.09.1a (3)'!h27\"))=TRUE,\"\",INDIRECT(\"'3.09.1a (3)'!h27\"))","v":""},{"$f":"IF(ISERROR(INDIRECT(\"'3.09.1a (3)'!i27\"))=TRUE,\"\",INDIRECT(\"'3.09.1a (3)'!i27\"))","v":""},{"$f":"IF(ISERROR(INDIRECT(\"'3.09.1a (3)'!j27\"))=TRUE,\"\",INDIRECT(\"'3.09.1a (3)'!j27\"))","v":""},{"$f":"IF(ISERROR(INDIRECT(\"'3.09.1a (3)'!o27\"))=TRUE,\"\",INDIRECT(\"'3.09.1a (3)'!o27\"))","v":""},{"$f":"IF(ISERROR(INDIRECT(\"'3.09.1a (3)'!p27\"))=TRUE,\"\",INDIRECT(\"'3.09.1a (3)'!p27\"))","v":""},{"$f":"IF(ISERROR(INDIRECT(\"'3.09.1a (3)'!q27\"))=TRUE,\"\",INDIRECT(\"'3.09.1a (3)'!q27\"))","v":""},{"$f":"IF(ISERROR(INDIRECT(\"'3.09.1a (3)'!s27\"))=TRUE,\"\",INDIRECT(\"'3.09.1a (3)'!s27\"))","v":""},{"$f":"IF(ISERROR(INDIRECT(\"'3.09.1a (3)'!t27\"))=TRUE,\"\",INDIRECT(\"'3.09.1a (3)'!t27\"))","v":""},{"$f":"IF(ISERROR(INDIRECT(\"'3.09.1a (3)'!u27\"))=TRUE,\"\",INDIRECT(\"'3.09.1a (3)'!u27\"))","v":""},{"$f":"IF(ISERROR(INDIRECT(\"'3.09.1a (3)'!v27\"))=TRUE,\"\",INDIRECT(\"'3.09.1a (3)'!v27\"))","v":""},{"$f":"IF(ISERROR(INDIRECT(\"'3.09.1a (3)'!w27\"))=TRUE,\"\",INDIRECT(\"'3.09.1a (3)'!w27\"))","v":""},{"$f":"IF(ISERROR(INDIRECT(\"'3.09.1a (3)'!x27\"))=TRUE,\"\",INDIRECT(\"'3.09.1a (3)'!x27\"))","v":""},{"$f":"IF(ISERROR(INDIRECT(\"'3.09.1a (3)'!aa27\"))=TRUE,\"\",INDIRECT(\"'3.09.1a (3)'!aa27\"))","v":""},{"$f":"IF(ISERROR(INDIRECT(\"'3.09.1a (3)'!ad27\"))=TRUE,\"\",INDIRECT(\"'3.09.1a (3)'!ad27\"))","v":""},{"$f":"IF(ISERROR(INDIRECT(\"'3.09.1a (3)'!ah27\"))=TRUE,\"\",INDIRECT(\"'3.09.1a (3)'!ah27\"))","v":""},{"$f":"IF(ISERROR(INDIRECT(\"'3.09.1a (3)'!am27\"))=TRUE,\"\",INDIRECT(\"'3.09.1a (3)'!am27\"))","v":""}]
[0,"3.09.1a (3)",{"$f":"IF(ISERROR(INDIRECT(\"'3.09.1a (3)'!b28\"))=TRUE,\"\",INDIRECT(\"'3.09.1a (3)'!b28\"))","v":""},{"$f":"IF(ISERROR(INDIRECT(\"'3.09.1a (3)'!c28\"))=TRUE,\"\",INDIRECT(\"'3.09.1a (3)'!c28\"))","v":""},{"$f":"IF(ISERROR(INDIRECT(\"'3.09.1a (3)'!d28\"))=TRUE,\"\",INDIRECT(\"'3.09.1a (3)'!d28\"))","v":""},{"$f":"IF(ISERROR(INDIRECT(\"'3.09.1a (3)'!e28\"))=TRUE,\"\",INDIRECT(\"'3.09.1a (3)'!e28\"))","v":""},{"$f":"IF(ISERROR(INDIRECT(\"'3.09.1a (3)'!f28\"))=TRUE,\"\",INDIRECT(\"'3.09.1a (3)'!f28\"))","v":""},{"$f":"IF(ISERROR(INDIRECT(\"'3.09.1a (3)'!g28\"))=TRUE,\"\",INDIRECT(\"'3.09.1a (3)'!g28\"))","v":""},{"$f":"IF(ISERROR(INDIRECT(\"'3.09.1a (3)'!h28\"))=TRUE,\"\",INDIRECT(\"'3.09.1a (3)'!h28\"))","v":""},{"$f":"IF(ISERROR(INDIRECT(\"'3.09.1a (3)'!i28\"))=TRUE,\"\",INDIRECT(\"'3.09.1a (3)'!i28\"))","v":""},{"$f":"IF(ISERROR(INDIRECT(\"'3.09.1a (3)'!j28\"))=TRUE,\"\",INDIRECT(\"'3.09.1a (3)'!j28\"))","v":""},{"$f":"IF(ISERROR(INDIRECT(\"'3.09.1a (3)'!o28\"))=TRUE,\"\",INDIRECT(\"'3.09.1a (3)'!o28\"))","v":""},{"$f":"IF(ISERROR(INDIRECT(\"'3.09.1a (3)'!p28\"))=TRUE,\"\",INDIRECT(\"'3.09.1a (3)'!p28\"))","v":""},{"$f":"IF(ISERROR(INDIRECT(\"'3.09.1a (3)'!q28\"))=TRUE,\"\",INDIRECT(\"'3.09.1a (3)'!q28\"))","v":""},{"$f":"IF(ISERROR(INDIRECT(\"'3.09.1a (3)'!s28\"))=TRUE,\"\",INDIRECT(\"'3.09.1a (3)'!s28\"))","v":""},{"$f":"IF(ISERROR(INDIRECT(\"'3.09.1a (3)'!t28\"))=TRUE,\"\",INDIRECT(\"'3.09.1a (3)'!t28\"))","v":""},{"$f":"IF(ISERROR(INDIRECT(\"'3.09.1a (3)'!u28\"))=TRUE,\"\",INDIRECT(\"'3.09.1a (3)'!u28\"))","v":""},{"$f":"IF(ISERROR(INDIRECT(\"'3.09.1a (3)'!v28\"))=TRUE,\"\",INDIRECT(\"'3.09.1a (3)'!v28\"))","v":""},{"$f":"IF(ISERROR(INDIRECT(\"'3.09.1a (3)'!w28\"))=TRUE,\"\",INDIRECT(\"'3.09.1a (3)'!w28\"))","v":""},{"$f":"IF(ISERROR(INDIRECT(\"'3.09.1a (3)'!x28\"))=TRUE,\"\",INDIRECT(\"'3.09.1a (3)'!x28\"))","v":""},{"$f":"IF(ISERROR(INDIRECT(\"'3.09.1a (3)'!aa28\"))=TRUE,\"\",INDIRECT(\"'3.09.1a (3)'!aa28\"))","v":""},{"$f":"IF(ISERROR(INDIRECT(\"'3.09.1a (3)'!ad28\"))=TRUE,\"\",INDIRECT(\"'3.09.1a (3)'!ad28\"))","v":""},{"$f":"IF(ISERROR(INDIRECT(\"'3.09.1a (3)'!ah28\"))=TRUE,\"\",INDIRECT(\"'3.09.1a (3)'!ah28\"))","v":""},{"$f":"IF(ISERROR(INDIRECT(\"'3.09.1a (3)'!am28\"))=TRUE,\"\",INDIRECT(\"'3.09.1a (3)'!am28\"))","v":""}]
[0,"3.09.1a (3)",{"$f":"IF(ISERROR(INDIRECT(\"'3.09.1a (3)'!b29\"))=TRUE,\"\",INDIRECT(\"'3.09.1a (3)'!b29\"))","v":""},{"$f":"IF(ISERROR(INDIRECT(\"'3.09.1a (3)'!c29\"))=TRUE,\"\",INDIRECT(\"'3.09.1a (3)'!c29\"))","v":""},{"$f":"IF(ISERROR(INDIRECT(\"'3.09.1a (3)'!d29\"))=TRUE,\"\",INDIRECT(\"'3.09.1a (3)'!d29\"))","v":""},{"$f":"IF(ISERROR(INDIRECT(\"'3.09.1a (3)'!e29\"))=TRUE,\"\",INDIRECT(\"'3.09.1a (3)'!e29\"))","v":""},{"$f":"IF(ISERROR(INDIRECT(\"'3.09.1a (3)'!f29\"))=TRUE,\"\",INDIRECT(\"'3.09.1a (3)'!f29\"))","v":""},{"$f":"IF(ISERROR(INDIRECT(\"'3.09.1a (3)'!g29\"))=TRUE,\"\",INDIRECT(\"'3.09.1a (3)'!g29\"))","v":""},{"$f":"IF(ISERROR(INDIRECT(\"'3.09.1a (3)'!h29\"))=TRUE,\"\",INDIRECT(\"'3.09.1a (3)'!h29\"))","v":""},{"$f":"IF(ISERROR(INDIRECT(\"'3.09.1a (3)'!i29\"))=TRUE,\"\",INDIRECT(\"'3.09.1a (3)'!i29\"))","v":""},{"$f":"IF(ISERROR(INDIRECT(\"'3.09.1a (3)'!j29\"))=TRUE,\"\",INDIRECT(\"'3.09.1a (3)'!j29\"))","v":""},{"$f":"IF(ISERROR(INDIRECT(\"'3.09.1a (3)'!o29\"))=TRUE,\"\",INDIRECT(\"'3.09.1a (3)'!o29\"))","v":""},{"$f":"IF(ISERROR(INDIRECT(\"'3.09.1a (3)'!p29\"))=TRUE,\"\",INDIRECT(\"'3.09.1a (3)'!p29\"))","v":""},{"$f":"IF(ISERROR(INDIRECT(\"'3.09.1a (3)'!q29\"))=TRUE,\"\",INDIRECT(\"'3.09.1a (3)'!q29\"))","v":""},{"$f":"IF(ISERROR(INDIRECT(\"'3.09.1a (3)'!s29\"))=TRUE,\"\",INDIRECT(\"'3.09.1a (3)'!s29\"))","v":""},{"$f":"IF(ISERROR(INDIRECT(\"'3.09.1a (3)'!t29\"))=TRUE,\"\",INDIRECT(\"'3.09.1a (3)'!t29\"))","v":""},{"$f":"IF(ISERROR(INDIRECT(\"'3.09.1a (3)'!u29\"))=TRUE,\"\",INDIRECT(\"'3.09.1a (3)'!u29\"))","v":""},{"$f":"IF(ISERROR(INDIRECT(\"'3.09.1a (3)'!v29\"))=TRUE,\"\",INDIRECT(\"'3.09.1a (3)'!v29\"))","v":""},{"$f":"IF(ISERROR(INDIRECT(\"'3.09.1a (3)'!w29\"))=TRUE,\"\",INDIRECT(\"'3.09.1a (3)'!w29\"))","v":""},{"$f":"IF(ISERROR(INDIRECT(\"'3.09.1a (3)'!x29\"))=TRUE,\"\",INDIRECT(\"'3.09.1a (3)'!x29\"))","v":""},{"$f":"IF(ISERROR(INDIRECT(\"'3.09.1a (3)'!aa29\"))=TRUE,\"\",INDIRECT(\"'3.09.1a (3)'!aa29\"))","v":""},{"$f":"IF(ISERROR(INDIRECT(\"'3.09.1a (3)'!ad29\"))=TRUE,\"\",INDIRECT(\"'3.09.1a (3)'!ad29\"))","v":""},{"$f":"IF(ISERROR(INDIRECT(\"'3.09.1a (3)'!ah29\"))=TRUE,\"\",INDIRECT(\"'3.09.1a (3)'!ah29\"))","v":""},{"$f":"IF(ISERROR(INDIRECT(\"'3.09.1a (3)'!am29\"))=TRUE,\"\",INDIRECT(\"'3.09.1a (3)'!am29\"))","v":""}]
[0,"3.09.1a (3)",{"$f":"IF(ISERROR(INDIRECT(\"'3.09.1a (3)'!b30\"))=TRUE,\"\",INDIRECT(\"'3.09.1a (3)'!b30\"))","v":""},{"$f":"IF(ISERROR(INDIRECT(\"'3.09.1a (3)'!c30\"))=TRUE,\"\",INDIRECT(\"'3.09.1a (3)'!c30\"))","v":""},{"$f":"IF(ISERROR(INDIRECT(\"'3.09.1a (3)'!d30\"))=TRUE,\"\",INDIRECT(\"'3.09.1a (3)'!d30\"))","v":""},{"$f":"IF(ISERROR(INDIRECT(\"'3.09.1a (3)'!e30\"))=TRUE,\"\",INDIRECT(\"'3.09.1a (3)'!e30\"))","v":""},{"$f":"IF(ISERROR(INDIRECT(\"'3.09.1a (3)'!f30\"))=TRUE,\"\",INDIRECT(\"'3.09.1a (3)'!f30\"))","v":""},{"$f":"IF(ISERROR(INDIRECT(\"'3.09.1a (3)'!g30\"))=TRUE,\"\",INDIRECT(\"'3.09.1a (3)'!g30\"))","v":""},{"$f":"IF(ISERROR(INDIRECT(\"'3.09.1a (3)'!h30\"))=TRUE,\"\",INDIRECT(\"'3.09.1a (3)'!h30\"))","v":""},{"$f":"IF(ISERROR(INDIRECT(\"'3.09.1a (3)'!i30\"))=TRUE,\"\",INDIRECT(\"'3.09.1a (3)'!i30\"))","v":""},{"$f":"IF(ISERROR(INDIRECT(\"'3.09.1a (3)'!j30\"))=TRUE,\"\",INDIRECT(\"'3.09.1a (3)'!j30\"))","v":""},{"$f":"IF(ISERROR(INDIRECT(\"'3.09.1a (3)'!o30\"))=TRUE,\"\",INDIRECT(\"'3.09.1a (3)'!o30\"))","v":""},{"$f":"IF(ISERROR(INDIRECT(\"'3.09.1a (3)'!p30\"))=TRUE,\"\",INDIRECT(\"'3.09.1a (3)'!p30\"))","v":""},{"$f":"IF(ISERROR(INDIRECT(\"'3.09.1a (3)'!q30\"))=TRUE,\"\",INDIRECT(\"'3.09.1a (3)'!q30\"))","v":""},{"$f":"IF(ISERROR(INDIRECT(\"'3.09.1a (3)'!s30\"))=TRUE,\"\",INDIRECT(\"'3.09.1a (3)'!s30\"))","v":""},{"$f":"IF(ISERROR(INDIRECT(\"'3.09.1a (3)'!t30\"))=TRUE,\"\",INDIRECT(\"'3.09.1a (3)'!t30\"))","v":""},{"$f":"IF(ISERROR(INDIRECT(\"'3.09.1a (3)'!u30\"))=TRUE,\"\",INDIRECT(\"'3.09.1a (3)'!u30\"))","v":""},{"$f":"IF(ISERROR(INDIRECT(\"'3.09.1a (3)'!v30\"))=TRUE,\"\",INDIRECT(\"'3.09.1a (3)'!v30\"))","v":""},{"$f":"IF(ISERROR(INDIRECT(\"'3.09.1a (3)'!w30\"))=TRUE,\"\",INDIRECT(\"'3.09.1a (3)'!w30\"))","v":""},{"$f":"IF(ISERROR(INDIRECT(\"'3.09.1a (3)'!x30\"))=TRUE,\"\",INDIRECT(\"'3.09.1a (3)'!x30\"))","v":""},{"$f":"IF(ISERROR(INDIRECT(\"'3.09.1a (3)'!aa30\"))=TRUE,\"\",INDIRECT(\"'3.09.1a (3)'!aa30\"))","v":""},{"$f":"IF(ISERROR(INDIRECT(\"'3.09.1a (3)'!ad30\"))=TRUE,\"\",INDIRECT(\"'3.09.1a (3)'!ad30\"))","v":""},{"$f":"IF(ISERROR(INDIRECT(\"'3.09.1a (3)'!ah30\"))=TRUE,\"\",INDIRECT(\"'3.09.1a (3)'!ah30\"))","v":""},{"$f":"IF(ISERROR(INDIRECT(\"'3.09.1a (3)'!am30\"))=TRUE,\"\",INDIRECT(\"'3.09.1a (3)'!am30\"))","v":""}]
[0,"3.09.1a (3)",{"$f":"IF(ISERROR(INDIRECT(\"'3.09.1a (3)'!b31\"))=TRUE,\"\",INDIRECT(\"'3.09.1a (3)'!b31\"))","v":""},{"$f":"IF(ISERROR(INDIRECT(\"'3.09.1a (3)'!c31\"))=TRUE,\"\",INDIRECT(\"'3.09.1a (3)'!c31\"))","v":""},{"$f":"IF(ISERROR(INDIRECT(\"'3.09.1a (3)'!d31\"))=TRUE,\"\",INDIRECT(\"'3.09.1a (3)'!d31\"))","v":""},{"$f":"IF(ISERROR(INDIRECT(\"'3.09.1a (3)'!e31\"))=TRUE,\"\",INDIRECT(\"'3.09.1a (3)'!e31\"))","v":""},{"$f":"IF(ISERROR(INDIRECT(\"'3.09.1a (3)'!f31\"))=TRUE,\"\",INDIRECT(\"'3.09.1a (3)'!f31\"))","v":""},{"$f":"IF(ISERROR(INDIRECT(\"'3.09.1a (3)'!g31\"))=TRUE,\"\",INDIRECT(\"'3.09.1a (3)'!g31\"))","v":""},{"$f":"IF(ISERROR(INDIRECT(\"'3.09.1a (3)'!h31\"))=TRUE,\"\",INDIRECT(\"'3.09.1a (3)'!h31\"))","v":""},{"$f":"IF(ISERROR(INDIRECT(\"'3.09.1a (3)'!i31\"))=TRUE,\"\",INDIRECT(\"'3.09.1a (3)'!i31\"))","v":""},{"$f":"IF(ISERROR(INDIRECT(\"'3.09.1a (3)'!j31\"))=TRUE,\"\",INDIRECT(\"'3.09.1a (3)'!j31\"))","v":""},{"$f":"IF(ISERROR(INDIRECT(\"'3.09.1a (3)'!o31\"))=TRUE,\"\",INDIRECT(\"'3.09.1a (3)'!o31\"))","v":""},{"$f":"IF(ISERROR(INDIRECT(\"'3.09.1a (3)'!p31\"))=TRUE,\"\",INDIRECT(\"'3.09.1a (3)'!p31\"))","v":""},{"$f":"IF(ISERROR(INDIRECT(\"'3.09.1a (3)'!q31\"))=TRUE,\"\",INDIRECT(\"'3.09.1a (3)'!q31\"))","v":""},{"$f":"IF(ISERROR(INDIRECT(\"'3.09.1a (3)'!s31\"))=TRUE,\"\",INDIRECT(\"'3.09.1a (3)'!s31\"))","v":""},{"$f":"IF(ISERROR(INDIRECT(\"'3.09.1a (3)'!t31\"))=TRUE,\"\",INDIRECT(\"'3.09.1a (3)'!t31\"))","v":""},{"$f":"IF(ISERROR(INDIRECT(\"'3.09.1a (3)'!u31\"))=TRUE,\"\",INDIRECT(\"'3.09.1a (3)'!u31\"))","v":""},{"$f":"IF(ISERROR(INDIRECT(\"'3.09.1a (3)'!v31\"))=TRUE,\"\",INDIRECT(\"'3.09.1a (3)'!v31\"))","v":""},{"$f":"IF(ISERROR(INDIRECT(\"'3.09.1a (3)'!w31\"))=TRUE,\"\",INDIRECT(\"'3.09.1a (3)'!w31\"))","v":""},{"$f":"IF(ISERROR(INDIRECT(\"'3.09.1a (3)'!x31\"))=TRUE,\"\",INDIRECT(\"'3.09.1a (3)'!x31\"))","v":""},{"$f":"IF(ISERROR(INDIRECT(\"'3.09.1a (3)'!aa31\"))=TRUE,\"\",INDIRECT(\"'3.09.1a (3)'!aa31\"))","v":""},{"$f":"IF(ISERROR(INDIRECT(\"'3.09.1a (3)'!ad31\"))=TRUE,\"\",INDIRECT(\"'3.09.1a (3)'!ad31\"))","v":""},{"$f":"IF(ISERROR(INDIRECT(\"'3.09.1a (3)'!ah31\"))=TRUE,\"\",INDIRECT(\"'3.09.1a (3)'!ah31\"))","v":""},{"$f":"IF(ISERROR(INDIRECT(\"'3.09.1a (3)'!am31\"))=TRUE,\"\",INDIRECT(\"'3.09.1a (3)'!am31\"))","v":""}]
[0,"3.09.1a (3)",{"$f":"IF(ISERROR(INDIRECT(\"'3.09.1a (3)'!b32\"))=TRUE,\"\",INDIRECT(\"'3.09.1a (3)'!b32\"))","v":""},{"$f":"IF(ISERROR(INDIRECT(\"'3.09.1a (3)'!c32\"))=TRUE,\"\",INDIRECT(\"'3.09.1a (3)'!c32\"))","v":""},{"$f":"IF(ISERROR(INDIRECT(\"'3.09.1a (3)'!d32\"))=TRUE,\"\",INDIRECT(\"'3.09.1a (3)'!d32\"))","v":""},{"$f":"IF(ISERROR(INDIRECT(\"'3.09.1a (3)'!e32\"))=TRUE,\"\",INDIRECT(\"'3.09.1a (3)'!e32\"))","v":""},{"$f":"IF(ISERROR(INDIRECT(\"'3.09.1a (3)'!f32\"))=TRUE,\"\",INDIRECT(\"'3.09.1a (3)'!f32\"))","v":""},{"$f":"IF(ISERROR(INDIRECT(\"'3.09.1a (3)'!g32\"))=TRUE,\"\",INDIRECT(\"'3.09.1a (3)'!g32\"))","v":""},{"$f":"IF(ISERROR(INDIRECT(\"'3.09.1a (3)'!h32\"))=TRUE,\"\",INDIRECT(\"'3.09.1a (3)'!h32\"))","v":""},{"$f":"IF(ISERROR(INDIRECT(\"'3.09.1a (3)'!i32\"))=TRUE,\"\",INDIRECT(\"'3.09.1a (3)'!i32\"))","v":""},{"$f":"IF(ISERROR(INDIRECT(\"'3.09.1a (3)'!j32\"))=TRUE,\"\",INDIRECT(\"'3.09.1a (3)'!j32\"))","v":""},{"$f":"IF(ISERROR(INDIRECT(\"'3.09.1a (3)'!o32\"))=TRUE,\"\",INDIRECT(\"'3.09.1a (3)'!o32\"))","v":""},{"$f":"IF(ISERROR(INDIRECT(\"'3.09.1a (3)'!p32\"))=TRUE,\"\",INDIRECT(\"'3.09.1a (3)'!p32\"))","v":""},{"$f":"IF(ISERROR(INDIRECT(\"'3.09.1a (3)'!q32\"))=TRUE,\"\",INDIRECT(\"'3.09.1a (3)'!q32\"))","v":""},{"$f":"IF(ISERROR(INDIRECT(\"'3.09.1a (3)'!s32\"))=TRUE,\"\",INDIRECT(\"'3.09.1a (3)'!s32\"))","v":""},{"$f":"IF(ISERROR(INDIRECT(\"'3.09.1a (3)'!t32\"))=TRUE,\"\",INDIRECT(\"'3.09.1a (3)'!t32\"))","v":""},{"$f":"IF(ISERROR(INDIRECT(\"'3.09.1a (3)'!u32\"))=TRUE,\"\",INDIRECT(\"'3.09.1a (3)'!u32\"))","v":""},{"$f":"IF(ISERROR(INDIRECT(\"'3.09.1a (3)'!v32\"))=TRUE,\"\",INDIRECT(\"'3.09.1a (3)'!v32\"))","v":""},{"$f":"IF(ISERROR(INDIRECT(\"'3.09.1a (3)'!w32\"))=TRUE,\"\",INDIRECT(\"'3.09.1a (3)'!w32\"))","v":""},{"$f":"IF(ISERROR(INDIRECT(\"'3.09.1a (3)'!x32\"))=TRUE,\"\",INDIRECT(\"'3.09.1a (3)'!x32\"))","v":""},{"$f":"IF(ISERROR(INDIRECT(\"'3.09.1a (3)'!aa32\"))=TRUE,\"\",INDIRECT(\"'3.09.1a (3)'!aa32\"))","v":""},{"$f":"IF(ISERROR(INDIRECT(\"'3.09.1a (3)'!ad32\"))=TRUE,\"\",INDIRECT(\"'3.09.1a (3)'!ad32\"))","v":""},{"$f":"IF(ISERROR(INDIRECT(\"'3.09.1a (3)'!ah32\"))=TRUE,\"\",INDIRECT(\"'3.09.1a (3)'!ah32\"))","v":""},{"$f":"IF(ISERROR(INDIRECT(\"'3.09.1a (3)'!am32\"))=TRUE,\"\",INDIRECT(\"'3.09.1a (3)'!am32\"))","v":""}]
[0,"3.09.1a (3)",{"$f":"IF(ISERROR(INDIRECT(\"'3.09.1a (3)'!b33\"))=TRUE,\"\",INDIRECT(\"'3.09.1a (3)'!b33\"))","v":""},{"$f":"IF(ISERROR(INDIRECT(\"'3.09.1a (3)'!c33\"))=TRUE,\"\",INDIRECT(\"'3.09.1a (3)'!c33\"))","v":""},{"$f":"IF(ISERROR(INDIRECT(\"'3.09.1a (3)'!d33\"))=TRUE,\"\",INDIRECT(\"'3.09.1a (3)'!d33\"))","v":""},{"$f":"IF(ISERROR(INDIRECT(\"'3.09.1a (3)'!e33\"))=TRUE,\"\",INDIRECT(\"'3.09.1a (3)'!e33\"))","v":""},{"$f":"IF(ISERROR(INDIRECT(\"'3.09.1a (3)'!f33\"))=TRUE,\"\",INDIRECT(\"'3.09.1a (3)'!f33\"))","v":""},{"$f":"IF(ISERROR(INDIRECT(\"'3.09.1a (3)'!g33\"))=TRUE,\"\",INDIRECT(\"'3.09.1a (3)'!g33\"))","v":""},{"$f":"IF(ISERROR(INDIRECT(\"'3.09.1a (3)'!h33\"))=TRUE,\"\",INDIRECT(\"'3.09.1a (3)'!h33\"))","v":""},{"$f":"IF(ISERROR(INDIRECT(\"'3.09.1a (3)'!i33\"))=TRUE,\"\",INDIRECT(\"'3.09.1a (3)'!i33\"))","v":""},{"$f":"IF(ISERROR(INDIRECT(\"'3.09.1a (3)'!j33\"))=TRUE,\"\",INDIRECT(\"'3.09.1a (3)'!j33\"))","v":""},{"$f":"IF(ISERROR(INDIRECT(\"'3.09.1a (3)'!o33\"))=TRUE,\"\",INDIRECT(\"'3.09.1a (3)'!o33\"))","v":""},{"$f":"IF(ISERROR(INDIRECT(\"'3.09.1a (3)'!p33\"))=TRUE,\"\",INDIRECT(\"'3.09.1a (3)'!p33\"))","v":""},{"$f":"IF(ISERROR(INDIRECT(\"'3.09.1a (3)'!q33\"))=TRUE,\"\",INDIRECT(\"'3.09.1a (3)'!q33\"))","v":""},{"$f":"IF(ISERROR(INDIRECT(\"'3.09.1a (3)'!s33\"))=TRUE,\"\",INDIRECT(\"'3.09.1a (3)'!s33\"))","v":""},{"$f":"IF(ISERROR(INDIRECT(\"'3.09.1a (3)'!t33\"))=TRUE,\"\",INDIRECT(\"'3.09.1a (3)'!t33\"))","v":""},{"$f":"IF(ISERROR(INDIRECT(\"'3.09.1a (3)'!u33\"))=TRUE,\"\",INDIRECT(\"'3.09.1a (3)'!u33\"))","v":""},{"$f":"IF(ISERROR(INDIRECT(\"'3.09.1a (3)'!v33\"))=TRUE,\"\",INDIRECT(\"'3.09.1a (3)'!v33\"))","v":""},{"$f":"IF(ISERROR(INDIRECT(\"'3.09.1a (3)'!w33\"))=TRUE,\"\",INDIRECT(\"'3.09.1a (3)'!w33\"))","v":""},{"$f":"IF(ISERROR(INDIRECT(\"'3.09.1a (3)'!x33\"))=TRUE,\"\",INDIRECT(\"'3.09.1a (3)'!x33\"))","v":""},{"$f":"IF(ISERROR(INDIRECT(\"'3.09.1a (3)'!aa33\"))=TRUE,\"\",INDIRECT(\"'3.09.1a (3)'!aa33\"))","v":""},{"$f":"IF(ISERROR(INDIRECT(\"'3.09.1a (3)'!ad33\"))=TRUE,\"\",INDIRECT(\"'3.09.1a (3)'!ad33\"))","v":""},{"$f":"IF(ISERROR(INDIRECT(\"'3.09.1a (3)'!ah33\"))=TRUE,\"\",INDIRECT(\"'3.09.1a (3)'!ah33\"))","v":""},{"$f":"IF(ISERROR(INDIRECT(\"'3.09.1a (3)'!am33\"))=TRUE,\"\",INDIRECT(\"'3.09.1a (3)'!am33\"))","v":""}]
[0,"3.09.1a (3)",{"$f":"IF(ISERROR(INDIRECT(\"'3.09.1a (3)'!b34\"))=TRUE,\"\",INDIRECT(\"'3.09.1a (3)'!b34\"))","v":""},{"$f":"IF(ISERROR(INDIRECT(\"'3.09.1a (3)'!c34\"))=TRUE,\"\",INDIRECT(\"'3.09.1a (3)'!c34\"))","v":""},{"$f":"IF(ISERROR(INDIRECT(\"'3.09.1a (3)'!d34\"))=TRUE,\"\",INDIRECT(\"'3.09.1a (3)'!d34\"))","v":""},{"$f":"IF(ISERROR(INDIRECT(\"'3.09.1a (3)'!e34\"))=TRUE,\"\",INDIRECT(\"'3.09.1a (3)'!e34\"))","v":""},{"$f":"IF(ISERROR(INDIRECT(\"'3.09.1a (3)'!f34\"))=TRUE,\"\",INDIRECT(\"'3.09.1a (3)'!f34\"))","v":""},{"$f":"IF(ISERROR(INDIRECT(\"'3.09.1a (3)'!g34\"))=TRUE,\"\",INDIRECT(\"'3.09.1a (3)'!g34\"))","v":""},{"$f":"IF(ISERROR(INDIRECT(\"'3.09.1a (3)'!h34\"))=TRUE,\"\",INDIRECT(\"'3.09.1a (3)'!h34\"))","v":""},{"$f":"IF(ISERROR(INDIRECT(\"'3.09.1a (3)'!i34\"))=TRUE,\"\",INDIRECT(\"'3.09.1a (3)'!i34\"))","v":""},{"$f":"IF(ISERROR(INDIRECT(\"'3.09.1a (3)'!j34\"))=TRUE,\"\",INDIRECT(\"'3.09.1a (3)'!j34\"))","v":""},{"$f":"IF(ISERROR(INDIRECT(\"'3.09.1a (3)'!o34\"))=TRUE,\"\",INDIRECT(\"'3.09.1a (3)'!o34\"))","v":""},{"$f":"IF(ISERROR(INDIRECT(\"'3.09.1a (3)'!p34\"))=TRUE,\"\",INDIRECT(\"'3.09.1a (3)'!p34\"))","v":""},{"$f":"IF(ISERROR(INDIRECT(\"'3.09.1a (3)'!q34\"))=TRUE,\"\",INDIRECT(\"'3.09.1a (3)'!q34\"))","v":""},{"$f":"IF(ISERROR(INDIRECT(\"'3.09.1a (3)'!s34\"))=TRUE,\"\",INDIRECT(\"'3.09.1a (3)'!s34\"))","v":""},{"$f":"IF(ISERROR(INDIRECT(\"'3.09.1a (3)'!t34\"))=TRUE,\"\",INDIRECT(\"'3.09.1a (3)'!t34\"))","v":""},{"$f":"IF(ISERROR(INDIRECT(\"'3.09.1a (3)'!u34\"))=TRUE,\"\",INDIRECT(\"'3.09.1a (3)'!u34\"))","v":""},{"$f":"IF(ISERROR(INDIRECT(\"'3.09.1a (3)'!v34\"))=TRUE,\"\",INDIRECT(\"'3.09.1a (3)'!v34\"))","v":""},{"$f":"IF(ISERROR(INDIRECT(\"'3.09.1a (3)'!w34\"))=TRUE,\"\",INDIRECT(\"'3.09.1a (3)'!w34\"))","v":""},{"$f":"IF(ISERROR(INDIRECT(\"'3.09.1a (3)'!x34\"))=TRUE,\"\",INDIRECT(\"'3.09.1a (3)'!x34\"))","v":""},{"$f":"IF(ISERROR(INDIRECT(\"'3.09.1a (3)'!aa34\"))=TRUE,\"\",INDIRECT(\"'3.09.1a (3)'!aa34\"))","v":""},{"$f":"IF(ISERROR(INDIRECT(\"'3.09.1a (3)'!ad34\"))=TRUE,\"\",INDIRECT(\"'3.09.1a (3)'!ad34\"))","v":""},{"$f":"IF(ISERROR(INDIRECT(\"'3.09.1a (3)'!ah34\"))=TRUE,\"\",INDIRECT(\"'3.09.1a (3)'!ah34\"))","v":""},{"$f":"IF(ISERROR(INDIRECT(\"'3.09.1a (3)'!am34\"))=TRUE,\"\",INDIRECT(\"'3.09.1a (3)'!am34\"))","v":""}]
[0,"3.09.1a (3)",{"$f":"IF(ISERROR(INDIRECT(\"'3.09.1a (3)'!b35\"))=TRUE,\"\",INDIRECT(\"'3.09.1a (3)'!b35\"))","v":""},{"$f":"IF(ISERROR(INDIRECT(\"'3.09.1a (3)'!c35\"))=TRUE,\"\",INDIRECT(\"'3.09.1a (3)'!c35\"))","v":""},{"$f":"IF(ISERROR(INDIRECT(\"'3.09.1a (3)'!d35\"))=TRUE,\"\",INDIRECT(\"'3.09.1a (3)'!d35\"))","v":""},{"$f":"IF(ISERROR(INDIRECT(\"'3.09.1a (3)'!e35\"))=TRUE,\"\",INDIRECT(\"'3.09.1a (3)'!e35\"))","v":""},{"$f":"IF(ISERROR(INDIRECT(\"'3.09.1a (3)'!f35\"))=TRUE,\"\",INDIRECT(\"'3.09.1a (3)'!f35\"))","v":""},{"$f":"IF(ISERROR(INDIRECT(\"'3.09.1a (3)'!g35\"))=TRUE,\"\",INDIRECT(\"'3.09.1a (3)'!g35\"))","v":""},{"$f":"IF(ISERROR(INDIRECT(\"'3.09.1a (3)'!h35\"))=TRUE,\"\",INDIRECT(\"'3.09.1a (3)'!h35\"))","v":""},{"$f":"IF(ISERROR(INDIRECT(\"'3.09.1a (3)'!i35\"))=TRUE,\"\",INDIRECT(\"'3.09.1a (3)'!i35\"))","v":""},{"$f":"IF(ISERROR(INDIRECT(\"'3.09.1a (3)'!j35\"))=TRUE,\"\",INDIRECT(\"'3.09.1a (3)'!j35\"))","v":""},{"$f":"IF(ISERROR(INDIRECT(\"'3.09.1a (3)'!o35\"))=TRUE,\"\",INDIRECT(\"'3.09.1a (3)'!o35\"))","v":""},{"$f":"IF(ISERROR(INDIRECT(\"'3.09.1a (3)'!p35\"))=TRUE,\"\",INDIRECT(\"'3.09.1a (3)'!p35\"))","v":""},{"$f":"IF(ISERROR(INDIRECT(\"'3.09.1a (3)'!q35\"))=TRUE,\"\",INDIRECT(\"'3.09.1a (3)'!q35\"))","v":""},{"$f":"IF(ISERROR(INDIRECT(\"'3.09.1a (3)'!s35\"))=TRUE,\"\",INDIRECT(\"'3.09.1a (3)'!s35\"))","v":""},{"$f":"IF(ISERROR(INDIRECT(\"'3.09.1a (3)'!t35\"))=TRUE,\"\",INDIRECT(\"'3.09.1a (3)'!t35\"))","v":""},{"$f":"IF(ISERROR(INDIRECT(\"'3.09.1a (3)'!u35\"))=TRUE,\"\",INDIRECT(\"'3.09.1a (3)'!u35\"))","v":""},{"$f":"IF(ISERROR(INDIRECT(\"'3.09.1a (3)'!v35\"))=TRUE,\"\",INDIRECT(\"'3.09.1a (3)'!v35\"))","v":""},{"$f":"IF(ISERROR(INDIRECT(\"'3.09.1a (3)'!w35\"))=TRUE,\"\",INDIRECT(\"'3.09.1a (3)'!w35\"))","v":""},{"$f":"IF(ISERROR(INDIRECT(\"'3.09.1a (3)'!x35\"))=TRUE,\"\",INDIRECT(\"'3.09.1a (3)'!x35\"))","v":""},{"$f":"IF(ISERROR(INDIRECT(\"'3.09.1a (3)'!aa35\"))=TRUE,\"\",INDIRECT(\"'3.09.1a (3)'!aa35\"))","v":""},{"$f":"IF(ISERROR(INDIRECT(\"'3.09.1a (3)'!ad35\"))=TRUE,\"\",INDIRECT(\"'3.09.1a (3)'!ad35\"))","v":""},{"$f":"IF(ISERROR(INDIRECT(\"'3.09.1a (3)'!ah35\"))=TRUE,\"\",INDIRECT(\"'3.09.1a (3)'!ah35\"))","v":""},{"$f":"IF(ISERROR(INDIRECT(\"'3.09.1a (3)'!am35\"))=TRUE,\"\",INDIRECT(\"'3.09.1a (3)'!am35\"))","v":""}]
[0,"3.09.1a (3)",{"$f":"IF(ISERROR(INDIRECT(\"'3.09.1a (3)'!b36\"))=TRUE,\"\",INDIRECT(\"'3.09.1a (3)'!b36\"))","v":""},{"$f":"IF(ISERROR(INDIRECT(\"'3.09.1a (3)'!c36\"))=TRUE,\"\",INDIRECT(\"'3.09.1a (3)'!c36\"))","v":""},{"$f":"IF(ISERROR(INDIRECT(\"'3.09.1a (3)'!d36\"))=TRUE,\"\",INDIRECT(\"'3.09.1a (3)'!d36\"))","v":""},{"$f":"IF(ISERROR(INDIRECT(\"'3.09.1a (3)'!e36\"))=TRUE,\"\",INDIRECT(\"'3.09.1a (3)'!e36\"))","v":""},{"$f":"IF(ISERROR(INDIRECT(\"'3.09.1a (3)'!f36\"))=TRUE,\"\",INDIRECT(\"'3.09.1a (3)'!f36\"))","v":""},{"$f":"IF(ISERROR(INDIRECT(\"'3.09.1a (3)'!g36\"))=TRUE,\"\",INDIRECT(\"'3.09.1a (3)'!g36\"))","v":""},{"$f":"IF(ISERROR(INDIRECT(\"'3.09.1a (3)'!h36\"))=TRUE,\"\",INDIRECT(\"'3.09.1a (3)'!h36\"))","v":""},{"$f":"IF(ISERROR(INDIRECT(\"'3.09.1a (3)'!i36\"))=TRUE,\"\",INDIRECT(\"'3.09.1a (3)'!i36\"))","v":""},{"$f":"IF(ISERROR(INDIRECT(\"'3.09.1a (3)'!j36\"))=TRUE,\"\",INDIRECT(\"'3.09.1a (3)'!j36\"))","v":""},{"$f":"IF(ISERROR(INDIRECT(\"'3.09.1a (3)'!o36\"))=TRUE,\"\",INDIRECT(\"'3.09.1a (3)'!o36\"))","v":""},{"$f":"IF(ISERROR(INDIRECT(\"'3.09.1a (3)'!p36\"))=TRUE,\"\",INDIRECT(\"'3.09.1a (3)'!p36\"))","v":""},{"$f":"IF(ISERROR(INDIRECT(\"'3.09.1a (3)'!q36\"))=TRUE,\"\",INDIRECT(\"'3.09.1a (3)'!q36\"))","v":""},{"$f":"IF(ISERROR(INDIRECT(\"'3.09.1a (3)'!s36\"))=TRUE,\"\",INDIRECT(\"'3.09.1a (3)'!s36\"))","v":""},{"$f":"IF(ISERROR(INDIRECT(\"'3.09.1a (3)'!t36\"))=TRUE,\"\",INDIRECT(\"'3.09.1a (3)'!t36\"))","v":""},{"$f":"IF(ISERROR(INDIRECT(\"'3.09.1a (3)'!u36\"))=TRUE,\"\",INDIRECT(\"'3.09.1a (3)'!u36\"))","v":""},{"$f":"IF(ISERROR(INDIRECT(\"'3.09.1a (3)'!v36\"))=TRUE,\"\",INDIRECT(\"'3.09.1a (3)'!v36\"))","v":""},{"$f":"IF(ISERROR(INDIRECT(\"'3.09.1a (3)'!w36\"))=TRUE,\"\",INDIRECT(\"'3.09.1a (3)'!w36\"))","v":""},{"$f":"IF(ISERROR(INDIRECT(\"'3.09.1a (3)'!x36\"))=TRUE,\"\",INDIRECT(\"'3.09.1a (3)'!x36\"))","v":""},{"$f":"IF(ISERROR(INDIRECT(\"'3.09.1a (3)'!aa36\"))=TRUE,\"\",INDIRECT(\"'3.09.1a (3)'!aa36\"))","v":""},{"$f":"IF(ISERROR(INDIRECT(\"'3.09.1a (3)'!ad36\"))=TRUE,\"\",INDIRECT(\"'3.09.1a (3)'!ad36\"))","v":""},{"$f":"IF(ISERROR(INDIRECT(\"'3.09.1a (3)'!ah36\"))=TRUE,\"\",INDIRECT(\"'3.09.1a (3)'!ah36\"))","v":""},{"$f":"IF(ISERROR(INDIRECT(\"'3.09.1a (3)'!am36\"))=TRUE,\"\",INDIRECT(\"'3.09.1a (3)'!am36\"))","v":""}]
[0,"3.09.1a (3)",{"$f":"IF(ISERROR(INDIRECT(\"'3.09.1a (3)'!b37\"))=TRUE,\"\",INDIRECT(\"'3.09.1a (3)'!b37\"))","v":""},{"$f":"IF(ISERROR(INDIRECT(\"'3.09.1a (3)'!c37\"))=TRUE,\"\",INDIRECT(\"'3.09.1a (3)'!c37\"))","v":""},{"$f":"IF(ISERROR(INDIRECT(\"'3.09.1a (3)'!d37\"))=TRUE,\"\",INDIRECT(\"'3.09.1a (3)'!d37\"))","v":""},{"$f":"IF(ISERROR(INDIRECT(\"'3.09.1a (3)'!e37\"))=TRUE,\"\",INDIRECT(\"'3.09.1a (3)'!e37\"))","v":""},{"$f":"IF(ISERROR(INDIRECT(\"'3.09.1a (3)'!f37\"))=TRUE,\"\",INDIRECT(\"'3.09.1a (3)'!f37\"))","v":""},{"$f":"IF(ISERROR(INDIRECT(\"'3.09.1a (3)'!g37\"))=TRUE,\"\",INDIRECT(\"'3.09.1a (3)'!g37\"))","v":""},{"$f":"IF(ISERROR(INDIRECT(\"'3.09.1a (3)'!h37\"))=TRUE,\"\",INDIRECT(\"'3.09.1a (3)'!h37\"))","v":""},{"$f":"IF(ISERROR(INDIRECT(\"'3.09.1a (3)'!i37\"))=TRUE,\"\",INDIRECT(\"'3.09.1a (3)'!i37\"))","v":""},{"$f":"IF(ISERROR(INDIRECT(\"'3.09.1a (3)'!j37\"))=TRUE,\"\",INDIRECT(\"'3.09.1a (3)'!j37\"))","v":""},{"$f":"IF(ISERROR(INDIRECT(\"'3.09.1a (3)'!o37\"))=TRUE,\"\",INDIRECT(\"'3.09.1a (3)'!o37\"))","v":""},{"$f":"IF(ISERROR(INDIRECT(\"'3.09.1a (3)'!p37\"))=TRUE,\"\",INDIRECT(\"'3.09.1a (3)'!p37\"))","v":""},{"$f":"IF(ISERROR(INDIRECT(\"'3.09.1a (3)'!q37\"))=TRUE,\"\",INDIRECT(\"'3.09.1a (3)'!q37\"))","v":""},{"$f":"IF(ISERROR(INDIRECT(\"'3.09.1a (3)'!s37\"))=TRUE,\"\",INDIRECT(\"'3.09.1a (3)'!s37\"))","v":""},{"$f":"IF(ISERROR(INDIRECT(\"'3.09.1a (3)'!t37\"))=TRUE,\"\",INDIRECT(\"'3.09.1a (3)'!t37\"))","v":""},{"$f":"IF(ISERROR(INDIRECT(\"'3.09.1a (3)'!u37\"))=TRUE,\"\",INDIRECT(\"'3.09.1a (3)'!u37\"))","v":""},{"$f":"IF(ISERROR(INDIRECT(\"'3.09.1a (3)'!v37\"))=TRUE,\"\",INDIRECT(\"'3.09.1a (3)'!v37\"))","v":""},{"$f":"IF(ISERROR(INDIRECT(\"'3.09.1a (3)'!w37\"))=TRUE,\"\",INDIRECT(\"'3.09.1a (3)'!w37\"))","v":""},{"$f":"IF(ISERROR(INDIRECT(\"'3.09.1a (3)'!x37\"))=TRUE,\"\",INDIRECT(\"'3.09.1a (3)'!x37\"))","v":""},{"$f":"IF(ISERROR(INDIRECT(\"'3.09.1a (3)'!aa37\"))=TRUE,\"\",INDIRECT(\"'3.09.1a (3)'!aa37\"))","v":""},{"$f":"IF(ISERROR(INDIRECT(\"'3.09.1a (3)'!ad37\"))=TRUE,\"\",INDIRECT(\"'3.09.1a (3)'!ad37\"))","v":""},{"$f":"IF(ISERROR(INDIRECT(\"'3.09.1a (3)'!ah37\"))=TRUE,\"\",INDIRECT(\"'3.09.1a (3)'!ah37\"))","v":""},{"$f":"IF(ISERROR(INDIRECT(\"'3.09.1a (3)'!am37\"))=TRUE,\"\",INDIRECT(\"'3.09.1a (3)'!am37\"))","v":""}]
[0,"3.09.1a (3)",{"$f":"IF(ISERROR(INDIRECT(\"'3.09.1a (3)'!b38\"))=TRUE,\"\",INDIRECT(\"'3.09.1a (3)'!b38\"))","v":""},{"$f":"IF(ISERROR(INDIRECT(\"'3.09.1a (3)'!c38\"))=TRUE,\"\",INDIRECT(\"'3.09.1a (3)'!c38\"))","v":""},{"$f":"IF(ISERROR(INDIRECT(\"'3.09.1a (3)'!d38\"))=TRUE,\"\",INDIRECT(\"'3.09.1a (3)'!d38\"))","v":""},{"$f":"IF(ISERROR(INDIRECT(\"'3.09.1a (3)'!e38\"))=TRUE,\"\",INDIRECT(\"'3.09.1a (3)'!e38\"))","v":""},{"$f":"IF(ISERROR(INDIRECT(\"'3.09.1a (3)'!f38\"))=TRUE,\"\",INDIRECT(\"'3.09.1a (3)'!f38\"))","v":""},{"$f":"IF(ISERROR(INDIRECT(\"'3.09.1a (3)'!g38\"))=TRUE,\"\",INDIRECT(\"'3.09.1a (3)'!g38\"))","v":""},{"$f":"IF(ISERROR(INDIRECT(\"'3.09.1a (3)'!h38\"))=TRUE,\"\",INDIRECT(\"'3.09.1a (3)'!h38\"))","v":""},{"$f":"IF(ISERROR(INDIRECT(\"'3.09.1a (3)'!i38\"))=TRUE,\"\",INDIRECT(\"'3.09.1a (3)'!i38\"))","v":""},{"$f":"IF(ISERROR(INDIRECT(\"'3.09.1a (3)'!j38\"))=TRUE,\"\",INDIRECT(\"'3.09.1a (3)'!j38\"))","v":""},{"$f":"IF(ISERROR(INDIRECT(\"'3.09.1a (3)'!o38\"))=TRUE,\"\",INDIRECT(\"'3.09.1a (3)'!o38\"))","v":""},{"$f":"IF(ISERROR(INDIRECT(\"'3.09.1a (3)'!p38\"))=TRUE,\"\",INDIRECT(\"'3.09.1a (3)'!p38\"))","v":""},{"$f":"IF(ISERROR(INDIRECT(\"'3.09.1a (3)'!q38\"))=TRUE,\"\",INDIRECT(\"'3.09.1a (3)'!q38\"))","v":""},{"$f":"IF(ISERROR(INDIRECT(\"'3.09.1a (3)'!s38\"))=TRUE,\"\",INDIRECT(\"'3.09.1a (3)'!s38\"))","v":""},{"$f":"IF(ISERROR(INDIRECT(\"'3.09.1a (3)'!t38\"))=TRUE,\"\",INDIRECT(\"'3.09.1a (3)'!t38\"))","v":""},{"$f":"IF(ISERROR(INDIRECT(\"'3.09.1a (3)'!u38\"))=TRUE,\"\",INDIRECT(\"'3.09.1a (3)'!u38\"))","v":""},{"$f":"IF(ISERROR(INDIRECT(\"'3.09.1a (3)'!v38\"))=TRUE,\"\",INDIRECT(\"'3.09.1a (3)'!v38\"))","v":""},{"$f":"IF(ISERROR(INDIRECT(\"'3.09.1a (3)'!w38\"))=TRUE,\"\",INDIRECT(\"'3.09.1a (3)'!w38\"))","v":""},{"$f":"IF(ISERROR(INDIRECT(\"'3.09.1a (3)'!x38\"))=TRUE,\"\",INDIRECT(\"'3.09.1a (3)'!x38\"))","v":""},{"$f":"IF(ISERROR(INDIRECT(\"'3.09.1a (3)'!aa38\"))=TRUE,\"\",INDIRECT(\"'3.09.1a (3)'!aa38\"))","v":""},{"$f":"IF(ISERROR(INDIRECT(\"'3.09.1a (3)'!ad38\"))=TRUE,\"\",INDIRECT(\"'3.09.1a (3)'!ad38\"))","v":""},{"$f":"IF(ISERROR(INDIRECT(\"'3.09.1a (3)'!ah38\"))=TRUE,\"\",INDIRECT(\"'3.09.1a (3)'!ah38\"))","v":""},{"$f":"IF(ISERROR(INDIRECT(\"'3.09.1a (3)'!am38\"))=TRUE,\"\",INDIRECT(\"'3.09.1a (3)'!am38\"))","v":""}]
[0,"3.09.1a (3)",{"$f":"IF(ISERROR(INDIRECT(\"'3.09.1a (3)'!b39\"))=TRUE,\"\",INDIRECT(\"'3.09.1a (3)'!b39\"))","v":""},{"$f":"IF(ISERROR(INDIRECT(\"'3.09.1a (3)'!c39\"))=TRUE,\"\",INDIRECT(\"'3.09.1a (3)'!c39\"))","v":""},{"$f":"IF(ISERROR(INDIRECT(\"'3.09.1a (3)'!d39\"))=TRUE,\"\",INDIRECT(\"'3.09.1a (3)'!d39\"))","v":""},{"$f":"IF(ISERROR(INDIRECT(\"'3.09.1a (3)'!e39\"))=TRUE,\"\",INDIRECT(\"'3.09.1a (3)'!e39\"))","v":""},{"$f":"IF(ISERROR(INDIRECT(\"'3.09.1a (3)'!f39\"))=TRUE,\"\",INDIRECT(\"'3.09.1a (3)'!f39\"))","v":""},{"$f":"IF(ISERROR(INDIRECT(\"'3.09.1a (3)'!g39\"))=TRUE,\"\",INDIRECT(\"'3.09.1a (3)'!g39\"))","v":""},{"$f":"IF(ISERROR(INDIRECT(\"'3.09.1a (3)'!h39\"))=TRUE,\"\",INDIRECT(\"'3.09.1a (3)'!h39\"))","v":""},{"$f":"IF(ISERROR(INDIRECT(\"'3.09.1a (3)'!i39\"))=TRUE,\"\",INDIRECT(\"'3.09.1a (3)'!i39\"))","v":""},{"$f":"IF(ISERROR(INDIRECT(\"'3.09.1a (3)'!j39\"))=TRUE,\"\",INDIRECT(\"'3.09.1a (3)'!j39\"))","v":""},{"$f":"IF(ISERROR(INDIRECT(\"'3.09.1a (3)'!o39\"))=TRUE,\"\",INDIRECT(\"'3.09.1a (3)'!o39\"))","v":""},{"$f":"IF(ISERROR(INDIRECT(\"'3.09.1a (3)'!p39\"))=TRUE,\"\",INDIRECT(\"'3.09.1a (3)'!p39\"))","v":""},{"$f":"IF(ISERROR(INDIRECT(\"'3.09.1a (3)'!q39\"))=TRUE,\"\",INDIRECT(\"'3.09.1a (3)'!q39\"))","v":""},{"$f":"IF(ISERROR(INDIRECT(\"'3.09.1a (3)'!s39\"))=TRUE,\"\",INDIRECT(\"'3.09.1a (3)'!s39\"))","v":""},{"$f":"IF(ISERROR(INDIRECT(\"'3.09.1a (3)'!t39\"))=TRUE,\"\",INDIRECT(\"'3.09.1a (3)'!t39\"))","v":""},{"$f":"IF(ISERROR(INDIRECT(\"'3.09.1a (3)'!u39\"))=TRUE,\"\",INDIRECT(\"'3.09.1a (3)'!u39\"))","v":""},{"$f":"IF(ISERROR(INDIRECT(\"'3.09.1a (3)'!v39\"))=TRUE,\"\",INDIRECT(\"'3.09.1a (3)'!v39\"))","v":""},{"$f":"IF(ISERROR(INDIRECT(\"'3.09.1a (3)'!w39\"))=TRUE,\"\",INDIRECT(\"'3.09.1a (3)'!w39\"))","v":""},{"$f":"IF(ISERROR(INDIRECT(\"'3.09.1a (3)'!x39\"))=TRUE,\"\",INDIRECT(\"'3.09.1a (3)'!x39\"))","v":""},{"$f":"IF(ISERROR(INDIRECT(\"'3.09.1a (3)'!aa39\"))=TRUE,\"\",INDIRECT(\"'3.09.1a (3)'!aa39\"))","v":""},{"$f":"IF(ISERROR(INDIRECT(\"'3.09.1a (3)'!ad39\"))=TRUE,\"\",INDIRECT(\"'3.09.1a (3)'!ad39\"))","v":""},{"$f":"IF(ISERROR(INDIRECT(\"'3.09.1a (3)'!ah39\"))=TRUE,\"\",INDIRECT(\"'3.09.1a (3)'!ah39\"))","v":""},{"$f":"IF(ISERROR(INDIRECT(\"'3.09.1a (3)'!am39\"))=TRUE,\"\",INDIRECT(\"'3.09.1a (3)'!am39\"))","v":""}]
[0,"3.09.1a (3)",{"$f":"IF(ISERROR(INDIRECT(\"'3.09.1a (3)'!b40\"))=TRUE,\"\",INDIRECT(\"'3.09.1a (3)'!b40\"))","v":""},{"$f":"IF(ISERROR(INDIRECT(\"'3.09.1a (3)'!c40\"))=TRUE,\"\",INDIRECT(\"'3.09.1a (3)'!c40\"))","v":""},{"$f":"IF(ISERROR(INDIRECT(\"'3.09.1a (3)'!d40\"))=TRUE,\"\",INDIRECT(\"'3.09.1a (3)'!d40\"))","v":""},{"$f":"IF(ISERROR(INDIRECT(\"'3.09.1a (3)'!e40\"))=TRUE,\"\",INDIRECT(\"'3.09.1a (3)'!e40\"))","v":""},{"$f":"IF(ISERROR(INDIRECT(\"'3.09.1a (3)'!f40\"))=TRUE,\"\",INDIRECT(\"'3.09.1a (3)'!f40\"))","v":""},{"$f":"IF(ISERROR(INDIRECT(\"'3.09.1a (3)'!g40\"))=TRUE,\"\",INDIRECT(\"'3.09.1a (3)'!g40\"))","v":""},{"$f":"IF(ISERROR(INDIRECT(\"'3.09.1a (3)'!h40\"))=TRUE,\"\",INDIRECT(\"'3.09.1a (3)'!h40\"))","v":""},{"$f":"IF(ISERROR(INDIRECT(\"'3.09.1a (3)'!i40\"))=TRUE,\"\",INDIRECT(\"'3.09.1a (3)'!i40\"))","v":""},{"$f":"IF(ISERROR(INDIRECT(\"'3.09.1a (3)'!j40\"))=TRUE,\"\",INDIRECT(\"'3.09.1a (3)'!j40\"))","v":""},{"$f":"IF(ISERROR(INDIRECT(\"'3.09.1a (3)'!o40\"))=TRUE,\"\",INDIRECT(\"'3.09.1a (3)'!o40\"))","v":""},{"$f":"IF(ISERROR(INDIRECT(\"'3.09.1a (3)'!p40\"))=TRUE,\"\",INDIRECT(\"'3.09.1a (3)'!p40\"))","v":""},{"$f":"IF(ISERROR(INDIRECT(\"'3.09.1a (3)'!q40\"))=TRUE,\"\",INDIRECT(\"'3.09.1a (3)'!q40\"))","v":""},{"$f":"IF(ISERROR(INDIRECT(\"'3.09.1a (3)'!s40\"))=TRUE,\"\",INDIRECT(\"'3.09.1a (3)'!s40\"))","v":""},{"$f":"IF(ISERROR(INDIRECT(\"'3.09.1a (3)'!t40\"))=TRUE,\"\",INDIRECT(\"'3.09.1a (3)'!t40\"))","v":""},{"$f":"IF(ISERROR(INDIRECT(\"'3.09.1a (3)'!u40\"))=TRUE,\"\",INDIRECT(\"'3.09.1a (3)'!u40\"))","v":""},{"$f":"IF(ISERROR(INDIRECT(\"'3.09.1a (3)'!v40\"))=TRUE,\"\",INDIRECT(\"'3.09.1a (3)'!v40\"))","v":""},{"$f":"IF(ISERROR(INDIRECT(\"'3.09.1a (3)'!w40\"))=TRUE,\"\",INDIRECT(\"'3.09.1a (3)'!w40\"))","v":""},{"$f":"IF(ISERROR(INDIRECT(\"'3.09.1a (3)'!x40\"))=TRUE,\"\",INDIRECT(\"'3.09.1a (3)'!x40\"))","v":""},{"$f":"IF(ISERROR(INDIRECT(\"'3.09.1a (3)'!aa40\"))=TRUE,\"\",INDIRECT(\"'3.09.1a (3)'!aa40\"))","v":""},{"$f":"IF(ISERROR(INDIRECT(\"'3.09.1a (3)'!ad40\"))=TRUE,\"\",INDIRECT(\"'3.09.1a (3)'!ad40\"))","v":""},{"$f":"IF(ISERROR(INDIRECT(\"'3.09.1a (3)'!ah40\"))=TRUE,\"\",INDIRECT(\"'3.09.1a (3)'!ah40\"))","v":""},{"$f":"IF(ISERROR(INDIRECT(\"'3.09.1a (3)'!am40\"))=TRUE,\"\",INDIRECT(\"'3.09.1a (3)'!am40\"))","v":""}]
[0,"3.09.1a (3)",{"$f":"IF(ISERROR(INDIRECT(\"'3.09.1a (3)'!b41\"))=TRUE,\"\",INDIRECT(\"'3.09.1a (3)'!b41\"))","v":""},{"$f":"IF(ISERROR(INDIRECT(\"'3.09.1a (3)'!c41\"))=TRUE,\"\",INDIRECT(\"'3.09.1a (3)'!c41\"))","v":""},{"$f":"IF(ISERROR(INDIRECT(\"'3.09.1a (3)'!d41\"))=TRUE,\"\",INDIRECT(\"'3.09.1a (3)'!d41\"))","v":""},{"$f":"IF(ISERROR(INDIRECT(\"'3.09.1a (3)'!e41\"))=TRUE,\"\",INDIRECT(\"'3.09.1a (3)'!e41\"))","v":""},{"$f":"IF(ISERROR(INDIRECT(\"'3.09.1a (3)'!f41\"))=TRUE,\"\",INDIRECT(\"'3.09.1a (3)'!f41\"))","v":""},{"$f":"IF(ISERROR(INDIRECT(\"'3.09.1a (3)'!g41\"))=TRUE,\"\",INDIRECT(\"'3.09.1a (3)'!g41\"))","v":""},{"$f":"IF(ISERROR(INDIRECT(\"'3.09.1a (3)'!h41\"))=TRUE,\"\",INDIRECT(\"'3.09.1a (3)'!h41\"))","v":""},{"$f":"IF(ISERROR(INDIRECT(\"'3.09.1a (3)'!i41\"))=TRUE,\"\",INDIRECT(\"'3.09.1a (3)'!i41\"))","v":""},{"$f":"IF(ISERROR(INDIRECT(\"'3.09.1a (3)'!j41\"))=TRUE,\"\",INDIRECT(\"'3.09.1a (3)'!j41\"))","v":""},{"$f":"IF(ISERROR(INDIRECT(\"'3.09.1a (3)'!o41\"))=TRUE,\"\",INDIRECT(\"'3.09.1a (3)'!o41\"))","v":""},{"$f":"IF(ISERROR(INDIRECT(\"'3.09.1a (3)'!p41\"))=TRUE,\"\",INDIRECT(\"'3.09.1a (3)'!p41\"))","v":""},{"$f":"IF(ISERROR(INDIRECT(\"'3.09.1a (3)'!q41\"))=TRUE,\"\",INDIRECT(\"'3.09.1a (3)'!q41\"))","v":""},{"$f":"IF(ISERROR(INDIRECT(\"'3.09.1a (3)'!s41\"))=TRUE,\"\",INDIRECT(\"'3.09.1a (3)'!s41\"))","v":""},{"$f":"IF(ISERROR(INDIRECT(\"'3.09.1a (3)'!t41\"))=TRUE,\"\",INDIRECT(\"'3.09.1a (3)'!t41\"))","v":""},{"$f":"IF(ISERROR(INDIRECT(\"'3.09.1a (3)'!u41\"))=TRUE,\"\",INDIRECT(\"'3.09.1a (3)'!u41\"))","v":""},{"$f":"IF(ISERROR(INDIRECT(\"'3.09.1a (3)'!v41\"))=TRUE,\"\",INDIRECT(\"'3.09.1a (3)'!v41\"))","v":""},{"$f":"IF(ISERROR(INDIRECT(\"'3.09.1a (3)'!w41\"))=TRUE,\"\",INDIRECT(\"'3.09.1a (3)'!w41\"))","v":""},{"$f":"IF(ISERROR(INDIRECT(\"'3.09.1a (3)'!x41\"))=TRUE,\"\",INDIRECT(\"'3.09.1a (3)'!x41\"))","v":""},{"$f":"IF(ISERROR(INDIRECT(\"'3.09.1a (3)'!aa41\"))=TRUE,\"\",INDIRECT(\"'3.09.1a (3)'!aa41\"))","v":""},{"$f":"IF(ISERROR(INDIRECT(\"'3.09.1a (3)'!ad41\"))=TRUE,\"\",INDIRECT(\"'3.09.1a (3)'!ad41\"))","v":""},{"$f":"IF(ISERROR(INDIRECT(\"'3.09.1a (3)'!ah41\"))=TRUE,\"\",INDIRECT(\"'3.09.1a (3)'!ah41\"))","v":""},{"$f":"IF(ISERROR(INDIRECT(\"'3.09.1a (3)'!am41\"))=TRUE,\"\",INDIRECT(\"'3.09.1a (3)'!am41\"))","v":""}]
[0,"3.09.1a (3)",{"$f":"IF(ISERROR(INDIRECT(\"'3.09.1a (3)'!b42\"))=TRUE,\"\",INDIRECT(\"'3.09.1a (3)'!b42\"))","v":""},{"$f":"IF(ISERROR(INDIRECT(\"'3.09.1a (3)'!c42\"))=TRUE,\"\",INDIRECT(\"'3.09.1a (3)'!c42\"))","v":""},{"$f":"IF(ISERROR(INDIRECT(\"'3.09.1a (3)'!d42\"))=TRUE,\"\",INDIRECT(\"'3.09.1a (3)'!d42\"))","v":""},{"$f":"IF(ISERROR(INDIRECT(\"'3.09.1a (3)'!e42\"))=TRUE,\"\",INDIRECT(\"'3.09.1a (3)'!e42\"))","v":""},{"$f":"IF(ISERROR(INDIRECT(\"'3.09.1a (3)'!f42\"))=TRUE,\"\",INDIRECT(\"'3.09.1a (3)'!f42\"))","v":""},{"$f":"IF(ISERROR(INDIRECT(\"'3.09.1a (3)'!g42\"))=TRUE,\"\",INDIRECT(\"'3.09.1a (3)'!g42\"))","v":""},{"$f":"IF(ISERROR(INDIRECT(\"'3.09.1a (3)'!h42\"))=TRUE,\"\",INDIRECT(\"'3.09.1a (3)'!h42\"))","v":""},{"$f":"IF(ISERROR(INDIRECT(\"'3.09.1a (3)'!i42\"))=TRUE,\"\",INDIRECT(\"'3.09.1a (3)'!i42\"))","v":""},{"$f":"IF(ISERROR(INDIRECT(\"'3.09.1a (3)'!j42\"))=TRUE,\"\",INDIRECT(\"'3.09.1a (3)'!j42\"))","v":""},{"$f":"IF(ISERROR(INDIRECT(\"'3.09.1a (3)'!o42\"))=TRUE,\"\",INDIRECT(\"'3.09.1a (3)'!o42\"))","v":""},{"$f":"IF(ISERROR(INDIRECT(\"'3.09.1a (3)'!p42\"))=TRUE,\"\",INDIRECT(\"'3.09.1a (3)'!p42\"))","v":""},{"$f":"IF(ISERROR(INDIRECT(\"'3.09.1a (3)'!q42\"))=TRUE,\"\",INDIRECT(\"'3.09.1a (3)'!q42\"))","v":""},{"$f":"IF(ISERROR(INDIRECT(\"'3.09.1a (3)'!s42\"))=TRUE,\"\",INDIRECT(\"'3.09.1a (3)'!s42\"))","v":""},{"$f":"IF(ISERROR(INDIRECT(\"'3.09.1a (3)'!t42\"))=TRUE,\"\",INDIRECT(\"'3.09.1a (3)'!t42\"))","v":""},{"$f":"IF(ISERROR(INDIRECT(\"'3.09.1a (3)'!u42\"))=TRUE,\"\",INDIRECT(\"'3.09.1a (3)'!u42\"))","v":""},{"$f":"IF(ISERROR(INDIRECT(\"'3.09.1a (3)'!v42\"))=TRUE,\"\",INDIRECT(\"'3.09.1a (3)'!v42\"))","v":""},{"$f":"IF(ISERROR(INDIRECT(\"'3.09.1a (3)'!w42\"))=TRUE,\"\",INDIRECT(\"'3.09.1a (3)'!w42\"))","v":""},{"$f":"IF(ISERROR(INDIRECT(\"'3.09.1a (3)'!x42\"))=TRUE,\"\",INDIRECT(\"'3.09.1a (3)'!x42\"))","v":""},{"$f":"IF(ISERROR(INDIRECT(\"'3.09.1a (3)'!aa42\"))=TRUE,\"\",INDIRECT(\"'3.09.1a (3)'!aa42\"))","v":""},{"$f":"IF(ISERROR(INDIRECT(\"'3.09.1a (3)'!ad42\"))=TRUE,\"\",INDIRECT(\"'3.09.1a (3)'!ad42\"))","v":""},{"$f":"IF(ISERROR(INDIRECT(\"'3.09.1a (3)'!ah42\"))=TRUE,\"\",INDIRECT(\"'3.09.1a (3)'!ah42\"))","v":""},{"$f":"IF(ISERROR(INDIRECT(\"'3.09.1a (3)'!am42\"))=TRUE,\"\",INDIRECT(\"'3.09.1a (3)'!am42\"))","v":""}]
[0,"3.09.1a (3)",{"$f":"IF(ISERROR(INDIRECT(\"'3.09.1a (3)'!b43\"))=TRUE,\"\",INDIRECT(\"'3.09.1a (3)'!b43\"))","v":""},{"$f":"IF(ISERROR(INDIRECT(\"'3.09.1a (3)'!c43\"))=TRUE,\"\",INDIRECT(\"'3.09.1a (3)'!c43\"))","v":""},{"$f":"IF(ISERROR(INDIRECT(\"'3.09.1a (3)'!d43\"))=TRUE,\"\",INDIRECT(\"'3.09.1a (3)'!d43\"))","v":""},{"$f":"IF(ISERROR(INDIRECT(\"'3.09.1a (3)'!e43\"))=TRUE,\"\",INDIRECT(\"'3.09.1a (3)'!e43\"))","v":""},{"$f":"IF(ISERROR(INDIRECT(\"'3.09.1a (3)'!f43\"))=TRUE,\"\",INDIRECT(\"'3.09.1a (3)'!f43\"))","v":""},{"$f":"IF(ISERROR(INDIRECT(\"'3.09.1a (3)'!g43\"))=TRUE,\"\",INDIRECT(\"'3.09.1a (3)'!g43\"))","v":""},{"$f":"IF(ISERROR(INDIRECT(\"'3.09.1a (3)'!h43\"))=TRUE,\"\",INDIRECT(\"'3.09.1a (3)'!h43\"))","v":""},{"$f":"IF(ISERROR(INDIRECT(\"'3.09.1a (3)'!i43\"))=TRUE,\"\",INDIRECT(\"'3.09.1a (3)'!i43\"))","v":""},{"$f":"IF(ISERROR(INDIRECT(\"'3.09.1a (3)'!j43\"))=TRUE,\"\",INDIRECT(\"'3.09.1a (3)'!j43\"))","v":""},{"$f":"IF(ISERROR(INDIRECT(\"'3.09.1a (3)'!o43\"))=TRUE,\"\",INDIRECT(\"'3.09.1a (3)'!o43\"))","v":""},{"$f":"IF(ISERROR(INDIRECT(\"'3.09.1a (3)'!p43\"))=TRUE,\"\",INDIRECT(\"'3.09.1a (3)'!p43\"))","v":""},{"$f":"IF(ISERROR(INDIRECT(\"'3.09.1a (3)'!q43\"))=TRUE,\"\",INDIRECT(\"'3.09.1a (3)'!q43\"))","v":""},{"$f":"IF(ISERROR(INDIRECT(\"'3.09.1a (3)'!s43\"))=TRUE,\"\",INDIRECT(\"'3.09.1a (3)'!s43\"))","v":""},{"$f":"IF(ISERROR(INDIRECT(\"'3.09.1a (3)'!t43\"))=TRUE,\"\",INDIRECT(\"'3.09.1a (3)'!t43\"))","v":""},{"$f":"IF(ISERROR(INDIRECT(\"'3.09.1a (3)'!u43\"))=TRUE,\"\",INDIRECT(\"'3.09.1a (3)'!u43\"))","v":""},{"$f":"IF(ISERROR(INDIRECT(\"'3.09.1a (3)'!v43\"))=TRUE,\"\",INDIRECT(\"'3.09.1a (3)'!v43\"))","v":""},{"$f":"IF(ISERROR(INDIRECT(\"'3.09.1a (3)'!w43\"))=TRUE,\"\",INDIRECT(\"'3.09.1a (3)'!w43\"))","v":""},{"$f":"IF(ISERROR(INDIRECT(\"'3.09.1a (3)'!x43\"))=TRUE,\"\",INDIRECT(\"'3.09.1a (3)'!x43\"))","v":""},{"$f":"IF(ISERROR(INDIRECT(\"'3.09.1a (3)'!aa43\"))=TRUE,\"\",INDIRECT(\"'3.09.1a (3)'!aa43\"))","v":""},{"$f":"IF(ISERROR(INDIRECT(\"'3.09.1a (3)'!ad43\"))=TRUE,\"\",INDIRECT(\"'3.09.1a (3)'!ad43\"))","v":""},{"$f":"IF(ISERROR(INDIRECT(\"'3.09.1a (3)'!ah43\"))=TRUE,\"\",INDIRECT(\"'3.09.1a (3)'!ah43\"))","v":""},{"$f":"IF(ISERROR(INDIRECT(\"'3.09.1a (3)'!am43\"))=TRUE,\"\",INDIRECT(\"'3.09.1a (3)'!am43\"))","v":""}]
[{"$f":"AgencyCode","v":0},"3.09.1a (4)",{"$f":"IF(ISERROR(INDIRECT(\"'3.09.1a (4)'!b19\"))=TRUE,\"\",INDIRECT(\"'3.09.1a (4)'!b19\"))","v":""},{"$f":"IF(ISERROR(INDIRECT(\"'3.09.1a (4)'!c19\"))=TRUE,\"\",INDIRECT(\"'3.09.1a (4)'!c19\"))","v":""},{"$f":"IF(ISERROR(INDIRECT(\"'3.09.1a (4)'!D19\"))=TRUE,\"\",INDIRECT(\"'3.09.1a (4)'!D19\"))","v":""},{"$f":"IF(ISERROR(INDIRECT(\"'3.09.1a (4)'!e19\"))=TRUE,\"\",INDIRECT(\"'3.09.1a (4)'!e19\"))","v":""},{"$f":"IF(ISERROR(INDIRECT(\"'3.09.1a (4)'!f19\"))=TRUE,\"\",INDIRECT(\"'3.09.1a (4)'!f19\"))","v":""},{"$f":"IF(ISERROR(INDIRECT(\"'3.09.1a (4)'!g19\"))=TRUE,\"\",INDIRECT(\"'3.09.1a (4)'!g19\"))","v":""},{"$f":"IF(ISERROR(INDIRECT(\"'3.09.1a (4)'!h19\"))=TRUE,\"\",INDIRECT(\"'3.09.1a (4)'!h19\"))","v":""},{"$f":"IF(ISERROR(INDIRECT(\"'3.09.1a (4)'!i19\"))=TRUE,\"\",INDIRECT(\"'3.09.1a (4)'!i19\"))","v":""},{"$f":"IF(ISERROR(INDIRECT(\"'3.09.1a (4)'!j19\"))=TRUE,\"\",INDIRECT(\"'3.09.1a (4)'!j19\"))","v":""},{"$f":"IF(ISERROR(INDIRECT(\"'3.09.1a (4)'!o19\"))=TRUE,\"\",INDIRECT(\"'3.09.1a (4)'!o19\"))","v":""},{"$f":"IF(ISERROR(INDIRECT(\"'3.09.1a (4)'!p19\"))=TRUE,\"\",INDIRECT(\"'3.09.1a (4)'!p19\"))","v":""},{"$f":"IF(ISERROR(INDIRECT(\"'3.09.1a (4)'!q19\"))=TRUE,\"\",INDIRECT(\"'3.09.1a (4)'!q19\"))","v":""},{"$f":"IF(ISERROR(INDIRECT(\"'3.09.1a (4)'!s19\"))=TRUE,\"\",INDIRECT(\"'3.09.1a (4)'!s19\"))","v":""},{"$f":"IF(ISERROR(INDIRECT(\"'3.09.1a (4)'!t19\"))=TRUE,\"\",INDIRECT(\"'3.09.1a (4)'!t19\"))","v":""},{"$f":"IF(ISERROR(INDIRECT(\"'3.09.1a (4)'!u19\"))=TRUE,\"\",INDIRECT(\"'3.09.1a (4)'!u19\"))","v":""},{"$f":"IF(ISERROR(INDIRECT(\"'3.09.1a (4)'!v19\"))=TRUE,\"\",INDIRECT(\"'3.09.1a (4)'!v19\"))","v":""},{"$f":"IF(ISERROR(INDIRECT(\"'3.09.1a (4)'!w19\"))=TRUE,\"\",INDIRECT(\"'3.09.1a (4)'!w19\"))","v":""},{"$f":"IF(ISERROR(INDIRECT(\"'3.09.1a (4)'!x19\"))=TRUE,\"\",INDIRECT(\"'3.09.1a (4)'!x19\"))","v":""},{"$f":"IF(ISERROR(INDIRECT(\"'3.09.1a (4)'!aa19\"))=TRUE,\"\",INDIRECT(\"'3.09.1a (4)'!aa19\"))","v":""},{"$f":"IF(ISERROR(INDIRECT(\"'3.09.1a (4)'!ad19\"))=TRUE,\"\",INDIRECT(\"'3.09.1a (4)'!ad19\"))","v":""},{"$f":"IF(ISERROR(INDIRECT(\"'3.09.1a (4)'!ah19\"))=TRUE,\"\",INDIRECT(\"'3.09.1a (4)'!ah19\"))","v":""},{"$f":"IF(ISERROR(INDIRECT(\"'3.09.1a (4)'!am19\"))=TRUE,\"\",INDIRECT(\"'3.09.1a (4)'!am19\"))","v":""}]
[0,"3.09.1a (4)",{"$f":"IF(ISERROR(INDIRECT(\"'3.09.1a (4)'!b20\"))=TRUE,\"\",INDIRECT(\"'3.09.1a (4)'!b20\"))","v":""},{"$f":"IF(ISERROR(INDIRECT(\"'3.09.1a (4)'!c20\"))=TRUE,\"\",INDIRECT(\"'3.09.1a (4)'!c20\"))","v":""},{"$f":"IF(ISERROR(INDIRECT(\"'3.09.1a (4)'!d20\"))=TRUE,\"\",INDIRECT(\"'3.09.1a (4)'!d20\"))","v":""},{"$f":"IF(ISERROR(INDIRECT(\"'3.09.1a (4)'!e20\"))=TRUE,\"\",INDIRECT(\"'3.09.1a (4)'!e20\"))","v":""},{"$f":"IF(ISERROR(INDIRECT(\"'3.09.1a (4)'!f20\"))=TRUE,\"\",INDIRECT(\"'3.09.1a (4)'!f20\"))","v":""},{"$f":"IF(ISERROR(INDIRECT(\"'3.09.1a (4)'!g20\"))=TRUE,\"\",INDIRECT(\"'3.09.1a (4)'!g20\"))","v":""},{"$f":"IF(ISERROR(INDIRECT(\"'3.09.1a (4)'!h20\"))=TRUE,\"\",INDIRECT(\"'3.09.1a (4)'!h20\"))","v":""},{"$f":"IF(ISERROR(INDIRECT(\"'3.09.1a (4)'!i20\"))=TRUE,\"\",INDIRECT(\"'3.09.1a (4)'!i20\"))","v":""},{"$f":"IF(ISERROR(INDIRECT(\"'3.09.1a (4)'!j20\"))=TRUE,\"\",INDIRECT(\"'3.09.1a (4)'!j20\"))","v":""},{"$f":"IF(ISERROR(INDIRECT(\"'3.09.1a (4)'!o20\"))=TRUE,\"\",INDIRECT(\"'3.09.1a (4)'!o20\"))","v":""},{"$f":"IF(ISERROR(INDIRECT(\"'3.09.1a (4)'!p20\"))=TRUE,\"\",INDIRECT(\"'3.09.1a (4)'!p20\"))","v":""},{"$f":"IF(ISERROR(INDIRECT(\"'3.09.1a (4)'!q20\"))=TRUE,\"\",INDIRECT(\"'3.09.1a (4)'!q20\"))","v":""},{"$f":"IF(ISERROR(INDIRECT(\"'3.09.1a (4)'!s20\"))=TRUE,\"\",INDIRECT(\"'3.09.1a (4)'!s20\"))","v":""},{"$f":"IF(ISERROR(INDIRECT(\"'3.09.1a (4)'!t20\"))=TRUE,\"\",INDIRECT(\"'3.09.1a (4)'!t20\"))","v":""},{"$f":"IF(ISERROR(INDIRECT(\"'3.09.1a (4)'!u20\"))=TRUE,\"\",INDIRECT(\"'3.09.1a (4)'!u20\"))","v":""},{"$f":"IF(ISERROR(INDIRECT(\"'3.09.1a (4)'!v20\"))=TRUE,\"\",INDIRECT(\"'3.09.1a (4)'!v20\"))","v":""},{"$f":"IF(ISERROR(INDIRECT(\"'3.09.1a (4)'!w20\"))=TRUE,\"\",INDIRECT(\"'3.09.1a (4)'!w20\"))","v":""},{"$f":"IF(ISERROR(INDIRECT(\"'3.09.1a (4)'!x20\"))=TRUE,\"\",INDIRECT(\"'3.09.1a (4)'!x20\"))","v":""},{"$f":"IF(ISERROR(INDIRECT(\"'3.09.1a (4)'!aa20\"))=TRUE,\"\",INDIRECT(\"'3.09.1a (4)'!aa20\"))","v":""},{"$f":"IF(ISERROR(INDIRECT(\"'3.09.1a (4)'!ad20\"))=TRUE,\"\",INDIRECT(\"'3.09.1a (4)'!ad20\"))","v":""},{"$f":"IF(ISERROR(INDIRECT(\"'3.09.1a (4)'!ah20\"))=TRUE,\"\",INDIRECT(\"'3.09.1a (4)'!ah20\"))","v":""},{"$f":"IF(ISERROR(INDIRECT(\"'3.09.1a (4)'!am20\"))=TRUE,\"\",INDIRECT(\"'3.09.1a (4)'!am20\"))","v":""}]
[0,"3.09.1a (4)",{"$f":"IF(ISERROR(INDIRECT(\"'3.09.1a (4)'!b21\"))=TRUE,\"\",INDIRECT(\"'3.09.1a (4)'!b21\"))","v":""},{"$f":"IF(ISERROR(INDIRECT(\"'3.09.1a (4)'!c21\"))=TRUE,\"\",INDIRECT(\"'3.09.1a (4)'!c21\"))","v":""},{"$f":"IF(ISERROR(INDIRECT(\"'3.09.1a (4)'!d21\"))=TRUE,\"\",INDIRECT(\"'3.09.1a (4)'!d21\"))","v":""},{"$f":"IF(ISERROR(INDIRECT(\"'3.09.1a (4)'!e21\"))=TRUE,\"\",INDIRECT(\"'3.09.1a (4)'!e21\"))","v":""},{"$f":"IF(ISERROR(INDIRECT(\"'3.09.1a (4)'!f21\"))=TRUE,\"\",INDIRECT(\"'3.09.1a (4)'!f21\"))","v":""},{"$f":"IF(ISERROR(INDIRECT(\"'3.09.1a (4)'!g21\"))=TRUE,\"\",INDIRECT(\"'3.09.1a (4)'!g21\"))","v":""},{"$f":"IF(ISERROR(INDIRECT(\"'3.09.1a (4)'!h21\"))=TRUE,\"\",INDIRECT(\"'3.09.1a (4)'!h21\"))","v":""},{"$f":"IF(ISERROR(INDIRECT(\"'3.09.1a (4)'!i21\"))=TRUE,\"\",INDIRECT(\"'3.09.1a (4)'!i21\"))","v":""},{"$f":"IF(ISERROR(INDIRECT(\"'3.09.1a (4)'!j21\"))=TRUE,\"\",INDIRECT(\"'3.09.1a (4)'!j21\"))","v":""},{"$f":"IF(ISERROR(INDIRECT(\"'3.09.1a (4)'!o21\"))=TRUE,\"\",INDIRECT(\"'3.09.1a (4)'!o21\"))","v":""},{"$f":"IF(ISERROR(INDIRECT(\"'3.09.1a (4)'!p21\"))=TRUE,\"\",INDIRECT(\"'3.09.1a (4)'!p21\"))","v":""},{"$f":"IF(ISERROR(INDIRECT(\"'3.09.1a (4)'!q21\"))=TRUE,\"\",INDIRECT(\"'3.09.1a (4)'!q21\"))","v":""},{"$f":"IF(ISERROR(INDIRECT(\"'3.09.1a (4)'!s21\"))=TRUE,\"\",INDIRECT(\"'3.09.1a (4)'!s21\"))","v":""},{"$f":"IF(ISERROR(INDIRECT(\"'3.09.1a (4)'!t21\"))=TRUE,\"\",INDIRECT(\"'3.09.1a (4)'!t21\"))","v":""},{"$f":"IF(ISERROR(INDIRECT(\"'3.09.1a (4)'!u21\"))=TRUE,\"\",INDIRECT(\"'3.09.1a (4)'!u21\"))","v":""},{"$f":"IF(ISERROR(INDIRECT(\"'3.09.1a (4)'!v21\"))=TRUE,\"\",INDIRECT(\"'3.09.1a (4)'!v21\"))","v":""},{"$f":"IF(ISERROR(INDIRECT(\"'3.09.1a (4)'!w21\"))=TRUE,\"\",INDIRECT(\"'3.09.1a (4)'!w21\"))","v":""},{"$f":"IF(ISERROR(INDIRECT(\"'3.09.1a (4)'!x21\"))=TRUE,\"\",INDIRECT(\"'3.09.1a (4)'!x21\"))","v":""},{"$f":"IF(ISERROR(INDIRECT(\"'3.09.1a (4)'!aa21\"))=TRUE,\"\",INDIRECT(\"'3.09.1a (4)'!aa21\"))","v":""},{"$f":"IF(ISERROR(INDIRECT(\"'3.09.1a (4)'!ad21\"))=TRUE,\"\",INDIRECT(\"'3.09.1a (4)'!ad21\"))","v":""},{"$f":"IF(ISERROR(INDIRECT(\"'3.09.1a (4)'!ah21\"))=TRUE,\"\",INDIRECT(\"'3.09.1a (4)'!ah21\"))","v":""},{"$f":"IF(ISERROR(INDIRECT(\"'3.09.1a (4)'!am21\"))=TRUE,\"\",INDIRECT(\"'3.09.1a (4)'!am21\"))","v":""}]
[0,"3.09.1a (4)",{"$f":"IF(ISERROR(INDIRECT(\"'3.09.1a (4)'!b22\"))=TRUE,\"\",INDIRECT(\"'3.09.1a (4)'!b22\"))","v":""},{"$f":"IF(ISERROR(INDIRECT(\"'3.09.1a (4)'!c22\"))=TRUE,\"\",INDIRECT(\"'3.09.1a (4)'!c22\"))","v":""},{"$f":"IF(ISERROR(INDIRECT(\"'3.09.1a (4)'!d22\"))=TRUE,\"\",INDIRECT(\"'3.09.1a (4)'!d22\"))","v":""},{"$f":"IF(ISERROR(INDIRECT(\"'3.09.1a (4)'!e22\"))=TRUE,\"\",INDIRECT(\"'3.09.1a (4)'!e22\"))","v":""},{"$f":"IF(ISERROR(INDIRECT(\"'3.09.1a (4)'!f22\"))=TRUE,\"\",INDIRECT(\"'3.09.1a (4)'!f22\"))","v":""},{"$f":"IF(ISERROR(INDIRECT(\"'3.09.1a (4)'!g22\"))=TRUE,\"\",INDIRECT(\"'3.09.1a (4)'!g22\"))","v":""},{"$f":"IF(ISERROR(INDIRECT(\"'3.09.1a (4)'!h22\"))=TRUE,\"\",INDIRECT(\"'3.09.1a (4)'!h22\"))","v":""},{"$f":"IF(ISERROR(INDIRECT(\"'3.09.1a (4)'!i22\"))=TRUE,\"\",INDIRECT(\"'3.09.1a (4)'!i22\"))","v":""},{"$f":"IF(ISERROR(INDIRECT(\"'3.09.1a (4)'!j22\"))=TRUE,\"\",INDIRECT(\"'3.09.1a (4)'!j22\"))","v":""},{"$f":"IF(ISERROR(INDIRECT(\"'3.09.1a (4)'!o22\"))=TRUE,\"\",INDIRECT(\"'3.09.1a (4)'!o22\"))","v":""},{"$f":"IF(ISERROR(INDIRECT(\"'3.09.1a (4)'!p22\"))=TRUE,\"\",INDIRECT(\"'3.09.1a (4)'!p22\"))","v":""},{"$f":"IF(ISERROR(INDIRECT(\"'3.09.1a (4)'!q22\"))=TRUE,\"\",INDIRECT(\"'3.09.1a (4)'!q22\"))","v":""},{"$f":"IF(ISERROR(INDIRECT(\"'3.09.1a (4)'!s22\"))=TRUE,\"\",INDIRECT(\"'3.09.1a (4)'!s22\"))","v":""},{"$f":"IF(ISERROR(INDIRECT(\"'3.09.1a (4)'!t22\"))=TRUE,\"\",INDIRECT(\"'3.09.1a (4)'!t22\"))","v":""},{"$f":"IF(ISERROR(INDIRECT(\"'3.09.1a (4)'!u22\"))=TRUE,\"\",INDIRECT(\"'3.09.1a (4)'!u22\"))","v":""},{"$f":"IF(ISERROR(INDIRECT(\"'3.09.1a (4)'!v22\"))=TRUE,\"\",INDIRECT(\"'3.09.1a (4)'!v22\"))","v":""},{"$f":"IF(ISERROR(INDIRECT(\"'3.09.1a (4)'!w22\"))=TRUE,\"\",INDIRECT(\"'3.09.1a (4)'!w22\"))","v":""},{"$f":"IF(ISERROR(INDIRECT(\"'3.09.1a (4)'!x22\"))=TRUE,\"\",INDIRECT(\"'3.09.1a (4)'!x22\"))","v":""},{"$f":"IF(ISERROR(INDIRECT(\"'3.09.1a (4)'!aa22\"))=TRUE,\"\",INDIRECT(\"'3.09.1a (4)'!aa22\"))","v":""},{"$f":"IF(ISERROR(INDIRECT(\"'3.09.1a (4)'!ad22\"))=TRUE,\"\",INDIRECT(\"'3.09.1a (4)'!ad22\"))","v":""},{"$f":"IF(ISERROR(INDIRECT(\"'3.09.1a (4)'!ah22\"))=TRUE,\"\",INDIRECT(\"'3.09.1a (4)'!ah22\"))","v":""},{"$f":"IF(ISERROR(INDIRECT(\"'3.09.1a (4)'!am22\"))=TRUE,\"\",INDIRECT(\"'3.09.1a (4)'!am22\"))","v":""}]
[0,"3.09.1a (4)",{"$f":"IF(ISERROR(INDIRECT(\"'3.09.1a (4)'!b23\"))=TRUE,\"\",INDIRECT(\"'3.09.1a (4)'!b23\"))","v":""},{"$f":"IF(ISERROR(INDIRECT(\"'3.09.1a (4)'!c23\"))=TRUE,\"\",INDIRECT(\"'3.09.1a (4)'!c23\"))","v":""},{"$f":"IF(ISERROR(INDIRECT(\"'3.09.1a (4)'!d23\"))=TRUE,\"\",INDIRECT(\"'3.09.1a (4)'!d23\"))","v":""},{"$f":"IF(ISERROR(INDIRECT(\"'3.09.1a (4)'!e23\"))=TRUE,\"\",INDIRECT(\"'3.09.1a (4)'!e23\"))","v":""},{"$f":"IF(ISERROR(INDIRECT(\"'3.09.1a (4)'!f23\"))=TRUE,\"\",INDIRECT(\"'3.09.1a (4)'!f23\"))","v":""},{"$f":"IF(ISERROR(INDIRECT(\"'3.09.1a (4)'!g23\"))=TRUE,\"\",INDIRECT(\"'3.09.1a (4)'!g23\"))","v":""},{"$f":"IF(ISERROR(INDIRECT(\"'3.09.1a (4)'!h23\"))=TRUE,\"\",INDIRECT(\"'3.09.1a (4)'!h23\"))","v":""},{"$f":"IF(ISERROR(INDIRECT(\"'3.09.1a (4)'!i23\"))=TRUE,\"\",INDIRECT(\"'3.09.1a (4)'!i23\"))","v":""},{"$f":"IF(ISERROR(INDIRECT(\"'3.09.1a (4)'!j23\"))=TRUE,\"\",INDIRECT(\"'3.09.1a (4)'!j23\"))","v":""},{"$f":"IF(ISERROR(INDIRECT(\"'3.09.1a (4)'!o23\"))=TRUE,\"\",INDIRECT(\"'3.09.1a (4)'!o23\"))","v":""},{"$f":"IF(ISERROR(INDIRECT(\"'3.09.1a (4)'!p23\"))=TRUE,\"\",INDIRECT(\"'3.09.1a (4)'!p23\"))","v":""},{"$f":"IF(ISERROR(INDIRECT(\"'3.09.1a (4)'!q23\"))=TRUE,\"\",INDIRECT(\"'3.09.1a (4)'!q23\"))","v":""},{"$f":"IF(ISERROR(INDIRECT(\"'3.09.1a (4)'!s23\"))=TRUE,\"\",INDIRECT(\"'3.09.1a (4)'!s23\"))","v":""},{"$f":"IF(ISERROR(INDIRECT(\"'3.09.1a (4)'!t23\"))=TRUE,\"\",INDIRECT(\"'3.09.1a (4)'!t23\"))","v":""},{"$f":"IF(ISERROR(INDIRECT(\"'3.09.1a (4)'!u23\"))=TRUE,\"\",INDIRECT(\"'3.09.1a (4)'!u23\"))","v":""},{"$f":"IF(ISERROR(INDIRECT(\"'3.09.1a (4)'!v23\"))=TRUE,\"\",INDIRECT(\"'3.09.1a (4)'!v23\"))","v":""},{"$f":"IF(ISERROR(INDIRECT(\"'3.09.1a (4)'!w23\"))=TRUE,\"\",INDIRECT(\"'3.09.1a (4)'!w23\"))","v":""},{"$f":"IF(ISERROR(INDIRECT(\"'3.09.1a (4)'!x23\"))=TRUE,\"\",INDIRECT(\"'3.09.1a (4)'!x23\"))","v":""},{"$f":"IF(ISERROR(INDIRECT(\"'3.09.1a (4)'!aa23\"))=TRUE,\"\",INDIRECT(\"'3.09.1a (4)'!aa23\"))","v":""},{"$f":"IF(ISERROR(INDIRECT(\"'3.09.1a (4)'!ad23\"))=TRUE,\"\",INDIRECT(\"'3.09.1a (4)'!ad23\"))","v":""},{"$f":"IF(ISERROR(INDIRECT(\"'3.09.1a (4)'!ah23\"))=TRUE,\"\",INDIRECT(\"'3.09.1a (4)'!ah23\"))","v":""},{"$f":"IF(ISERROR(INDIRECT(\"'3.09.1a (4)'!am23\"))=TRUE,\"\",INDIRECT(\"'3.09.1a (4)'!am23\"))","v":""}]
[0,"3.09.1a (4)",{"$f":"IF(ISERROR(INDIRECT(\"'3.09.1a (4)'!b24\"))=TRUE,\"\",INDIRECT(\"'3.09.1a (4)'!b24\"))","v":""},{"$f":"IF(ISERROR(INDIRECT(\"'3.09.1a (4)'!c24\"))=TRUE,\"\",INDIRECT(\"'3.09.1a (4)'!c24\"))","v":""},{"$f":"IF(ISERROR(INDIRECT(\"'3.09.1a (4)'!d24\"))=TRUE,\"\",INDIRECT(\"'3.09.1a (4)'!d24\"))","v":""},{"$f":"IF(ISERROR(INDIRECT(\"'3.09.1a (4)'!e24\"))=TRUE,\"\",INDIRECT(\"'3.09.1a (4)'!e24\"))","v":""},{"$f":"IF(ISERROR(INDIRECT(\"'3.09.1a (4)'!f24\"))=TRUE,\"\",INDIRECT(\"'3.09.1a (4)'!f24\"))","v":""},{"$f":"IF(ISERROR(INDIRECT(\"'3.09.1a (4)'!g24\"))=TRUE,\"\",INDIRECT(\"'3.09.1a (4)'!g24\"))","v":""},{"$f":"IF(ISERROR(INDIRECT(\"'3.09.1a (4)'!h24\"))=TRUE,\"\",INDIRECT(\"'3.09.1a (4)'!h24\"))","v":""},{"$f":"IF(ISERROR(INDIRECT(\"'3.09.1a (4)'!i24\"))=TRUE,\"\",INDIRECT(\"'3.09.1a (4)'!i24\"))","v":""},{"$f":"IF(ISERROR(INDIRECT(\"'3.09.1a (4)'!j24\"))=TRUE,\"\",INDIRECT(\"'3.09.1a (4)'!j24\"))","v":""},{"$f":"IF(ISERROR(INDIRECT(\"'3.09.1a (4)'!o24\"))=TRUE,\"\",INDIRECT(\"'3.09.1a (4)'!o24\"))","v":""},{"$f":"IF(ISERROR(INDIRECT(\"'3.09.1a (4)'!p24\"))=TRUE,\"\",INDIRECT(\"'3.09.1a (4)'!p24\"))","v":""},{"$f":"IF(ISERROR(INDIRECT(\"'3.09.1a (4)'!q24\"))=TRUE,\"\",INDIRECT(\"'3.09.1a (4)'!q24\"))","v":""},{"$f":"IF(ISERROR(INDIRECT(\"'3.09.1a (4)'!s24\"))=TRUE,\"\",INDIRECT(\"'3.09.1a (4)'!s24\"))","v":""},{"$f":"IF(ISERROR(INDIRECT(\"'3.09.1a (4)'!t24\"))=TRUE,\"\",INDIRECT(\"'3.09.1a (4)'!t24\"))","v":""},{"$f":"IF(ISERROR(INDIRECT(\"'3.09.1a (4)'!u24\"))=TRUE,\"\",INDIRECT(\"'3.09.1a (4)'!u24\"))","v":""},{"$f":"IF(ISERROR(INDIRECT(\"'3.09.1a (4)'!v24\"))=TRUE,\"\",INDIRECT(\"'3.09.1a (4)'!v24\"))","v":""},{"$f":"IF(ISERROR(INDIRECT(\"'3.09.1a (4)'!w24\"))=TRUE,\"\",INDIRECT(\"'3.09.1a (4)'!w24\"))","v":""},{"$f":"IF(ISERROR(INDIRECT(\"'3.09.1a (4)'!x24\"))=TRUE,\"\",INDIRECT(\"'3.09.1a (4)'!x24\"))","v":""},{"$f":"IF(ISERROR(INDIRECT(\"'3.09.1a (4)'!aa24\"))=TRUE,\"\",INDIRECT(\"'3.09.1a (4)'!aa24\"))","v":""},{"$f":"IF(ISERROR(INDIRECT(\"'3.09.1a (4)'!ad24\"))=TRUE,\"\",INDIRECT(\"'3.09.1a (4)'!ad24\"))","v":""},{"$f":"IF(ISERROR(INDIRECT(\"'3.09.1a (4)'!ah24\"))=TRUE,\"\",INDIRECT(\"'3.09.1a (4)'!ah24\"))","v":""},{"$f":"IF(ISERROR(INDIRECT(\"'3.09.1a (4)'!am24\"))=TRUE,\"\",INDIRECT(\"'3.09.1a (4)'!am24\"))","v":""}]
[0,"3.09.1a (4)",{"$f":"IF(ISERROR(INDIRECT(\"'3.09.1a (4)'!b25\"))=TRUE,\"\",INDIRECT(\"'3.09.1a (4)'!b25\"))","v":""},{"$f":"IF(ISERROR(INDIRECT(\"'3.09.1a (4)'!c25\"))=TRUE,\"\",INDIRECT(\"'3.09.1a (4)'!c25\"))","v":""},{"$f":"IF(ISERROR(INDIRECT(\"'3.09.1a (4)'!d25\"))=TRUE,\"\",INDIRECT(\"'3.09.1a (4)'!d25\"))","v":""},{"$f":"IF(ISERROR(INDIRECT(\"'3.09.1a (4)'!e25\"))=TRUE,\"\",INDIRECT(\"'3.09.1a (4)'!e25\"))","v":""},{"$f":"IF(ISERROR(INDIRECT(\"'3.09.1a (4)'!f25\"))=TRUE,\"\",INDIRECT(\"'3.09.1a (4)'!f25\"))","v":""},{"$f":"IF(ISERROR(INDIRECT(\"'3.09.1a (4)'!g25\"))=TRUE,\"\",INDIRECT(\"'3.09.1a (4)'!g25\"))","v":""},{"$f":"IF(ISERROR(INDIRECT(\"'3.09.1a (4)'!h25\"))=TRUE,\"\",INDIRECT(\"'3.09.1a (4)'!h25\"))","v":""},{"$f":"IF(ISERROR(INDIRECT(\"'3.09.1a (4)'!i25\"))=TRUE,\"\",INDIRECT(\"'3.09.1a (4)'!i25\"))","v":""},{"$f":"IF(ISERROR(INDIRECT(\"'3.09.1a (4)'!j25\"))=TRUE,\"\",INDIRECT(\"'3.09.1a (4)'!j25\"))","v":""},{"$f":"IF(ISERROR(INDIRECT(\"'3.09.1a (4)'!o25\"))=TRUE,\"\",INDIRECT(\"'3.09.1a (4)'!o25\"))","v":""},{"$f":"IF(ISERROR(INDIRECT(\"'3.09.1a (4)'!p25\"))=TRUE,\"\",INDIRECT(\"'3.09.1a (4)'!p25\"))","v":""},{"$f":"IF(ISERROR(INDIRECT(\"'3.09.1a (4)'!q25\"))=TRUE,\"\",INDIRECT(\"'3.09.1a (4)'!q25\"))","v":""},{"$f":"IF(ISERROR(INDIRECT(\"'3.09.1a (4)'!s25\"))=TRUE,\"\",INDIRECT(\"'3.09.1a (4)'!s25\"))","v":""},{"$f":"IF(ISERROR(INDIRECT(\"'3.09.1a (4)'!t25\"))=TRUE,\"\",INDIRECT(\"'3.09.1a (4)'!t25\"))","v":""},{"$f":"IF(ISERROR(INDIRECT(\"'3.09.1a (4)'!u25\"))=TRUE,\"\",INDIRECT(\"'3.09.1a (4)'!u25\"))","v":""},{"$f":"IF(ISERROR(INDIRECT(\"'3.09.1a (4)'!v25\"))=TRUE,\"\",INDIRECT(\"'3.09.1a (4)'!v25\"))","v":""},{"$f":"IF(ISERROR(INDIRECT(\"'3.09.1a (4)'!w25\"))=TRUE,\"\",INDIRECT(\"'3.09.1a (4)'!w25\"))","v":""},{"$f":"IF(ISERROR(INDIRECT(\"'3.09.1a (4)'!x25\"))=TRUE,\"\",INDIRECT(\"'3.09.1a (4)'!x25\"))","v":""},{"$f":"IF(ISERROR(INDIRECT(\"'3.09.1a (4)'!aa25\"))=TRUE,\"\",INDIRECT(\"'3.09.1a (4)'!aa25\"))","v":""},{"$f":"IF(ISERROR(INDIRECT(\"'3.09.1a (4)'!ad25\"))=TRUE,\"\",INDIRECT(\"'3.09.1a (4)'!ad25\"))","v":""},{"$f":"IF(ISERROR(INDIRECT(\"'3.09.1a (4)'!ah25\"))=TRUE,\"\",INDIRECT(\"'3.09.1a (4)'!ah25\"))","v":""},{"$f":"IF(ISERROR(INDIRECT(\"'3.09.1a (4)'!am25\"))=TRUE,\"\",INDIRECT(\"'3.09.1a (4)'!am25\"))","v":""}]
[0,"3.09.1a (4)",{"$f":"IF(ISERROR(INDIRECT(\"'3.09.1a (4)'!b26\"))=TRUE,\"\",INDIRECT(\"'3.09.1a (4)'!b26\"))","v":""},{"$f":"IF(ISERROR(INDIRECT(\"'3.09.1a (4)'!c26\"))=TRUE,\"\",INDIRECT(\"'3.09.1a (4)'!c26\"))","v":""},{"$f":"IF(ISERROR(INDIRECT(\"'3.09.1a (4)'!d26\"))=TRUE,\"\",INDIRECT(\"'3.09.1a (4)'!d26\"))","v":""},{"$f":"IF(ISERROR(INDIRECT(\"'3.09.1a (4)'!e26\"))=TRUE,\"\",INDIRECT(\"'3.09.1a (4)'!e26\"))","v":""},{"$f":"IF(ISERROR(INDIRECT(\"'3.09.1a (4)'!f26\"))=TRUE,\"\",INDIRECT(\"'3.09.1a (4)'!f26\"))","v":""},{"$f":"IF(ISERROR(INDIRECT(\"'3.09.1a (4)'!g26\"))=TRUE,\"\",INDIRECT(\"'3.09.1a (4)'!g26\"))","v":""},{"$f":"IF(ISERROR(INDIRECT(\"'3.09.1a (4)'!h26\"))=TRUE,\"\",INDIRECT(\"'3.09.1a (4)'!h26\"))","v":""},{"$f":"IF(ISERROR(INDIRECT(\"'3.09.1a (4)'!i26\"))=TRUE,\"\",INDIRECT(\"'3.09.1a (4)'!i26\"))","v":""},{"$f":"IF(ISERROR(INDIRECT(\"'3.09.1a (4)'!j26\"))=TRUE,\"\",INDIRECT(\"'3.09.1a (4)'!j26\"))","v":""},{"$f":"IF(ISERROR(INDIRECT(\"'3.09.1a (4)'!o26\"))=TRUE,\"\",INDIRECT(\"'3.09.1a (4)'!o26\"))","v":""},{"$f":"IF(ISERROR(INDIRECT(\"'3.09.1a (4)'!p26\"))=TRUE,\"\",INDIRECT(\"'3.09.1a (4)'!p26\"))","v":""},{"$f":"IF(ISERROR(INDIRECT(\"'3.09.1a (4)'!q26\"))=TRUE,\"\",INDIRECT(\"'3.09.1a (4)'!q26\"))","v":""},{"$f":"IF(ISERROR(INDIRECT(\"'3.09.1a (4)'!s26\"))=TRUE,\"\",INDIRECT(\"'3.09.1a (4)'!s26\"))","v":""},{"$f":"IF(ISERROR(INDIRECT(\"'3.09.1a (4)'!t26\"))=TRUE,\"\",INDIRECT(\"'3.09.1a (4)'!t26\"))","v":""},{"$f":"IF(ISERROR(INDIRECT(\"'3.09.1a (4)'!u26\"))=TRUE,\"\",INDIRECT(\"'3.09.1a (4)'!u26\"))","v":""},{"$f":"IF(ISERROR(INDIRECT(\"'3.09.1a (4)'!v26\"))=TRUE,\"\",INDIRECT(\"'3.09.1a (4)'!v26\"))","v":""},{"$f":"IF(ISERROR(INDIRECT(\"'3.09.1a (4)'!w26\"))=TRUE,\"\",INDIRECT(\"'3.09.1a (4)'!w26\"))","v":""},{"$f":"IF(ISERROR(INDIRECT(\"'3.09.1a (4)'!x26\"))=TRUE,\"\",INDIRECT(\"'3.09.1a (4)'!x26\"))","v":""},{"$f":"IF(ISERROR(INDIRECT(\"'3.09.1a (4)'!aa26\"))=TRUE,\"\",INDIRECT(\"'3.09.1a (4)'!aa26\"))","v":""},{"$f":"IF(ISERROR(INDIRECT(\"'3.09.1a (4)'!ad26\"))=TRUE,\"\",INDIRECT(\"'3.09.1a (4)'!ad26\"))","v":""},{"$f":"IF(ISERROR(INDIRECT(\"'3.09.1a (4)'!ah26\"))=TRUE,\"\",INDIRECT(\"'3.09.1a (4)'!ah26\"))","v":""},{"$f":"IF(ISERROR(INDIRECT(\"'3.09.1a (4)'!am26\"))=TRUE,\"\",INDIRECT(\"'3.09.1a (4)'!am26\"))","v":""}]
[0,"3.09.1a (4)",{"$f":"IF(ISERROR(INDIRECT(\"'3.09.1a (4)'!b27\"))=TRUE,\"\",INDIRECT(\"'3.09.1a (4)'!b27\"))","v":""},{"$f":"IF(ISERROR(INDIRECT(\"'3.09.1a (4)'!c27\"))=TRUE,\"\",INDIRECT(\"'3.09.1a (4)'!c27\"))","v":""},{"$f":"IF(ISERROR(INDIRECT(\"'3.09.1a (4)'!d27\"))=TRUE,\"\",INDIRECT(\"'3.09.1a (4)'!d27\"))","v":""},{"$f":"IF(ISERROR(INDIRECT(\"'3.09.1a (4)'!e27\"))=TRUE,\"\",INDIRECT(\"'3.09.1a (4)'!e27\"))","v":""},{"$f":"IF(ISERROR(INDIRECT(\"'3.09.1a (4)'!f27\"))=TRUE,\"\",INDIRECT(\"'3.09.1a (4)'!f27\"))","v":""},{"$f":"IF(ISERROR(INDIRECT(\"'3.09.1a (4)'!g27\"))=TRUE,\"\",INDIRECT(\"'3.09.1a (4)'!g27\"))","v":""},{"$f":"IF(ISERROR(INDIRECT(\"'3.09.1a (4)'!h27\"))=TRUE,\"\",INDIRECT(\"'3.09.1a (4)'!h27\"))","v":""},{"$f":"IF(ISERROR(INDIRECT(\"'3.09.1a (4)'!i27\"))=TRUE,\"\",INDIRECT(\"'3.09.1a (4)'!i27\"))","v":""},{"$f":"IF(ISERROR(INDIRECT(\"'3.09.1a (4)'!j27\"))=TRUE,\"\",INDIRECT(\"'3.09.1a (4)'!j27\"))","v":""},{"$f":"IF(ISERROR(INDIRECT(\"'3.09.1a (4)'!o27\"))=TRUE,\"\",INDIRECT(\"'3.09.1a (4)'!o27\"))","v":""},{"$f":"IF(ISERROR(INDIRECT(\"'3.09.1a (4)'!p27\"))=TRUE,\"\",INDIRECT(\"'3.09.1a (4)'!p27\"))","v":""},{"$f":"IF(ISERROR(INDIRECT(\"'3.09.1a (4)'!q27\"))=TRUE,\"\",INDIRECT(\"'3.09.1a (4)'!q27\"))","v":""},{"$f":"IF(ISERROR(INDIRECT(\"'3.09.1a (4)'!s27\"))=TRUE,\"\",INDIRECT(\"'3.09.1a (4)'!s27\"))","v":""},{"$f":"IF(ISERROR(INDIRECT(\"'3.09.1a (4)'!t27\"))=TRUE,\"\",INDIRECT(\"'3.09.1a (4)'!t27\"))","v":""},{"$f":"IF(ISERROR(INDIRECT(\"'3.09.1a (4)'!u27\"))=TRUE,\"\",INDIRECT(\"'3.09.1a (4)'!u27\"))","v":""},{"$f":"IF(ISERROR(INDIRECT(\"'3.09.1a (4)'!v27\"))=TRUE,\"\",INDIRECT(\"'3.09.1a (4)'!v27\"))","v":""},{"$f":"IF(ISERROR(INDIRECT(\"'3.09.1a (4)'!w27\"))=TRUE,\"\",INDIRECT(\"'3.09.1a (4)'!w27\"))","v":""},{"$f":"IF(ISERROR(INDIRECT(\"'3.09.1a (4)'!x27\"))=TRUE,\"\",INDIRECT(\"'3.09.1a (4)'!x27\"))","v":""},{"$f":"IF(ISERROR(INDIRECT(\"'3.09.1a (4)'!aa27\"))=TRUE,\"\",INDIRECT(\"'3.09.1a (4)'!aa27\"))","v":""},{"$f":"IF(ISERROR(INDIRECT(\"'3.09.1a (4)'!ad27\"))=TRUE,\"\",INDIRECT(\"'3.09.1a (4)'!ad27\"))","v":""},{"$f":"IF(ISERROR(INDIRECT(\"'3.09.1a (4)'!ah27\"))=TRUE,\"\",INDIRECT(\"'3.09.1a (4)'!ah27\"))","v":""},{"$f":"IF(ISERROR(INDIRECT(\"'3.09.1a (4)'!am27\"))=TRUE,\"\",INDIRECT(\"'3.09.1a (4)'!am27\"))","v":""}]
[0,"3.09.1a (4)",{"$f":"IF(ISERROR(INDIRECT(\"'3.09.1a (4)'!b28\"))=TRUE,\"\",INDIRECT(\"'3.09.1a (4)'!b28\"))","v":""},{"$f":"IF(ISERROR(INDIRECT(\"'3.09.1a (4)'!c28\"))=TRUE,\"\",INDIRECT(\"'3.09.1a (4)'!c28\"))","v":""},{"$f":"IF(ISERROR(INDIRECT(\"'3.09.1a (4)'!d28\"))=TRUE,\"\",INDIRECT(\"'3.09.1a (4)'!d28\"))","v":""},{"$f":"IF(ISERROR(INDIRECT(\"'3.09.1a (4)'!e28\"))=TRUE,\"\",INDIRECT(\"'3.09.1a (4)'!e28\"))","v":""},{"$f":"IF(ISERROR(INDIRECT(\"'3.09.1a (4)'!f28\"))=TRUE,\"\",INDIRECT(\"'3.09.1a (4)'!f28\"))","v":""},{"$f":"IF(ISERROR(INDIRECT(\"'3.09.1a (4)'!g28\"))=TRUE,\"\",INDIRECT(\"'3.09.1a (4)'!g28\"))","v":""},{"$f":"IF(ISERROR(INDIRECT(\"'3.09.1a (4)'!h28\"))=TRUE,\"\",INDIRECT(\"'3.09.1a (4)'!h28\"))","v":""},{"$f":"IF(ISERROR(INDIRECT(\"'3.09.1a (4)'!i28\"))=TRUE,\"\",INDIRECT(\"'3.09.1a (4)'!i28\"))","v":""},{"$f":"IF(ISERROR(INDIRECT(\"'3.09.1a (4)'!j28\"))=TRUE,\"\",INDIRECT(\"'3.09.1a (4)'!j28\"))","v":""},{"$f":"IF(ISERROR(INDIRECT(\"'3.09.1a (4)'!o28\"))=TRUE,\"\",INDIRECT(\"'3.09.1a (4)'!o28\"))","v":""},{"$f":"IF(ISERROR(INDIRECT(\"'3.09.1a (4)'!p28\"))=TRUE,\"\",INDIRECT(\"'3.09.1a (4)'!p28\"))","v":""},{"$f":"IF(ISERROR(INDIRECT(\"'3.09.1a (4)'!q28\"))=TRUE,\"\",INDIRECT(\"'3.09.1a (4)'!q28\"))","v":""},{"$f":"IF(ISERROR(INDIRECT(\"'3.09.1a (4)'!s28\"))=TRUE,\"\",INDIRECT(\"'3.09.1a (4)'!s28\"))","v":""},{"$f":"IF(ISERROR(INDIRECT(\"'3.09.1a (4)'!t28\"))=TRUE,\"\",INDIRECT(\"'3.09.1a (4)'!t28\"))","v":""},{"$f":"IF(ISERROR(INDIRECT(\"'3.09.1a (4)'!u28\"))=TRUE,\"\",INDIRECT(\"'3.09.1a (4)'!u28\"))","v":""},{"$f":"IF(ISERROR(INDIRECT(\"'3.09.1a (4)'!v28\"))=TRUE,\"\",INDIRECT(\"'3.09.1a (4)'!v28\"))","v":""},{"$f":"IF(ISERROR(INDIRECT(\"'3.09.1a (4)'!w28\"))=TRUE,\"\",INDIRECT(\"'3.09.1a (4)'!w28\"))","v":""},{"$f":"IF(ISERROR(INDIRECT(\"'3.09.1a (4)'!x28\"))=TRUE,\"\",INDIRECT(\"'3.09.1a (4)'!x28\"))","v":""},{"$f":"IF(ISERROR(INDIRECT(\"'3.09.1a (4)'!aa28\"))=TRUE,\"\",INDIRECT(\"'3.09.1a (4)'!aa28\"))","v":""},{"$f":"IF(ISERROR(INDIRECT(\"'3.09.1a (4)'!ad28\"))=TRUE,\"\",INDIRECT(\"'3.09.1a (4)'!ad28\"))","v":""},{"$f":"IF(ISERROR(INDIRECT(\"'3.09.1a (4)'!ah28\"))=TRUE,\"\",INDIRECT(\"'3.09.1a (4)'!ah28\"))","v":""},{"$f":"IF(ISERROR(INDIRECT(\"'3.09.1a (4)'!am28\"))=TRUE,\"\",INDIRECT(\"'3.09.1a (4)'!am28\"))","v":""}]
[0,"3.09.1a (4)",{"$f":"IF(ISERROR(INDIRECT(\"'3.09.1a (4)'!b29\"))=TRUE,\"\",INDIRECT(\"'3.09.1a (4)'!b29\"))","v":""},{"$f":"IF(ISERROR(INDIRECT(\"'3.09.1a (4)'!c29\"))=TRUE,\"\",INDIRECT(\"'3.09.1a (4)'!c29\"))","v":""},{"$f":"IF(ISERROR(INDIRECT(\"'3.09.1a (4)'!d29\"))=TRUE,\"\",INDIRECT(\"'3.09.1a (4)'!d29\"))","v":""},{"$f":"IF(ISERROR(INDIRECT(\"'3.09.1a (4)'!e29\"))=TRUE,\"\",INDIRECT(\"'3.09.1a (4)'!e29\"))","v":""},{"$f":"IF(ISERROR(INDIRECT(\"'3.09.1a (4)'!f29\"))=TRUE,\"\",INDIRECT(\"'3.09.1a (4)'!f29\"))","v":""},{"$f":"IF(ISERROR(INDIRECT(\"'3.09.1a (4)'!g29\"))=TRUE,\"\",INDIRECT(\"'3.09.1a (4)'!g29\"))","v":""},{"$f":"IF(ISERROR(INDIRECT(\"'3.09.1a (4)'!h29\"))=TRUE,\"\",INDIRECT(\"'3.09.1a (4)'!h29\"))","v":""},{"$f":"IF(ISERROR(INDIRECT(\"'3.09.1a (4)'!i29\"))=TRUE,\"\",INDIRECT(\"'3.09.1a (4)'!i29\"))","v":""},{"$f":"IF(ISERROR(INDIRECT(\"'3.09.1a (4)'!j29\"))=TRUE,\"\",INDIRECT(\"'3.09.1a (4)'!j29\"))","v":""},{"$f":"IF(ISERROR(INDIRECT(\"'3.09.1a (4)'!o29\"))=TRUE,\"\",INDIRECT(\"'3.09.1a (4)'!o29\"))","v":""},{"$f":"IF(ISERROR(INDIRECT(\"'3.09.1a (4)'!p29\"))=TRUE,\"\",INDIRECT(\"'3.09.1a (4)'!p29\"))","v":""},{"$f":"IF(ISERROR(INDIRECT(\"'3.09.1a (4)'!q29\"))=TRUE,\"\",INDIRECT(\"'3.09.1a (4)'!q29\"))","v":""},{"$f":"IF(ISERROR(INDIRECT(\"'3.09.1a (4)'!s29\"))=TRUE,\"\",INDIRECT(\"'3.09.1a (4)'!s29\"))","v":""},{"$f":"IF(ISERROR(INDIRECT(\"'3.09.1a (4)'!t29\"))=TRUE,\"\",INDIRECT(\"'3.09.1a (4)'!t29\"))","v":""},{"$f":"IF(ISERROR(INDIRECT(\"'3.09.1a (4)'!u29\"))=TRUE,\"\",INDIRECT(\"'3.09.1a (4)'!u29\"))","v":""},{"$f":"IF(ISERROR(INDIRECT(\"'3.09.1a (4)'!v29\"))=TRUE,\"\",INDIRECT(\"'3.09.1a (4)'!v29\"))","v":""},{"$f":"IF(ISERROR(INDIRECT(\"'3.09.1a (4)'!w29\"))=TRUE,\"\",INDIRECT(\"'3.09.1a (4)'!w29\"))","v":""},{"$f":"IF(ISERROR(INDIRECT(\"'3.09.1a (4)'!x29\"))=TRUE,\"\",INDIRECT(\"'3.09.1a (4)'!x29\"))","v":""},{"$f":"IF(ISERROR(INDIRECT(\"'3.09.1a (4)'!aa29\"))=TRUE,\"\",INDIRECT(\"'3.09.1a (4)'!aa29\"))","v":""},{"$f":"IF(ISERROR(INDIRECT(\"'3.09.1a (4)'!ad29\"))=TRUE,\"\",INDIRECT(\"'3.09.1a (4)'!ad29\"))","v":""},{"$f":"IF(ISERROR(INDIRECT(\"'3.09.1a (4)'!ah29\"))=TRUE,\"\",INDIRECT(\"'3.09.1a (4)'!ah29\"))","v":""},{"$f":"IF(ISERROR(INDIRECT(\"'3.09.1a (4)'!am29\"))=TRUE,\"\",INDIRECT(\"'3.09.1a (4)'!am29\"))","v":""}]
[0,"3.09.1a (4)",{"$f":"IF(ISERROR(INDIRECT(\"'3.09.1a (4)'!b30\"))=TRUE,\"\",INDIRECT(\"'3.09.1a (4)'!b30\"))","v":""},{"$f":"IF(ISERROR(INDIRECT(\"'3.09.1a (4)'!c30\"))=TRUE,\"\",INDIRECT(\"'3.09.1a (4)'!c30\"))","v":""},{"$f":"IF(ISERROR(INDIRECT(\"'3.09.1a (4)'!d30\"))=TRUE,\"\",INDIRECT(\"'3.09.1a (4)'!d30\"))","v":""},{"$f":"IF(ISERROR(INDIRECT(\"'3.09.1a (4)'!e30\"))=TRUE,\"\",INDIRECT(\"'3.09.1a (4)'!e30\"))","v":""},{"$f":"IF(ISERROR(INDIRECT(\"'3.09.1a (4)'!f30\"))=TRUE,\"\",INDIRECT(\"'3.09.1a (4)'!f30\"))","v":""},{"$f":"IF(ISERROR(INDIRECT(\"'3.09.1a (4)'!g30\"))=TRUE,\"\",INDIRECT(\"'3.09.1a (4)'!g30\"))","v":""},{"$f":"IF(ISERROR(INDIRECT(\"'3.09.1a (4)'!h30\"))=TRUE,\"\",INDIRECT(\"'3.09.1a (4)'!h30\"))","v":""},{"$f":"IF(ISERROR(INDIRECT(\"'3.09.1a (4)'!i30\"))=TRUE,\"\",INDIRECT(\"'3.09.1a (4)'!i30\"))","v":""},{"$f":"IF(ISERROR(INDIRECT(\"'3.09.1a (4)'!j30\"))=TRUE,\"\",INDIRECT(\"'3.09.1a (4)'!j30\"))","v":""},{"$f":"IF(ISERROR(INDIRECT(\"'3.09.1a (4)'!o30\"))=TRUE,\"\",INDIRECT(\"'3.09.1a (4)'!o30\"))","v":""},{"$f":"IF(ISERROR(INDIRECT(\"'3.09.1a (4)'!p30\"))=TRUE,\"\",INDIRECT(\"'3.09.1a (4)'!p30\"))","v":""},{"$f":"IF(ISERROR(INDIRECT(\"'3.09.1a (4)'!q30\"))=TRUE,\"\",INDIRECT(\"'3.09.1a (4)'!q30\"))","v":""},{"$f":"IF(ISERROR(INDIRECT(\"'3.09.1a (4)'!s30\"))=TRUE,\"\",INDIRECT(\"'3.09.1a (4)'!s30\"))","v":""},{"$f":"IF(ISERROR(INDIRECT(\"'3.09.1a (4)'!t30\"))=TRUE,\"\",INDIRECT(\"'3.09.1a (4)'!t30\"))","v":""},{"$f":"IF(ISERROR(INDIRECT(\"'3.09.1a (4)'!u30\"))=TRUE,\"\",INDIRECT(\"'3.09.1a (4)'!u30\"))","v":""},{"$f":"IF(ISERROR(INDIRECT(\"'3.09.1a (4)'!v30\"))=TRUE,\"\",INDIRECT(\"'3.09.1a (4)'!v30\"))","v":""},{"$f":"IF(ISERROR(INDIRECT(\"'3.09.1a (4)'!w30\"))=TRUE,\"\",INDIRECT(\"'3.09.1a (4)'!w30\"))","v":""},{"$f":"IF(ISERROR(INDIRECT(\"'3.09.1a (4)'!x30\"))=TRUE,\"\",INDIRECT(\"'3.09.1a (4)'!x30\"))","v":""},{"$f":"IF(ISERROR(INDIRECT(\"'3.09.1a (4)'!aa30\"))=TRUE,\"\",INDIRECT(\"'3.09.1a (4)'!aa30\"))","v":""},{"$f":"IF(ISERROR(INDIRECT(\"'3.09.1a (4)'!ad30\"))=TRUE,\"\",INDIRECT(\"'3.09.1a (4)'!ad30\"))","v":""},{"$f":"IF(ISERROR(INDIRECT(\"'3.09.1a (4)'!ah30\"))=TRUE,\"\",INDIRECT(\"'3.09.1a (4)'!ah30\"))","v":""},{"$f":"IF(ISERROR(INDIRECT(\"'3.09.1a (4)'!am30\"))=TRUE,\"\",INDIRECT(\"'3.09.1a (4)'!am30\"))","v":""}]
[0,"3.09.1a (4)",{"$f":"IF(ISERROR(INDIRECT(\"'3.09.1a (4)'!b31\"))=TRUE,\"\",INDIRECT(\"'3.09.1a (4)'!b31\"))","v":""},{"$f":"IF(ISERROR(INDIRECT(\"'3.09.1a (4)'!c31\"))=TRUE,\"\",INDIRECT(\"'3.09.1a (4)'!c31\"))","v":""},{"$f":"IF(ISERROR(INDIRECT(\"'3.09.1a (4)'!d31\"))=TRUE,\"\",INDIRECT(\"'3.09.1a (4)'!d31\"))","v":""},{"$f":"IF(ISERROR(INDIRECT(\"'3.09.1a (4)'!e31\"))=TRUE,\"\",INDIRECT(\"'3.09.1a (4)'!e31\"))","v":""},{"$f":"IF(ISERROR(INDIRECT(\"'3.09.1a (4)'!f31\"))=TRUE,\"\",INDIRECT(\"'3.09.1a (4)'!f31\"))","v":""},{"$f":"IF(ISERROR(INDIRECT(\"'3.09.1a (4)'!g31\"))=TRUE,\"\",INDIRECT(\"'3.09.1a (4)'!g31\"))","v":""},{"$f":"IF(ISERROR(INDIRECT(\"'3.09.1a (4)'!h31\"))=TRUE,\"\",INDIRECT(\"'3.09.1a (4)'!h31\"))","v":""},{"$f":"IF(ISERROR(INDIRECT(\"'3.09.1a (4)'!i31\"))=TRUE,\"\",INDIRECT(\"'3.09.1a (4)'!i31\"))","v":""},{"$f":"IF(ISERROR(INDIRECT(\"'3.09.1a (4)'!j31\"))=TRUE,\"\",INDIRECT(\"'3.09.1a (4)'!j31\"))","v":""},{"$f":"IF(ISERROR(INDIRECT(\"'3.09.1a (4)'!o31\"))=TRUE,\"\",INDIRECT(\"'3.09.1a (4)'!o31\"))","v":""},{"$f":"IF(ISERROR(INDIRECT(\"'3.09.1a (4)'!p31\"))=TRUE,\"\",INDIRECT(\"'3.09.1a (4)'!p31\"))","v":""},{"$f":"IF(ISERROR(INDIRECT(\"'3.09.1a (4)'!q31\"))=TRUE,\"\",INDIRECT(\"'3.09.1a (4)'!q31\"))","v":""},{"$f":"IF(ISERROR(INDIRECT(\"'3.09.1a (4)'!s31\"))=TRUE,\"\",INDIRECT(\"'3.09.1a (4)'!s31\"))","v":""},{"$f":"IF(ISERROR(INDIRECT(\"'3.09.1a (4)'!t31\"))=TRUE,\"\",INDIRECT(\"'3.09.1a (4)'!t31\"))","v":""},{"$f":"IF(ISERROR(INDIRECT(\"'3.09.1a (4)'!u31\"))=TRUE,\"\",INDIRECT(\"'3.09.1a (4)'!u31\"))","v":""},{"$f":"IF(ISERROR(INDIRECT(\"'3.09.1a (4)'!v31\"))=TRUE,\"\",INDIRECT(\"'3.09.1a (4)'!v31\"))","v":""},{"$f":"IF(ISERROR(INDIRECT(\"'3.09.1a (4)'!w31\"))=TRUE,\"\",INDIRECT(\"'3.09.1a (4)'!w31\"))","v":""},{"$f":"IF(ISERROR(INDIRECT(\"'3.09.1a (4)'!x31\"))=TRUE,\"\",INDIRECT(\"'3.09.1a (4)'!x31\"))","v":""},{"$f":"IF(ISERROR(INDIRECT(\"'3.09.1a (4)'!aa31\"))=TRUE,\"\",INDIRECT(\"'3.09.1a (4)'!aa31\"))","v":""},{"$f":"IF(ISERROR(INDIRECT(\"'3.09.1a (4)'!ad31\"))=TRUE,\"\",INDIRECT(\"'3.09.1a (4)'!ad31\"))","v":""},{"$f":"IF(ISERROR(INDIRECT(\"'3.09.1a (4)'!ah31\"))=TRUE,\"\",INDIRECT(\"'3.09.1a (4)'!ah31\"))","v":""},{"$f":"IF(ISERROR(INDIRECT(\"'3.09.1a (4)'!am31\"))=TRUE,\"\",INDIRECT(\"'3.09.1a (4)'!am31\"))","v":""}]
[0,"3.09.1a (4)",{"$f":"IF(ISERROR(INDIRECT(\"'3.09.1a (4)'!b32\"))=TRUE,\"\",INDIRECT(\"'3.09.1a (4)'!b32\"))","v":""},{"$f":"IF(ISERROR(INDIRECT(\"'3.09.1a (4)'!c32\"))=TRUE,\"\",INDIRECT(\"'3.09.1a (4)'!c32\"))","v":""},{"$f":"IF(ISERROR(INDIRECT(\"'3.09.1a (4)'!d32\"))=TRUE,\"\",INDIRECT(\"'3.09.1a (4)'!d32\"))","v":""},{"$f":"IF(ISERROR(INDIRECT(\"'3.09.1a (4)'!e32\"))=TRUE,\"\",INDIRECT(\"'3.09.1a (4)'!e32\"))","v":""},{"$f":"IF(ISERROR(INDIRECT(\"'3.09.1a (4)'!f32\"))=TRUE,\"\",INDIRECT(\"'3.09.1a (4)'!f32\"))","v":""},{"$f":"IF(ISERROR(INDIRECT(\"'3.09.1a (4)'!g32\"))=TRUE,\"\",INDIRECT(\"'3.09.1a (4)'!g32\"))","v":""},{"$f":"IF(ISERROR(INDIRECT(\"'3.09.1a (4)'!h32\"))=TRUE,\"\",INDIRECT(\"'3.09.1a (4)'!h32\"))","v":""},{"$f":"IF(ISERROR(INDIRECT(\"'3.09.1a (4)'!i32\"))=TRUE,\"\",INDIRECT(\"'3.09.1a (4)'!i32\"))","v":""},{"$f":"IF(ISERROR(INDIRECT(\"'3.09.1a (4)'!j32\"))=TRUE,\"\",INDIRECT(\"'3.09.1a (4)'!j32\"))","v":""},{"$f":"IF(ISERROR(INDIRECT(\"'3.09.1a (4)'!o32\"))=TRUE,\"\",INDIRECT(\"'3.09.1a (4)'!o32\"))","v":""},{"$f":"IF(ISERROR(INDIRECT(\"'3.09.1a (4)'!p32\"))=TRUE,\"\",INDIRECT(\"'3.09.1a (4)'!p32\"))","v":""},{"$f":"IF(ISERROR(INDIRECT(\"'3.09.1a (4)'!q32\"))=TRUE,\"\",INDIRECT(\"'3.09.1a (4)'!q32\"))","v":""},{"$f":"IF(ISERROR(INDIRECT(\"'3.09.1a (4)'!s32\"))=TRUE,\"\",INDIRECT(\"'3.09.1a (4)'!s32\"))","v":""},{"$f":"IF(ISERROR(INDIRECT(\"'3.09.1a (4)'!t32\"))=TRUE,\"\",INDIRECT(\"'3.09.1a (4)'!t32\"))","v":""},{"$f":"IF(ISERROR(INDIRECT(\"'3.09.1a (4)'!u32\"))=TRUE,\"\",INDIRECT(\"'3.09.1a (4)'!u32\"))","v":""},{"$f":"IF(ISERROR(INDIRECT(\"'3.09.1a (4)'!v32\"))=TRUE,\"\",INDIRECT(\"'3.09.1a (4)'!v32\"))","v":""},{"$f":"IF(ISERROR(INDIRECT(\"'3.09.1a (4)'!w32\"))=TRUE,\"\",INDIRECT(\"'3.09.1a (4)'!w32\"))","v":""},{"$f":"IF(ISERROR(INDIRECT(\"'3.09.1a (4)'!x32\"))=TRUE,\"\",INDIRECT(\"'3.09.1a (4)'!x32\"))","v":""},{"$f":"IF(ISERROR(INDIRECT(\"'3.09.1a (4)'!aa32\"))=TRUE,\"\",INDIRECT(\"'3.09.1a (4)'!aa32\"))","v":""},{"$f":"IF(ISERROR(INDIRECT(\"'3.09.1a (4)'!ad32\"))=TRUE,\"\",INDIRECT(\"'3.09.1a (4)'!ad32\"))","v":""},{"$f":"IF(ISERROR(INDIRECT(\"'3.09.1a (4)'!ah32\"))=TRUE,\"\",INDIRECT(\"'3.09.1a (4)'!ah32\"))","v":""},{"$f":"IF(ISERROR(INDIRECT(\"'3.09.1a (4)'!am32\"))=TRUE,\"\",INDIRECT(\"'3.09.1a (4)'!am32\"))","v":""}]
[0,"3.09.1a (4)",{"$f":"IF(ISERROR(INDIRECT(\"'3.09.1a (4)'!b33\"))=TRUE,\"\",INDIRECT(\"'3.09.1a (4)'!b33\"))","v":""},{"$f":"IF(ISERROR(INDIRECT(\"'3.09.1a (4)'!c33\"))=TRUE,\"\",INDIRECT(\"'3.09.1a (4)'!c33\"))","v":""},{"$f":"IF(ISERROR(INDIRECT(\"'3.09.1a (4)'!d33\"))=TRUE,\"\",INDIRECT(\"'3.09.1a (4)'!d33\"))","v":""},{"$f":"IF(ISERROR(INDIRECT(\"'3.09.1a (4)'!e33\"))=TRUE,\"\",INDIRECT(\"'3.09.1a (4)'!e33\"))","v":""},{"$f":"IF(ISERROR(INDIRECT(\"'3.09.1a (4)'!f33\"))=TRUE,\"\",INDIRECT(\"'3.09.1a (4)'!f33\"))","v":""},{"$f":"IF(ISERROR(INDIRECT(\"'3.09.1a (4)'!g33\"))=TRUE,\"\",INDIRECT(\"'3.09.1a (4)'!g33\"))","v":""},{"$f":"IF(ISERROR(INDIRECT(\"'3.09.1a (4)'!h33\"))=TRUE,\"\",INDIRECT(\"'3.09.1a (4)'!h33\"))","v":""},{"$f":"IF(ISERROR(INDIRECT(\"'3.09.1a (4)'!i33\"))=TRUE,\"\",INDIRECT(\"'3.09.1a (4)'!i33\"))","v":""},{"$f":"IF(ISERROR(INDIRECT(\"'3.09.1a (4)'!j33\"))=TRUE,\"\",INDIRECT(\"'3.09.1a (4)'!j33\"))","v":""},{"$f":"IF(ISERROR(INDIRECT(\"'3.09.1a (4)'!o33\"))=TRUE,\"\",INDIRECT(\"'3.09.1a (4)'!o33\"))","v":""},{"$f":"IF(ISERROR(INDIRECT(\"'3.09.1a (4)'!p33\"))=TRUE,\"\",INDIRECT(\"'3.09.1a (4)'!p33\"))","v":""},{"$f":"IF(ISERROR(INDIRECT(\"'3.09.1a (4)'!q33\"))=TRUE,\"\",INDIRECT(\"'3.09.1a (4)'!q33\"))","v":""},{"$f":"IF(ISERROR(INDIRECT(\"'3.09.1a (4)'!s33\"))=TRUE,\"\",INDIRECT(\"'3.09.1a (4)'!s33\"))","v":""},{"$f":"IF(ISERROR(INDIRECT(\"'3.09.1a (4)'!t33\"))=TRUE,\"\",INDIRECT(\"'3.09.1a (4)'!t33\"))","v":""},{"$f":"IF(ISERROR(INDIRECT(\"'3.09.1a (4)'!u33\"))=TRUE,\"\",INDIRECT(\"'3.09.1a (4)'!u33\"))","v":""},{"$f":"IF(ISERROR(INDIRECT(\"'3.09.1a (4)'!v33\"))=TRUE,\"\",INDIRECT(\"'3.09.1a (4)'!v33\"))","v":""},{"$f":"IF(ISERROR(INDIRECT(\"'3.09.1a (4)'!w33\"))=TRUE,\"\",INDIRECT(\"'3.09.1a (4)'!w33\"))","v":""},{"$f":"IF(ISERROR(INDIRECT(\"'3.09.1a (4)'!x33\"))=TRUE,\"\",INDIRECT(\"'3.09.1a (4)'!x33\"))","v":""},{"$f":"IF(ISERROR(INDIRECT(\"'3.09.1a (4)'!aa33\"))=TRUE,\"\",INDIRECT(\"'3.09.1a (4)'!aa33\"))","v":""},{"$f":"IF(ISERROR(INDIRECT(\"'3.09.1a (4)'!ad33\"))=TRUE,\"\",INDIRECT(\"'3.09.1a (4)'!ad33\"))","v":""},{"$f":"IF(ISERROR(INDIRECT(\"'3.09.1a (4)'!ah33\"))=TRUE,\"\",INDIRECT(\"'3.09.1a (4)'!ah33\"))","v":""},{"$f":"IF(ISERROR(INDIRECT(\"'3.09.1a (4)'!am33\"))=TRUE,\"\",INDIRECT(\"'3.09.1a (4)'!am33\"))","v":""}]
[0,"3.09.1a (4)",{"$f":"IF(ISERROR(INDIRECT(\"'3.09.1a (4)'!b34\"))=TRUE,\"\",INDIRECT(\"'3.09.1a (4)'!b34\"))","v":""},{"$f":"IF(ISERROR(INDIRECT(\"'3.09.1a (4)'!c34\"))=TRUE,\"\",INDIRECT(\"'3.09.1a (4)'!c34\"))","v":""},{"$f":"IF(ISERROR(INDIRECT(\"'3.09.1a (4)'!d34\"))=TRUE,\"\",INDIRECT(\"'3.09.1a (4)'!d34\"))","v":""},{"$f":"IF(ISERROR(INDIRECT(\"'3.09.1a (4)'!e34\"))=TRUE,\"\",INDIRECT(\"'3.09.1a (4)'!e34\"))","v":""},{"$f":"IF(ISERROR(INDIRECT(\"'3.09.1a (4)'!f34\"))=TRUE,\"\",INDIRECT(\"'3.09.1a (4)'!f34\"))","v":""},{"$f":"IF(ISERROR(INDIRECT(\"'3.09.1a (4)'!g34\"))=TRUE,\"\",INDIRECT(\"'3.09.1a (4)'!g34\"))","v":""},{"$f":"IF(ISERROR(INDIRECT(\"'3.09.1a (4)'!h34\"))=TRUE,\"\",INDIRECT(\"'3.09.1a (4)'!h34\"))","v":""},{"$f":"IF(ISERROR(INDIRECT(\"'3.09.1a (4)'!i34\"))=TRUE,\"\",INDIRECT(\"'3.09.1a (4)'!i34\"))","v":""},{"$f":"IF(ISERROR(INDIRECT(\"'3.09.1a (4)'!j34\"))=TRUE,\"\",INDIRECT(\"'3.09.1a (4)'!j34\"))","v":""},{"$f":"IF(ISERROR(INDIRECT(\"'3.09.1a (4)'!o34\"))=TRUE,\"\",INDIRECT(\"'3.09.1a (4)'!o34\"))","v":""},{"$f":"IF(ISERROR(INDIRECT(\"'3.09.1a (4)'!p34\"))=TRUE,\"\",INDIRECT(\"'3.09.1a (4)'!p34\"))","v":""},{"$f":"IF(ISERROR(INDIRECT(\"'3.09.1a (4)'!q34\"))=TRUE,\"\",INDIRECT(\"'3.09.1a (4)'!q34\"))","v":""},{"$f":"IF(ISERROR(INDIRECT(\"'3.09.1a (4)'!s34\"))=TRUE,\"\",INDIRECT(\"'3.09.1a (4)'!s34\"))","v":""},{"$f":"IF(ISERROR(INDIRECT(\"'3.09.1a (4)'!t34\"))=TRUE,\"\",INDIRECT(\"'3.09.1a (4)'!t34\"))","v":""},{"$f":"IF(ISERROR(INDIRECT(\"'3.09.1a (4)'!u34\"))=TRUE,\"\",INDIRECT(\"'3.09.1a (4)'!u34\"))","v":""},{"$f":"IF(ISERROR(INDIRECT(\"'3.09.1a (4)'!v34\"))=TRUE,\"\",INDIRECT(\"'3.09.1a (4)'!v34\"))","v":""},{"$f":"IF(ISERROR(INDIRECT(\"'3.09.1a (4)'!w34\"))=TRUE,\"\",INDIRECT(\"'3.09.1a (4)'!w34\"))","v":""},{"$f":"IF(ISERROR(INDIRECT(\"'3.09.1a (4)'!x34\"))=TRUE,\"\",INDIRECT(\"'3.09.1a (4)'!x34\"))","v":""},{"$f":"IF(ISERROR(INDIRECT(\"'3.09.1a (4)'!aa34\"))=TRUE,\"\",INDIRECT(\"'3.09.1a (4)'!aa34\"))","v":""},{"$f":"IF(ISERROR(INDIRECT(\"'3.09.1a (4)'!ad34\"))=TRUE,\"\",INDIRECT(\"'3.09.1a (4)'!ad34\"))","v":""},{"$f":"IF(ISERROR(INDIRECT(\"'3.09.1a (4)'!ah34\"))=TRUE,\"\",INDIRECT(\"'3.09.1a (4)'!ah34\"))","v":""},{"$f":"IF(ISERROR(INDIRECT(\"'3.09.1a (4)'!am34\"))=TRUE,\"\",INDIRECT(\"'3.09.1a (4)'!am34\"))","v":""}]
[0,"3.09.1a (4)",{"$f":"IF(ISERROR(INDIRECT(\"'3.09.1a (4)'!b35\"))=TRUE,\"\",INDIRECT(\"'3.09.1a (4)'!b35\"))","v":""},{"$f":"IF(ISERROR(INDIRECT(\"'3.09.1a (4)'!c35\"))=TRUE,\"\",INDIRECT(\"'3.09.1a (4)'!c35\"))","v":""},{"$f":"IF(ISERROR(INDIRECT(\"'3.09.1a (4)'!d35\"))=TRUE,\"\",INDIRECT(\"'3.09.1a (4)'!d35\"))","v":""},{"$f":"IF(ISERROR(INDIRECT(\"'3.09.1a (4)'!e35\"))=TRUE,\"\",INDIRECT(\"'3.09.1a (4)'!e35\"))","v":""},{"$f":"IF(ISERROR(INDIRECT(\"'3.09.1a (4)'!f35\"))=TRUE,\"\",INDIRECT(\"'3.09.1a (4)'!f35\"))","v":""},{"$f":"IF(ISERROR(INDIRECT(\"'3.09.1a (4)'!g35\"))=TRUE,\"\",INDIRECT(\"'3.09.1a (4)'!g35\"))","v":""},{"$f":"IF(ISERROR(INDIRECT(\"'3.09.1a (4)'!h35\"))=TRUE,\"\",INDIRECT(\"'3.09.1a (4)'!h35\"))","v":""},{"$f":"IF(ISERROR(INDIRECT(\"'3.09.1a (4)'!i35\"))=TRUE,\"\",INDIRECT(\"'3.09.1a (4)'!i35\"))","v":""},{"$f":"IF(ISERROR(INDIRECT(\"'3.09.1a (4)'!j35\"))=TRUE,\"\",INDIRECT(\"'3.09.1a (4)'!j35\"))","v":""},{"$f":"IF(ISERROR(INDIRECT(\"'3.09.1a (4)'!o35\"))=TRUE,\"\",INDIRECT(\"'3.09.1a (4)'!o35\"))","v":""},{"$f":"IF(ISERROR(INDIRECT(\"'3.09.1a (4)'!p35\"))=TRUE,\"\",INDIRECT(\"'3.09.1a (4)'!p35\"))","v":""},{"$f":"IF(ISERROR(INDIRECT(\"'3.09.1a (4)'!q35\"))=TRUE,\"\",INDIRECT(\"'3.09.1a (4)'!q35\"))","v":""},{"$f":"IF(ISERROR(INDIRECT(\"'3.09.1a (4)'!s35\"))=TRUE,\"\",INDIRECT(\"'3.09.1a (4)'!s35\"))","v":""},{"$f":"IF(ISERROR(INDIRECT(\"'3.09.1a (4)'!t35\"))=TRUE,\"\",INDIRECT(\"'3.09.1a (4)'!t35\"))","v":""},{"$f":"IF(ISERROR(INDIRECT(\"'3.09.1a (4)'!u35\"))=TRUE,\"\",INDIRECT(\"'3.09.1a (4)'!u35\"))","v":""},{"$f":"IF(ISERROR(INDIRECT(\"'3.09.1a (4)'!v35\"))=TRUE,\"\",INDIRECT(\"'3.09.1a (4)'!v35\"))","v":""},{"$f":"IF(ISERROR(INDIRECT(\"'3.09.1a (4)'!w35\"))=TRUE,\"\",INDIRECT(\"'3.09.1a (4)'!w35\"))","v":""},{"$f":"IF(ISERROR(INDIRECT(\"'3.09.1a (4)'!x35\"))=TRUE,\"\",INDIRECT(\"'3.09.1a (4)'!x35\"))","v":""},{"$f":"IF(ISERROR(INDIRECT(\"'3.09.1a (4)'!aa35\"))=TRUE,\"\",INDIRECT(\"'3.09.1a (4)'!aa35\"))","v":""},{"$f":"IF(ISERROR(INDIRECT(\"'3.09.1a (4)'!ad35\"))=TRUE,\"\",INDIRECT(\"'3.09.1a (4)'!ad35\"))","v":""},{"$f":"IF(ISERROR(INDIRECT(\"'3.09.1a (4)'!ah35\"))=TRUE,\"\",INDIRECT(\"'3.09.1a (4)'!ah35\"))","v":""},{"$f":"IF(ISERROR(INDIRECT(\"'3.09.1a (4)'!am35\"))=TRUE,\"\",INDIRECT(\"'3.09.1a (4)'!am35\"))","v":""}]
[0,"3.09.1a (4)",{"$f":"IF(ISERROR(INDIRECT(\"'3.09.1a (4)'!b36\"))=TRUE,\"\",INDIRECT(\"'3.09.1a (4)'!b36\"))","v":""},{"$f":"IF(ISERROR(INDIRECT(\"'3.09.1a (4)'!c36\"))=TRUE,\"\",INDIRECT(\"'3.09.1a (4)'!c36\"))","v":""},{"$f":"IF(ISERROR(INDIRECT(\"'3.09.1a (4)'!d36\"))=TRUE,\"\",INDIRECT(\"'3.09.1a (4)'!d36\"))","v":""},{"$f":"IF(ISERROR(INDIRECT(\"'3.09.1a (4)'!e36\"))=TRUE,\"\",INDIRECT(\"'3.09.1a (4)'!e36\"))","v":""},{"$f":"IF(ISERROR(INDIRECT(\"'3.09.1a (4)'!f36\"))=TRUE,\"\",INDIRECT(\"'3.09.1a (4)'!f36\"))","v":""},{"$f":"IF(ISERROR(INDIRECT(\"'3.09.1a (4)'!g36\"))=TRUE,\"\",INDIRECT(\"'3.09.1a (4)'!g36\"))","v":""},{"$f":"IF(ISERROR(INDIRECT(\"'3.09.1a (4)'!h36\"))=TRUE,\"\",INDIRECT(\"'3.09.1a (4)'!h36\"))","v":""},{"$f":"IF(ISERROR(INDIRECT(\"'3.09.1a (4)'!i36\"))=TRUE,\"\",INDIRECT(\"'3.09.1a (4)'!i36\"))","v":""},{"$f":"IF(ISERROR(INDIRECT(\"'3.09.1a (4)'!j36\"))=TRUE,\"\",INDIRECT(\"'3.09.1a (4)'!j36\"))","v":""},{"$f":"IF(ISERROR(INDIRECT(\"'3.09.1a (4)'!o36\"))=TRUE,\"\",INDIRECT(\"'3.09.1a (4)'!o36\"))","v":""},{"$f":"IF(ISERROR(INDIRECT(\"'3.09.1a (4)'!p36\"))=TRUE,\"\",INDIRECT(\"'3.09.1a (4)'!p36\"))","v":""},{"$f":"IF(ISERROR(INDIRECT(\"'3.09.1a (4)'!q36\"))=TRUE,\"\",INDIRECT(\"'3.09.1a (4)'!q36\"))","v":""},{"$f":"IF(ISERROR(INDIRECT(\"'3.09.1a (4)'!s36\"))=TRUE,\"\",INDIRECT(\"'3.09.1a (4)'!s36\"))","v":""},{"$f":"IF(ISERROR(INDIRECT(\"'3.09.1a (4)'!t36\"))=TRUE,\"\",INDIRECT(\"'3.09.1a (4)'!t36\"))","v":""},{"$f":"IF(ISERROR(INDIRECT(\"'3.09.1a (4)'!u36\"))=TRUE,\"\",INDIRECT(\"'3.09.1a (4)'!u36\"))","v":""},{"$f":"IF(ISERROR(INDIRECT(\"'3.09.1a (4)'!v36\"))=TRUE,\"\",INDIRECT(\"'3.09.1a (4)'!v36\"))","v":""},{"$f":"IF(ISERROR(INDIRECT(\"'3.09.1a (4)'!w36\"))=TRUE,\"\",INDIRECT(\"'3.09.1a (4)'!w36\"))","v":""},{"$f":"IF(ISERROR(INDIRECT(\"'3.09.1a (4)'!x36\"))=TRUE,\"\",INDIRECT(\"'3.09.1a (4)'!x36\"))","v":""},{"$f":"IF(ISERROR(INDIRECT(\"'3.09.1a (4)'!aa36\"))=TRUE,\"\",INDIRECT(\"'3.09.1a (4)'!aa36\"))","v":""},{"$f":"IF(ISERROR(INDIRECT(\"'3.09.1a (4)'!ad36\"))=TRUE,\"\",INDIRECT(\"'3.09.1a (4)'!ad36\"))","v":""},{"$f":"IF(ISERROR(INDIRECT(\"'3.09.1a (4)'!ah36\"))=TRUE,\"\",INDIRECT(\"'3.09.1a (4)'!ah36\"))","v":""},{"$f":"IF(ISERROR(INDIRECT(\"'3.09.1a (4)'!am36\"))=TRUE,\"\",INDIRECT(\"'3.09.1a (4)'!am36\"))","v":""}]
[0,"3.09.1a (4)",{"$f":"IF(ISERROR(INDIRECT(\"'3.09.1a (4)'!b37\"))=TRUE,\"\",INDIRECT(\"'3.09.1a (4)'!b37\"))","v":""},{"$f":"IF(ISERROR(INDIRECT(\"'3.09.1a (4)'!c37\"))=TRUE,\"\",INDIRECT(\"'3.09.1a (4)'!c37\"))","v":""},{"$f":"IF(ISERROR(INDIRECT(\"'3.09.1a (4)'!d37\"))=TRUE,\"\",INDIRECT(\"'3.09.1a (4)'!d37\"))","v":""},{"$f":"IF(ISERROR(INDIRECT(\"'3.09.1a (4)'!e37\"))=TRUE,\"\",INDIRECT(\"'3.09.1a (4)'!e37\"))","v":""},{"$f":"IF(ISERROR(INDIRECT(\"'3.09.1a (4)'!f37\"))=TRUE,\"\",INDIRECT(\"'3.09.1a (4)'!f37\"))","v":""},{"$f":"IF(ISERROR(INDIRECT(\"'3.09.1a (4)'!g37\"))=TRUE,\"\",INDIRECT(\"'3.09.1a (4)'!g37\"))","v":""},{"$f":"IF(ISERROR(INDIRECT(\"'3.09.1a (4)'!h37\"))=TRUE,\"\",INDIRECT(\"'3.09.1a (4)'!h37\"))","v":""},{"$f":"IF(ISERROR(INDIRECT(\"'3.09.1a (4)'!i37\"))=TRUE,\"\",INDIRECT(\"'3.09.1a (4)'!i37\"))","v":""},{"$f":"IF(ISERROR(INDIRECT(\"'3.09.1a (4)'!j37\"))=TRUE,\"\",INDIRECT(\"'3.09.1a (4)'!j37\"))","v":""},{"$f":"IF(ISERROR(INDIRECT(\"'3.09.1a (4)'!o37\"))=TRUE,\"\",INDIRECT(\"'3.09.1a (4)'!o37\"))","v":""},{"$f":"IF(ISERROR(INDIRECT(\"'3.09.1a (4)'!p37\"))=TRUE,\"\",INDIRECT(\"'3.09.1a (4)'!p37\"))","v":""},{"$f":"IF(ISERROR(INDIRECT(\"'3.09.1a (4)'!q37\"))=TRUE,\"\",INDIRECT(\"'3.09.1a (4)'!q37\"))","v":""},{"$f":"IF(ISERROR(INDIRECT(\"'3.09.1a (4)'!s37\"))=TRUE,\"\",INDIRECT(\"'3.09.1a (4)'!s37\"))","v":""},{"$f":"IF(ISERROR(INDIRECT(\"'3.09.1a (4)'!t37\"))=TRUE,\"\",INDIRECT(\"'3.09.1a (4)'!t37\"))","v":""},{"$f":"IF(ISERROR(INDIRECT(\"'3.09.1a (4)'!u37\"))=TRUE,\"\",INDIRECT(\"'3.09.1a (4)'!u37\"))","v":""},{"$f":"IF(ISERROR(INDIRECT(\"'3.09.1a (4)'!v37\"))=TRUE,\"\",INDIRECT(\"'3.09.1a (4)'!v37\"))","v":""},{"$f":"IF(ISERROR(INDIRECT(\"'3.09.1a (4)'!w37\"))=TRUE,\"\",INDIRECT(\"'3.09.1a (4)'!w37\"))","v":""},{"$f":"IF(ISERROR(INDIRECT(\"'3.09.1a (4)'!x37\"))=TRUE,\"\",INDIRECT(\"'3.09.1a (4)'!x37\"))","v":""},{"$f":"IF(ISERROR(INDIRECT(\"'3.09.1a (4)'!aa37\"))=TRUE,\"\",INDIRECT(\"'3.09.1a (4)'!aa37\"))","v":""},{"$f":"IF(ISERROR(INDIRECT(\"'3.09.1a (4)'!ad37\"))=TRUE,\"\",INDIRECT(\"'3.09.1a (4)'!ad37\"))","v":""},{"$f":"IF(ISERROR(INDIRECT(\"'3.09.1a (4)'!ah37\"))=TRUE,\"\",INDIRECT(\"'3.09.1a (4)'!ah37\"))","v":""},{"$f":"IF(ISERROR(INDIRECT(\"'3.09.1a (4)'!am37\"))=TRUE,\"\",INDIRECT(\"'3.09.1a (4)'!am37\"))","v":""}]
[0,"3.09.1a (4)",{"$f":"IF(ISERROR(INDIRECT(\"'3.09.1a (4)'!b38\"))=TRUE,\"\",INDIRECT(\"'3.09.1a (4)'!b38\"))","v":""},{"$f":"IF(ISERROR(INDIRECT(\"'3.09.1a (4)'!c38\"))=TRUE,\"\",INDIRECT(\"'3.09.1a (4)'!c38\"))","v":""},{"$f":"IF(ISERROR(INDIRECT(\"'3.09.1a (4)'!d38\"))=TRUE,\"\",INDIRECT(\"'3.09.1a (4)'!d38\"))","v":""},{"$f":"IF(ISERROR(INDIRECT(\"'3.09.1a (4)'!e38\"))=TRUE,\"\",INDIRECT(\"'3.09.1a (4)'!e38\"))","v":""},{"$f":"IF(ISERROR(INDIRECT(\"'3.09.1a (4)'!f38\"))=TRUE,\"\",INDIRECT(\"'3.09.1a (4)'!f38\"))","v":""},{"$f":"IF(ISERROR(INDIRECT(\"'3.09.1a (4)'!g38\"))=TRUE,\"\",INDIRECT(\"'3.09.1a (4)'!g38\"))","v":""},{"$f":"IF(ISERROR(INDIRECT(\"'3.09.1a (4)'!h38\"))=TRUE,\"\",INDIRECT(\"'3.09.1a (4)'!h38\"))","v":""},{"$f":"IF(ISERROR(INDIRECT(\"'3.09.1a (4)'!i38\"))=TRUE,\"\",INDIRECT(\"'3.09.1a (4)'!i38\"))","v":""},{"$f":"IF(ISERROR(INDIRECT(\"'3.09.1a (4)'!j38\"))=TRUE,\"\",INDIRECT(\"'3.09.1a (4)'!j38\"))","v":""},{"$f":"IF(ISERROR(INDIRECT(\"'3.09.1a (4)'!o38\"))=TRUE,\"\",INDIRECT(\"'3.09.1a (4)'!o38\"))","v":""},{"$f":"IF(ISERROR(INDIRECT(\"'3.09.1a (4)'!p38\"))=TRUE,\"\",INDIRECT(\"'3.09.1a (4)'!p38\"))","v":""},{"$f":"IF(ISERROR(INDIRECT(\"'3.09.1a (4)'!q38\"))=TRUE,\"\",INDIRECT(\"'3.09.1a (4)'!q38\"))","v":""},{"$f":"IF(ISERROR(INDIRECT(\"'3.09.1a (4)'!s38\"))=TRUE,\"\",INDIRECT(\"'3.09.1a (4)'!s38\"))","v":""},{"$f":"IF(ISERROR(INDIRECT(\"'3.09.1a (4)'!t38\"))=TRUE,\"\",INDIRECT(\"'3.09.1a (4)'!t38\"))","v":""},{"$f":"IF(ISERROR(INDIRECT(\"'3.09.1a (4)'!u38\"))=TRUE,\"\",INDIRECT(\"'3.09.1a (4)'!u38\"))","v":""},{"$f":"IF(ISERROR(INDIRECT(\"'3.09.1a (4)'!v38\"))=TRUE,\"\",INDIRECT(\"'3.09.1a (4)'!v38\"))","v":""},{"$f":"IF(ISERROR(INDIRECT(\"'3.09.1a (4)'!w38\"))=TRUE,\"\",INDIRECT(\"'3.09.1a (4)'!w38\"))","v":""},{"$f":"IF(ISERROR(INDIRECT(\"'3.09.1a (4)'!x38\"))=TRUE,\"\",INDIRECT(\"'3.09.1a (4)'!x38\"))","v":""},{"$f":"IF(ISERROR(INDIRECT(\"'3.09.1a (4)'!aa38\"))=TRUE,\"\",INDIRECT(\"'3.09.1a (4)'!aa38\"))","v":""},{"$f":"IF(ISERROR(INDIRECT(\"'3.09.1a (4)'!ad38\"))=TRUE,\"\",INDIRECT(\"'3.09.1a (4)'!ad38\"))","v":""},{"$f":"IF(ISERROR(INDIRECT(\"'3.09.1a (4)'!ah38\"))=TRUE,\"\",INDIRECT(\"'3.09.1a (4)'!ah38\"))","v":""},{"$f":"IF(ISERROR(INDIRECT(\"'3.09.1a (4)'!am38\"))=TRUE,\"\",INDIRECT(\"'3.09.1a (4)'!am38\"))","v":""}]
[0,"3.09.1a (4)",{"$f":"IF(ISERROR(INDIRECT(\"'3.09.1a (4)'!b39\"))=TRUE,\"\",INDIRECT(\"'3.09.1a (4)'!b39\"))","v":""},{"$f":"IF(ISERROR(INDIRECT(\"'3.09.1a (4)'!c39\"))=TRUE,\"\",INDIRECT(\"'3.09.1a (4)'!c39\"))","v":""},{"$f":"IF(ISERROR(INDIRECT(\"'3.09.1a (4)'!d39\"))=TRUE,\"\",INDIRECT(\"'3.09.1a (4)'!d39\"))","v":""},{"$f":"IF(ISERROR(INDIRECT(\"'3.09.1a (4)'!e39\"))=TRUE,\"\",INDIRECT(\"'3.09.1a (4)'!e39\"))","v":""},{"$f":"IF(ISERROR(INDIRECT(\"'3.09.1a (4)'!f39\"))=TRUE,\"\",INDIRECT(\"'3.09.1a (4)'!f39\"))","v":""},{"$f":"IF(ISERROR(INDIRECT(\"'3.09.1a (4)'!g39\"))=TRUE,\"\",INDIRECT(\"'3.09.1a (4)'!g39\"))","v":""},{"$f":"IF(ISERROR(INDIRECT(\"'3.09.1a (4)'!h39\"))=TRUE,\"\",INDIRECT(\"'3.09.1a (4)'!h39\"))","v":""},{"$f":"IF(ISERROR(INDIRECT(\"'3.09.1a (4)'!i39\"))=TRUE,\"\",INDIRECT(\"'3.09.1a (4)'!i39\"))","v":""},{"$f":"IF(ISERROR(INDIRECT(\"'3.09.1a (4)'!j39\"))=TRUE,\"\",INDIRECT(\"'3.09.1a (4)'!j39\"))","v":""},{"$f":"IF(ISERROR(INDIRECT(\"'3.09.1a (4)'!o39\"))=TRUE,\"\",INDIRECT(\"'3.09.1a (4)'!o39\"))","v":""},{"$f":"IF(ISERROR(INDIRECT(\"'3.09.1a (4)'!p39\"))=TRUE,\"\",INDIRECT(\"'3.09.1a (4)'!p39\"))","v":""},{"$f":"IF(ISERROR(INDIRECT(\"'3.09.1a (4)'!q39\"))=TRUE,\"\",INDIRECT(\"'3.09.1a (4)'!q39\"))","v":""},{"$f":"IF(ISERROR(INDIRECT(\"'3.09.1a (4)'!s39\"))=TRUE,\"\",INDIRECT(\"'3.09.1a (4)'!s39\"))","v":""},{"$f":"IF(ISERROR(INDIRECT(\"'3.09.1a (4)'!t39\"))=TRUE,\"\",INDIRECT(\"'3.09.1a (4)'!t39\"))","v":""},{"$f":"IF(ISERROR(INDIRECT(\"'3.09.1a (4)'!u39\"))=TRUE,\"\",INDIRECT(\"'3.09.1a (4)'!u39\"))","v":""},{"$f":"IF(ISERROR(INDIRECT(\"'3.09.1a (4)'!v39\"))=TRUE,\"\",INDIRECT(\"'3.09.1a (4)'!v39\"))","v":""},{"$f":"IF(ISERROR(INDIRECT(\"'3.09.1a (4)'!w39\"))=TRUE,\"\",INDIRECT(\"'3.09.1a (4)'!w39\"))","v":""},{"$f":"IF(ISERROR(INDIRECT(\"'3.09.1a (4)'!x39\"))=TRUE,\"\",INDIRECT(\"'3.09.1a (4)'!x39\"))","v":""},{"$f":"IF(ISERROR(INDIRECT(\"'3.09.1a (4)'!aa39\"))=TRUE,\"\",INDIRECT(\"'3.09.1a (4)'!aa39\"))","v":""},{"$f":"IF(ISERROR(INDIRECT(\"'3.09.1a (4)'!ad39\"))=TRUE,\"\",INDIRECT(\"'3.09.1a (4)'!ad39\"))","v":""},{"$f":"IF(ISERROR(INDIRECT(\"'3.09.1a (4)'!ah39\"))=TRUE,\"\",INDIRECT(\"'3.09.1a (4)'!ah39\"))","v":""},{"$f":"IF(ISERROR(INDIRECT(\"'3.09.1a (4)'!am39\"))=TRUE,\"\",INDIRECT(\"'3.09.1a (4)'!am39\"))","v":""}]
[0,"3.09.1a (4)",{"$f":"IF(ISERROR(INDIRECT(\"'3.09.1a (4)'!b40\"))=TRUE,\"\",INDIRECT(\"'3.09.1a (4)'!b40\"))","v":""},{"$f":"IF(ISERROR(INDIRECT(\"'3.09.1a (4)'!c40\"))=TRUE,\"\",INDIRECT(\"'3.09.1a (4)'!c40\"))","v":""},{"$f":"IF(ISERROR(INDIRECT(\"'3.09.1a (4)'!d40\"))=TRUE,\"\",INDIRECT(\"'3.09.1a (4)'!d40\"))","v":""},{"$f":"IF(ISERROR(INDIRECT(\"'3.09.1a (4)'!e40\"))=TRUE,\"\",INDIRECT(\"'3.09.1a (4)'!e40\"))","v":""},{"$f":"IF(ISERROR(INDIRECT(\"'3.09.1a (4)'!f40\"))=TRUE,\"\",INDIRECT(\"'3.09.1a (4)'!f40\"))","v":""},{"$f":"IF(ISERROR(INDIRECT(\"'3.09.1a (4)'!g40\"))=TRUE,\"\",INDIRECT(\"'3.09.1a (4)'!g40\"))","v":""},{"$f":"IF(ISERROR(INDIRECT(\"'3.09.1a (4)'!h40\"))=TRUE,\"\",INDIRECT(\"'3.09.1a (4)'!h40\"))","v":""},{"$f":"IF(ISERROR(INDIRECT(\"'3.09.1a (4)'!i40\"))=TRUE,\"\",INDIRECT(\"'3.09.1a (4)'!i40\"))","v":""},{"$f":"IF(ISERROR(INDIRECT(\"'3.09.1a (4)'!j40\"))=TRUE,\"\",INDIRECT(\"'3.09.1a (4)'!j40\"))","v":""},{"$f":"IF(ISERROR(INDIRECT(\"'3.09.1a (4)'!o40\"))=TRUE,\"\",INDIRECT(\"'3.09.1a (4)'!o40\"))","v":""},{"$f":"IF(ISERROR(INDIRECT(\"'3.09.1a (4)'!p40\"))=TRUE,\"\",INDIRECT(\"'3.09.1a (4)'!p40\"))","v":""},{"$f":"IF(ISERROR(INDIRECT(\"'3.09.1a (4)'!q40\"))=TRUE,\"\",INDIRECT(\"'3.09.1a (4)'!q40\"))","v":""},{"$f":"IF(ISERROR(INDIRECT(\"'3.09.1a (4)'!s40\"))=TRUE,\"\",INDIRECT(\"'3.09.1a (4)'!s40\"))","v":""},{"$f":"IF(ISERROR(INDIRECT(\"'3.09.1a (4)'!t40\"))=TRUE,\"\",INDIRECT(\"'3.09.1a (4)'!t40\"))","v":""},{"$f":"IF(ISERROR(INDIRECT(\"'3.09.1a (4)'!u40\"))=TRUE,\"\",INDIRECT(\"'3.09.1a (4)'!u40\"))","v":""},{"$f":"IF(ISERROR(INDIRECT(\"'3.09.1a (4)'!v40\"))=TRUE,\"\",INDIRECT(\"'3.09.1a (4)'!v40\"))","v":""},{"$f":"IF(ISERROR(INDIRECT(\"'3.09.1a (4)'!w40\"))=TRUE,\"\",INDIRECT(\"'3.09.1a (4)'!w40\"))","v":""},{"$f":"IF(ISERROR(INDIRECT(\"'3.09.1a (4)'!x40\"))=TRUE,\"\",INDIRECT(\"'3.09.1a (4)'!x40\"))","v":""},{"$f":"IF(ISERROR(INDIRECT(\"'3.09.1a (4)'!aa40\"))=TRUE,\"\",INDIRECT(\"'3.09.1a (4)'!aa40\"))","v":""},{"$f":"IF(ISERROR(INDIRECT(\"'3.09.1a (4)'!ad40\"))=TRUE,\"\",INDIRECT(\"'3.09.1a (4)'!ad40\"))","v":""},{"$f":"IF(ISERROR(INDIRECT(\"'3.09.1a (4)'!ah40\"))=TRUE,\"\",INDIRECT(\"'3.09.1a (4)'!ah40\"))","v":""},{"$f":"IF(ISERROR(INDIRECT(\"'3.09.1a (4)'!am40\"))=TRUE,\"\",INDIRECT(\"'3.09.1a (4)'!am40\"))","v":""}]
[0,"3.09.1a (4)",{"$f":"IF(ISERROR(INDIRECT(\"'3.09.1a (4)'!b41\"))=TRUE,\"\",INDIRECT(\"'3.09.1a (4)'!b41\"))","v":""},{"$f":"IF(ISERROR(INDIRECT(\"'3.09.1a (4)'!c41\"))=TRUE,\"\",INDIRECT(\"'3.09.1a (4)'!c41\"))","v":""},{"$f":"IF(ISERROR(INDIRECT(\"'3.09.1a (4)'!d41\"))=TRUE,\"\",INDIRECT(\"'3.09.1a (4)'!d41\"))","v":""},{"$f":"IF(ISERROR(INDIRECT(\"'3.09.1a (4)'!e41\"))=TRUE,\"\",INDIRECT(\"'3.09.1a (4)'!e41\"))","v":""},{"$f":"IF(ISERROR(INDIRECT(\"'3.09.1a (4)'!f41\"))=TRUE,\"\",INDIRECT(\"'3.09.1a (4)'!f41\"))","v":""},{"$f":"IF(ISERROR(INDIRECT(\"'3.09.1a (4)'!g41\"))=TRUE,\"\",INDIRECT(\"'3.09.1a (4)'!g41\"))","v":""},{"$f":"IF(ISERROR(INDIRECT(\"'3.09.1a (4)'!h41\"))=TRUE,\"\",INDIRECT(\"'3.09.1a (4)'!h41\"))","v":""},{"$f":"IF(ISERROR(INDIRECT(\"'3.09.1a (4)'!i41\"))=TRUE,\"\",INDIRECT(\"'3.09.1a (4)'!i41\"))","v":""},{"$f":"IF(ISERROR(INDIRECT(\"'3.09.1a (4)'!j41\"))=TRUE,\"\",INDIRECT(\"'3.09.1a (4)'!j41\"))","v":""},{"$f":"IF(ISERROR(INDIRECT(\"'3.09.1a (4)'!o41\"))=TRUE,\"\",INDIRECT(\"'3.09.1a (4)'!o41\"))","v":""},{"$f":"IF(ISERROR(INDIRECT(\"'3.09.1a (4)'!p41\"))=TRUE,\"\",INDIRECT(\"'3.09.1a (4)'!p41\"))","v":""},{"$f":"IF(ISERROR(INDIRECT(\"'3.09.1a (4)'!q41\"))=TRUE,\"\",INDIRECT(\"'3.09.1a (4)'!q41\"))","v":""},{"$f":"IF(ISERROR(INDIRECT(\"'3.09.1a (4)'!s41\"))=TRUE,\"\",INDIRECT(\"'3.09.1a (4)'!s41\"))","v":""},{"$f":"IF(ISERROR(INDIRECT(\"'3.09.1a (4)'!t41\"))=TRUE,\"\",INDIRECT(\"'3.09.1a (4)'!t41\"))","v":""},{"$f":"IF(ISERROR(INDIRECT(\"'3.09.1a (4)'!u41\"))=TRUE,\"\",INDIRECT(\"'3.09.1a (4)'!u41\"))","v":""},{"$f":"IF(ISERROR(INDIRECT(\"'3.09.1a (4)'!v41\"))=TRUE,\"\",INDIRECT(\"'3.09.1a (4)'!v41\"))","v":""},{"$f":"IF(ISERROR(INDIRECT(\"'3.09.1a (4)'!w41\"))=TRUE,\"\",INDIRECT(\"'3.09.1a (4)'!w41\"))","v":""},{"$f":"IF(ISERROR(INDIRECT(\"'3.09.1a (4)'!x41\"))=TRUE,\"\",INDIRECT(\"'3.09.1a (4)'!x41\"))","v":""},{"$f":"IF(ISERROR(INDIRECT(\"'3.09.1a (4)'!aa41\"))=TRUE,\"\",INDIRECT(\"'3.09.1a (4)'!aa41\"))","v":""},{"$f":"IF(ISERROR(INDIRECT(\"'3.09.1a (4)'!ad41\"))=TRUE,\"\",INDIRECT(\"'3.09.1a (4)'!ad41\"))","v":""},{"$f":"IF(ISERROR(INDIRECT(\"'3.09.1a (4)'!ah41\"))=TRUE,\"\",INDIRECT(\"'3.09.1a (4)'!ah41\"))","v":""},{"$f":"IF(ISERROR(INDIRECT(\"'3.09.1a (4)'!am41\"))=TRUE,\"\",INDIRECT(\"'3.09.1a (4)'!am41\"))","v":""}]
[0,"3.09.1a (4)",{"$f":"IF(ISERROR(INDIRECT(\"'3.09.1a (4)'!b42\"))=TRUE,\"\",INDIRECT(\"'3.09.1a (4)'!b42\"))","v":""},{"$f":"IF(ISERROR(INDIRECT(\"'3.09.1a (4)'!c42\"))=TRUE,\"\",INDIRECT(\"'3.09.1a (4)'!c42\"))","v":""},{"$f":"IF(ISERROR(INDIRECT(\"'3.09.1a (4)'!d42\"))=TRUE,\"\",INDIRECT(\"'3.09.1a (4)'!d42\"))","v":""},{"$f":"IF(ISERROR(INDIRECT(\"'3.09.1a (4)'!e42\"))=TRUE,\"\",INDIRECT(\"'3.09.1a (4)'!e42\"))","v":""},{"$f":"IF(ISERROR(INDIRECT(\"'3.09.1a (4)'!f42\"))=TRUE,\"\",INDIRECT(\"'3.09.1a (4)'!f42\"))","v":""},{"$f":"IF(ISERROR(INDIRECT(\"'3.09.1a (4)'!g42\"))=TRUE,\"\",INDIRECT(\"'3.09.1a (4)'!g42\"))","v":""},{"$f":"IF(ISERROR(INDIRECT(\"'3.09.1a (4)'!h42\"))=TRUE,\"\",INDIRECT(\"'3.09.1a (4)'!h42\"))","v":""},{"$f":"IF(ISERROR(INDIRECT(\"'3.09.1a (4)'!i42\"))=TRUE,\"\",INDIRECT(\"'3.09.1a (4)'!i42\"))","v":""},{"$f":"IF(ISERROR(INDIRECT(\"'3.09.1a (4)'!j42\"))=TRUE,\"\",INDIRECT(\"'3.09.1a (4)'!j42\"))","v":""},{"$f":"IF(ISERROR(INDIRECT(\"'3.09.1a (4)'!o42\"))=TRUE,\"\",INDIRECT(\"'3.09.1a (4)'!o42\"))","v":""},{"$f":"IF(ISERROR(INDIRECT(\"'3.09.1a (4)'!p42\"))=TRUE,\"\",INDIRECT(\"'3.09.1a (4)'!p42\"))","v":""},{"$f":"IF(ISERROR(INDIRECT(\"'3.09.1a (4)'!q42\"))=TRUE,\"\",INDIRECT(\"'3.09.1a (4)'!q42\"))","v":""},{"$f":"IF(ISERROR(INDIRECT(\"'3.09.1a (4)'!s42\"))=TRUE,\"\",INDIRECT(\"'3.09.1a (4)'!s42\"))","v":""},{"$f":"IF(ISERROR(INDIRECT(\"'3.09.1a (4)'!t42\"))=TRUE,\"\",INDIRECT(\"'3.09.1a (4)'!t42\"))","v":""},{"$f":"IF(ISERROR(INDIRECT(\"'3.09.1a (4)'!u42\"))=TRUE,\"\",INDIRECT(\"'3.09.1a (4)'!u42\"))","v":""},{"$f":"IF(ISERROR(INDIRECT(\"'3.09.1a (4)'!v42\"))=TRUE,\"\",INDIRECT(\"'3.09.1a (4)'!v42\"))","v":""},{"$f":"IF(ISERROR(INDIRECT(\"'3.09.1a (4)'!w42\"))=TRUE,\"\",INDIRECT(\"'3.09.1a (4)'!w42\"))","v":""},{"$f":"IF(ISERROR(INDIRECT(\"'3.09.1a (4)'!x42\"))=TRUE,\"\",INDIRECT(\"'3.09.1a (4)'!x42\"))","v":""},{"$f":"IF(ISERROR(INDIRECT(\"'3.09.1a (4)'!aa42\"))=TRUE,\"\",INDIRECT(\"'3.09.1a (4)'!aa42\"))","v":""},{"$f":"IF(ISERROR(INDIRECT(\"'3.09.1a (4)'!ad42\"))=TRUE,\"\",INDIRECT(\"'3.09.1a (4)'!ad42\"))","v":""},{"$f":"IF(ISERROR(INDIRECT(\"'3.09.1a (4)'!ah42\"))=TRUE,\"\",INDIRECT(\"'3.09.1a (4)'!ah42\"))","v":""},{"$f":"IF(ISERROR(INDIRECT(\"'3.09.1a (4)'!am42\"))=TRUE,\"\",INDIRECT(\"'3.09.1a (4)'!am42\"))","v":""}]
[0,"3.09.1a (4)",{"$f":"IF(ISERROR(INDIRECT(\"'3.09.1a (4)'!b43\"))=TRUE,\"\",INDIRECT(\"'3.09.1a (4)'!b43\"))","v":""},{"$f":"IF(ISERROR(INDIRECT(\"'3.09.1a (4)'!c43\"))=TRUE,\"\",INDIRECT(\"'3.09.1a (4)'!c43\"))","v":""},{"$f":"IF(ISERROR(INDIRECT(\"'3.09.1a (4)'!d43\"))=TRUE,\"\",INDIRECT(\"'3.09.1a (4)'!d43\"))","v":""},{"$f":"IF(ISERROR(INDIRECT(\"'3.09.1a (4)'!e43\"))=TRUE,\"\",INDIRECT(\"'3.09.1a (4)'!e43\"))","v":""},{"$f":"IF(ISERROR(INDIRECT(\"'3.09.1a (4)'!f43\"))=TRUE,\"\",INDIRECT(\"'3.09.1a (4)'!f43\"))","v":""},{"$f":"IF(ISERROR(INDIRECT(\"'3.09.1a (4)'!g43\"))=TRUE,\"\",INDIRECT(\"'3.09.1a (4)'!g43\"))","v":""},{"$f":"IF(ISERROR(INDIRECT(\"'3.09.1a (4)'!h43\"))=TRUE,\"\",INDIRECT(\"'3.09.1a (4)'!h43\"))","v":""},{"$f":"IF(ISERROR(INDIRECT(\"'3.09.1a (4)'!i43\"))=TRUE,\"\",INDIRECT(\"'3.09.1a (4)'!i43\"))","v":""},{"$f":"IF(ISERROR(INDIRECT(\"'3.09.1a (4)'!j43\"))=TRUE,\"\",INDIRECT(\"'3.09.1a (4)'!j43\"))","v":""},{"$f":"IF(ISERROR(INDIRECT(\"'3.09.1a (4)'!o43\"))=TRUE,\"\",INDIRECT(\"'3.09.1a (4)'!o43\"))","v":""},{"$f":"IF(ISERROR(INDIRECT(\"'3.09.1a (4)'!p43\"))=TRUE,\"\",INDIRECT(\"'3.09.1a (4)'!p43\"))","v":""},{"$f":"IF(ISERROR(INDIRECT(\"'3.09.1a (4)'!q43\"))=TRUE,\"\",INDIRECT(\"'3.09.1a (4)'!q43\"))","v":""},{"$f":"IF(ISERROR(INDIRECT(\"'3.09.1a (4)'!s43\"))=TRUE,\"\",INDIRECT(\"'3.09.1a (4)'!s43\"))","v":""},{"$f":"IF(ISERROR(INDIRECT(\"'3.09.1a (4)'!t43\"))=TRUE,\"\",INDIRECT(\"'3.09.1a (4)'!t43\"))","v":""},{"$f":"IF(ISERROR(INDIRECT(\"'3.09.1a (4)'!u43\"))=TRUE,\"\",INDIRECT(\"'3.09.1a (4)'!u43\"))","v":""},{"$f":"IF(ISERROR(INDIRECT(\"'3.09.1a (4)'!v43\"))=TRUE,\"\",INDIRECT(\"'3.09.1a (4)'!v43\"))","v":""},{"$f":"IF(ISERROR(INDIRECT(\"'3.09.1a (4)'!w43\"))=TRUE,\"\",INDIRECT(\"'3.09.1a (4)'!w43\"))","v":""},{"$f":"IF(ISERROR(INDIRECT(\"'3.09.1a (4)'!x43\"))=TRUE,\"\",INDIRECT(\"'3.09.1a (4)'!x43\"))","v":""},{"$f":"IF(ISERROR(INDIRECT(\"'3.09.1a (4)'!aa43\"))=TRUE,\"\",INDIRECT(\"'3.09.1a (4)'!aa43\"))","v":""},{"$f":"IF(ISERROR(INDIRECT(\"'3.09.1a (4)'!ad43\"))=TRUE,\"\",INDIRECT(\"'3.09.1a (4)'!ad43\"))","v":""},{"$f":"IF(ISERROR(INDIRECT(\"'3.09.1a (4)'!ah43\"))=TRUE,\"\",INDIRECT(\"'3.09.1a (4)'!ah43\"))","v":""},{"$f":"IF(ISERROR(INDIRECT(\"'3.09.1a (4)'!am43\"))=TRUE,\"\",INDIRECT(\"'3.09.1a (4)'!am43\"))","v":""}]
[{"$f":"AgencyCode","v":0},"3.09.1a (5)",{"$f":"IF(ISERROR(INDIRECT(\"'3.09.1a (5)'!b19\"))=TRUE,\"\",INDIRECT(\"'3.09.1a (5)'!b19\"))","v":""},{"$f":"IF(ISERROR(INDIRECT(\"'3.09.1a (5)'!c19\"))=TRUE,\"\",INDIRECT(\"'3.09.1a (5)'!c19\"))","v":""},{"$f":"IF(ISERROR(INDIRECT(\"'3.09.1a (5)'!D19\"))=TRUE,\"\",INDIRECT(\"'3.09.1a (5)'!D19\"))","v":""},{"$f":"IF(ISERROR(INDIRECT(\"'3.09.1a (5)'!e19\"))=TRUE,\"\",INDIRECT(\"'3.09.1a (5)'!e19\"))","v":""},{"$f":"IF(ISERROR(INDIRECT(\"'3.09.1a (5)'!f19\"))=TRUE,\"\",INDIRECT(\"'3.09.1a (5)'!f19\"))","v":""},{"$f":"IF(ISERROR(INDIRECT(\"'3.09.1a (5)'!g19\"))=TRUE,\"\",INDIRECT(\"'3.09.1a (5)'!g19\"))","v":""},{"$f":"IF(ISERROR(INDIRECT(\"'3.09.1a (5)'!h19\"))=TRUE,\"\",INDIRECT(\"'3.09.1a (5)'!h19\"))","v":""},{"$f":"IF(ISERROR(INDIRECT(\"'3.09.1a (5)'!i19\"))=TRUE,\"\",INDIRECT(\"'3.09.1a (5)'!i19\"))","v":""},{"$f":"IF(ISERROR(INDIRECT(\"'3.09.1a (5)'!j19\"))=TRUE,\"\",INDIRECT(\"'3.09.1a (5)'!j19\"))","v":""},{"$f":"IF(ISERROR(INDIRECT(\"'3.09.1a (5)'!o19\"))=TRUE,\"\",INDIRECT(\"'3.09.1a (5)'!o19\"))","v":""},{"$f":"IF(ISERROR(INDIRECT(\"'3.09.1a (5)'!p19\"))=TRUE,\"\",INDIRECT(\"'3.09.1a (5)'!p19\"))","v":""},{"$f":"IF(ISERROR(INDIRECT(\"'3.09.1a (5)'!q19\"))=TRUE,\"\",INDIRECT(\"'3.09.1a (5)'!q19\"))","v":""},{"$f":"IF(ISERROR(INDIRECT(\"'3.09.1a (5)'!s19\"))=TRUE,\"\",INDIRECT(\"'3.09.1a (5)'!s19\"))","v":""},{"$f":"IF(ISERROR(INDIRECT(\"'3.09.1a (5)'!t19\"))=TRUE,\"\",INDIRECT(\"'3.09.1a (5)'!t19\"))","v":""},{"$f":"IF(ISERROR(INDIRECT(\"'3.09.1a (5)'!u19\"))=TRUE,\"\",INDIRECT(\"'3.09.1a (5)'!u19\"))","v":""},{"$f":"IF(ISERROR(INDIRECT(\"'3.09.1a (5)'!v19\"))=TRUE,\"\",INDIRECT(\"'3.09.1a (5)'!v19\"))","v":""},{"$f":"IF(ISERROR(INDIRECT(\"'3.09.1a (5)'!w19\"))=TRUE,\"\",INDIRECT(\"'3.09.1a (5)'!w19\"))","v":""},{"$f":"IF(ISERROR(INDIRECT(\"'3.09.1a (5)'!x19\"))=TRUE,\"\",INDIRECT(\"'3.09.1a (5)'!x19\"))","v":""},{"$f":"IF(ISERROR(INDIRECT(\"'3.09.1a (5)'!aa19\"))=TRUE,\"\",INDIRECT(\"'3.09.1a (5)'!aa19\"))","v":""},{"$f":"IF(ISERROR(INDIRECT(\"'3.09.1a (5)'!ad19\"))=TRUE,\"\",INDIRECT(\"'3.09.1a (5)'!ad19\"))","v":""},{"$f":"IF(ISERROR(INDIRECT(\"'3.09.1a (5)'!ah19\"))=TRUE,\"\",INDIRECT(\"'3.09.1a (5)'!ah19\"))","v":""},{"$f":"IF(ISERROR(INDIRECT(\"'3.09.1a (5)'!am19\"))=TRUE,\"\",INDIRECT(\"'3.09.1a (5)'!am19\"))","v":""}]
[0,"3.09.1a (5)",{"$f":"IF(ISERROR(INDIRECT(\"'3.09.1a (5)'!b20\"))=TRUE,\"\",INDIRECT(\"'3.09.1a (5)'!b20\"))","v":""},{"$f":"IF(ISERROR(INDIRECT(\"'3.09.1a (5)'!c20\"))=TRUE,\"\",INDIRECT(\"'3.09.1a (5)'!c20\"))","v":""},{"$f":"IF(ISERROR(INDIRECT(\"'3.09.1a (5)'!d20\"))=TRUE,\"\",INDIRECT(\"'3.09.1a (5)'!d20\"))","v":""},{"$f":"IF(ISERROR(INDIRECT(\"'3.09.1a (5)'!e20\"))=TRUE,\"\",INDIRECT(\"'3.09.1a (5)'!e20\"))","v":""},{"$f":"IF(ISERROR(INDIRECT(\"'3.09.1a (5)'!f20\"))=TRUE,\"\",INDIRECT(\"'3.09.1a (5)'!f20\"))","v":""},{"$f":"IF(ISERROR(INDIRECT(\"'3.09.1a (5)'!g20\"))=TRUE,\"\",INDIRECT(\"'3.09.1a (5)'!g20\"))","v":""},{"$f":"IF(ISERROR(INDIRECT(\"'3.09.1a (5)'!h20\"))=TRUE,\"\",INDIRECT(\"'3.09.1a (5)'!h20\"))","v":""},{"$f":"IF(ISERROR(INDIRECT(\"'3.09.1a (5)'!i20\"))=TRUE,\"\",INDIRECT(\"'3.09.1a (5)'!i20\"))","v":""},{"$f":"IF(ISERROR(INDIRECT(\"'3.09.1a (5)'!j20\"))=TRUE,\"\",INDIRECT(\"'3.09.1a (5)'!j20\"))","v":""},{"$f":"IF(ISERROR(INDIRECT(\"'3.09.1a (5)'!o20\"))=TRUE,\"\",INDIRECT(\"'3.09.1a (5)'!o20\"))","v":""},{"$f":"IF(ISERROR(INDIRECT(\"'3.09.1a (5)'!p20\"))=TRUE,\"\",INDIRECT(\"'3.09.1a (5)'!p20\"))","v":""},{"$f":"IF(ISERROR(INDIRECT(\"'3.09.1a (5)'!q20\"))=TRUE,\"\",INDIRECT(\"'3.09.1a (5)'!q20\"))","v":""},{"$f":"IF(ISERROR(INDIRECT(\"'3.09.1a (5)'!s20\"))=TRUE,\"\",INDIRECT(\"'3.09.1a (5)'!s20\"))","v":""},{"$f":"IF(ISERROR(INDIRECT(\"'3.09.1a (5)'!t20\"))=TRUE,\"\",INDIRECT(\"'3.09.1a (5)'!t20\"))","v":""},{"$f":"IF(ISERROR(INDIRECT(\"'3.09.1a (5)'!u20\"))=TRUE,\"\",INDIRECT(\"'3.09.1a (5)'!u20\"))","v":""},{"$f":"IF(ISERROR(INDIRECT(\"'3.09.1a (5)'!v20\"))=TRUE,\"\",INDIRECT(\"'3.09.1a (5)'!v20\"))","v":""},{"$f":"IF(ISERROR(INDIRECT(\"'3.09.1a (5)'!w20\"))=TRUE,\"\",INDIRECT(\"'3.09.1a (5)'!w20\"))","v":""},{"$f":"IF(ISERROR(INDIRECT(\"'3.09.1a (5)'!x20\"))=TRUE,\"\",INDIRECT(\"'3.09.1a (5)'!x20\"))","v":""},{"$f":"IF(ISERROR(INDIRECT(\"'3.09.1a (5)'!aa20\"))=TRUE,\"\",INDIRECT(\"'3.09.1a (5)'!aa20\"))","v":""},{"$f":"IF(ISERROR(INDIRECT(\"'3.09.1a (5)'!ad20\"))=TRUE,\"\",INDIRECT(\"'3.09.1a (5)'!ad20\"))","v":""},{"$f":"IF(ISERROR(INDIRECT(\"'3.09.1a (5)'!ah20\"))=TRUE,\"\",INDIRECT(\"'3.09.1a (5)'!ah20\"))","v":""},{"$f":"IF(ISERROR(INDIRECT(\"'3.09.1a (5)'!am20\"))=TRUE,\"\",INDIRECT(\"'3.09.1a (5)'!am20\"))","v":""}]
[0,"3.09.1a (5)",{"$f":"IF(ISERROR(INDIRECT(\"'3.09.1a (5)'!b21\"))=TRUE,\"\",INDIRECT(\"'3.09.1a (5)'!b21\"))","v":""},{"$f":"IF(ISERROR(INDIRECT(\"'3.09.1a (5)'!c21\"))=TRUE,\"\",INDIRECT(\"'3.09.1a (5)'!c21\"))","v":""},{"$f":"IF(ISERROR(INDIRECT(\"'3.09.1a (5)'!d21\"))=TRUE,\"\",INDIRECT(\"'3.09.1a (5)'!d21\"))","v":""},{"$f":"IF(ISERROR(INDIRECT(\"'3.09.1a (5)'!e21\"))=TRUE,\"\",INDIRECT(\"'3.09.1a (5)'!e21\"))","v":""},{"$f":"IF(ISERROR(INDIRECT(\"'3.09.1a (5)'!f21\"))=TRUE,\"\",INDIRECT(\"'3.09.1a (5)'!f21\"))","v":""},{"$f":"IF(ISERROR(INDIRECT(\"'3.09.1a (5)'!g21\"))=TRUE,\"\",INDIRECT(\"'3.09.1a (5)'!g21\"))","v":""},{"$f":"IF(ISERROR(INDIRECT(\"'3.09.1a (5)'!h21\"))=TRUE,\"\",INDIRECT(\"'3.09.1a (5)'!h21\"))","v":""},{"$f":"IF(ISERROR(INDIRECT(\"'3.09.1a (5)'!i21\"))=TRUE,\"\",INDIRECT(\"'3.09.1a (5)'!i21\"))","v":""},{"$f":"IF(ISERROR(INDIRECT(\"'3.09.1a (5)'!j21\"))=TRUE,\"\",INDIRECT(\"'3.09.1a (5)'!j21\"))","v":""},{"$f":"IF(ISERROR(INDIRECT(\"'3.09.1a (5)'!o21\"))=TRUE,\"\",INDIRECT(\"'3.09.1a (5)'!o21\"))","v":""},{"$f":"IF(ISERROR(INDIRECT(\"'3.09.1a (5)'!p21\"))=TRUE,\"\",INDIRECT(\"'3.09.1a (5)'!p21\"))","v":""},{"$f":"IF(ISERROR(INDIRECT(\"'3.09.1a (5)'!q21\"))=TRUE,\"\",INDIRECT(\"'3.09.1a (5)'!q21\"))","v":""},{"$f":"IF(ISERROR(INDIRECT(\"'3.09.1a (5)'!s21\"))=TRUE,\"\",INDIRECT(\"'3.09.1a (5)'!s21\"))","v":""},{"$f":"IF(ISERROR(INDIRECT(\"'3.09.1a (5)'!t21\"))=TRUE,\"\",INDIRECT(\"'3.09.1a (5)'!t21\"))","v":""},{"$f":"IF(ISERROR(INDIRECT(\"'3.09.1a (5)'!u21\"))=TRUE,\"\",INDIRECT(\"'3.09.1a (5)'!u21\"))","v":""},{"$f":"IF(ISERROR(INDIRECT(\"'3.09.1a (5)'!v21\"))=TRUE,\"\",INDIRECT(\"'3.09.1a (5)'!v21\"))","v":""},{"$f":"IF(ISERROR(INDIRECT(\"'3.09.1a (5)'!w21\"))=TRUE,\"\",INDIRECT(\"'3.09.1a (5)'!w21\"))","v":""},{"$f":"IF(ISERROR(INDIRECT(\"'3.09.1a (5)'!x21\"))=TRUE,\"\",INDIRECT(\"'3.09.1a (5)'!x21\"))","v":""},{"$f":"IF(ISERROR(INDIRECT(\"'3.09.1a (5)'!aa21\"))=TRUE,\"\",INDIRECT(\"'3.09.1a (5)'!aa21\"))","v":""},{"$f":"IF(ISERROR(INDIRECT(\"'3.09.1a (5)'!ad21\"))=TRUE,\"\",INDIRECT(\"'3.09.1a (5)'!ad21\"))","v":""},{"$f":"IF(ISERROR(INDIRECT(\"'3.09.1a (5)'!ah21\"))=TRUE,\"\",INDIRECT(\"'3.09.1a (5)'!ah21\"))","v":""},{"$f":"IF(ISERROR(INDIRECT(\"'3.09.1a (5)'!am21\"))=TRUE,\"\",INDIRECT(\"'3.09.1a (5)'!am21\"))","v":""}]
[0,"3.09.1a (5)",{"$f":"IF(ISERROR(INDIRECT(\"'3.09.1a (5)'!b22\"))=TRUE,\"\",INDIRECT(\"'3.09.1a (5)'!b22\"))","v":""},{"$f":"IF(ISERROR(INDIRECT(\"'3.09.1a (5)'!c22\"))=TRUE,\"\",INDIRECT(\"'3.09.1a (5)'!c22\"))","v":""},{"$f":"IF(ISERROR(INDIRECT(\"'3.09.1a (5)'!d22\"))=TRUE,\"\",INDIRECT(\"'3.09.1a (5)'!d22\"))","v":""},{"$f":"IF(ISERROR(INDIRECT(\"'3.09.1a (5)'!e22\"))=TRUE,\"\",INDIRECT(\"'3.09.1a (5)'!e22\"))","v":""},{"$f":"IF(ISERROR(INDIRECT(\"'3.09.1a (5)'!f22\"))=TRUE,\"\",INDIRECT(\"'3.09.1a (5)'!f22\"))","v":""},{"$f":"IF(ISERROR(INDIRECT(\"'3.09.1a (5)'!g22\"))=TRUE,\"\",INDIRECT(\"'3.09.1a (5)'!g22\"))","v":""},{"$f":"IF(ISERROR(INDIRECT(\"'3.09.1a (5)'!h22\"))=TRUE,\"\",INDIRECT(\"'3.09.1a (5)'!h22\"))","v":""},{"$f":"IF(ISERROR(INDIRECT(\"'3.09.1a (5)'!i22\"))=TRUE,\"\",INDIRECT(\"'3.09.1a (5)'!i22\"))","v":""},{"$f":"IF(ISERROR(INDIRECT(\"'3.09.1a (5)'!j22\"))=TRUE,\"\",INDIRECT(\"'3.09.1a (5)'!j22\"))","v":""},{"$f":"IF(ISERROR(INDIRECT(\"'3.09.1a (5)'!o22\"))=TRUE,\"\",INDIRECT(\"'3.09.1a (5)'!o22\"))","v":""},{"$f":"IF(ISERROR(INDIRECT(\"'3.09.1a (5)'!p22\"))=TRUE,\"\",INDIRECT(\"'3.09.1a (5)'!p22\"))","v":""},{"$f":"IF(ISERROR(INDIRECT(\"'3.09.1a (5)'!q22\"))=TRUE,\"\",INDIRECT(\"'3.09.1a (5)'!q22\"))","v":""},{"$f":"IF(ISERROR(INDIRECT(\"'3.09.1a (5)'!s22\"))=TRUE,\"\",INDIRECT(\"'3.09.1a (5)'!s22\"))","v":""},{"$f":"IF(ISERROR(INDIRECT(\"'3.09.1a (5)'!t22\"))=TRUE,\"\",INDIRECT(\"'3.09.1a (5)'!t22\"))","v":""},{"$f":"IF(ISERROR(INDIRECT(\"'3.09.1a (5)'!u22\"))=TRUE,\"\",INDIRECT(\"'3.09.1a (5)'!u22\"))","v":""},{"$f":"IF(ISERROR(INDIRECT(\"'3.09.1a (5)'!v22\"))=TRUE,\"\",INDIRECT(\"'3.09.1a (5)'!v22\"))","v":""},{"$f":"IF(ISERROR(INDIRECT(\"'3.09.1a (5)'!w22\"))=TRUE,\"\",INDIRECT(\"'3.09.1a (5)'!w22\"))","v":""},{"$f":"IF(ISERROR(INDIRECT(\"'3.09.1a (5)'!x22\"))=TRUE,\"\",INDIRECT(\"'3.09.1a (5)'!x22\"))","v":""},{"$f":"IF(ISERROR(INDIRECT(\"'3.09.1a (5)'!aa22\"))=TRUE,\"\",INDIRECT(\"'3.09.1a (5)'!aa22\"))","v":""},{"$f":"IF(ISERROR(INDIRECT(\"'3.09.1a (5)'!ad22\"))=TRUE,\"\",INDIRECT(\"'3.09.1a (5)'!ad22\"))","v":""},{"$f":"IF(ISERROR(INDIRECT(\"'3.09.1a (5)'!ah22\"))=TRUE,\"\",INDIRECT(\"'3.09.1a (5)'!ah22\"))","v":""},{"$f":"IF(ISERROR(INDIRECT(\"'3.09.1a (5)'!am22\"))=TRUE,\"\",INDIRECT(\"'3.09.1a (5)'!am22\"))","v":""}]
[0,"3.09.1a (5)",{"$f":"IF(ISERROR(INDIRECT(\"'3.09.1a (5)'!b23\"))=TRUE,\"\",INDIRECT(\"'3.09.1a (5)'!b23\"))","v":""},{"$f":"IF(ISERROR(INDIRECT(\"'3.09.1a (5)'!c23\"))=TRUE,\"\",INDIRECT(\"'3.09.1a (5)'!c23\"))","v":""},{"$f":"IF(ISERROR(INDIRECT(\"'3.09.1a (5)'!d23\"))=TRUE,\"\",INDIRECT(\"'3.09.1a (5)'!d23\"))","v":""},{"$f":"IF(ISERROR(INDIRECT(\"'3.09.1a (5)'!e23\"))=TRUE,\"\",INDIRECT(\"'3.09.1a (5)'!e23\"))","v":""},{"$f":"IF(ISERROR(INDIRECT(\"'3.09.1a (5)'!f23\"))=TRUE,\"\",INDIRECT(\"'3.09.1a (5)'!f23\"))","v":""},{"$f":"IF(ISERROR(INDIRECT(\"'3.09.1a (5)'!g23\"))=TRUE,\"\",INDIRECT(\"'3.09.1a (5)'!g23\"))","v":""},{"$f":"IF(ISERROR(INDIRECT(\"'3.09.1a (5)'!h23\"))=TRUE,\"\",INDIRECT(\"'3.09.1a (5)'!h23\"))","v":""},{"$f":"IF(ISERROR(INDIRECT(\"'3.09.1a (5)'!i23\"))=TRUE,\"\",INDIRECT(\"'3.09.1a (5)'!i23\"))","v":""},{"$f":"IF(ISERROR(INDIRECT(\"'3.09.1a (5)'!j23\"))=TRUE,\"\",INDIRECT(\"'3.09.1a (5)'!j23\"))","v":""},{"$f":"IF(ISERROR(INDIRECT(\"'3.09.1a (5)'!o23\"))=TRUE,\"\",INDIRECT(\"'3.09.1a (5)'!o23\"))","v":""},{"$f":"IF(ISERROR(INDIRECT(\"'3.09.1a (5)'!p23\"))=TRUE,\"\",INDIRECT(\"'3.09.1a (5)'!p23\"))","v":""},{"$f":"IF(ISERROR(INDIRECT(\"'3.09.1a (5)'!q23\"))=TRUE,\"\",INDIRECT(\"'3.09.1a (5)'!q23\"))","v":""},{"$f":"IF(ISERROR(INDIRECT(\"'3.09.1a (5)'!s23\"))=TRUE,\"\",INDIRECT(\"'3.09.1a (5)'!s23\"))","v":""},{"$f":"IF(ISERROR(INDIRECT(\"'3.09.1a (5)'!t23\"))=TRUE,\"\",INDIRECT(\"'3.09.1a (5)'!t23\"))","v":""},{"$f":"IF(ISERROR(INDIRECT(\"'3.09.1a (5)'!u23\"))=TRUE,\"\",INDIRECT(\"'3.09.1a (5)'!u23\"))","v":""},{"$f":"IF(ISERROR(INDIRECT(\"'3.09.1a (5)'!v23\"))=TRUE,\"\",INDIRECT(\"'3.09.1a (5)'!v23\"))","v":""},{"$f":"IF(ISERROR(INDIRECT(\"'3.09.1a (5)'!w23\"))=TRUE,\"\",INDIRECT(\"'3.09.1a (5)'!w23\"))","v":""},{"$f":"IF(ISERROR(INDIRECT(\"'3.09.1a (5)'!x23\"))=TRUE,\"\",INDIRECT(\"'3.09.1a (5)'!x23\"))","v":""},{"$f":"IF(ISERROR(INDIRECT(\"'3.09.1a (5)'!aa23\"))=TRUE,\"\",INDIRECT(\"'3.09.1a (5)'!aa23\"))","v":""},{"$f":"IF(ISERROR(INDIRECT(\"'3.09.1a (5)'!ad23\"))=TRUE,\"\",INDIRECT(\"'3.09.1a (5)'!ad23\"))","v":""},{"$f":"IF(ISERROR(INDIRECT(\"'3.09.1a (5)'!ah23\"))=TRUE,\"\",INDIRECT(\"'3.09.1a (5)'!ah23\"))","v":""},{"$f":"IF(ISERROR(INDIRECT(\"'3.09.1a (5)'!am23\"))=TRUE,\"\",INDIRECT(\"'3.09.1a (5)'!am23\"))","v":""}]
[0,"3.09.1a (5)",{"$f":"IF(ISERROR(INDIRECT(\"'3.09.1a (5)'!b24\"))=TRUE,\"\",INDIRECT(\"'3.09.1a (5)'!b24\"))","v":""},{"$f":"IF(ISERROR(INDIRECT(\"'3.09.1a (5)'!c24\"))=TRUE,\"\",INDIRECT(\"'3.09.1a (5)'!c24\"))","v":""},{"$f":"IF(ISERROR(INDIRECT(\"'3.09.1a (5)'!d24\"))=TRUE,\"\",INDIRECT(\"'3.09.1a (5)'!d24\"))","v":""},{"$f":"IF(ISERROR(INDIRECT(\"'3.09.1a (5)'!e24\"))=TRUE,\"\",INDIRECT(\"'3.09.1a (5)'!e24\"))","v":""},{"$f":"IF(ISERROR(INDIRECT(\"'3.09.1a (5)'!f24\"))=TRUE,\"\",INDIRECT(\"'3.09.1a (5)'!f24\"))","v":""},{"$f":"IF(ISERROR(INDIRECT(\"'3.09.1a (5)'!g24\"))=TRUE,\"\",INDIRECT(\"'3.09.1a (5)'!g24\"))","v":""},{"$f":"IF(ISERROR(INDIRECT(\"'3.09.1a (5)'!h24\"))=TRUE,\"\",INDIRECT(\"'3.09.1a (5)'!h24\"))","v":""},{"$f":"IF(ISERROR(INDIRECT(\"'3.09.1a (5)'!i24\"))=TRUE,\"\",INDIRECT(\"'3.09.1a (5)'!i24\"))","v":""},{"$f":"IF(ISERROR(INDIRECT(\"'3.09.1a (5)'!j24\"))=TRUE,\"\",INDIRECT(\"'3.09.1a (5)'!j24\"))","v":""},{"$f":"IF(ISERROR(INDIRECT(\"'3.09.1a (5)'!o24\"))=TRUE,\"\",INDIRECT(\"'3.09.1a (5)'!o24\"))","v":""},{"$f":"IF(ISERROR(INDIRECT(\"'3.09.1a (5)'!p24\"))=TRUE,\"\",INDIRECT(\"'3.09.1a (5)'!p24\"))","v":""},{"$f":"IF(ISERROR(INDIRECT(\"'3.09.1a (5)'!q24\"))=TRUE,\"\",INDIRECT(\"'3.09.1a (5)'!q24\"))","v":""},{"$f":"IF(ISERROR(INDIRECT(\"'3.09.1a (5)'!s24\"))=TRUE,\"\",INDIRECT(\"'3.09.1a (5)'!s24\"))","v":""},{"$f":"IF(ISERROR(INDIRECT(\"'3.09.1a (5)'!t24\"))=TRUE,\"\",INDIRECT(\"'3.09.1a (5)'!t24\"))","v":""},{"$f":"IF(ISERROR(INDIRECT(\"'3.09.1a (5)'!u24\"))=TRUE,\"\",INDIRECT(\"'3.09.1a (5)'!u24\"))","v":""},{"$f":"IF(ISERROR(INDIRECT(\"'3.09.1a (5)'!v24\"))=TRUE,\"\",INDIRECT(\"'3.09.1a (5)'!v24\"))","v":""},{"$f":"IF(ISERROR(INDIRECT(\"'3.09.1a (5)'!w24\"))=TRUE,\"\",INDIRECT(\"'3.09.1a (5)'!w24\"))","v":""},{"$f":"IF(ISERROR(INDIRECT(\"'3.09.1a (5)'!x24\"))=TRUE,\"\",INDIRECT(\"'3.09.1a (5)'!x24\"))","v":""},{"$f":"IF(ISERROR(INDIRECT(\"'3.09.1a (5)'!aa24\"))=TRUE,\"\",INDIRECT(\"'3.09.1a (5)'!aa24\"))","v":""},{"$f":"IF(ISERROR(INDIRECT(\"'3.09.1a (5)'!ad24\"))=TRUE,\"\",INDIRECT(\"'3.09.1a (5)'!ad24\"))","v":""},{"$f":"IF(ISERROR(INDIRECT(\"'3.09.1a (5)'!ah24\"))=TRUE,\"\",INDIRECT(\"'3.09.1a (5)'!ah24\"))","v":""},{"$f":"IF(ISERROR(INDIRECT(\"'3.09.1a (5)'!am24\"))=TRUE,\"\",INDIRECT(\"'3.09.1a (5)'!am24\"))","v":""}]
[0,"3.09.1a (5)",{"$f":"IF(ISERROR(INDIRECT(\"'3.09.1a (5)'!b25\"))=TRUE,\"\",INDIRECT(\"'3.09.1a (5)'!b25\"))","v":""},{"$f":"IF(ISERROR(INDIRECT(\"'3.09.1a (5)'!c25\"))=TRUE,\"\",INDIRECT(\"'3.09.1a (5)'!c25\"))","v":""},{"$f":"IF(ISERROR(INDIRECT(\"'3.09.1a (5)'!d25\"))=TRUE,\"\",INDIRECT(\"'3.09.1a (5)'!d25\"))","v":""},{"$f":"IF(ISERROR(INDIRECT(\"'3.09.1a (5)'!e25\"))=TRUE,\"\",INDIRECT(\"'3.09.1a (5)'!e25\"))","v":""},{"$f":"IF(ISERROR(INDIRECT(\"'3.09.1a (5)'!f25\"))=TRUE,\"\",INDIRECT(\"'3.09.1a (5)'!f25\"))","v":""},{"$f":"IF(ISERROR(INDIRECT(\"'3.09.1a (5)'!g25\"))=TRUE,\"\",INDIRECT(\"'3.09.1a (5)'!g25\"))","v":""},{"$f":"IF(ISERROR(INDIRECT(\"'3.09.1a (5)'!h25\"))=TRUE,\"\",INDIRECT(\"'3.09.1a (5)'!h25\"))","v":""},{"$f":"IF(ISERROR(INDIRECT(\"'3.09.1a (5)'!i25\"))=TRUE,\"\",INDIRECT(\"'3.09.1a (5)'!i25\"))","v":""},{"$f":"IF(ISERROR(INDIRECT(\"'3.09.1a (5)'!j25\"))=TRUE,\"\",INDIRECT(\"'3.09.1a (5)'!j25\"))","v":""},{"$f":"IF(ISERROR(INDIRECT(\"'3.09.1a (5)'!o25\"))=TRUE,\"\",INDIRECT(\"'3.09.1a (5)'!o25\"))","v":""},{"$f":"IF(ISERROR(INDIRECT(\"'3.09.1a (5)'!p25\"))=TRUE,\"\",INDIRECT(\"'3.09.1a (5)'!p25\"))","v":""},{"$f":"IF(ISERROR(INDIRECT(\"'3.09.1a (5)'!q25\"))=TRUE,\"\",INDIRECT(\"'3.09.1a (5)'!q25\"))","v":""},{"$f":"IF(ISERROR(INDIRECT(\"'3.09.1a (5)'!s25\"))=TRUE,\"\",INDIRECT(\"'3.09.1a (5)'!s25\"))","v":""},{"$f":"IF(ISERROR(INDIRECT(\"'3.09.1a (5)'!t25\"))=TRUE,\"\",INDIRECT(\"'3.09.1a (5)'!t25\"))","v":""},{"$f":"IF(ISERROR(INDIRECT(\"'3.09.1a (5)'!u25\"))=TRUE,\"\",INDIRECT(\"'3.09.1a (5)'!u25\"))","v":""},{"$f":"IF(ISERROR(INDIRECT(\"'3.09.1a (5)'!v25\"))=TRUE,\"\",INDIRECT(\"'3.09.1a (5)'!v25\"))","v":""},{"$f":"IF(ISERROR(INDIRECT(\"'3.09.1a (5)'!w25\"))=TRUE,\"\",INDIRECT(\"'3.09.1a (5)'!w25\"))","v":""},{"$f":"IF(ISERROR(INDIRECT(\"'3.09.1a (5)'!x25\"))=TRUE,\"\",INDIRECT(\"'3.09.1a (5)'!x25\"))","v":""},{"$f":"IF(ISERROR(INDIRECT(\"'3.09.1a (5)'!aa25\"))=TRUE,\"\",INDIRECT(\"'3.09.1a (5)'!aa25\"))","v":""},{"$f":"IF(ISERROR(INDIRECT(\"'3.09.1a (5)'!ad25\"))=TRUE,\"\",INDIRECT(\"'3.09.1a (5)'!ad25\"))","v":""},{"$f":"IF(ISERROR(INDIRECT(\"'3.09.1a (5)'!ah25\"))=TRUE,\"\",INDIRECT(\"'3.09.1a (5)'!ah25\"))","v":""},{"$f":"IF(ISERROR(INDIRECT(\"'3.09.1a (5)'!am25\"))=TRUE,\"\",INDIRECT(\"'3.09.1a (5)'!am25\"))","v":""}]
[0,"3.09.1a (5)",{"$f":"IF(ISERROR(INDIRECT(\"'3.09.1a (5)'!b26\"))=TRUE,\"\",INDIRECT(\"'3.09.1a (5)'!b26\"))","v":""},{"$f":"IF(ISERROR(INDIRECT(\"'3.09.1a (5)'!c26\"))=TRUE,\"\",INDIRECT(\"'3.09.1a (5)'!c26\"))","v":""},{"$f":"IF(ISERROR(INDIRECT(\"'3.09.1a (5)'!d26\"))=TRUE,\"\",INDIRECT(\"'3.09.1a (5)'!d26\"))","v":""},{"$f":"IF(ISERROR(INDIRECT(\"'3.09.1a (5)'!e26\"))=TRUE,\"\",INDIRECT(\"'3.09.1a (5)'!e26\"))","v":""},{"$f":"IF(ISERROR(INDIRECT(\"'3.09.1a (5)'!f26\"))=TRUE,\"\",INDIRECT(\"'3.09.1a (5)'!f26\"))","v":""},{"$f":"IF(ISERROR(INDIRECT(\"'3.09.1a (5)'!g26\"))=TRUE,\"\",INDIRECT(\"'3.09.1a (5)'!g26\"))","v":""},{"$f":"IF(ISERROR(INDIRECT(\"'3.09.1a (5)'!h26\"))=TRUE,\"\",INDIRECT(\"'3.09.1a (5)'!h26\"))","v":""},{"$f":"IF(ISERROR(INDIRECT(\"'3.09.1a (5)'!i26\"))=TRUE,\"\",INDIRECT(\"'3.09.1a (5)'!i26\"))","v":""},{"$f":"IF(ISERROR(INDIRECT(\"'3.09.1a (5)'!j26\"))=TRUE,\"\",INDIRECT(\"'3.09.1a (5)'!j26\"))","v":""},{"$f":"IF(ISERROR(INDIRECT(\"'3.09.1a (5)'!o26\"))=TRUE,\"\",INDIRECT(\"'3.09.1a (5)'!o26\"))","v":""},{"$f":"IF(ISERROR(INDIRECT(\"'3.09.1a (5)'!p26\"))=TRUE,\"\",INDIRECT(\"'3.09.1a (5)'!p26\"))","v":""},{"$f":"IF(ISERROR(INDIRECT(\"'3.09.1a (5)'!q26\"))=TRUE,\"\",INDIRECT(\"'3.09.1a (5)'!q26\"))","v":""},{"$f":"IF(ISERROR(INDIRECT(\"'3.09.1a (5)'!s26\"))=TRUE,\"\",INDIRECT(\"'3.09.1a (5)'!s26\"))","v":""},{"$f":"IF(ISERROR(INDIRECT(\"'3.09.1a (5)'!t26\"))=TRUE,\"\",INDIRECT(\"'3.09.1a (5)'!t26\"))","v":""},{"$f":"IF(ISERROR(INDIRECT(\"'3.09.1a (5)'!u26\"))=TRUE,\"\",INDIRECT(\"'3.09.1a (5)'!u26\"))","v":""},{"$f":"IF(ISERROR(INDIRECT(\"'3.09.1a (5)'!v26\"))=TRUE,\"\",INDIRECT(\"'3.09.1a (5)'!v26\"))","v":""},{"$f":"IF(ISERROR(INDIRECT(\"'3.09.1a (5)'!w26\"))=TRUE,\"\",INDIRECT(\"'3.09.1a (5)'!w26\"))","v":""},{"$f":"IF(ISERROR(INDIRECT(\"'3.09.1a (5)'!x26\"))=TRUE,\"\",INDIRECT(\"'3.09.1a (5)'!x26\"))","v":""},{"$f":"IF(ISERROR(INDIRECT(\"'3.09.1a (5)'!aa26\"))=TRUE,\"\",INDIRECT(\"'3.09.1a (5)'!aa26\"))","v":""},{"$f":"IF(ISERROR(INDIRECT(\"'3.09.1a (5)'!ad26\"))=TRUE,\"\",INDIRECT(\"'3.09.1a (5)'!ad26\"))","v":""},{"$f":"IF(ISERROR(INDIRECT(\"'3.09.1a (5)'!ah26\"))=TRUE,\"\",INDIRECT(\"'3.09.1a (5)'!ah26\"))","v":""},{"$f":"IF(ISERROR(INDIRECT(\"'3.09.1a (5)'!am26\"))=TRUE,\"\",INDIRECT(\"'3.09.1a (5)'!am26\"))","v":""}]
[0,"3.09.1a (5)",{"$f":"IF(ISERROR(INDIRECT(\"'3.09.1a (5)'!b27\"))=TRUE,\"\",INDIRECT(\"'3.09.1a (5)'!b27\"))","v":""},{"$f":"IF(ISERROR(INDIRECT(\"'3.09.1a (5)'!c27\"))=TRUE,\"\",INDIRECT(\"'3.09.1a (5)'!c27\"))","v":""},{"$f":"IF(ISERROR(INDIRECT(\"'3.09.1a (5)'!d27\"))=TRUE,\"\",INDIRECT(\"'3.09.1a (5)'!d27\"))","v":""},{"$f":"IF(ISERROR(INDIRECT(\"'3.09.1a (5)'!e27\"))=TRUE,\"\",INDIRECT(\"'3.09.1a (5)'!e27\"))","v":""},{"$f":"IF(ISERROR(INDIRECT(\"'3.09.1a (5)'!f27\"))=TRUE,\"\",INDIRECT(\"'3.09.1a (5)'!f27\"))","v":""},{"$f":"IF(ISERROR(INDIRECT(\"'3.09.1a (5)'!g27\"))=TRUE,\"\",INDIRECT(\"'3.09.1a (5)'!g27\"))","v":""},{"$f":"IF(ISERROR(INDIRECT(\"'3.09.1a (5)'!h27\"))=TRUE,\"\",INDIRECT(\"'3.09.1a (5)'!h27\"))","v":""},{"$f":"IF(ISERROR(INDIRECT(\"'3.09.1a (5)'!i27\"))=TRUE,\"\",INDIRECT(\"'3.09.1a (5)'!i27\"))","v":""},{"$f":"IF(ISERROR(INDIRECT(\"'3.09.1a (5)'!j27\"))=TRUE,\"\",INDIRECT(\"'3.09.1a (5)'!j27\"))","v":""},{"$f":"IF(ISERROR(INDIRECT(\"'3.09.1a (5)'!o27\"))=TRUE,\"\",INDIRECT(\"'3.09.1a (5)'!o27\"))","v":""},{"$f":"IF(ISERROR(INDIRECT(\"'3.09.1a (5)'!p27\"))=TRUE,\"\",INDIRECT(\"'3.09.1a (5)'!p27\"))","v":""},{"$f":"IF(ISERROR(INDIRECT(\"'3.09.1a (5)'!q27\"))=TRUE,\"\",INDIRECT(\"'3.09.1a (5)'!q27\"))","v":""},{"$f":"IF(ISERROR(INDIRECT(\"'3.09.1a (5)'!s27\"))=TRUE,\"\",INDIRECT(\"'3.09.1a (5)'!s27\"))","v":""},{"$f":"IF(ISERROR(INDIRECT(\"'3.09.1a (5)'!t27\"))=TRUE,\"\",INDIRECT(\"'3.09.1a (5)'!t27\"))","v":""},{"$f":"IF(ISERROR(INDIRECT(\"'3.09.1a (5)'!u27\"))=TRUE,\"\",INDIRECT(\"'3.09.1a (5)'!u27\"))","v":""},{"$f":"IF(ISERROR(INDIRECT(\"'3.09.1a (5)'!v27\"))=TRUE,\"\",INDIRECT(\"'3.09.1a (5)'!v27\"))","v":""},{"$f":"IF(ISERROR(INDIRECT(\"'3.09.1a (5)'!w27\"))=TRUE,\"\",INDIRECT(\"'3.09.1a (5)'!w27\"))","v":""},{"$f":"IF(ISERROR(INDIRECT(\"'3.09.1a (5)'!x27\"))=TRUE,\"\",INDIRECT(\"'3.09.1a (5)'!x27\"))","v":""},{"$f":"IF(ISERROR(INDIRECT(\"'3.09.1a (5)'!aa27\"))=TRUE,\"\",INDIRECT(\"'3.09.1a (5)'!aa27\"))","v":""},{"$f":"IF(ISERROR(INDIRECT(\"'3.09.1a (5)'!ad27\"))=TRUE,\"\",INDIRECT(\"'3.09.1a (5)'!ad27\"))","v":""},{"$f":"IF(ISERROR(INDIRECT(\"'3.09.1a (5)'!ah27\"))=TRUE,\"\",INDIRECT(\"'3.09.1a (5)'!ah27\"))","v":""},{"$f":"IF(ISERROR(INDIRECT(\"'3.09.1a (5)'!am27\"))=TRUE,\"\",INDIRECT(\"'3.09.1a (5)'!am27\"))","v":""}]
[0,"3.09.1a (5)",{"$f":"IF(ISERROR(INDIRECT(\"'3.09.1a (5)'!b28\"))=TRUE,\"\",INDIRECT(\"'3.09.1a (5)'!b28\"))","v":""},{"$f":"IF(ISERROR(INDIRECT(\"'3.09.1a (5)'!c28\"))=TRUE,\"\",INDIRECT(\"'3.09.1a (5)'!c28\"))","v":""},{"$f":"IF(ISERROR(INDIRECT(\"'3.09.1a (5)'!d28\"))=TRUE,\"\",INDIRECT(\"'3.09.1a (5)'!d28\"))","v":""},{"$f":"IF(ISERROR(INDIRECT(\"'3.09.1a (5)'!e28\"))=TRUE,\"\",INDIRECT(\"'3.09.1a (5)'!e28\"))","v":""},{"$f":"IF(ISERROR(INDIRECT(\"'3.09.1a (5)'!f28\"))=TRUE,\"\",INDIRECT(\"'3.09.1a (5)'!f28\"))","v":""},{"$f":"IF(ISERROR(INDIRECT(\"'3.09.1a (5)'!g28\"))=TRUE,\"\",INDIRECT(\"'3.09.1a (5)'!g28\"))","v":""},{"$f":"IF(ISERROR(INDIRECT(\"'3.09.1a (5)'!h28\"))=TRUE,\"\",INDIRECT(\"'3.09.1a (5)'!h28\"))","v":""},{"$f":"IF(ISERROR(INDIRECT(\"'3.09.1a (5)'!i28\"))=TRUE,\"\",INDIRECT(\"'3.09.1a (5)'!i28\"))","v":""},{"$f":"IF(ISERROR(INDIRECT(\"'3.09.1a (5)'!j28\"))=TRUE,\"\",INDIRECT(\"'3.09.1a (5)'!j28\"))","v":""},{"$f":"IF(ISERROR(INDIRECT(\"'3.09.1a (5)'!o28\"))=TRUE,\"\",INDIRECT(\"'3.09.1a (5)'!o28\"))","v":""},{"$f":"IF(ISERROR(INDIRECT(\"'3.09.1a (5)'!p28\"))=TRUE,\"\",INDIRECT(\"'3.09.1a (5)'!p28\"))","v":""},{"$f":"IF(ISERROR(INDIRECT(\"'3.09.1a (5)'!q28\"))=TRUE,\"\",INDIRECT(\"'3.09.1a (5)'!q28\"))","v":""},{"$f":"IF(ISERROR(INDIRECT(\"'3.09.1a (5)'!s28\"))=TRUE,\"\",INDIRECT(\"'3.09.1a (5)'!s28\"))","v":""},{"$f":"IF(ISERROR(INDIRECT(\"'3.09.1a (5)'!t28\"))=TRUE,\"\",INDIRECT(\"'3.09.1a (5)'!t28\"))","v":""},{"$f":"IF(ISERROR(INDIRECT(\"'3.09.1a (5)'!u28\"))=TRUE,\"\",INDIRECT(\"'3.09.1a (5)'!u28\"))","v":""},{"$f":"IF(ISERROR(INDIRECT(\"'3.09.1a (5)'!v28\"))=TRUE,\"\",INDIRECT(\"'3.09.1a (5)'!v28\"))","v":""},{"$f":"IF(ISERROR(INDIRECT(\"'3.09.1a (5)'!w28\"))=TRUE,\"\",INDIRECT(\"'3.09.1a (5)'!w28\"))","v":""},{"$f":"IF(ISERROR(INDIRECT(\"'3.09.1a (5)'!x28\"))=TRUE,\"\",INDIRECT(\"'3.09.1a (5)'!x28\"))","v":""},{"$f":"IF(ISERROR(INDIRECT(\"'3.09.1a (5)'!aa28\"))=TRUE,\"\",INDIRECT(\"'3.09.1a (5)'!aa28\"))","v":""},{"$f":"IF(ISERROR(INDIRECT(\"'3.09.1a (5)'!ad28\"))=TRUE,\"\",INDIRECT(\"'3.09.1a (5)'!ad28\"))","v":""},{"$f":"IF(ISERROR(INDIRECT(\"'3.09.1a (5)'!ah28\"))=TRUE,\"\",INDIRECT(\"'3.09.1a (5)'!ah28\"))","v":""},{"$f":"IF(ISERROR(INDIRECT(\"'3.09.1a (5)'!am28\"))=TRUE,\"\",INDIRECT(\"'3.09.1a (5)'!am28\"))","v":""}]
[0,"3.09.1a (5)",{"$f":"IF(ISERROR(INDIRECT(\"'3.09.1a (5)'!b29\"))=TRUE,\"\",INDIRECT(\"'3.09.1a (5)'!b29\"))","v":""},{"$f":"IF(ISERROR(INDIRECT(\"'3.09.1a (5)'!c29\"))=TRUE,\"\",INDIRECT(\"'3.09.1a (5)'!c29\"))","v":""},{"$f":"IF(ISERROR(INDIRECT(\"'3.09.1a (5)'!d29\"))=TRUE,\"\",INDIRECT(\"'3.09.1a (5)'!d29\"))","v":""},{"$f":"IF(ISERROR(INDIRECT(\"'3.09.1a (5)'!e29\"))=TRUE,\"\",INDIRECT(\"'3.09.1a (5)'!e29\"))","v":""},{"$f":"IF(ISERROR(INDIRECT(\"'3.09.1a (5)'!f29\"))=TRUE,\"\",INDIRECT(\"'3.09.1a (5)'!f29\"))","v":""},{"$f":"IF(ISERROR(INDIRECT(\"'3.09.1a (5)'!g29\"))=TRUE,\"\",INDIRECT(\"'3.09.1a (5)'!g29\"))","v":""},{"$f":"IF(ISERROR(INDIRECT(\"'3.09.1a (5)'!h29\"))=TRUE,\"\",INDIRECT(\"'3.09.1a (5)'!h29\"))","v":""},{"$f":"IF(ISERROR(INDIRECT(\"'3.09.1a (5)'!i29\"))=TRUE,\"\",INDIRECT(\"'3.09.1a (5)'!i29\"))","v":""},{"$f":"IF(ISERROR(INDIRECT(\"'3.09.1a (5)'!j29\"))=TRUE,\"\",INDIRECT(\"'3.09.1a (5)'!j29\"))","v":""},{"$f":"IF(ISERROR(INDIRECT(\"'3.09.1a (5)'!o29\"))=TRUE,\"\",INDIRECT(\"'3.09.1a (5)'!o29\"))","v":""},{"$f":"IF(ISERROR(INDIRECT(\"'3.09.1a (5)'!p29\"))=TRUE,\"\",INDIRECT(\"'3.09.1a (5)'!p29\"))","v":""},{"$f":"IF(ISERROR(INDIRECT(\"'3.09.1a (5)'!q29\"))=TRUE,\"\",INDIRECT(\"'3.09.1a (5)'!q29\"))","v":""},{"$f":"IF(ISERROR(INDIRECT(\"'3.09.1a (5)'!s29\"))=TRUE,\"\",INDIRECT(\"'3.09.1a (5)'!s29\"))","v":""},{"$f":"IF(ISERROR(INDIRECT(\"'3.09.1a (5)'!t29\"))=TRUE,\"\",INDIRECT(\"'3.09.1a (5)'!t29\"))","v":""},{"$f":"IF(ISERROR(INDIRECT(\"'3.09.1a (5)'!u29\"))=TRUE,\"\",INDIRECT(\"'3.09.1a (5)'!u29\"))","v":""},{"$f":"IF(ISERROR(INDIRECT(\"'3.09.1a (5)'!v29\"))=TRUE,\"\",INDIRECT(\"'3.09.1a (5)'!v29\"))","v":""},{"$f":"IF(ISERROR(INDIRECT(\"'3.09.1a (5)'!w29\"))=TRUE,\"\",INDIRECT(\"'3.09.1a (5)'!w29\"))","v":""},{"$f":"IF(ISERROR(INDIRECT(\"'3.09.1a (5)'!x29\"))=TRUE,\"\",INDIRECT(\"'3.09.1a (5)'!x29\"))","v":""},{"$f":"IF(ISERROR(INDIRECT(\"'3.09.1a (5)'!aa29\"))=TRUE,\"\",INDIRECT(\"'3.09.1a (5)'!aa29\"))","v":""},{"$f":"IF(ISERROR(INDIRECT(\"'3.09.1a (5)'!ad29\"))=TRUE,\"\",INDIRECT(\"'3.09.1a (5)'!ad29\"))","v":""},{"$f":"IF(ISERROR(INDIRECT(\"'3.09.1a (5)'!ah29\"))=TRUE,\"\",INDIRECT(\"'3.09.1a (5)'!ah29\"))","v":""},{"$f":"IF(ISERROR(INDIRECT(\"'3.09.1a (5)'!am29\"))=TRUE,\"\",INDIRECT(\"'3.09.1a (5)'!am29\"))","v":""}]
[0,"3.09.1a (5)",{"$f":"IF(ISERROR(INDIRECT(\"'3.09.1a (5)'!b30\"))=TRUE,\"\",INDIRECT(\"'3.09.1a (5)'!b30\"))","v":""},{"$f":"IF(ISERROR(INDIRECT(\"'3.09.1a (5)'!c30\"))=TRUE,\"\",INDIRECT(\"'3.09.1a (5)'!c30\"))","v":""},{"$f":"IF(ISERROR(INDIRECT(\"'3.09.1a (5)'!d30\"))=TRUE,\"\",INDIRECT(\"'3.09.1a (5)'!d30\"))","v":""},{"$f":"IF(ISERROR(INDIRECT(\"'3.09.1a (5)'!e30\"))=TRUE,\"\",INDIRECT(\"'3.09.1a (5)'!e30\"))","v":""},{"$f":"IF(ISERROR(INDIRECT(\"'3.09.1a (5)'!f30\"))=TRUE,\"\",INDIRECT(\"'3.09.1a (5)'!f30\"))","v":""},{"$f":"IF(ISERROR(INDIRECT(\"'3.09.1a (5)'!g30\"))=TRUE,\"\",INDIRECT(\"'3.09.1a (5)'!g30\"))","v":""},{"$f":"IF(ISERROR(INDIRECT(\"'3.09.1a (5)'!h30\"))=TRUE,\"\",INDIRECT(\"'3.09.1a (5)'!h30\"))","v":""},{"$f":"IF(ISERROR(INDIRECT(\"'3.09.1a (5)'!i30\"))=TRUE,\"\",INDIRECT(\"'3.09.1a (5)'!i30\"))","v":""},{"$f":"IF(ISERROR(INDIRECT(\"'3.09.1a (5)'!j30\"))=TRUE,\"\",INDIRECT(\"'3.09.1a (5)'!j30\"))","v":""},{"$f":"IF(ISERROR(INDIRECT(\"'3.09.1a (5)'!o30\"))=TRUE,\"\",INDIRECT(\"'3.09.1a (5)'!o30\"))","v":""},{"$f":"IF(ISERROR(INDIRECT(\"'3.09.1a (5)'!p30\"))=TRUE,\"\",INDIRECT(\"'3.09.1a (5)'!p30\"))","v":""},{"$f":"IF(ISERROR(INDIRECT(\"'3.09.1a (5)'!q30\"))=TRUE,\"\",INDIRECT(\"'3.09.1a (5)'!q30\"))","v":""},{"$f":"IF(ISERROR(INDIRECT(\"'3.09.1a (5)'!s30\"))=TRUE,\"\",INDIRECT(\"'3.09.1a (5)'!s30\"))","v":""},{"$f":"IF(ISERROR(INDIRECT(\"'3.09.1a (5)'!t30\"))=TRUE,\"\",INDIRECT(\"'3.09.1a (5)'!t30\"))","v":""},{"$f":"IF(ISERROR(INDIRECT(\"'3.09.1a (5)'!u30\"))=TRUE,\"\",INDIRECT(\"'3.09.1a (5)'!u30\"))","v":""},{"$f":"IF(ISERROR(INDIRECT(\"'3.09.1a (5)'!v30\"))=TRUE,\"\",INDIRECT(\"'3.09.1a (5)'!v30\"))","v":""},{"$f":"IF(ISERROR(INDIRECT(\"'3.09.1a (5)'!w30\"))=TRUE,\"\",INDIRECT(\"'3.09.1a (5)'!w30\"))","v":""},{"$f":"IF(ISERROR(INDIRECT(\"'3.09.1a (5)'!x30\"))=TRUE,\"\",INDIRECT(\"'3.09.1a (5)'!x30\"))","v":""},{"$f":"IF(ISERROR(INDIRECT(\"'3.09.1a (5)'!aa30\"))=TRUE,\"\",INDIRECT(\"'3.09.1a (5)'!aa30\"))","v":""},{"$f":"IF(ISERROR(INDIRECT(\"'3.09.1a (5)'!ad30\"))=TRUE,\"\",INDIRECT(\"'3.09.1a (5)'!ad30\"))","v":""},{"$f":"IF(ISERROR(INDIRECT(\"'3.09.1a (5)'!ah30\"))=TRUE,\"\",INDIRECT(\"'3.09.1a (5)'!ah30\"))","v":""},{"$f":"IF(ISERROR(INDIRECT(\"'3.09.1a (5)'!am30\"))=TRUE,\"\",INDIRECT(\"'3.09.1a (5)'!am30\"))","v":""}]
[0,"3.09.1a (5)",{"$f":"IF(ISERROR(INDIRECT(\"'3.09.1a (5)'!b31\"))=TRUE,\"\",INDIRECT(\"'3.09.1a (5)'!b31\"))","v":""},{"$f":"IF(ISERROR(INDIRECT(\"'3.09.1a (5)'!c31\"))=TRUE,\"\",INDIRECT(\"'3.09.1a (5)'!c31\"))","v":""},{"$f":"IF(ISERROR(INDIRECT(\"'3.09.1a (5)'!d31\"))=TRUE,\"\",INDIRECT(\"'3.09.1a (5)'!d31\"))","v":""},{"$f":"IF(ISERROR(INDIRECT(\"'3.09.1a (5)'!e31\"))=TRUE,\"\",INDIRECT(\"'3.09.1a (5)'!e31\"))","v":""},{"$f":"IF(ISERROR(INDIRECT(\"'3.09.1a (5)'!f31\"))=TRUE,\"\",INDIRECT(\"'3.09.1a (5)'!f31\"))","v":""},{"$f":"IF(ISERROR(INDIRECT(\"'3.09.1a (5)'!g31\"))=TRUE,\"\",INDIRECT(\"'3.09.1a (5)'!g31\"))","v":""},{"$f":"IF(ISERROR(INDIRECT(\"'3.09.1a (5)'!h31\"))=TRUE,\"\",INDIRECT(\"'3.09.1a (5)'!h31\"))","v":""},{"$f":"IF(ISERROR(INDIRECT(\"'3.09.1a (5)'!i31\"))=TRUE,\"\",INDIRECT(\"'3.09.1a (5)'!i31\"))","v":""},{"$f":"IF(ISERROR(INDIRECT(\"'3.09.1a (5)'!j31\"))=TRUE,\"\",INDIRECT(\"'3.09.1a (5)'!j31\"))","v":""},{"$f":"IF(ISERROR(INDIRECT(\"'3.09.1a (5)'!o31\"))=TRUE,\"\",INDIRECT(\"'3.09.1a (5)'!o31\"))","v":""},{"$f":"IF(ISERROR(INDIRECT(\"'3.09.1a (5)'!p31\"))=TRUE,\"\",INDIRECT(\"'3.09.1a (5)'!p31\"))","v":""},{"$f":"IF(ISERROR(INDIRECT(\"'3.09.1a (5)'!q31\"))=TRUE,\"\",INDIRECT(\"'3.09.1a (5)'!q31\"))","v":""},{"$f":"IF(ISERROR(INDIRECT(\"'3.09.1a (5)'!s31\"))=TRUE,\"\",INDIRECT(\"'3.09.1a (5)'!s31\"))","v":""},{"$f":"IF(ISERROR(INDIRECT(\"'3.09.1a (5)'!t31\"))=TRUE,\"\",INDIRECT(\"'3.09.1a (5)'!t31\"))","v":""},{"$f":"IF(ISERROR(INDIRECT(\"'3.09.1a (5)'!u31\"))=TRUE,\"\",INDIRECT(\"'3.09.1a (5)'!u31\"))","v":""},{"$f":"IF(ISERROR(INDIRECT(\"'3.09.1a (5)'!v31\"))=TRUE,\"\",INDIRECT(\"'3.09.1a (5)'!v31\"))","v":""},{"$f":"IF(ISERROR(INDIRECT(\"'3.09.1a (5)'!w31\"))=TRUE,\"\",INDIRECT(\"'3.09.1a (5)'!w31\"))","v":""},{"$f":"IF(ISERROR(INDIRECT(\"'3.09.1a (5)'!x31\"))=TRUE,\"\",INDIRECT(\"'3.09.1a (5)'!x31\"))","v":""},{"$f":"IF(ISERROR(INDIRECT(\"'3.09.1a (5)'!aa31\"))=TRUE,\"\",INDIRECT(\"'3.09.1a (5)'!aa31\"))","v":""},{"$f":"IF(ISERROR(INDIRECT(\"'3.09.1a (5)'!ad31\"))=TRUE,\"\",INDIRECT(\"'3.09.1a (5)'!ad31\"))","v":""},{"$f":"IF(ISERROR(INDIRECT(\"'3.09.1a (5)'!ah31\"))=TRUE,\"\",INDIRECT(\"'3.09.1a (5)'!ah31\"))","v":""},{"$f":"IF(ISERROR(INDIRECT(\"'3.09.1a (5)'!am31\"))=TRUE,\"\",INDIRECT(\"'3.09.1a (5)'!am31\"))","v":""}]
[0,"3.09.1a (5)",{"$f":"IF(ISERROR(INDIRECT(\"'3.09.1a (5)'!b32\"))=TRUE,\"\",INDIRECT(\"'3.09.1a (5)'!b32\"))","v":""},{"$f":"IF(ISERROR(INDIRECT(\"'3.09.1a (5)'!c32\"))=TRUE,\"\",INDIRECT(\"'3.09.1a (5)'!c32\"))","v":""},{"$f":"IF(ISERROR(INDIRECT(\"'3.09.1a (5)'!d32\"))=TRUE,\"\",INDIRECT(\"'3.09.1a (5)'!d32\"))","v":""},{"$f":"IF(ISERROR(INDIRECT(\"'3.09.1a (5)'!e32\"))=TRUE,\"\",INDIRECT(\"'3.09.1a (5)'!e32\"))","v":""},{"$f":"IF(ISERROR(INDIRECT(\"'3.09.1a (5)'!f32\"))=TRUE,\"\",INDIRECT(\"'3.09.1a (5)'!f32\"))","v":""},{"$f":"IF(ISERROR(INDIRECT(\"'3.09.1a (5)'!g32\"))=TRUE,\"\",INDIRECT(\"'3.09.1a (5)'!g32\"))","v":""},{"$f":"IF(ISERROR(INDIRECT(\"'3.09.1a (5)'!h32\"))=TRUE,\"\",INDIRECT(\"'3.09.1a (5)'!h32\"))","v":""},{"$f":"IF(ISERROR(INDIRECT(\"'3.09.1a (5)'!i32\"))=TRUE,\"\",INDIRECT(\"'3.09.1a (5)'!i32\"))","v":""},{"$f":"IF(ISERROR(INDIRECT(\"'3.09.1a (5)'!j32\"))=TRUE,\"\",INDIRECT(\"'3.09.1a (5)'!j32\"))","v":""},{"$f":"IF(ISERROR(INDIRECT(\"'3.09.1a (5)'!o32\"))=TRUE,\"\",INDIRECT(\"'3.09.1a (5)'!o32\"))","v":""},{"$f":"IF(ISERROR(INDIRECT(\"'3.09.1a (5)'!p32\"))=TRUE,\"\",INDIRECT(\"'3.09.1a (5)'!p32\"))","v":""},{"$f":"IF(ISERROR(INDIRECT(\"'3.09.1a (5)'!q32\"))=TRUE,\"\",INDIRECT(\"'3.09.1a (5)'!q32\"))","v":""},{"$f":"IF(ISERROR(INDIRECT(\"'3.09.1a (5)'!s32\"))=TRUE,\"\",INDIRECT(\"'3.09.1a (5)'!s32\"))","v":""},{"$f":"IF(ISERROR(INDIRECT(\"'3.09.1a (5)'!t32\"))=TRUE,\"\",INDIRECT(\"'3.09.1a (5)'!t32\"))","v":""},{"$f":"IF(ISERROR(INDIRECT(\"'3.09.1a (5)'!u32\"))=TRUE,\"\",INDIRECT(\"'3.09.1a (5)'!u32\"))","v":""},{"$f":"IF(ISERROR(INDIRECT(\"'3.09.1a (5)'!v32\"))=TRUE,\"\",INDIRECT(\"'3.09.1a (5)'!v32\"))","v":""},{"$f":"IF(ISERROR(INDIRECT(\"'3.09.1a (5)'!w32\"))=TRUE,\"\",INDIRECT(\"'3.09.1a (5)'!w32\"))","v":""},{"$f":"IF(ISERROR(INDIRECT(\"'3.09.1a (5)'!x32\"))=TRUE,\"\",INDIRECT(\"'3.09.1a (5)'!x32\"))","v":""},{"$f":"IF(ISERROR(INDIRECT(\"'3.09.1a (5)'!aa32\"))=TRUE,\"\",INDIRECT(\"'3.09.1a (5)'!aa32\"))","v":""},{"$f":"IF(ISERROR(INDIRECT(\"'3.09.1a (5)'!ad32\"))=TRUE,\"\",INDIRECT(\"'3.09.1a (5)'!ad32\"))","v":""},{"$f":"IF(ISERROR(INDIRECT(\"'3.09.1a (5)'!ah32\"))=TRUE,\"\",INDIRECT(\"'3.09.1a (5)'!ah32\"))","v":""},{"$f":"IF(ISERROR(INDIRECT(\"'3.09.1a (5)'!am32\"))=TRUE,\"\",INDIRECT(\"'3.09.1a (5)'!am32\"))","v":""}]
[0,"3.09.1a (5)",{"$f":"IF(ISERROR(INDIRECT(\"'3.09.1a (5)'!b33\"))=TRUE,\"\",INDIRECT(\"'3.09.1a (5)'!b33\"))","v":""},{"$f":"IF(ISERROR(INDIRECT(\"'3.09.1a (5)'!c33\"))=TRUE,\"\",INDIRECT(\"'3.09.1a (5)'!c33\"))","v":""},{"$f":"IF(ISERROR(INDIRECT(\"'3.09.1a (5)'!d33\"))=TRUE,\"\",INDIRECT(\"'3.09.1a (5)'!d33\"))","v":""},{"$f":"IF(ISERROR(INDIRECT(\"'3.09.1a (5)'!e33\"))=TRUE,\"\",INDIRECT(\"'3.09.1a (5)'!e33\"))","v":""},{"$f":"IF(ISERROR(INDIRECT(\"'3.09.1a (5)'!f33\"))=TRUE,\"\",INDIRECT(\"'3.09.1a (5)'!f33\"))","v":""},{"$f":"IF(ISERROR(INDIRECT(\"'3.09.1a (5)'!g33\"))=TRUE,\"\",INDIRECT(\"'3.09.1a (5)'!g33\"))","v":""},{"$f":"IF(ISERROR(INDIRECT(\"'3.09.1a (5)'!h33\"))=TRUE,\"\",INDIRECT(\"'3.09.1a (5)'!h33\"))","v":""},{"$f":"IF(ISERROR(INDIRECT(\"'3.09.1a (5)'!i33\"))=TRUE,\"\",INDIRECT(\"'3.09.1a (5)'!i33\"))","v":""},{"$f":"IF(ISERROR(INDIRECT(\"'3.09.1a (5)'!j33\"))=TRUE,\"\",INDIRECT(\"'3.09.1a (5)'!j33\"))","v":""},{"$f":"IF(ISERROR(INDIRECT(\"'3.09.1a (5)'!o33\"))=TRUE,\"\",INDIRECT(\"'3.09.1a (5)'!o33\"))","v":""},{"$f":"IF(ISERROR(INDIRECT(\"'3.09.1a (5)'!p33\"))=TRUE,\"\",INDIRECT(\"'3.09.1a (5)'!p33\"))","v":""},{"$f":"IF(ISERROR(INDIRECT(\"'3.09.1a (5)'!q33\"))=TRUE,\"\",INDIRECT(\"'3.09.1a (5)'!q33\"))","v":""},{"$f":"IF(ISERROR(INDIRECT(\"'3.09.1a (5)'!s33\"))=TRUE,\"\",INDIRECT(\"'3.09.1a (5)'!s33\"))","v":""},{"$f":"IF(ISERROR(INDIRECT(\"'3.09.1a (5)'!t33\"))=TRUE,\"\",INDIRECT(\"'3.09.1a (5)'!t33\"))","v":""},{"$f":"IF(ISERROR(INDIRECT(\"'3.09.1a (5)'!u33\"))=TRUE,\"\",INDIRECT(\"'3.09.1a (5)'!u33\"))","v":""},{"$f":"IF(ISERROR(INDIRECT(\"'3.09.1a (5)'!v33\"))=TRUE,\"\",INDIRECT(\"'3.09.1a (5)'!v33\"))","v":""},{"$f":"IF(ISERROR(INDIRECT(\"'3.09.1a (5)'!w33\"))=TRUE,\"\",INDIRECT(\"'3.09.1a (5)'!w33\"))","v":""},{"$f":"IF(ISERROR(INDIRECT(\"'3.09.1a (5)'!x33\"))=TRUE,\"\",INDIRECT(\"'3.09.1a (5)'!x33\"))","v":""},{"$f":"IF(ISERROR(INDIRECT(\"'3.09.1a (5)'!aa33\"))=TRUE,\"\",INDIRECT(\"'3.09.1a (5)'!aa33\"))","v":""},{"$f":"IF(ISERROR(INDIRECT(\"'3.09.1a (5)'!ad33\"))=TRUE,\"\",INDIRECT(\"'3.09.1a (5)'!ad33\"))","v":""},{"$f":"IF(ISERROR(INDIRECT(\"'3.09.1a (5)'!ah33\"))=TRUE,\"\",INDIRECT(\"'3.09.1a (5)'!ah33\"))","v":""},{"$f":"IF(ISERROR(INDIRECT(\"'3.09.1a (5)'!am33\"))=TRUE,\"\",INDIRECT(\"'3.09.1a (5)'!am33\"))","v":""}]
[0,"3.09.1a (5)",{"$f":"IF(ISERROR(INDIRECT(\"'3.09.1a (5)'!b34\"))=TRUE,\"\",INDIRECT(\"'3.09.1a (5)'!b34\"))","v":""},{"$f":"IF(ISERROR(INDIRECT(\"'3.09.1a (5)'!c34\"))=TRUE,\"\",INDIRECT(\"'3.09.1a (5)'!c34\"))","v":""},{"$f":"IF(ISERROR(INDIRECT(\"'3.09.1a (5)'!d34\"))=TRUE,\"\",INDIRECT(\"'3.09.1a (5)'!d34\"))","v":""},{"$f":"IF(ISERROR(INDIRECT(\"'3.09.1a (5)'!e34\"))=TRUE,\"\",INDIRECT(\"'3.09.1a (5)'!e34\"))","v":""},{"$f":"IF(ISERROR(INDIRECT(\"'3.09.1a (5)'!f34\"))=TRUE,\"\",INDIRECT(\"'3.09.1a (5)'!f34\"))","v":""},{"$f":"IF(ISERROR(INDIRECT(\"'3.09.1a (5)'!g34\"))=TRUE,\"\",INDIRECT(\"'3.09.1a (5)'!g34\"))","v":""},{"$f":"IF(ISERROR(INDIRECT(\"'3.09.1a (5)'!h34\"))=TRUE,\"\",INDIRECT(\"'3.09.1a (5)'!h34\"))","v":""},{"$f":"IF(ISERROR(INDIRECT(\"'3.09.1a (5)'!i34\"))=TRUE,\"\",INDIRECT(\"'3.09.1a (5)'!i34\"))","v":""},{"$f":"IF(ISERROR(INDIRECT(\"'3.09.1a (5)'!j34\"))=TRUE,\"\",INDIRECT(\"'3.09.1a (5)'!j34\"))","v":""},{"$f":"IF(ISERROR(INDIRECT(\"'3.09.1a (5)'!o34\"))=TRUE,\"\",INDIRECT(\"'3.09.1a (5)'!o34\"))","v":""},{"$f":"IF(ISERROR(INDIRECT(\"'3.09.1a (5)'!p34\"))=TRUE,\"\",INDIRECT(\"'3.09.1a (5)'!p34\"))","v":""},{"$f":"IF(ISERROR(INDIRECT(\"'3.09.1a (5)'!q34\"))=TRUE,\"\",INDIRECT(\"'3.09.1a (5)'!q34\"))","v":""},{"$f":"IF(ISERROR(INDIRECT(\"'3.09.1a (5)'!s34\"))=TRUE,\"\",INDIRECT(\"'3.09.1a (5)'!s34\"))","v":""},{"$f":"IF(ISERROR(INDIRECT(\"'3.09.1a (5)'!t34\"))=TRUE,\"\",INDIRECT(\"'3.09.1a (5)'!t34\"))","v":""},{"$f":"IF(ISERROR(INDIRECT(\"'3.09.1a (5)'!u34\"))=TRUE,\"\",INDIRECT(\"'3.09.1a (5)'!u34\"))","v":""},{"$f":"IF(ISERROR(INDIRECT(\"'3.09.1a (5)'!v34\"))=TRUE,\"\",INDIRECT(\"'3.09.1a (5)'!v34\"))","v":""},{"$f":"IF(ISERROR(INDIRECT(\"'3.09.1a (5)'!w34\"))=TRUE,\"\",INDIRECT(\"'3.09.1a (5)'!w34\"))","v":""},{"$f":"IF(ISERROR(INDIRECT(\"'3.09.1a (5)'!x34\"))=TRUE,\"\",INDIRECT(\"'3.09.1a (5)'!x34\"))","v":""},{"$f":"IF(ISERROR(INDIRECT(\"'3.09.1a (5)'!aa34\"))=TRUE,\"\",INDIRECT(\"'3.09.1a (5)'!aa34\"))","v":""},{"$f":"IF(ISERROR(INDIRECT(\"'3.09.1a (5)'!ad34\"))=TRUE,\"\",INDIRECT(\"'3.09.1a (5)'!ad34\"))","v":""},{"$f":"IF(ISERROR(INDIRECT(\"'3.09.1a (5)'!ah34\"))=TRUE,\"\",INDIRECT(\"'3.09.1a (5)'!ah34\"))","v":""},{"$f":"IF(ISERROR(INDIRECT(\"'3.09.1a (5)'!am34\"))=TRUE,\"\",INDIRECT(\"'3.09.1a (5)'!am34\"))","v":""}]
[0,"3.09.1a (5)",{"$f":"IF(ISERROR(INDIRECT(\"'3.09.1a (5)'!b35\"))=TRUE,\"\",INDIRECT(\"'3.09.1a (5)'!b35\"))","v":""},{"$f":"IF(ISERROR(INDIRECT(\"'3.09.1a (5)'!c35\"))=TRUE,\"\",INDIRECT(\"'3.09.1a (5)'!c35\"))","v":""},{"$f":"IF(ISERROR(INDIRECT(\"'3.09.1a (5)'!d35\"))=TRUE,\"\",INDIRECT(\"'3.09.1a (5)'!d35\"))","v":""},{"$f":"IF(ISERROR(INDIRECT(\"'3.09.1a (5)'!e35\"))=TRUE,\"\",INDIRECT(\"'3.09.1a (5)'!e35\"))","v":""},{"$f":"IF(ISERROR(INDIRECT(\"'3.09.1a (5)'!f35\"))=TRUE,\"\",INDIRECT(\"'3.09.1a (5)'!f35\"))","v":""},{"$f":"IF(ISERROR(INDIRECT(\"'3.09.1a (5)'!g35\"))=TRUE,\"\",INDIRECT(\"'3.09.1a (5)'!g35\"))","v":""},{"$f":"IF(ISERROR(INDIRECT(\"'3.09.1a (5)'!h35\"))=TRUE,\"\",INDIRECT(\"'3.09.1a (5)'!h35\"))","v":""},{"$f":"IF(ISERROR(INDIRECT(\"'3.09.1a (5)'!i35\"))=TRUE,\"\",INDIRECT(\"'3.09.1a (5)'!i35\"))","v":""},{"$f":"IF(ISERROR(INDIRECT(\"'3.09.1a (5)'!j35\"))=TRUE,\"\",INDIRECT(\"'3.09.1a (5)'!j35\"))","v":""},{"$f":"IF(ISERROR(INDIRECT(\"'3.09.1a (5)'!o35\"))=TRUE,\"\",INDIRECT(\"'3.09.1a (5)'!o35\"))","v":""},{"$f":"IF(ISERROR(INDIRECT(\"'3.09.1a (5)'!p35\"))=TRUE,\"\",INDIRECT(\"'3.09.1a (5)'!p35\"))","v":""},{"$f":"IF(ISERROR(INDIRECT(\"'3.09.1a (5)'!q35\"))=TRUE,\"\",INDIRECT(\"'3.09.1a (5)'!q35\"))","v":""},{"$f":"IF(ISERROR(INDIRECT(\"'3.09.1a (5)'!s35\"))=TRUE,\"\",INDIRECT(\"'3.09.1a (5)'!s35\"))","v":""},{"$f":"IF(ISERROR(INDIRECT(\"'3.09.1a (5)'!t35\"))=TRUE,\"\",INDIRECT(\"'3.09.1a (5)'!t35\"))","v":""},{"$f":"IF(ISERROR(INDIRECT(\"'3.09.1a (5)'!u35\"))=TRUE,\"\",INDIRECT(\"'3.09.1a (5)'!u35\"))","v":""},{"$f":"IF(ISERROR(INDIRECT(\"'3.09.1a (5)'!v35\"))=TRUE,\"\",INDIRECT(\"'3.09.1a (5)'!v35\"))","v":""},{"$f":"IF(ISERROR(INDIRECT(\"'3.09.1a (5)'!w35\"))=TRUE,\"\",INDIRECT(\"'3.09.1a (5)'!w35\"))","v":""},{"$f":"IF(ISERROR(INDIRECT(\"'3.09.1a (5)'!x35\"))=TRUE,\"\",INDIRECT(\"'3.09.1a (5)'!x35\"))","v":""},{"$f":"IF(ISERROR(INDIRECT(\"'3.09.1a (5)'!aa35\"))=TRUE,\"\",INDIRECT(\"'3.09.1a (5)'!aa35\"))","v":""},{"$f":"IF(ISERROR(INDIRECT(\"'3.09.1a (5)'!ad35\"))=TRUE,\"\",INDIRECT(\"'3.09.1a (5)'!ad35\"))","v":""},{"$f":"IF(ISERROR(INDIRECT(\"'3.09.1a (5)'!ah35\"))=TRUE,\"\",INDIRECT(\"'3.09.1a (5)'!ah35\"))","v":""},{"$f":"IF(ISERROR(INDIRECT(\"'3.09.1a (5)'!am35\"))=TRUE,\"\",INDIRECT(\"'3.09.1a (5)'!am35\"))","v":""}]
[0,"3.09.1a (5)",{"$f":"IF(ISERROR(INDIRECT(\"'3.09.1a (5)'!b36\"))=TRUE,\"\",INDIRECT(\"'3.09.1a (5)'!b36\"))","v":""},{"$f":"IF(ISERROR(INDIRECT(\"'3.09.1a (5)'!c36\"))=TRUE,\"\",INDIRECT(\"'3.09.1a (5)'!c36\"))","v":""},{"$f":"IF(ISERROR(INDIRECT(\"'3.09.1a (5)'!d36\"))=TRUE,\"\",INDIRECT(\"'3.09.1a (5)'!d36\"))","v":""},{"$f":"IF(ISERROR(INDIRECT(\"'3.09.1a (5)'!e36\"))=TRUE,\"\",INDIRECT(\"'3.09.1a (5)'!e36\"))","v":""},{"$f":"IF(ISERROR(INDIRECT(\"'3.09.1a (5)'!f36\"))=TRUE,\"\",INDIRECT(\"'3.09.1a (5)'!f36\"))","v":""},{"$f":"IF(ISERROR(INDIRECT(\"'3.09.1a (5)'!g36\"))=TRUE,\"\",INDIRECT(\"'3.09.1a (5)'!g36\"))","v":""},{"$f":"IF(ISERROR(INDIRECT(\"'3.09.1a (5)'!h36\"))=TRUE,\"\",INDIRECT(\"'3.09.1a (5)'!h36\"))","v":""},{"$f":"IF(ISERROR(INDIRECT(\"'3.09.1a (5)'!i36\"))=TRUE,\"\",INDIRECT(\"'3.09.1a (5)'!i36\"))","v":""},{"$f":"IF(ISERROR(INDIRECT(\"'3.09.1a (5)'!j36\"))=TRUE,\"\",INDIRECT(\"'3.09.1a (5)'!j36\"))","v":""},{"$f":"IF(ISERROR(INDIRECT(\"'3.09.1a (5)'!o36\"))=TRUE,\"\",INDIRECT(\"'3.09.1a (5)'!o36\"))","v":""},{"$f":"IF(ISERROR(INDIRECT(\"'3.09.1a (5)'!p36\"))=TRUE,\"\",INDIRECT(\"'3.09.1a (5)'!p36\"))","v":""},{"$f":"IF(ISERROR(INDIRECT(\"'3.09.1a (5)'!q36\"))=TRUE,\"\",INDIRECT(\"'3.09.1a (5)'!q36\"))","v":""},{"$f":"IF(ISERROR(INDIRECT(\"'3.09.1a (5)'!s36\"))=TRUE,\"\",INDIRECT(\"'3.09.1a (5)'!s36\"))","v":""},{"$f":"IF(ISERROR(INDIRECT(\"'3.09.1a (5)'!t36\"))=TRUE,\"\",INDIRECT(\"'3.09.1a (5)'!t36\"))","v":""},{"$f":"IF(ISERROR(INDIRECT(\"'3.09.1a (5)'!u36\"))=TRUE,\"\",INDIRECT(\"'3.09.1a (5)'!u36\"))","v":""},{"$f":"IF(ISERROR(INDIRECT(\"'3.09.1a (5)'!v36\"))=TRUE,\"\",INDIRECT(\"'3.09.1a (5)'!v36\"))","v":""},{"$f":"IF(ISERROR(INDIRECT(\"'3.09.1a (5)'!w36\"))=TRUE,\"\",INDIRECT(\"'3.09.1a (5)'!w36\"))","v":""},{"$f":"IF(ISERROR(INDIRECT(\"'3.09.1a (5)'!x36\"))=TRUE,\"\",INDIRECT(\"'3.09.1a (5)'!x36\"))","v":""},{"$f":"IF(ISERROR(INDIRECT(\"'3.09.1a (5)'!aa36\"))=TRUE,\"\",INDIRECT(\"'3.09.1a (5)'!aa36\"))","v":""},{"$f":"IF(ISERROR(INDIRECT(\"'3.09.1a (5)'!ad36\"))=TRUE,\"\",INDIRECT(\"'3.09.1a (5)'!ad36\"))","v":""},{"$f":"IF(ISERROR(INDIRECT(\"'3.09.1a (5)'!ah36\"))=TRUE,\"\",INDIRECT(\"'3.09.1a (5)'!ah36\"))","v":""},{"$f":"IF(ISERROR(INDIRECT(\"'3.09.1a (5)'!am36\"))=TRUE,\"\",INDIRECT(\"'3.09.1a (5)'!am36\"))","v":""}]
[0,"3.09.1a (5)",{"$f":"IF(ISERROR(INDIRECT(\"'3.09.1a (5)'!b37\"))=TRUE,\"\",INDIRECT(\"'3.09.1a (5)'!b37\"))","v":""},{"$f":"IF(ISERROR(INDIRECT(\"'3.09.1a (5)'!c37\"))=TRUE,\"\",INDIRECT(\"'3.09.1a (5)'!c37\"))","v":""},{"$f":"IF(ISERROR(INDIRECT(\"'3.09.1a (5)'!d37\"))=TRUE,\"\",INDIRECT(\"'3.09.1a (5)'!d37\"))","v":""},{"$f":"IF(ISERROR(INDIRECT(\"'3.09.1a (5)'!e37\"))=TRUE,\"\",INDIRECT(\"'3.09.1a (5)'!e37\"))","v":""},{"$f":"IF(ISERROR(INDIRECT(\"'3.09.1a (5)'!f37\"))=TRUE,\"\",INDIRECT(\"'3.09.1a (5)'!f37\"))","v":""},{"$f":"IF(ISERROR(INDIRECT(\"'3.09.1a (5)'!g37\"))=TRUE,\"\",INDIRECT(\"'3.09.1a (5)'!g37\"))","v":""},{"$f":"IF(ISERROR(INDIRECT(\"'3.09.1a (5)'!h37\"))=TRUE,\"\",INDIRECT(\"'3.09.1a (5)'!h37\"))","v":""},{"$f":"IF(ISERROR(INDIRECT(\"'3.09.1a (5)'!i37\"))=TRUE,\"\",INDIRECT(\"'3.09.1a (5)'!i37\"))","v":""},{"$f":"IF(ISERROR(INDIRECT(\"'3.09.1a (5)'!j37\"))=TRUE,\"\",INDIRECT(\"'3.09.1a (5)'!j37\"))","v":""},{"$f":"IF(ISERROR(INDIRECT(\"'3.09.1a (5)'!o37\"))=TRUE,\"\",INDIRECT(\"'3.09.1a (5)'!o37\"))","v":""},{"$f":"IF(ISERROR(INDIRECT(\"'3.09.1a (5)'!p37\"))=TRUE,\"\",INDIRECT(\"'3.09.1a (5)'!p37\"))","v":""},{"$f":"IF(ISERROR(INDIRECT(\"'3.09.1a (5)'!q37\"))=TRUE,\"\",INDIRECT(\"'3.09.1a (5)'!q37\"))","v":""},{"$f":"IF(ISERROR(INDIRECT(\"'3.09.1a (5)'!s37\"))=TRUE,\"\",INDIRECT(\"'3.09.1a (5)'!s37\"))","v":""},{"$f":"IF(ISERROR(INDIRECT(\"'3.09.1a (5)'!t37\"))=TRUE,\"\",INDIRECT(\"'3.09.1a (5)'!t37\"))","v":""},{"$f":"IF(ISERROR(INDIRECT(\"'3.09.1a (5)'!u37\"))=TRUE,\"\",INDIRECT(\"'3.09.1a (5)'!u37\"))","v":""},{"$f":"IF(ISERROR(INDIRECT(\"'3.09.1a (5)'!v37\"))=TRUE,\"\",INDIRECT(\"'3.09.1a (5)'!v37\"))","v":""},{"$f":"IF(ISERROR(INDIRECT(\"'3.09.1a (5)'!w37\"))=TRUE,\"\",INDIRECT(\"'3.09.1a (5)'!w37\"))","v":""},{"$f":"IF(ISERROR(INDIRECT(\"'3.09.1a (5)'!x37\"))=TRUE,\"\",INDIRECT(\"'3.09.1a (5)'!x37\"))","v":""},{"$f":"IF(ISERROR(INDIRECT(\"'3.09.1a (5)'!aa37\"))=TRUE,\"\",INDIRECT(\"'3.09.1a (5)'!aa37\"))","v":""},{"$f":"IF(ISERROR(INDIRECT(\"'3.09.1a (5)'!ad37\"))=TRUE,\"\",INDIRECT(\"'3.09.1a (5)'!ad37\"))","v":""},{"$f":"IF(ISERROR(INDIRECT(\"'3.09.1a (5)'!ah37\"))=TRUE,\"\",INDIRECT(\"'3.09.1a (5)'!ah37\"))","v":""},{"$f":"IF(ISERROR(INDIRECT(\"'3.09.1a (5)'!am37\"))=TRUE,\"\",INDIRECT(\"'3.09.1a (5)'!am37\"))","v":""}]
[0,"3.09.1a (5)",{"$f":"IF(ISERROR(INDIRECT(\"'3.09.1a (5)'!b38\"))=TRUE,\"\",INDIRECT(\"'3.09.1a (5)'!b38\"))","v":""},{"$f":"IF(ISERROR(INDIRECT(\"'3.09.1a (5)'!c38\"))=TRUE,\"\",INDIRECT(\"'3.09.1a (5)'!c38\"))","v":""},{"$f":"IF(ISERROR(INDIRECT(\"'3.09.1a (5)'!d38\"))=TRUE,\"\",INDIRECT(\"'3.09.1a (5)'!d38\"))","v":""},{"$f":"IF(ISERROR(INDIRECT(\"'3.09.1a (5)'!e38\"))=TRUE,\"\",INDIRECT(\"'3.09.1a (5)'!e38\"))","v":""},{"$f":"IF(ISERROR(INDIRECT(\"'3.09.1a (5)'!f38\"))=TRUE,\"\",INDIRECT(\"'3.09.1a (5)'!f38\"))","v":""},{"$f":"IF(ISERROR(INDIRECT(\"'3.09.1a (5)'!g38\"))=TRUE,\"\",INDIRECT(\"'3.09.1a (5)'!g38\"))","v":""},{"$f":"IF(ISERROR(INDIRECT(\"'3.09.1a (5)'!h38\"))=TRUE,\"\",INDIRECT(\"'3.09.1a (5)'!h38\"))","v":""},{"$f":"IF(ISERROR(INDIRECT(\"'3.09.1a (5)'!i38\"))=TRUE,\"\",INDIRECT(\"'3.09.1a (5)'!i38\"))","v":""},{"$f":"IF(ISERROR(INDIRECT(\"'3.09.1a (5)'!j38\"))=TRUE,\"\",INDIRECT(\"'3.09.1a (5)'!j38\"))","v":""},{"$f":"IF(ISERROR(INDIRECT(\"'3.09.1a (5)'!o38\"))=TRUE,\"\",INDIRECT(\"'3.09.1a (5)'!o38\"))","v":""},{"$f":"IF(ISERROR(INDIRECT(\"'3.09.1a (5)'!p38\"))=TRUE,\"\",INDIRECT(\"'3.09.1a (5)'!p38\"))","v":""},{"$f":"IF(ISERROR(INDIRECT(\"'3.09.1a (5)'!q38\"))=TRUE,\"\",INDIRECT(\"'3.09.1a (5)'!q38\"))","v":""},{"$f":"IF(ISERROR(INDIRECT(\"'3.09.1a (5)'!s38\"))=TRUE,\"\",INDIRECT(\"'3.09.1a (5)'!s38\"))","v":""},{"$f":"IF(ISERROR(INDIRECT(\"'3.09.1a (5)'!t38\"))=TRUE,\"\",INDIRECT(\"'3.09.1a (5)'!t38\"))","v":""},{"$f":"IF(ISERROR(INDIRECT(\"'3.09.1a (5)'!u38\"))=TRUE,\"\",INDIRECT(\"'3.09.1a (5)'!u38\"))","v":""},{"$f":"IF(ISERROR(INDIRECT(\"'3.09.1a (5)'!v38\"))=TRUE,\"\",INDIRECT(\"'3.09.1a (5)'!v38\"))","v":""},{"$f":"IF(ISERROR(INDIRECT(\"'3.09.1a (5)'!w38\"))=TRUE,\"\",INDIRECT(\"'3.09.1a (5)'!w38\"))","v":""},{"$f":"IF(ISERROR(INDIRECT(\"'3.09.1a (5)'!x38\"))=TRUE,\"\",INDIRECT(\"'3.09.1a (5)'!x38\"))","v":""},{"$f":"IF(ISERROR(INDIRECT(\"'3.09.1a (5)'!aa38\"))=TRUE,\"\",INDIRECT(\"'3.09.1a (5)'!aa38\"))","v":""},{"$f":"IF(ISERROR(INDIRECT(\"'3.09.1a (5)'!ad38\"))=TRUE,\"\",INDIRECT(\"'3.09.1a (5)'!ad38\"))","v":""},{"$f":"IF(ISERROR(INDIRECT(\"'3.09.1a (5)'!ah38\"))=TRUE,\"\",INDIRECT(\"'3.09.1a (5)'!ah38\"))","v":""},{"$f":"IF(ISERROR(INDIRECT(\"'3.09.1a (5)'!am38\"))=TRUE,\"\",INDIRECT(\"'3.09.1a (5)'!am38\"))","v":""}]
[0,"3.09.1a (5)",{"$f":"IF(ISERROR(INDIRECT(\"'3.09.1a (5)'!b39\"))=TRUE,\"\",INDIRECT(\"'3.09.1a (5)'!b39\"))","v":""},{"$f":"IF(ISERROR(INDIRECT(\"'3.09.1a (5)'!c39\"))=TRUE,\"\",INDIRECT(\"'3.09.1a (5)'!c39\"))","v":""},{"$f":"IF(ISERROR(INDIRECT(\"'3.09.1a (5)'!d39\"))=TRUE,\"\",INDIRECT(\"'3.09.1a (5)'!d39\"))","v":""},{"$f":"IF(ISERROR(INDIRECT(\"'3.09.1a (5)'!e39\"))=TRUE,\"\",INDIRECT(\"'3.09.1a (5)'!e39\"))","v":""},{"$f":"IF(ISERROR(INDIRECT(\"'3.09.1a (5)'!f39\"))=TRUE,\"\",INDIRECT(\"'3.09.1a (5)'!f39\"))","v":""},{"$f":"IF(ISERROR(INDIRECT(\"'3.09.1a (5)'!g39\"))=TRUE,\"\",INDIRECT(\"'3.09.1a (5)'!g39\"))","v":""},{"$f":"IF(ISERROR(INDIRECT(\"'3.09.1a (5)'!h39\"))=TRUE,\"\",INDIRECT(\"'3.09.1a (5)'!h39\"))","v":""},{"$f":"IF(ISERROR(INDIRECT(\"'3.09.1a (5)'!i39\"))=TRUE,\"\",INDIRECT(\"'3.09.1a (5)'!i39\"))","v":""},{"$f":"IF(ISERROR(INDIRECT(\"'3.09.1a (5)'!j39\"))=TRUE,\"\",INDIRECT(\"'3.09.1a (5)'!j39\"))","v":""},{"$f":"IF(ISERROR(INDIRECT(\"'3.09.1a (5)'!o39\"))=TRUE,\"\",INDIRECT(\"'3.09.1a (5)'!o39\"))","v":""},{"$f":"IF(ISERROR(INDIRECT(\"'3.09.1a (5)'!p39\"))=TRUE,\"\",INDIRECT(\"'3.09.1a (5)'!p39\"))","v":""},{"$f":"IF(ISERROR(INDIRECT(\"'3.09.1a (5)'!q39\"))=TRUE,\"\",INDIRECT(\"'3.09.1a (5)'!q39\"))","v":""},{"$f":"IF(ISERROR(INDIRECT(\"'3.09.1a (5)'!s39\"))=TRUE,\"\",INDIRECT(\"'3.09.1a (5)'!s39\"))","v":""},{"$f":"IF(ISERROR(INDIRECT(\"'3.09.1a (5)'!t39\"))=TRUE,\"\",INDIRECT(\"'3.09.1a (5)'!t39\"))","v":""},{"$f":"IF(ISERROR(INDIRECT(\"'3.09.1a (5)'!u39\"))=TRUE,\"\",INDIRECT(\"'3.09.1a (5)'!u39\"))","v":""},{"$f":"IF(ISERROR(INDIRECT(\"'3.09.1a (5)'!v39\"))=TRUE,\"\",INDIRECT(\"'3.09.1a (5)'!v39\"))","v":""},{"$f":"IF(ISERROR(INDIRECT(\"'3.09.1a (5)'!w39\"))=TRUE,\"\",INDIRECT(\"'3.09.1a (5)'!w39\"))","v":""},{"$f":"IF(ISERROR(INDIRECT(\"'3.09.1a (5)'!x39\"))=TRUE,\"\",INDIRECT(\"'3.09.1a (5)'!x39\"))","v":""},{"$f":"IF(ISERROR(INDIRECT(\"'3.09.1a (5)'!aa39\"))=TRUE,\"\",INDIRECT(\"'3.09.1a (5)'!aa39\"))","v":""},{"$f":"IF(ISERROR(INDIRECT(\"'3.09.1a (5)'!ad39\"))=TRUE,\"\",INDIRECT(\"'3.09.1a (5)'!ad39\"))","v":""},{"$f":"IF(ISERROR(INDIRECT(\"'3.09.1a (5)'!ah39\"))=TRUE,\"\",INDIRECT(\"'3.09.1a (5)'!ah39\"))","v":""},{"$f":"IF(ISERROR(INDIRECT(\"'3.09.1a (5)'!am39\"))=TRUE,\"\",INDIRECT(\"'3.09.1a (5)'!am39\"))","v":""}]
[0,"3.09.1a (5)",{"$f":"IF(ISERROR(INDIRECT(\"'3.09.1a (5)'!b40\"))=TRUE,\"\",INDIRECT(\"'3.09.1a (5)'!b40\"))","v":""},{"$f":"IF(ISERROR(INDIRECT(\"'3.09.1a (5)'!c40\"))=TRUE,\"\",INDIRECT(\"'3.09.1a (5)'!c40\"))","v":""},{"$f":"IF(ISERROR(INDIRECT(\"'3.09.1a (5)'!d40\"))=TRUE,\"\",INDIRECT(\"'3.09.1a (5)'!d40\"))","v":""},{"$f":"IF(ISERROR(INDIRECT(\"'3.09.1a (5)'!e40\"))=TRUE,\"\",INDIRECT(\"'3.09.1a (5)'!e40\"))","v":""},{"$f":"IF(ISERROR(INDIRECT(\"'3.09.1a (5)'!f40\"))=TRUE,\"\",INDIRECT(\"'3.09.1a (5)'!f40\"))","v":""},{"$f":"IF(ISERROR(INDIRECT(\"'3.09.1a (5)'!g40\"))=TRUE,\"\",INDIRECT(\"'3.09.1a (5)'!g40\"))","v":""},{"$f":"IF(ISERROR(INDIRECT(\"'3.09.1a (5)'!h40\"))=TRUE,\"\",INDIRECT(\"'3.09.1a (5)'!h40\"))","v":""},{"$f":"IF(ISERROR(INDIRECT(\"'3.09.1a (5)'!i40\"))=TRUE,\"\",INDIRECT(\"'3.09.1a (5)'!i40\"))","v":""},{"$f":"IF(ISERROR(INDIRECT(\"'3.09.1a (5)'!j40\"))=TRUE,\"\",INDIRECT(\"'3.09.1a (5)'!j40\"))","v":""},{"$f":"IF(ISERROR(INDIRECT(\"'3.09.1a (5)'!o40\"))=TRUE,\"\",INDIRECT(\"'3.09.1a (5)'!o40\"))","v":""},{"$f":"IF(ISERROR(INDIRECT(\"'3.09.1a (5)'!p40\"))=TRUE,\"\",INDIRECT(\"'3.09.1a (5)'!p40\"))","v":""},{"$f":"IF(ISERROR(INDIRECT(\"'3.09.1a (5)'!q40\"))=TRUE,\"\",INDIRECT(\"'3.09.1a (5)'!q40\"))","v":""},{"$f":"IF(ISERROR(INDIRECT(\"'3.09.1a (5)'!s40\"))=TRUE,\"\",INDIRECT(\"'3.09.1a (5)'!s40\"))","v":""},{"$f":"IF(ISERROR(INDIRECT(\"'3.09.1a (5)'!t40\"))=TRUE,\"\",INDIRECT(\"'3.09.1a (5)'!t40\"))","v":""},{"$f":"IF(ISERROR(INDIRECT(\"'3.09.1a (5)'!u40\"))=TRUE,\"\",INDIRECT(\"'3.09.1a (5)'!u40\"))","v":""},{"$f":"IF(ISERROR(INDIRECT(\"'3.09.1a (5)'!v40\"))=TRUE,\"\",INDIRECT(\"'3.09.1a (5)'!v40\"))","v":""},{"$f":"IF(ISERROR(INDIRECT(\"'3.09.1a (5)'!w40\"))=TRUE,\"\",INDIRECT(\"'3.09.1a (5)'!w40\"))","v":""},{"$f":"IF(ISERROR(INDIRECT(\"'3.09.1a (5)'!x40\"))=TRUE,\"\",INDIRECT(\"'3.09.1a (5)'!x40\"))","v":""},{"$f":"IF(ISERROR(INDIRECT(\"'3.09.1a (5)'!aa40\"))=TRUE,\"\",INDIRECT(\"'3.09.1a (5)'!aa40\"))","v":""},{"$f":"IF(ISERROR(INDIRECT(\"'3.09.1a (5)'!ad40\"))=TRUE,\"\",INDIRECT(\"'3.09.1a (5)'!ad40\"))","v":""},{"$f":"IF(ISERROR(INDIRECT(\"'3.09.1a (5)'!ah40\"))=TRUE,\"\",INDIRECT(\"'3.09.1a (5)'!ah40\"))","v":""},{"$f":"IF(ISERROR(INDIRECT(\"'3.09.1a (5)'!am40\"))=TRUE,\"\",INDIRECT(\"'3.09.1a (5)'!am40\"))","v":""}]
[0,"3.09.1a (5)",{"$f":"IF(ISERROR(INDIRECT(\"'3.09.1a (5)'!b41\"))=TRUE,\"\",INDIRECT(\"'3.09.1a (5)'!b41\"))","v":""},{"$f":"IF(ISERROR(INDIRECT(\"'3.09.1a (5)'!c41\"))=TRUE,\"\",INDIRECT(\"'3.09.1a (5)'!c41\"))","v":""},{"$f":"IF(ISERROR(INDIRECT(\"'3.09.1a (5)'!d41\"))=TRUE,\"\",INDIRECT(\"'3.09.1a (5)'!d41\"))","v":""},{"$f":"IF(ISERROR(INDIRECT(\"'3.09.1a (5)'!e41\"))=TRUE,\"\",INDIRECT(\"'3.09.1a (5)'!e41\"))","v":""},{"$f":"IF(ISERROR(INDIRECT(\"'3.09.1a (5)'!f41\"))=TRUE,\"\",INDIRECT(\"'3.09.1a (5)'!f41\"))","v":""},{"$f":"IF(ISERROR(INDIRECT(\"'3.09.1a (5)'!g41\"))=TRUE,\"\",INDIRECT(\"'3.09.1a (5)'!g41\"))","v":""},{"$f":"IF(ISERROR(INDIRECT(\"'3.09.1a (5)'!h41\"))=TRUE,\"\",INDIRECT(\"'3.09.1a (5)'!h41\"))","v":""},{"$f":"IF(ISERROR(INDIRECT(\"'3.09.1a (5)'!i41\"))=TRUE,\"\",INDIRECT(\"'3.09.1a (5)'!i41\"))","v":""},{"$f":"IF(ISERROR(INDIRECT(\"'3.09.1a (5)'!j41\"))=TRUE,\"\",INDIRECT(\"'3.09.1a (5)'!j41\"))","v":""},{"$f":"IF(ISERROR(INDIRECT(\"'3.09.1a (5)'!o41\"))=TRUE,\"\",INDIRECT(\"'3.09.1a (5)'!o41\"))","v":""},{"$f":"IF(ISERROR(INDIRECT(\"'3.09.1a (5)'!p41\"))=TRUE,\"\",INDIRECT(\"'3.09.1a (5)'!p41\"))","v":""},{"$f":"IF(ISERROR(INDIRECT(\"'3.09.1a (5)'!q41\"))=TRUE,\"\",INDIRECT(\"'3.09.1a (5)'!q41\"))","v":""},{"$f":"IF(ISERROR(INDIRECT(\"'3.09.1a (5)'!s41\"))=TRUE,\"\",INDIRECT(\"'3.09.1a (5)'!s41\"))","v":""},{"$f":"IF(ISERROR(INDIRECT(\"'3.09.1a (5)'!t41\"))=TRUE,\"\",INDIRECT(\"'3.09.1a (5)'!t41\"))","v":""},{"$f":"IF(ISERROR(INDIRECT(\"'3.09.1a (5)'!u41\"))=TRUE,\"\",INDIRECT(\"'3.09.1a (5)'!u41\"))","v":""},{"$f":"IF(ISERROR(INDIRECT(\"'3.09.1a (5)'!v41\"))=TRUE,\"\",INDIRECT(\"'3.09.1a (5)'!v41\"))","v":""},{"$f":"IF(ISERROR(INDIRECT(\"'3.09.1a (5)'!w41\"))=TRUE,\"\",INDIRECT(\"'3.09.1a (5)'!w41\"))","v":""},{"$f":"IF(ISERROR(INDIRECT(\"'3.09.1a (5)'!x41\"))=TRUE,\"\",INDIRECT(\"'3.09.1a (5)'!x41\"))","v":""},{"$f":"IF(ISERROR(INDIRECT(\"'3.09.1a (5)'!aa41\"))=TRUE,\"\",INDIRECT(\"'3.09.1a (5)'!aa41\"))","v":""},{"$f":"IF(ISERROR(INDIRECT(\"'3.09.1a (5)'!ad41\"))=TRUE,\"\",INDIRECT(\"'3.09.1a (5)'!ad41\"))","v":""},{"$f":"IF(ISERROR(INDIRECT(\"'3.09.1a (5)'!ah41\"))=TRUE,\"\",INDIRECT(\"'3.09.1a (5)'!ah41\"))","v":""},{"$f":"IF(ISERROR(INDIRECT(\"'3.09.1a (5)'!am41\"))=TRUE,\"\",INDIRECT(\"'3.09.1a (5)'!am41\"))","v":""}]
[0,"3.09.1a (5)",{"$f":"IF(ISERROR(INDIRECT(\"'3.09.1a (5)'!b42\"))=TRUE,\"\",INDIRECT(\"'3.09.1a (5)'!b42\"))","v":""},{"$f":"IF(ISERROR(INDIRECT(\"'3.09.1a (5)'!c42\"))=TRUE,\"\",INDIRECT(\"'3.09.1a (5)'!c42\"))","v":""},{"$f":"IF(ISERROR(INDIRECT(\"'3.09.1a (5)'!d42\"))=TRUE,\"\",INDIRECT(\"'3.09.1a (5)'!d42\"))","v":""},{"$f":"IF(ISERROR(INDIRECT(\"'3.09.1a (5)'!e42\"))=TRUE,\"\",INDIRECT(\"'3.09.1a (5)'!e42\"))","v":""},{"$f":"IF(ISERROR(INDIRECT(\"'3.09.1a (5)'!f42\"))=TRUE,\"\",INDIRECT(\"'3.09.1a (5)'!f42\"))","v":""},{"$f":"IF(ISERROR(INDIRECT(\"'3.09.1a (5)'!g42\"))=TRUE,\"\",INDIRECT(\"'3.09.1a (5)'!g42\"))","v":""},{"$f":"IF(ISERROR(INDIRECT(\"'3.09.1a (5)'!h42\"))=TRUE,\"\",INDIRECT(\"'3.09.1a (5)'!h42\"))","v":""},{"$f":"IF(ISERROR(INDIRECT(\"'3.09.1a (5)'!i42\"))=TRUE,\"\",INDIRECT(\"'3.09.1a (5)'!i42\"))","v":""},{"$f":"IF(ISERROR(INDIRECT(\"'3.09.1a (5)'!j42\"))=TRUE,\"\",INDIRECT(\"'3.09.1a (5)'!j42\"))","v":""},{"$f":"IF(ISERROR(INDIRECT(\"'3.09.1a (5)'!o42\"))=TRUE,\"\",INDIRECT(\"'3.09.1a (5)'!o42\"))","v":""},{"$f":"IF(ISERROR(INDIRECT(\"'3.09.1a (5)'!p42\"))=TRUE,\"\",INDIRECT(\"'3.09.1a (5)'!p42\"))","v":""},{"$f":"IF(ISERROR(INDIRECT(\"'3.09.1a (5)'!q42\"))=TRUE,\"\",INDIRECT(\"'3.09.1a (5)'!q42\"))","v":""},{"$f":"IF(ISERROR(INDIRECT(\"'3.09.1a (5)'!s42\"))=TRUE,\"\",INDIRECT(\"'3.09.1a (5)'!s42\"))","v":""},{"$f":"IF(ISERROR(INDIRECT(\"'3.09.1a (5)'!t42\"))=TRUE,\"\",INDIRECT(\"'3.09.1a (5)'!t42\"))","v":""},{"$f":"IF(ISERROR(INDIRECT(\"'3.09.1a (5)'!u42\"))=TRUE,\"\",INDIRECT(\"'3.09.1a (5)'!u42\"))","v":""},{"$f":"IF(ISERROR(INDIRECT(\"'3.09.1a (5)'!v42\"))=TRUE,\"\",INDIRECT(\"'3.09.1a (5)'!v42\"))","v":""},{"$f":"IF(ISERROR(INDIRECT(\"'3.09.1a (5)'!w42\"))=TRUE,\"\",INDIRECT(\"'3.09.1a (5)'!w42\"))","v":""},{"$f":"IF(ISERROR(INDIRECT(\"'3.09.1a (5)'!x42\"))=TRUE,\"\",INDIRECT(\"'3.09.1a (5)'!x42\"))","v":""},{"$f":"IF(ISERROR(INDIRECT(\"'3.09.1a (5)'!aa42\"))=TRUE,\"\",INDIRECT(\"'3.09.1a (5)'!aa42\"))","v":""},{"$f":"IF(ISERROR(INDIRECT(\"'3.09.1a (5)'!ad42\"))=TRUE,\"\",INDIRECT(\"'3.09.1a (5)'!ad42\"))","v":""},{"$f":"IF(ISERROR(INDIRECT(\"'3.09.1a (5)'!ah42\"))=TRUE,\"\",INDIRECT(\"'3.09.1a (5)'!ah42\"))","v":""},{"$f":"IF(ISERROR(INDIRECT(\"'3.09.1a (5)'!am42\"))=TRUE,\"\",INDIRECT(\"'3.09.1a (5)'!am42\"))","v":""}]
[0,"3.09.1a (5)",{"$f":"IF(ISERROR(INDIRECT(\"'3.09.1a (5)'!b43\"))=TRUE,\"\",INDIRECT(\"'3.09.1a (5)'!b43\"))","v":""},{"$f":"IF(ISERROR(INDIRECT(\"'3.09.1a (5)'!c43\"))=TRUE,\"\",INDIRECT(\"'3.09.1a (5)'!c43\"))","v":""},{"$f":"IF(ISERROR(INDIRECT(\"'3.09.1a (5)'!d43\"))=TRUE,\"\",INDIRECT(\"'3.09.1a (5)'!d43\"))","v":""},{"$f":"IF(ISERROR(INDIRECT(\"'3.09.1a (5)'!e43\"))=TRUE,\"\",INDIRECT(\"'3.09.1a (5)'!e43\"))","v":""},{"$f":"IF(ISERROR(INDIRECT(\"'3.09.1a (5)'!f43\"))=TRUE,\"\",INDIRECT(\"'3.09.1a (5)'!f43\"))","v":""},{"$f":"IF(ISERROR(INDIRECT(\"'3.09.1a (5)'!g43\"))=TRUE,\"\",INDIRECT(\"'3.09.1a (5)'!g43\"))","v":""},{"$f":"IF(ISERROR(INDIRECT(\"'3.09.1a (5)'!h43\"))=TRUE,\"\",INDIRECT(\"'3.09.1a (5)'!h43\"))","v":""},{"$f":"IF(ISERROR(INDIRECT(\"'3.09.1a (5)'!i43\"))=TRUE,\"\",INDIRECT(\"'3.09.1a (5)'!i43\"))","v":""},{"$f":"IF(ISERROR(INDIRECT(\"'3.09.1a (5)'!j43\"))=TRUE,\"\",INDIRECT(\"'3.09.1a (5)'!j43\"))","v":""},{"$f":"IF(ISERROR(INDIRECT(\"'3.09.1a (5)'!o43\"))=TRUE,\"\",INDIRECT(\"'3.09.1a (5)'!o43\"))","v":""},{"$f":"IF(ISERROR(INDIRECT(\"'3.09.1a (5)'!p43\"))=TRUE,\"\",INDIRECT(\"'3.09.1a (5)'!p43\"))","v":""},{"$f":"IF(ISERROR(INDIRECT(\"'3.09.1a (5)'!q43\"))=TRUE,\"\",INDIRECT(\"'3.09.1a (5)'!q43\"))","v":""},{"$f":"IF(ISERROR(INDIRECT(\"'3.09.1a (5)'!s43\"))=TRUE,\"\",INDIRECT(\"'3.09.1a (5)'!s43\"))","v":""},{"$f":"IF(ISERROR(INDIRECT(\"'3.09.1a (5)'!t43\"))=TRUE,\"\",INDIRECT(\"'3.09.1a (5)'!t43\"))","v":""},{"$f":"IF(ISERROR(INDIRECT(\"'3.09.1a (5)'!u43\"))=TRUE,\"\",INDIRECT(\"'3.09.1a (5)'!u43\"))","v":""},{"$f":"IF(ISERROR(INDIRECT(\"'3.09.1a (5)'!v43\"))=TRUE,\"\",INDIRECT(\"'3.09.1a (5)'!v43\"))","v":""},{"$f":"IF(ISERROR(INDIRECT(\"'3.09.1a (5)'!w43\"))=TRUE,\"\",INDIRECT(\"'3.09.1a (5)'!w43\"))","v":""},{"$f":"IF(ISERROR(INDIRECT(\"'3.09.1a (5)'!x43\"))=TRUE,\"\",INDIRECT(\"'3.09.1a (5)'!x43\"))","v":""},{"$f":"IF(ISERROR(INDIRECT(\"'3.09.1a (5)'!aa43\"))=TRUE,\"\",INDIRECT(\"'3.09.1a (5)'!aa43\"))","v":""},{"$f":"IF(ISERROR(INDIRECT(\"'3.09.1a (5)'!ad43\"))=TRUE,\"\",INDIRECT(\"'3.09.1a (5)'!ad43\"))","v":""},{"$f":"IF(ISERROR(INDIRECT(\"'3.09.1a (5)'!ah43\"))=TRUE,\"\",INDIRECT(\"'3.09.1a (5)'!ah43\"))","v":""},{"$f":"IF(ISERROR(INDIRECT(\"'3.09.1a (5)'!am43\"))=TRUE,\"\",INDIRECT(\"'3.09.1a (5)'!am43\"))","v":""}]
[{"$f":"AgencyCode","v":0},"3.09.1a (6)",{"$f":"IF(ISERROR(INDIRECT(\"'3.09.1a (6)'!b19\"))=TRUE,\"\",INDIRECT(\"'3.09.1a (6)'!b19\"))","v":""},{"$f":"IF(ISERROR(INDIRECT(\"'3.09.1a (6)'!c19\"))=TRUE,\"\",INDIRECT(\"'3.09.1a (6)'!c19\"))","v":""},{"$f":"IF(ISERROR(INDIRECT(\"'3.09.1a (6)'!D19\"))=TRUE,\"\",INDIRECT(\"'3.09.1a (6)'!D19\"))","v":""},{"$f":"IF(ISERROR(INDIRECT(\"'3.09.1a (6)'!e19\"))=TRUE,\"\",INDIRECT(\"'3.09.1a (6)'!e19\"))","v":""},{"$f":"IF(ISERROR(INDIRECT(\"'3.09.1a (6)'!f19\"))=TRUE,\"\",INDIRECT(\"'3.09.1a (6)'!f19\"))","v":""},{"$f":"IF(ISERROR(INDIRECT(\"'3.09.1a (6)'!g19\"))=TRUE,\"\",INDIRECT(\"'3.09.1a (6)'!g19\"))","v":""},{"$f":"IF(ISERROR(INDIRECT(\"'3.09.1a (6)'!h19\"))=TRUE,\"\",INDIRECT(\"'3.09.1a (6)'!h19\"))","v":""},{"$f":"IF(ISERROR(INDIRECT(\"'3.09.1a (6)'!i19\"))=TRUE,\"\",INDIRECT(\"'3.09.1a (6)'!i19\"))","v":""},{"$f":"IF(ISERROR(INDIRECT(\"'3.09.1a (6)'!j19\"))=TRUE,\"\",INDIRECT(\"'3.09.1a (6)'!j19\"))","v":""},{"$f":"IF(ISERROR(INDIRECT(\"'3.09.1a (6)'!o19\"))=TRUE,\"\",INDIRECT(\"'3.09.1a (6)'!o19\"))","v":""},{"$f":"IF(ISERROR(INDIRECT(\"'3.09.1a (6)'!p19\"))=TRUE,\"\",INDIRECT(\"'3.09.1a (6)'!p19\"))","v":""},{"$f":"IF(ISERROR(INDIRECT(\"'3.09.1a (6)'!q19\"))=TRUE,\"\",INDIRECT(\"'3.09.1a (6)'!q19\"))","v":""},{"$f":"IF(ISERROR(INDIRECT(\"'3.09.1a (6)'!s19\"))=TRUE,\"\",INDIRECT(\"'3.09.1a (6)'!s19\"))","v":""},{"$f":"IF(ISERROR(INDIRECT(\"'3.09.1a (6)'!t19\"))=TRUE,\"\",INDIRECT(\"'3.09.1a (6)'!t19\"))","v":""},{"$f":"IF(ISERROR(INDIRECT(\"'3.09.1a (6)'!u19\"))=TRUE,\"\",INDIRECT(\"'3.09.1a (6)'!u19\"))","v":""},{"$f":"IF(ISERROR(INDIRECT(\"'3.09.1a (6)'!v19\"))=TRUE,\"\",INDIRECT(\"'3.09.1a (6)'!v19\"))","v":""},{"$f":"IF(ISERROR(INDIRECT(\"'3.09.1a (6)'!w19\"))=TRUE,\"\",INDIRECT(\"'3.09.1a (6)'!w19\"))","v":""},{"$f":"IF(ISERROR(INDIRECT(\"'3.09.1a (6)'!x19\"))=TRUE,\"\",INDIRECT(\"'3.09.1a (6)'!x19\"))","v":""},{"$f":"IF(ISERROR(INDIRECT(\"'3.09.1a (6)'!aa19\"))=TRUE,\"\",INDIRECT(\"'3.09.1a (6)'!aa19\"))","v":""},{"$f":"IF(ISERROR(INDIRECT(\"'3.09.1a (6)'!ad19\"))=TRUE,\"\",INDIRECT(\"'3.09.1a (6)'!ad19\"))","v":""},{"$f":"IF(ISERROR(INDIRECT(\"'3.09.1a (6)'!ah19\"))=TRUE,\"\",INDIRECT(\"'3.09.1a (6)'!ah19\"))","v":""},{"$f":"IF(ISERROR(INDIRECT(\"'3.09.1a (6)'!am19\"))=TRUE,\"\",INDIRECT(\"'3.09.1a (6)'!am19\"))","v":""}]
[0,"3.09.1a (6)",{"$f":"IF(ISERROR(INDIRECT(\"'3.09.1a (6)'!b20\"))=TRUE,\"\",INDIRECT(\"'3.09.1a (6)'!b20\"))","v":""},{"$f":"IF(ISERROR(INDIRECT(\"'3.09.1a (6)'!c20\"))=TRUE,\"\",INDIRECT(\"'3.09.1a (6)'!c20\"))","v":""},{"$f":"IF(ISERROR(INDIRECT(\"'3.09.1a (6)'!d20\"))=TRUE,\"\",INDIRECT(\"'3.09.1a (6)'!d20\"))","v":""},{"$f":"IF(ISERROR(INDIRECT(\"'3.09.1a (6)'!e20\"))=TRUE,\"\",INDIRECT(\"'3.09.1a (6)'!e20\"))","v":""},{"$f":"IF(ISERROR(INDIRECT(\"'3.09.1a (6)'!f20\"))=TRUE,\"\",INDIRECT(\"'3.09.1a (6)'!f20\"))","v":""},{"$f":"IF(ISERROR(INDIRECT(\"'3.09.1a (6)'!g20\"))=TRUE,\"\",INDIRECT(\"'3.09.1a (6)'!g20\"))","v":""},{"$f":"IF(ISERROR(INDIRECT(\"'3.09.1a (6)'!h20\"))=TRUE,\"\",INDIRECT(\"'3.09.1a (6)'!h20\"))","v":""},{"$f":"IF(ISERROR(INDIRECT(\"'3.09.1a (6)'!i20\"))=TRUE,\"\",INDIRECT(\"'3.09.1a (6)'!i20\"))","v":""},{"$f":"IF(ISERROR(INDIRECT(\"'3.09.1a (6)'!j20\"))=TRUE,\"\",INDIRECT(\"'3.09.1a (6)'!j20\"))","v":""},{"$f":"IF(ISERROR(INDIRECT(\"'3.09.1a (6)'!o20\"))=TRUE,\"\",INDIRECT(\"'3.09.1a (6)'!o20\"))","v":""},{"$f":"IF(ISERROR(INDIRECT(\"'3.09.1a (6)'!p20\"))=TRUE,\"\",INDIRECT(\"'3.09.1a (6)'!p20\"))","v":""},{"$f":"IF(ISERROR(INDIRECT(\"'3.09.1a (6)'!q20\"))=TRUE,\"\",INDIRECT(\"'3.09.1a (6)'!q20\"))","v":""},{"$f":"IF(ISERROR(INDIRECT(\"'3.09.1a (6)'!s20\"))=TRUE,\"\",INDIRECT(\"'3.09.1a (6)'!s20\"))","v":""},{"$f":"IF(ISERROR(INDIRECT(\"'3.09.1a (6)'!t20\"))=TRUE,\"\",INDIRECT(\"'3.09.1a (6)'!t20\"))","v":""},{"$f":"IF(ISERROR(INDIRECT(\"'3.09.1a (6)'!u20\"))=TRUE,\"\",INDIRECT(\"'3.09.1a (6)'!u20\"))","v":""},{"$f":"IF(ISERROR(INDIRECT(\"'3.09.1a (6)'!v20\"))=TRUE,\"\",INDIRECT(\"'3.09.1a (6)'!v20\"))","v":""},{"$f":"IF(ISERROR(INDIRECT(\"'3.09.1a (6)'!w20\"))=TRUE,\"\",INDIRECT(\"'3.09.1a (6)'!w20\"))","v":""},{"$f":"IF(ISERROR(INDIRECT(\"'3.09.1a (6)'!x20\"))=TRUE,\"\",INDIRECT(\"'3.09.1a (6)'!x20\"))","v":""},{"$f":"IF(ISERROR(INDIRECT(\"'3.09.1a (6)'!aa20\"))=TRUE,\"\",INDIRECT(\"'3.09.1a (6)'!aa20\"))","v":""},{"$f":"IF(ISERROR(INDIRECT(\"'3.09.1a (6)'!ad20\"))=TRUE,\"\",INDIRECT(\"'3.09.1a (6)'!ad20\"))","v":""},{"$f":"IF(ISERROR(INDIRECT(\"'3.09.1a (6)'!ah20\"))=TRUE,\"\",INDIRECT(\"'3.09.1a (6)'!ah20\"))","v":""},{"$f":"IF(ISERROR(INDIRECT(\"'3.09.1a (6)'!am20\"))=TRUE,\"\",INDIRECT(\"'3.09.1a (6)'!am20\"))","v":""}]
[0,"3.09.1a (6)",{"$f":"IF(ISERROR(INDIRECT(\"'3.09.1a (6)'!b21\"))=TRUE,\"\",INDIRECT(\"'3.09.1a (6)'!b21\"))","v":""},{"$f":"IF(ISERROR(INDIRECT(\"'3.09.1a (6)'!c21\"))=TRUE,\"\",INDIRECT(\"'3.09.1a (6)'!c21\"))","v":""},{"$f":"IF(ISERROR(INDIRECT(\"'3.09.1a (6)'!d21\"))=TRUE,\"\",INDIRECT(\"'3.09.1a (6)'!d21\"))","v":""},{"$f":"IF(ISERROR(INDIRECT(\"'3.09.1a (6)'!e21\"))=TRUE,\"\",INDIRECT(\"'3.09.1a (6)'!e21\"))","v":""},{"$f":"IF(ISERROR(INDIRECT(\"'3.09.1a (6)'!f21\"))=TRUE,\"\",INDIRECT(\"'3.09.1a (6)'!f21\"))","v":""},{"$f":"IF(ISERROR(INDIRECT(\"'3.09.1a (6)'!g21\"))=TRUE,\"\",INDIRECT(\"'3.09.1a (6)'!g21\"))","v":""},{"$f":"IF(ISERROR(INDIRECT(\"'3.09.1a (6)'!h21\"))=TRUE,\"\",INDIRECT(\"'3.09.1a (6)'!h21\"))","v":""},{"$f":"IF(ISERROR(INDIRECT(\"'3.09.1a (6)'!i21\"))=TRUE,\"\",INDIRECT(\"'3.09.1a (6)'!i21\"))","v":""},{"$f":"IF(ISERROR(INDIRECT(\"'3.09.1a (6)'!j21\"))=TRUE,\"\",INDIRECT(\"'3.09.1a (6)'!j21\"))","v":""},{"$f":"IF(ISERROR(INDIRECT(\"'3.09.1a (6)'!o21\"))=TRUE,\"\",INDIRECT(\"'3.09.1a (6)'!o21\"))","v":""},{"$f":"IF(ISERROR(INDIRECT(\"'3.09.1a (6)'!p21\"))=TRUE,\"\",INDIRECT(\"'3.09.1a (6)'!p21\"))","v":""},{"$f":"IF(ISERROR(INDIRECT(\"'3.09.1a (6)'!q21\"))=TRUE,\"\",INDIRECT(\"'3.09.1a (6)'!q21\"))","v":""},{"$f":"IF(ISERROR(INDIRECT(\"'3.09.1a (6)'!s21\"))=TRUE,\"\",INDIRECT(\"'3.09.1a (6)'!s21\"))","v":""},{"$f":"IF(ISERROR(INDIRECT(\"'3.09.1a (6)'!t21\"))=TRUE,\"\",INDIRECT(\"'3.09.1a (6)'!t21\"))","v":""},{"$f":"IF(ISERROR(INDIRECT(\"'3.09.1a (6)'!u21\"))=TRUE,\"\",INDIRECT(\"'3.09.1a (6)'!u21\"))","v":""},{"$f":"IF(ISERROR(INDIRECT(\"'3.09.1a (6)'!v21\"))=TRUE,\"\",INDIRECT(\"'3.09.1a (6)'!v21\"))","v":""},{"$f":"IF(ISERROR(INDIRECT(\"'3.09.1a (6)'!w21\"))=TRUE,\"\",INDIRECT(\"'3.09.1a (6)'!w21\"))","v":""},{"$f":"IF(ISERROR(INDIRECT(\"'3.09.1a (6)'!x21\"))=TRUE,\"\",INDIRECT(\"'3.09.1a (6)'!x21\"))","v":""},{"$f":"IF(ISERROR(INDIRECT(\"'3.09.1a (6)'!aa21\"))=TRUE,\"\",INDIRECT(\"'3.09.1a (6)'!aa21\"))","v":""},{"$f":"IF(ISERROR(INDIRECT(\"'3.09.1a (6)'!ad21\"))=TRUE,\"\",INDIRECT(\"'3.09.1a (6)'!ad21\"))","v":""},{"$f":"IF(ISERROR(INDIRECT(\"'3.09.1a (6)'!ah21\"))=TRUE,\"\",INDIRECT(\"'3.09.1a (6)'!ah21\"))","v":""},{"$f":"IF(ISERROR(INDIRECT(\"'3.09.1a (6)'!am21\"))=TRUE,\"\",INDIRECT(\"'3.09.1a (6)'!am21\"))","v":""}]
[0,"3.09.1a (6)",{"$f":"IF(ISERROR(INDIRECT(\"'3.09.1a (6)'!b22\"))=TRUE,\"\",INDIRECT(\"'3.09.1a (6)'!b22\"))","v":""},{"$f":"IF(ISERROR(INDIRECT(\"'3.09.1a (6)'!c22\"))=TRUE,\"\",INDIRECT(\"'3.09.1a (6)'!c22\"))","v":""},{"$f":"IF(ISERROR(INDIRECT(\"'3.09.1a (6)'!d22\"))=TRUE,\"\",INDIRECT(\"'3.09.1a (6)'!d22\"))","v":""},{"$f":"IF(ISERROR(INDIRECT(\"'3.09.1a (6)'!e22\"))=TRUE,\"\",INDIRECT(\"'3.09.1a (6)'!e22\"))","v":""},{"$f":"IF(ISERROR(INDIRECT(\"'3.09.1a (6)'!f22\"))=TRUE,\"\",INDIRECT(\"'3.09.1a (6)'!f22\"))","v":""},{"$f":"IF(ISERROR(INDIRECT(\"'3.09.1a (6)'!g22\"))=TRUE,\"\",INDIRECT(\"'3.09.1a (6)'!g22\"))","v":""},{"$f":"IF(ISERROR(INDIRECT(\"'3.09.1a (6)'!h22\"))=TRUE,\"\",INDIRECT(\"'3.09.1a (6)'!h22\"))","v":""},{"$f":"IF(ISERROR(INDIRECT(\"'3.09.1a (6)'!i22\"))=TRUE,\"\",INDIRECT(\"'3.09.1a (6)'!i22\"))","v":""},{"$f":"IF(ISERROR(INDIRECT(\"'3.09.1a (6)'!j22\"))=TRUE,\"\",INDIRECT(\"'3.09.1a (6)'!j22\"))","v":""},{"$f":"IF(ISERROR(INDIRECT(\"'3.09.1a (6)'!o22\"))=TRUE,\"\",INDIRECT(\"'3.09.1a (6)'!o22\"))","v":""},{"$f":"IF(ISERROR(INDIRECT(\"'3.09.1a (6)'!p22\"))=TRUE,\"\",INDIRECT(\"'3.09.1a (6)'!p22\"))","v":""},{"$f":"IF(ISERROR(INDIRECT(\"'3.09.1a (6)'!q22\"))=TRUE,\"\",INDIRECT(\"'3.09.1a (6)'!q22\"))","v":""},{"$f":"IF(ISERROR(INDIRECT(\"'3.09.1a (6)'!s22\"))=TRUE,\"\",INDIRECT(\"'3.09.1a (6)'!s22\"))","v":""},{"$f":"IF(ISERROR(INDIRECT(\"'3.09.1a (6)'!t22\"))=TRUE,\"\",INDIRECT(\"'3.09.1a (6)'!t22\"))","v":""},{"$f":"IF(ISERROR(INDIRECT(\"'3.09.1a (6)'!u22\"))=TRUE,\"\",INDIRECT(\"'3.09.1a (6)'!u22\"))","v":""},{"$f":"IF(ISERROR(INDIRECT(\"'3.09.1a (6)'!v22\"))=TRUE,\"\",INDIRECT(\"'3.09.1a (6)'!v22\"))","v":""},{"$f":"IF(ISERROR(INDIRECT(\"'3.09.1a (6)'!w22\"))=TRUE,\"\",INDIRECT(\"'3.09.1a (6)'!w22\"))","v":""},{"$f":"IF(ISERROR(INDIRECT(\"'3.09.1a (6)'!x22\"))=TRUE,\"\",INDIRECT(\"'3.09.1a (6)'!x22\"))","v":""},{"$f":"IF(ISERROR(INDIRECT(\"'3.09.1a (6)'!aa22\"))=TRUE,\"\",INDIRECT(\"'3.09.1a (6)'!aa22\"))","v":""},{"$f":"IF(ISERROR(INDIRECT(\"'3.09.1a (6)'!ad22\"))=TRUE,\"\",INDIRECT(\"'3.09.1a (6)'!ad22\"))","v":""},{"$f":"IF(ISERROR(INDIRECT(\"'3.09.1a (6)'!ah22\"))=TRUE,\"\",INDIRECT(\"'3.09.1a (6)'!ah22\"))","v":""},{"$f":"IF(ISERROR(INDIRECT(\"'3.09.1a (6)'!am22\"))=TRUE,\"\",INDIRECT(\"'3.09.1a (6)'!am22\"))","v":""}]
[0,"3.09.1a (6)",{"$f":"IF(ISERROR(INDIRECT(\"'3.09.1a (6)'!b23\"))=TRUE,\"\",INDIRECT(\"'3.09.1a (6)'!b23\"))","v":""},{"$f":"IF(ISERROR(INDIRECT(\"'3.09.1a (6)'!c23\"))=TRUE,\"\",INDIRECT(\"'3.09.1a (6)'!c23\"))","v":""},{"$f":"IF(ISERROR(INDIRECT(\"'3.09.1a (6)'!d23\"))=TRUE,\"\",INDIRECT(\"'3.09.1a (6)'!d23\"))","v":""},{"$f":"IF(ISERROR(INDIRECT(\"'3.09.1a (6)'!e23\"))=TRUE,\"\",INDIRECT(\"'3.09.1a (6)'!e23\"))","v":""},{"$f":"IF(ISERROR(INDIRECT(\"'3.09.1a (6)'!f23\"))=TRUE,\"\",INDIRECT(\"'3.09.1a (6)'!f23\"))","v":""},{"$f":"IF(ISERROR(INDIRECT(\"'3.09.1a (6)'!g23\"))=TRUE,\"\",INDIRECT(\"'3.09.1a (6)'!g23\"))","v":""},{"$f":"IF(ISERROR(INDIRECT(\"'3.09.1a (6)'!h23\"))=TRUE,\"\",INDIRECT(\"'3.09.1a (6)'!h23\"))","v":""},{"$f":"IF(ISERROR(INDIRECT(\"'3.09.1a (6)'!i23\"))=TRUE,\"\",INDIRECT(\"'3.09.1a (6)'!i23\"))","v":""},{"$f":"IF(ISERROR(INDIRECT(\"'3.09.1a (6)'!j23\"))=TRUE,\"\",INDIRECT(\"'3.09.1a (6)'!j23\"))","v":""},{"$f":"IF(ISERROR(INDIRECT(\"'3.09.1a (6)'!o23\"))=TRUE,\"\",INDIRECT(\"'3.09.1a (6)'!o23\"))","v":""},{"$f":"IF(ISERROR(INDIRECT(\"'3.09.1a (6)'!p23\"))=TRUE,\"\",INDIRECT(\"'3.09.1a (6)'!p23\"))","v":""},{"$f":"IF(ISERROR(INDIRECT(\"'3.09.1a (6)'!q23\"))=TRUE,\"\",INDIRECT(\"'3.09.1a (6)'!q23\"))","v":""},{"$f":"IF(ISERROR(INDIRECT(\"'3.09.1a (6)'!s23\"))=TRUE,\"\",INDIRECT(\"'3.09.1a (6)'!s23\"))","v":""},{"$f":"IF(ISERROR(INDIRECT(\"'3.09.1a (6)'!t23\"))=TRUE,\"\",INDIRECT(\"'3.09.1a (6)'!t23\"))","v":""},{"$f":"IF(ISERROR(INDIRECT(\"'3.09.1a (6)'!u23\"))=TRUE,\"\",INDIRECT(\"'3.09.1a (6)'!u23\"))","v":""},{"$f":"IF(ISERROR(INDIRECT(\"'3.09.1a (6)'!v23\"))=TRUE,\"\",INDIRECT(\"'3.09.1a (6)'!v23\"))","v":""},{"$f":"IF(ISERROR(INDIRECT(\"'3.09.1a (6)'!w23\"))=TRUE,\"\",INDIRECT(\"'3.09.1a (6)'!w23\"))","v":""},{"$f":"IF(ISERROR(INDIRECT(\"'3.09.1a (6)'!x23\"))=TRUE,\"\",INDIRECT(\"'3.09.1a (6)'!x23\"))","v":""},{"$f":"IF(ISERROR(INDIRECT(\"'3.09.1a (6)'!aa23\"))=TRUE,\"\",INDIRECT(\"'3.09.1a (6)'!aa23\"))","v":""},{"$f":"IF(ISERROR(INDIRECT(\"'3.09.1a (6)'!ad23\"))=TRUE,\"\",INDIRECT(\"'3.09.1a (6)'!ad23\"))","v":""},{"$f":"IF(ISERROR(INDIRECT(\"'3.09.1a (6)'!ah23\"))=TRUE,\"\",INDIRECT(\"'3.09.1a (6)'!ah23\"))","v":""},{"$f":"IF(ISERROR(INDIRECT(\"'3.09.1a (6)'!am23\"))=TRUE,\"\",INDIRECT(\"'3.09.1a (6)'!am23\"))","v":""}]
[0,"3.09.1a (6)",{"$f":"IF(ISERROR(INDIRECT(\"'3.09.1a (6)'!b24\"))=TRUE,\"\",INDIRECT(\"'3.09.1a (6)'!b24\"))","v":""},{"$f":"IF(ISERROR(INDIRECT(\"'3.09.1a (6)'!c24\"))=TRUE,\"\",INDIRECT(\"'3.09.1a (6)'!c24\"))","v":""},{"$f":"IF(ISERROR(INDIRECT(\"'3.09.1a (6)'!d24\"))=TRUE,\"\",INDIRECT(\"'3.09.1a (6)'!d24\"))","v":""},{"$f":"IF(ISERROR(INDIRECT(\"'3.09.1a (6)'!e24\"))=TRUE,\"\",INDIRECT(\"'3.09.1a (6)'!e24\"))","v":""},{"$f":"IF(ISERROR(INDIRECT(\"'3.09.1a (6)'!f24\"))=TRUE,\"\",INDIRECT(\"'3.09.1a (6)'!f24\"))","v":""},{"$f":"IF(ISERROR(INDIRECT(\"'3.09.1a (6)'!g24\"))=TRUE,\"\",INDIRECT(\"'3.09.1a (6)'!g24\"))","v":""},{"$f":"IF(ISERROR(INDIRECT(\"'3.09.1a (6)'!h24\"))=TRUE,\"\",INDIRECT(\"'3.09.1a (6)'!h24\"))","v":""},{"$f":"IF(ISERROR(INDIRECT(\"'3.09.1a (6)'!i24\"))=TRUE,\"\",INDIRECT(\"'3.09.1a (6)'!i24\"))","v":""},{"$f":"IF(ISERROR(INDIRECT(\"'3.09.1a (6)'!j24\"))=TRUE,\"\",INDIRECT(\"'3.09.1a (6)'!j24\"))","v":""},{"$f":"IF(ISERROR(INDIRECT(\"'3.09.1a (6)'!o24\"))=TRUE,\"\",INDIRECT(\"'3.09.1a (6)'!o24\"))","v":""},{"$f":"IF(ISERROR(INDIRECT(\"'3.09.1a (6)'!p24\"))=TRUE,\"\",INDIRECT(\"'3.09.1a (6)'!p24\"))","v":""},{"$f":"IF(ISERROR(INDIRECT(\"'3.09.1a (6)'!q24\"))=TRUE,\"\",INDIRECT(\"'3.09.1a (6)'!q24\"))","v":""},{"$f":"IF(ISERROR(INDIRECT(\"'3.09.1a (6)'!s24\"))=TRUE,\"\",INDIRECT(\"'3.09.1a (6)'!s24\"))","v":""},{"$f":"IF(ISERROR(INDIRECT(\"'3.09.1a (6)'!t24\"))=TRUE,\"\",INDIRECT(\"'3.09.1a (6)'!t24\"))","v":""},{"$f":"IF(ISERROR(INDIRECT(\"'3.09.1a (6)'!u24\"))=TRUE,\"\",INDIRECT(\"'3.09.1a (6)'!u24\"))","v":""},{"$f":"IF(ISERROR(INDIRECT(\"'3.09.1a (6)'!v24\"))=TRUE,\"\",INDIRECT(\"'3.09.1a (6)'!v24\"))","v":""},{"$f":"IF(ISERROR(INDIRECT(\"'3.09.1a (6)'!w24\"))=TRUE,\"\",INDIRECT(\"'3.09.1a (6)'!w24\"))","v":""},{"$f":"IF(ISERROR(INDIRECT(\"'3.09.1a (6)'!x24\"))=TRUE,\"\",INDIRECT(\"'3.09.1a (6)'!x24\"))","v":""},{"$f":"IF(ISERROR(INDIRECT(\"'3.09.1a (6)'!aa24\"))=TRUE,\"\",INDIRECT(\"'3.09.1a (6)'!aa24\"))","v":""},{"$f":"IF(ISERROR(INDIRECT(\"'3.09.1a (6)'!ad24\"))=TRUE,\"\",INDIRECT(\"'3.09.1a (6)'!ad24\"))","v":""},{"$f":"IF(ISERROR(INDIRECT(\"'3.09.1a (6)'!ah24\"))=TRUE,\"\",INDIRECT(\"'3.09.1a (6)'!ah24\"))","v":""},{"$f":"IF(ISERROR(INDIRECT(\"'3.09.1a (6)'!am24\"))=TRUE,\"\",INDIRECT(\"'3.09.1a (6)'!am24\"))","v":""}]
[0,"3.09.1a (6)",{"$f":"IF(ISERROR(INDIRECT(\"'3.09.1a (6)'!b25\"))=TRUE,\"\",INDIRECT(\"'3.09.1a (6)'!b25\"))","v":""},{"$f":"IF(ISERROR(INDIRECT(\"'3.09.1a (6)'!c25\"))=TRUE,\"\",INDIRECT(\"'3.09.1a (6)'!c25\"))","v":""},{"$f":"IF(ISERROR(INDIRECT(\"'3.09.1a (6)'!d25\"))=TRUE,\"\",INDIRECT(\"'3.09.1a (6)'!d25\"))","v":""},{"$f":"IF(ISERROR(INDIRECT(\"'3.09.1a (6)'!e25\"))=TRUE,\"\",INDIRECT(\"'3.09.1a (6)'!e25\"))","v":""},{"$f":"IF(ISERROR(INDIRECT(\"'3.09.1a (6)'!f25\"))=TRUE,\"\",INDIRECT(\"'3.09.1a (6)'!f25\"))","v":""},{"$f":"IF(ISERROR(INDIRECT(\"'3.09.1a (6)'!g25\"))=TRUE,\"\",INDIRECT(\"'3.09.1a (6)'!g25\"))","v":""},{"$f":"IF(ISERROR(INDIRECT(\"'3.09.1a (6)'!h25\"))=TRUE,\"\",INDIRECT(\"'3.09.1a (6)'!h25\"))","v":""},{"$f":"IF(ISERROR(INDIRECT(\"'3.09.1a (6)'!i25\"))=TRUE,\"\",INDIRECT(\"'3.09.1a (6)'!i25\"))","v":""},{"$f":"IF(ISERROR(INDIRECT(\"'3.09.1a (6)'!j25\"))=TRUE,\"\",INDIRECT(\"'3.09.1a (6)'!j25\"))","v":""},{"$f":"IF(ISERROR(INDIRECT(\"'3.09.1a (6)'!o25\"))=TRUE,\"\",INDIRECT(\"'3.09.1a (6)'!o25\"))","v":""},{"$f":"IF(ISERROR(INDIRECT(\"'3.09.1a (6)'!p25\"))=TRUE,\"\",INDIRECT(\"'3.09.1a (6)'!p25\"))","v":""},{"$f":"IF(ISERROR(INDIRECT(\"'3.09.1a (6)'!q25\"))=TRUE,\"\",INDIRECT(\"'3.09.1a (6)'!q25\"))","v":""},{"$f":"IF(ISERROR(INDIRECT(\"'3.09.1a (6)'!s25\"))=TRUE,\"\",INDIRECT(\"'3.09.1a (6)'!s25\"))","v":""},{"$f":"IF(ISERROR(INDIRECT(\"'3.09.1a (6)'!t25\"))=TRUE,\"\",INDIRECT(\"'3.09.1a (6)'!t25\"))","v":""},{"$f":"IF(ISERROR(INDIRECT(\"'3.09.1a (6)'!u25\"))=TRUE,\"\",INDIRECT(\"'3.09.1a (6)'!u25\"))","v":""},{"$f":"IF(ISERROR(INDIRECT(\"'3.09.1a (6)'!v25\"))=TRUE,\"\",INDIRECT(\"'3.09.1a (6)'!v25\"))","v":""},{"$f":"IF(ISERROR(INDIRECT(\"'3.09.1a (6)'!w25\"))=TRUE,\"\",INDIRECT(\"'3.09.1a (6)'!w25\"))","v":""},{"$f":"IF(ISERROR(INDIRECT(\"'3.09.1a (6)'!x25\"))=TRUE,\"\",INDIRECT(\"'3.09.1a (6)'!x25\"))","v":""},{"$f":"IF(ISERROR(INDIRECT(\"'3.09.1a (6)'!aa25\"))=TRUE,\"\",INDIRECT(\"'3.09.1a (6)'!aa25\"))","v":""},{"$f":"IF(ISERROR(INDIRECT(\"'3.09.1a (6)'!ad25\"))=TRUE,\"\",INDIRECT(\"'3.09.1a (6)'!ad25\"))","v":""},{"$f":"IF(ISERROR(INDIRECT(\"'3.09.1a (6)'!ah25\"))=TRUE,\"\",INDIRECT(\"'3.09.1a (6)'!ah25\"))","v":""},{"$f":"IF(ISERROR(INDIRECT(\"'3.09.1a (6)'!am25\"))=TRUE,\"\",INDIRECT(\"'3.09.1a (6)'!am25\"))","v":""}]
[0,"3.09.1a (6)",{"$f":"IF(ISERROR(INDIRECT(\"'3.09.1a (6)'!b26\"))=TRUE,\"\",INDIRECT(\"'3.09.1a (6)'!b26\"))","v":""},{"$f":"IF(ISERROR(INDIRECT(\"'3.09.1a (6)'!c26\"))=TRUE,\"\",INDIRECT(\"'3.09.1a (6)'!c26\"))","v":""},{"$f":"IF(ISERROR(INDIRECT(\"'3.09.1a (6)'!d26\"))=TRUE,\"\",INDIRECT(\"'3.09.1a (6)'!d26\"))","v":""},{"$f":"IF(ISERROR(INDIRECT(\"'3.09.1a (6)'!e26\"))=TRUE,\"\",INDIRECT(\"'3.09.1a (6)'!e26\"))","v":""},{"$f":"IF(ISERROR(INDIRECT(\"'3.09.1a (6)'!f26\"))=TRUE,\"\",INDIRECT(\"'3.09.1a (6)'!f26\"))","v":""},{"$f":"IF(ISERROR(INDIRECT(\"'3.09.1a (6)'!g26\"))=TRUE,\"\",INDIRECT(\"'3.09.1a (6)'!g26\"))","v":""},{"$f":"IF(ISERROR(INDIRECT(\"'3.09.1a (6)'!h26\"))=TRUE,\"\",INDIRECT(\"'3.09.1a (6)'!h26\"))","v":""},{"$f":"IF(ISERROR(INDIRECT(\"'3.09.1a (6)'!i26\"))=TRUE,\"\",INDIRECT(\"'3.09.1a (6)'!i26\"))","v":""},{"$f":"IF(ISERROR(INDIRECT(\"'3.09.1a (6)'!j26\"))=TRUE,\"\",INDIRECT(\"'3.09.1a (6)'!j26\"))","v":""},{"$f":"IF(ISERROR(INDIRECT(\"'3.09.1a (6)'!o26\"))=TRUE,\"\",INDIRECT(\"'3.09.1a (6)'!o26\"))","v":""},{"$f":"IF(ISERROR(INDIRECT(\"'3.09.1a (6)'!p26\"))=TRUE,\"\",INDIRECT(\"'3.09.1a (6)'!p26\"))","v":""},{"$f":"IF(ISERROR(INDIRECT(\"'3.09.1a (6)'!q26\"))=TRUE,\"\",INDIRECT(\"'3.09.1a (6)'!q26\"))","v":""},{"$f":"IF(ISERROR(INDIRECT(\"'3.09.1a (6)'!s26\"))=TRUE,\"\",INDIRECT(\"'3.09.1a (6)'!s26\"))","v":""},{"$f":"IF(ISERROR(INDIRECT(\"'3.09.1a (6)'!t26\"))=TRUE,\"\",INDIRECT(\"'3.09.1a (6)'!t26\"))","v":""},{"$f":"IF(ISERROR(INDIRECT(\"'3.09.1a (6)'!u26\"))=TRUE,\"\",INDIRECT(\"'3.09.1a (6)'!u26\"))","v":""},{"$f":"IF(ISERROR(INDIRECT(\"'3.09.1a (6)'!v26\"))=TRUE,\"\",INDIRECT(\"'3.09.1a (6)'!v26\"))","v":""},{"$f":"IF(ISERROR(INDIRECT(\"'3.09.1a (6)'!w26\"))=TRUE,\"\",INDIRECT(\"'3.09.1a (6)'!w26\"))","v":""},{"$f":"IF(ISERROR(INDIRECT(\"'3.09.1a (6)'!x26\"))=TRUE,\"\",INDIRECT(\"'3.09.1a (6)'!x26\"))","v":""},{"$f":"IF(ISERROR(INDIRECT(\"'3.09.1a (6)'!aa26\"))=TRUE,\"\",INDIRECT(\"'3.09.1a (6)'!aa26\"))","v":""},{"$f":"IF(ISERROR(INDIRECT(\"'3.09.1a (6)'!ad26\"))=TRUE,\"\",INDIRECT(\"'3.09.1a (6)'!ad26\"))","v":""},{"$f":"IF(ISERROR(INDIRECT(\"'3.09.1a (6)'!ah26\"))=TRUE,\"\",INDIRECT(\"'3.09.1a (6)'!ah26\"))","v":""},{"$f":"IF(ISERROR(INDIRECT(\"'3.09.1a (6)'!am26\"))=TRUE,\"\",INDIRECT(\"'3.09.1a (6)'!am26\"))","v":""}]
[0,"3.09.1a (6)",{"$f":"IF(ISERROR(INDIRECT(\"'3.09.1a (6)'!b27\"))=TRUE,\"\",INDIRECT(\"'3.09.1a (6)'!b27\"))","v":""},{"$f":"IF(ISERROR(INDIRECT(\"'3.09.1a (6)'!c27\"))=TRUE,\"\",INDIRECT(\"'3.09.1a (6)'!c27\"))","v":""},{"$f":"IF(ISERROR(INDIRECT(\"'3.09.1a (6)'!d27\"))=TRUE,\"\",INDIRECT(\"'3.09.1a (6)'!d27\"))","v":""},{"$f":"IF(ISERROR(INDIRECT(\"'3.09.1a (6)'!e27\"))=TRUE,\"\",INDIRECT(\"'3.09.1a (6)'!e27\"))","v":""},{"$f":"IF(ISERROR(INDIRECT(\"'3.09.1a (6)'!f27\"))=TRUE,\"\",INDIRECT(\"'3.09.1a (6)'!f27\"))","v":""},{"$f":"IF(ISERROR(INDIRECT(\"'3.09.1a (6)'!g27\"))=TRUE,\"\",INDIRECT(\"'3.09.1a (6)'!g27\"))","v":""},{"$f":"IF(ISERROR(INDIRECT(\"'3.09.1a (6)'!h27\"))=TRUE,\"\",INDIRECT(\"'3.09.1a (6)'!h27\"))","v":""},{"$f":"IF(ISERROR(INDIRECT(\"'3.09.1a (6)'!i27\"))=TRUE,\"\",INDIRECT(\"'3.09.1a (6)'!i27\"))","v":""},{"$f":"IF(ISERROR(INDIRECT(\"'3.09.1a (6)'!j27\"))=TRUE,\"\",INDIRECT(\"'3.09.1a (6)'!j27\"))","v":""},{"$f":"IF(ISERROR(INDIRECT(\"'3.09.1a (6)'!o27\"))=TRUE,\"\",INDIRECT(\"'3.09.1a (6)'!o27\"))","v":""},{"$f":"IF(ISERROR(INDIRECT(\"'3.09.1a (6)'!p27\"))=TRUE,\"\",INDIRECT(\"'3.09.1a (6)'!p27\"))","v":""},{"$f":"IF(ISERROR(INDIRECT(\"'3.09.1a (6)'!q27\"))=TRUE,\"\",INDIRECT(\"'3.09.1a (6)'!q27\"))","v":""},{"$f":"IF(ISERROR(INDIRECT(\"'3.09.1a (6)'!s27\"))=TRUE,\"\",INDIRECT(\"'3.09.1a (6)'!s27\"))","v":""},{"$f":"IF(ISERROR(INDIRECT(\"'3.09.1a (6)'!t27\"))=TRUE,\"\",INDIRECT(\"'3.09.1a (6)'!t27\"))","v":""},{"$f":"IF(ISERROR(INDIRECT(\"'3.09.1a (6)'!u27\"))=TRUE,\"\",INDIRECT(\"'3.09.1a (6)'!u27\"))","v":""},{"$f":"IF(ISERROR(INDIRECT(\"'3.09.1a (6)'!v27\"))=TRUE,\"\",INDIRECT(\"'3.09.1a (6)'!v27\"))","v":""},{"$f":"IF(ISERROR(INDIRECT(\"'3.09.1a (6)'!w27\"))=TRUE,\"\",INDIRECT(\"'3.09.1a (6)'!w27\"))","v":""},{"$f":"IF(ISERROR(INDIRECT(\"'3.09.1a (6)'!x27\"))=TRUE,\"\",INDIRECT(\"'3.09.1a (6)'!x27\"))","v":""},{"$f":"IF(ISERROR(INDIRECT(\"'3.09.1a (6)'!aa27\"))=TRUE,\"\",INDIRECT(\"'3.09.1a (6)'!aa27\"))","v":""},{"$f":"IF(ISERROR(INDIRECT(\"'3.09.1a (6)'!ad27\"))=TRUE,\"\",INDIRECT(\"'3.09.1a (6)'!ad27\"))","v":""},{"$f":"IF(ISERROR(INDIRECT(\"'3.09.1a (6)'!ah27\"))=TRUE,\"\",INDIRECT(\"'3.09.1a (6)'!ah27\"))","v":""},{"$f":"IF(ISERROR(INDIRECT(\"'3.09.1a (6)'!am27\"))=TRUE,\"\",INDIRECT(\"'3.09.1a (6)'!am27\"))","v":""}]
[0,"3.09.1a (6)",{"$f":"IF(ISERROR(INDIRECT(\"'3.09.1a (6)'!b28\"))=TRUE,\"\",INDIRECT(\"'3.09.1a (6)'!b28\"))","v":""},{"$f":"IF(ISERROR(INDIRECT(\"'3.09.1a (6)'!c28\"))=TRUE,\"\",INDIRECT(\"'3.09.1a (6)'!c28\"))","v":""},{"$f":"IF(ISERROR(INDIRECT(\"'3.09.1a (6)'!d28\"))=TRUE,\"\",INDIRECT(\"'3.09.1a (6)'!d28\"))","v":""},{"$f":"IF(ISERROR(INDIRECT(\"'3.09.1a (6)'!e28\"))=TRUE,\"\",INDIRECT(\"'3.09.1a (6)'!e28\"))","v":""},{"$f":"IF(ISERROR(INDIRECT(\"'3.09.1a (6)'!f28\"))=TRUE,\"\",INDIRECT(\"'3.09.1a (6)'!f28\"))","v":""},{"$f":"IF(ISERROR(INDIRECT(\"'3.09.1a (6)'!g28\"))=TRUE,\"\",INDIRECT(\"'3.09.1a (6)'!g28\"))","v":""},{"$f":"IF(ISERROR(INDIRECT(\"'3.09.1a (6)'!h28\"))=TRUE,\"\",INDIRECT(\"'3.09.1a (6)'!h28\"))","v":""},{"$f":"IF(ISERROR(INDIRECT(\"'3.09.1a (6)'!i28\"))=TRUE,\"\",INDIRECT(\"'3.09.1a (6)'!i28\"))","v":""},{"$f":"IF(ISERROR(INDIRECT(\"'3.09.1a (6)'!j28\"))=TRUE,\"\",INDIRECT(\"'3.09.1a (6)'!j28\"))","v":""},{"$f":"IF(ISERROR(INDIRECT(\"'3.09.1a (6)'!o28\"))=TRUE,\"\",INDIRECT(\"'3.09.1a (6)'!o28\"))","v":""},{"$f":"IF(ISERROR(INDIRECT(\"'3.09.1a (6)'!p28\"))=TRUE,\"\",INDIRECT(\"'3.09.1a (6)'!p28\"))","v":""},{"$f":"IF(ISERROR(INDIRECT(\"'3.09.1a (6)'!q28\"))=TRUE,\"\",INDIRECT(\"'3.09.1a (6)'!q28\"))","v":""},{"$f":"IF(ISERROR(INDIRECT(\"'3.09.1a (6)'!s28\"))=TRUE,\"\",INDIRECT(\"'3.09.1a (6)'!s28\"))","v":""},{"$f":"IF(ISERROR(INDIRECT(\"'3.09.1a (6)'!t28\"))=TRUE,\"\",INDIRECT(\"'3.09.1a (6)'!t28\"))","v":""},{"$f":"IF(ISERROR(INDIRECT(\"'3.09.1a (6)'!u28\"))=TRUE,\"\",INDIRECT(\"'3.09.1a (6)'!u28\"))","v":""},{"$f":"IF(ISERROR(INDIRECT(\"'3.09.1a (6)'!v28\"))=TRUE,\"\",INDIRECT(\"'3.09.1a (6)'!v28\"))","v":""},{"$f":"IF(ISERROR(INDIRECT(\"'3.09.1a (6)'!w28\"))=TRUE,\"\",INDIRECT(\"'3.09.1a (6)'!w28\"))","v":""},{"$f":"IF(ISERROR(INDIRECT(\"'3.09.1a (6)'!x28\"))=TRUE,\"\",INDIRECT(\"'3.09.1a (6)'!x28\"))","v":""},{"$f":"IF(ISERROR(INDIRECT(\"'3.09.1a (6)'!aa28\"))=TRUE,\"\",INDIRECT(\"'3.09.1a (6)'!aa28\"))","v":""},{"$f":"IF(ISERROR(INDIRECT(\"'3.09.1a (6)'!ad28\"))=TRUE,\"\",INDIRECT(\"'3.09.1a (6)'!ad28\"))","v":""},{"$f":"IF(ISERROR(INDIRECT(\"'3.09.1a (6)'!ah28\"))=TRUE,\"\",INDIRECT(\"'3.09.1a (6)'!ah28\"))","v":""},{"$f":"IF(ISERROR(INDIRECT(\"'3.09.1a (6)'!am28\"))=TRUE,\"\",INDIRECT(\"'3.09.1a (6)'!am28\"))","v":""}]
[0,"3.09.1a (6)",{"$f":"IF(ISERROR(INDIRECT(\"'3.09.1a (6)'!b29\"))=TRUE,\"\",INDIRECT(\"'3.09.1a (6)'!b29\"))","v":""},{"$f":"IF(ISERROR(INDIRECT(\"'3.09.1a (6)'!c29\"))=TRUE,\"\",INDIRECT(\"'3.09.1a (6)'!c29\"))","v":""},{"$f":"IF(ISERROR(INDIRECT(\"'3.09.1a (6)'!d29\"))=TRUE,\"\",INDIRECT(\"'3.09.1a (6)'!d29\"))","v":""},{"$f":"IF(ISERROR(INDIRECT(\"'3.09.1a (6)'!e29\"))=TRUE,\"\",INDIRECT(\"'3.09.1a (6)'!e29\"))","v":""},{"$f":"IF(ISERROR(INDIRECT(\"'3.09.1a (6)'!f29\"))=TRUE,\"\",INDIRECT(\"'3.09.1a (6)'!f29\"))","v":""},{"$f":"IF(ISERROR(INDIRECT(\"'3.09.1a (6)'!g29\"))=TRUE,\"\",INDIRECT(\"'3.09.1a (6)'!g29\"))","v":""},{"$f":"IF(ISERROR(INDIRECT(\"'3.09.1a (6)'!h29\"))=TRUE,\"\",INDIRECT(\"'3.09.1a (6)'!h29\"))","v":""},{"$f":"IF(ISERROR(INDIRECT(\"'3.09.1a (6)'!i29\"))=TRUE,\"\",INDIRECT(\"'3.09.1a (6)'!i29\"))","v":""},{"$f":"IF(ISERROR(INDIRECT(\"'3.09.1a (6)'!j29\"))=TRUE,\"\",INDIRECT(\"'3.09.1a (6)'!j29\"))","v":""},{"$f":"IF(ISERROR(INDIRECT(\"'3.09.1a (6)'!o29\"))=TRUE,\"\",INDIRECT(\"'3.09.1a (6)'!o29\"))","v":""},{"$f":"IF(ISERROR(INDIRECT(\"'3.09.1a (6)'!p29\"))=TRUE,\"\",INDIRECT(\"'3.09.1a (6)'!p29\"))","v":""},{"$f":"IF(ISERROR(INDIRECT(\"'3.09.1a (6)'!q29\"))=TRUE,\"\",INDIRECT(\"'3.09.1a (6)'!q29\"))","v":""},{"$f":"IF(ISERROR(INDIRECT(\"'3.09.1a (6)'!s29\"))=TRUE,\"\",INDIRECT(\"'3.09.1a (6)'!s29\"))","v":""},{"$f":"IF(ISERROR(INDIRECT(\"'3.09.1a (6)'!t29\"))=TRUE,\"\",INDIRECT(\"'3.09.1a (6)'!t29\"))","v":""},{"$f":"IF(ISERROR(INDIRECT(\"'3.09.1a (6)'!u29\"))=TRUE,\"\",INDIRECT(\"'3.09.1a (6)'!u29\"))","v":""},{"$f":"IF(ISERROR(INDIRECT(\"'3.09.1a (6)'!v29\"))=TRUE,\"\",INDIRECT(\"'3.09.1a (6)'!v29\"))","v":""},{"$f":"IF(ISERROR(INDIRECT(\"'3.09.1a (6)'!w29\"))=TRUE,\"\",INDIRECT(\"'3.09.1a (6)'!w29\"))","v":""},{"$f":"IF(ISERROR(INDIRECT(\"'3.09.1a (6)'!x29\"))=TRUE,\"\",INDIRECT(\"'3.09.1a (6)'!x29\"))","v":""},{"$f":"IF(ISERROR(INDIRECT(\"'3.09.1a (6)'!aa29\"))=TRUE,\"\",INDIRECT(\"'3.09.1a (6)'!aa29\"))","v":""},{"$f":"IF(ISERROR(INDIRECT(\"'3.09.1a (6)'!ad29\"))=TRUE,\"\",INDIRECT(\"'3.09.1a (6)'!ad29\"))","v":""},{"$f":"IF(ISERROR(INDIRECT(\"'3.09.1a (6)'!ah29\"))=TRUE,\"\",INDIRECT(\"'3.09.1a (6)'!ah29\"))","v":""},{"$f":"IF(ISERROR(INDIRECT(\"'3.09.1a (6)'!am29\"))=TRUE,\"\",INDIRECT(\"'3.09.1a (6)'!am29\"))","v":""}]
[0,"3.09.1a (6)",{"$f":"IF(ISERROR(INDIRECT(\"'3.09.1a (6)'!b30\"))=TRUE,\"\",INDIRECT(\"'3.09.1a (6)'!b30\"))","v":""},{"$f":"IF(ISERROR(INDIRECT(\"'3.09.1a (6)'!c30\"))=TRUE,\"\",INDIRECT(\"'3.09.1a (6)'!c30\"))","v":""},{"$f":"IF(ISERROR(INDIRECT(\"'3.09.1a (6)'!d30\"))=TRUE,\"\",INDIRECT(\"'3.09.1a (6)'!d30\"))","v":""},{"$f":"IF(ISERROR(INDIRECT(\"'3.09.1a (6)'!e30\"))=TRUE,\"\",INDIRECT(\"'3.09.1a (6)'!e30\"))","v":""},{"$f":"IF(ISERROR(INDIRECT(\"'3.09.1a (6)'!f30\"))=TRUE,\"\",INDIRECT(\"'3.09.1a (6)'!f30\"))","v":""},{"$f":"IF(ISERROR(INDIRECT(\"'3.09.1a (6)'!g30\"))=TRUE,\"\",INDIRECT(\"'3.09.1a (6)'!g30\"))","v":""},{"$f":"IF(ISERROR(INDIRECT(\"'3.09.1a (6)'!h30\"))=TRUE,\"\",INDIRECT(\"'3.09.1a (6)'!h30\"))","v":""},{"$f":"IF(ISERROR(INDIRECT(\"'3.09.1a (6)'!i30\"))=TRUE,\"\",INDIRECT(\"'3.09.1a (6)'!i30\"))","v":""},{"$f":"IF(ISERROR(INDIRECT(\"'3.09.1a (6)'!j30\"))=TRUE,\"\",INDIRECT(\"'3.09.1a (6)'!j30\"))","v":""},{"$f":"IF(ISERROR(INDIRECT(\"'3.09.1a (6)'!o30\"))=TRUE,\"\",INDIRECT(\"'3.09.1a (6)'!o30\"))","v":""},{"$f":"IF(ISERROR(INDIRECT(\"'3.09.1a (6)'!p30\"))=TRUE,\"\",INDIRECT(\"'3.09.1a (6)'!p30\"))","v":""},{"$f":"IF(ISERROR(INDIRECT(\"'3.09.1a (6)'!q30\"))=TRUE,\"\",INDIRECT(\"'3.09.1a (6)'!q30\"))","v":""},{"$f":"IF(ISERROR(INDIRECT(\"'3.09.1a (6)'!s30\"))=TRUE,\"\",INDIRECT(\"'3.09.1a (6)'!s30\"))","v":""},{"$f":"IF(ISERROR(INDIRECT(\"'3.09.1a (6)'!t30\"))=TRUE,\"\",INDIRECT(\"'3.09.1a (6)'!t30\"))","v":""},{"$f":"IF(ISERROR(INDIRECT(\"'3.09.1a (6)'!u30\"))=TRUE,\"\",INDIRECT(\"'3.09.1a (6)'!u30\"))","v":""},{"$f":"IF(ISERROR(INDIRECT(\"'3.09.1a (6)'!v30\"))=TRUE,\"\",INDIRECT(\"'3.09.1a (6)'!v30\"))","v":""},{"$f":"IF(ISERROR(INDIRECT(\"'3.09.1a (6)'!w30\"))=TRUE,\"\",INDIRECT(\"'3.09.1a (6)'!w30\"))","v":""},{"$f":"IF(ISERROR(INDIRECT(\"'3.09.1a (6)'!x30\"))=TRUE,\"\",INDIRECT(\"'3.09.1a (6)'!x30\"))","v":""},{"$f":"IF(ISERROR(INDIRECT(\"'3.09.1a (6)'!aa30\"))=TRUE,\"\",INDIRECT(\"'3.09.1a (6)'!aa30\"))","v":""},{"$f":"IF(ISERROR(INDIRECT(\"'3.09.1a (6)'!ad30\"))=TRUE,\"\",INDIRECT(\"'3.09.1a (6)'!ad30\"))","v":""},{"$f":"IF(ISERROR(INDIRECT(\"'3.09.1a (6)'!ah30\"))=TRUE,\"\",INDIRECT(\"'3.09.1a (6)'!ah30\"))","v":""},{"$f":"IF(ISERROR(INDIRECT(\"'3.09.1a (6)'!am30\"))=TRUE,\"\",INDIRECT(\"'3.09.1a (6)'!am30\"))","v":""}]
[0,"3.09.1a (6)",{"$f":"IF(ISERROR(INDIRECT(\"'3.09.1a (6)'!b31\"))=TRUE,\"\",INDIRECT(\"'3.09.1a (6)'!b31\"))","v":""},{"$f":"IF(ISERROR(INDIRECT(\"'3.09.1a (6)'!c31\"))=TRUE,\"\",INDIRECT(\"'3.09.1a (6)'!c31\"))","v":""},{"$f":"IF(ISERROR(INDIRECT(\"'3.09.1a (6)'!d31\"))=TRUE,\"\",INDIRECT(\"'3.09.1a (6)'!d31\"))","v":""},{"$f":"IF(ISERROR(INDIRECT(\"'3.09.1a (6)'!e31\"))=TRUE,\"\",INDIRECT(\"'3.09.1a (6)'!e31\"))","v":""},{"$f":"IF(ISERROR(INDIRECT(\"'3.09.1a (6)'!f31\"))=TRUE,\"\",INDIRECT(\"'3.09.1a (6)'!f31\"))","v":""},{"$f":"IF(ISERROR(INDIRECT(\"'3.09.1a (6)'!g31\"))=TRUE,\"\",INDIRECT(\"'3.09.1a (6)'!g31\"))","v":""},{"$f":"IF(ISERROR(INDIRECT(\"'3.09.1a (6)'!h31\"))=TRUE,\"\",INDIRECT(\"'3.09.1a (6)'!h31\"))","v":""},{"$f":"IF(ISERROR(INDIRECT(\"'3.09.1a (6)'!i31\"))=TRUE,\"\",INDIRECT(\"'3.09.1a (6)'!i31\"))","v":""},{"$f":"IF(ISERROR(INDIRECT(\"'3.09.1a (6)'!j31\"))=TRUE,\"\",INDIRECT(\"'3.09.1a (6)'!j31\"))","v":""},{"$f":"IF(ISERROR(INDIRECT(\"'3.09.1a (6)'!o31\"))=TRUE,\"\",INDIRECT(\"'3.09.1a (6)'!o31\"))","v":""},{"$f":"IF(ISERROR(INDIRECT(\"'3.09.1a (6)'!p31\"))=TRUE,\"\",INDIRECT(\"'3.09.1a (6)'!p31\"))","v":""},{"$f":"IF(ISERROR(INDIRECT(\"'3.09.1a (6)'!q31\"))=TRUE,\"\",INDIRECT(\"'3.09.1a (6)'!q31\"))","v":""},{"$f":"IF(ISERROR(INDIRECT(\"'3.09.1a (6)'!s31\"))=TRUE,\"\",INDIRECT(\"'3.09.1a (6)'!s31\"))","v":""},{"$f":"IF(ISERROR(INDIRECT(\"'3.09.1a (6)'!t31\"))=TRUE,\"\",INDIRECT(\"'3.09.1a (6)'!t31\"))","v":""},{"$f":"IF(ISERROR(INDIRECT(\"'3.09.1a (6)'!u31\"))=TRUE,\"\",INDIRECT(\"'3.09.1a (6)'!u31\"))","v":""},{"$f":"IF(ISERROR(INDIRECT(\"'3.09.1a (6)'!v31\"))=TRUE,\"\",INDIRECT(\"'3.09.1a (6)'!v31\"))","v":""},{"$f":"IF(ISERROR(INDIRECT(\"'3.09.1a (6)'!w31\"))=TRUE,\"\",INDIRECT(\"'3.09.1a (6)'!w31\"))","v":""},{"$f":"IF(ISERROR(INDIRECT(\"'3.09.1a (6)'!x31\"))=TRUE,\"\",INDIRECT(\"'3.09.1a (6)'!x31\"))","v":""},{"$f":"IF(ISERROR(INDIRECT(\"'3.09.1a (6)'!aa31\"))=TRUE,\"\",INDIRECT(\"'3.09.1a (6)'!aa31\"))","v":""},{"$f":"IF(ISERROR(INDIRECT(\"'3.09.1a (6)'!ad31\"))=TRUE,\"\",INDIRECT(\"'3.09.1a (6)'!ad31\"))","v":""},{"$f":"IF(ISERROR(INDIRECT(\"'3.09.1a (6)'!ah31\"))=TRUE,\"\",INDIRECT(\"'3.09.1a (6)'!ah31\"))","v":""},{"$f":"IF(ISERROR(INDIRECT(\"'3.09.1a (6)'!am31\"))=TRUE,\"\",INDIRECT(\"'3.09.1a (6)'!am31\"))","v":""}]
[0,"3.09.1a (6)",{"$f":"IF(ISERROR(INDIRECT(\"'3.09.1a (6)'!b32\"))=TRUE,\"\",INDIRECT(\"'3.09.1a (6)'!b32\"))","v":""},{"$f":"IF(ISERROR(INDIRECT(\"'3.09.1a (6)'!c32\"))=TRUE,\"\",INDIRECT(\"'3.09.1a (6)'!c32\"))","v":""},{"$f":"IF(ISERROR(INDIRECT(\"'3.09.1a (6)'!d32\"))=TRUE,\"\",INDIRECT(\"'3.09.1a (6)'!d32\"))","v":""},{"$f":"IF(ISERROR(INDIRECT(\"'3.09.1a (6)'!e32\"))=TRUE,\"\",INDIRECT(\"'3.09.1a (6)'!e32\"))","v":""},{"$f":"IF(ISERROR(INDIRECT(\"'3.09.1a (6)'!f32\"))=TRUE,\"\",INDIRECT(\"'3.09.1a (6)'!f32\"))","v":""},{"$f":"IF(ISERROR(INDIRECT(\"'3.09.1a (6)'!g32\"))=TRUE,\"\",INDIRECT(\"'3.09.1a (6)'!g32\"))","v":""},{"$f":"IF(ISERROR(INDIRECT(\"'3.09.1a (6)'!h32\"))=TRUE,\"\",INDIRECT(\"'3.09.1a (6)'!h32\"))","v":""},{"$f":"IF(ISERROR(INDIRECT(\"'3.09.1a (6)'!i32\"))=TRUE,\"\",INDIRECT(\"'3.09.1a (6)'!i32\"))","v":""},{"$f":"IF(ISERROR(INDIRECT(\"'3.09.1a (6)'!j32\"))=TRUE,\"\",INDIRECT(\"'3.09.1a (6)'!j32\"))","v":""},{"$f":"IF(ISERROR(INDIRECT(\"'3.09.1a (6)'!o32\"))=TRUE,\"\",INDIRECT(\"'3.09.1a (6)'!o32\"))","v":""},{"$f":"IF(ISERROR(INDIRECT(\"'3.09.1a (6)'!p32\"))=TRUE,\"\",INDIRECT(\"'3.09.1a (6)'!p32\"))","v":""},{"$f":"IF(ISERROR(INDIRECT(\"'3.09.1a (6)'!q32\"))=TRUE,\"\",INDIRECT(\"'3.09.1a (6)'!q32\"))","v":""},{"$f":"IF(ISERROR(INDIRECT(\"'3.09.1a (6)'!s32\"))=TRUE,\"\",INDIRECT(\"'3.09.1a (6)'!s32\"))","v":""},{"$f":"IF(ISERROR(INDIRECT(\"'3.09.1a (6)'!t32\"))=TRUE,\"\",INDIRECT(\"'3.09.1a (6)'!t32\"))","v":""},{"$f":"IF(ISERROR(INDIRECT(\"'3.09.1a (6)'!u32\"))=TRUE,\"\",INDIRECT(\"'3.09.1a (6)'!u32\"))","v":""},{"$f":"IF(ISERROR(INDIRECT(\"'3.09.1a (6)'!v32\"))=TRUE,\"\",INDIRECT(\"'3.09.1a (6)'!v32\"))","v":""},{"$f":"IF(ISERROR(INDIRECT(\"'3.09.1a (6)'!w32\"))=TRUE,\"\",INDIRECT(\"'3.09.1a (6)'!w32\"))","v":""},{"$f":"IF(ISERROR(INDIRECT(\"'3.09.1a (6)'!x32\"))=TRUE,\"\",INDIRECT(\"'3.09.1a (6)'!x32\"))","v":""},{"$f":"IF(ISERROR(INDIRECT(\"'3.09.1a (6)'!aa32\"))=TRUE,\"\",INDIRECT(\"'3.09.1a (6)'!aa32\"))","v":""},{"$f":"IF(ISERROR(INDIRECT(\"'3.09.1a (6)'!ad32\"))=TRUE,\"\",INDIRECT(\"'3.09.1a (6)'!ad32\"))","v":""},{"$f":"IF(ISERROR(INDIRECT(\"'3.09.1a (6)'!ah32\"))=TRUE,\"\",INDIRECT(\"'3.09.1a (6)'!ah32\"))","v":""},{"$f":"IF(ISERROR(INDIRECT(\"'3.09.1a (6)'!am32\"))=TRUE,\"\",INDIRECT(\"'3.09.1a (6)'!am32\"))","v":""}]
[0,"3.09.1a (6)",{"$f":"IF(ISERROR(INDIRECT(\"'3.09.1a (6)'!b33\"))=TRUE,\"\",INDIRECT(\"'3.09.1a (6)'!b33\"))","v":""},{"$f":"IF(ISERROR(INDIRECT(\"'3.09.1a (6)'!c33\"))=TRUE,\"\",INDIRECT(\"'3.09.1a (6)'!c33\"))","v":""},{"$f":"IF(ISERROR(INDIRECT(\"'3.09.1a (6)'!d33\"))=TRUE,\"\",INDIRECT(\"'3.09.1a (6)'!d33\"))","v":""},{"$f":"IF(ISERROR(INDIRECT(\"'3.09.1a (6)'!e33\"))=TRUE,\"\",INDIRECT(\"'3.09.1a (6)'!e33\"))","v":""},{"$f":"IF(ISERROR(INDIRECT(\"'3.09.1a (6)'!f33\"))=TRUE,\"\",INDIRECT(\"'3.09.1a (6)'!f33\"))","v":""},{"$f":"IF(ISERROR(INDIRECT(\"'3.09.1a (6)'!g33\"))=TRUE,\"\",INDIRECT(\"'3.09.1a (6)'!g33\"))","v":""},{"$f":"IF(ISERROR(INDIRECT(\"'3.09.1a (6)'!h33\"))=TRUE,\"\",INDIRECT(\"'3.09.1a (6)'!h33\"))","v":""},{"$f":"IF(ISERROR(INDIRECT(\"'3.09.1a (6)'!i33\"))=TRUE,\"\",INDIRECT(\"'3.09.1a (6)'!i33\"))","v":""},{"$f":"IF(ISERROR(INDIRECT(\"'3.09.1a (6)'!j33\"))=TRUE,\"\",INDIRECT(\"'3.09.1a (6)'!j33\"))","v":""},{"$f":"IF(ISERROR(INDIRECT(\"'3.09.1a (6)'!o33\"))=TRUE,\"\",INDIRECT(\"'3.09.1a (6)'!o33\"))","v":""},{"$f":"IF(ISERROR(INDIRECT(\"'3.09.1a (6)'!p33\"))=TRUE,\"\",INDIRECT(\"'3.09.1a (6)'!p33\"))","v":""},{"$f":"IF(ISERROR(INDIRECT(\"'3.09.1a (6)'!q33\"))=TRUE,\"\",INDIRECT(\"'3.09.1a (6)'!q33\"))","v":""},{"$f":"IF(ISERROR(INDIRECT(\"'3.09.1a (6)'!s33\"))=TRUE,\"\",INDIRECT(\"'3.09.1a (6)'!s33\"))","v":""},{"$f":"IF(ISERROR(INDIRECT(\"'3.09.1a (6)'!t33\"))=TRUE,\"\",INDIRECT(\"'3.09.1a (6)'!t33\"))","v":""},{"$f":"IF(ISERROR(INDIRECT(\"'3.09.1a (6)'!u33\"))=TRUE,\"\",INDIRECT(\"'3.09.1a (6)'!u33\"))","v":""},{"$f":"IF(ISERROR(INDIRECT(\"'3.09.1a (6)'!v33\"))=TRUE,\"\",INDIRECT(\"'3.09.1a (6)'!v33\"))","v":""},{"$f":"IF(ISERROR(INDIRECT(\"'3.09.1a (6)'!w33\"))=TRUE,\"\",INDIRECT(\"'3.09.1a (6)'!w33\"))","v":""},{"$f":"IF(ISERROR(INDIRECT(\"'3.09.1a (6)'!x33\"))=TRUE,\"\",INDIRECT(\"'3.09.1a (6)'!x33\"))","v":""},{"$f":"IF(ISERROR(INDIRECT(\"'3.09.1a (6)'!aa33\"))=TRUE,\"\",INDIRECT(\"'3.09.1a (6)'!aa33\"))","v":""},{"$f":"IF(ISERROR(INDIRECT(\"'3.09.1a (6)'!ad33\"))=TRUE,\"\",INDIRECT(\"'3.09.1a (6)'!ad33\"))","v":""},{"$f":"IF(ISERROR(INDIRECT(\"'3.09.1a (6)'!ah33\"))=TRUE,\"\",INDIRECT(\"'3.09.1a (6)'!ah33\"))","v":""},{"$f":"IF(ISERROR(INDIRECT(\"'3.09.1a (6)'!am33\"))=TRUE,\"\",INDIRECT(\"'3.09.1a (6)'!am33\"))","v":""}]
[0,"3.09.1a (6)",{"$f":"IF(ISERROR(INDIRECT(\"'3.09.1a (6)'!b34\"))=TRUE,\"\",INDIRECT(\"'3.09.1a (6)'!b34\"))","v":""},{"$f":"IF(ISERROR(INDIRECT(\"'3.09.1a (6)'!c34\"))=TRUE,\"\",INDIRECT(\"'3.09.1a (6)'!c34\"))","v":""},{"$f":"IF(ISERROR(INDIRECT(\"'3.09.1a (6)'!d34\"))=TRUE,\"\",INDIRECT(\"'3.09.1a (6)'!d34\"))","v":""},{"$f":"IF(ISERROR(INDIRECT(\"'3.09.1a (6)'!e34\"))=TRUE,\"\",INDIRECT(\"'3.09.1a (6)'!e34\"))","v":""},{"$f":"IF(ISERROR(INDIRECT(\"'3.09.1a (6)'!f34\"))=TRUE,\"\",INDIRECT(\"'3.09.1a (6)'!f34\"))","v":""},{"$f":"IF(ISERROR(INDIRECT(\"'3.09.1a (6)'!g34\"))=TRUE,\"\",INDIRECT(\"'3.09.1a (6)'!g34\"))","v":""},{"$f":"IF(ISERROR(INDIRECT(\"'3.09.1a (6)'!h34\"))=TRUE,\"\",INDIRECT(\"'3.09.1a (6)'!h34\"))","v":""},{"$f":"IF(ISERROR(INDIRECT(\"'3.09.1a (6)'!i34\"))=TRUE,\"\",INDIRECT(\"'3.09.1a (6)'!i34\"))","v":""},{"$f":"IF(ISERROR(INDIRECT(\"'3.09.1a (6)'!j34\"))=TRUE,\"\",INDIRECT(\"'3.09.1a (6)'!j34\"))","v":""},{"$f":"IF(ISERROR(INDIRECT(\"'3.09.1a (6)'!o34\"))=TRUE,\"\",INDIRECT(\"'3.09.1a (6)'!o34\"))","v":""},{"$f":"IF(ISERROR(INDIRECT(\"'3.09.1a (6)'!p34\"))=TRUE,\"\",INDIRECT(\"'3.09.1a (6)'!p34\"))","v":""},{"$f":"IF(ISERROR(INDIRECT(\"'3.09.1a (6)'!q34\"))=TRUE,\"\",INDIRECT(\"'3.09.1a (6)'!q34\"))","v":""},{"$f":"IF(ISERROR(INDIRECT(\"'3.09.1a (6)'!s34\"))=TRUE,\"\",INDIRECT(\"'3.09.1a (6)'!s34\"))","v":""},{"$f":"IF(ISERROR(INDIRECT(\"'3.09.1a (6)'!t34\"))=TRUE,\"\",INDIRECT(\"'3.09.1a (6)'!t34\"))","v":""},{"$f":"IF(ISERROR(INDIRECT(\"'3.09.1a (6)'!u34\"))=TRUE,\"\",INDIRECT(\"'3.09.1a (6)'!u34\"))","v":""},{"$f":"IF(ISERROR(INDIRECT(\"'3.09.1a (6)'!v34\"))=TRUE,\"\",INDIRECT(\"'3.09.1a (6)'!v34\"))","v":""},{"$f":"IF(ISERROR(INDIRECT(\"'3.09.1a (6)'!w34\"))=TRUE,\"\",INDIRECT(\"'3.09.1a (6)'!w34\"))","v":""},{"$f":"IF(ISERROR(INDIRECT(\"'3.09.1a (6)'!x34\"))=TRUE,\"\",INDIRECT(\"'3.09.1a (6)'!x34\"))","v":""},{"$f":"IF(ISERROR(INDIRECT(\"'3.09.1a (6)'!aa34\"))=TRUE,\"\",INDIRECT(\"'3.09.1a (6)'!aa34\"))","v":""},{"$f":"IF(ISERROR(INDIRECT(\"'3.09.1a (6)'!ad34\"))=TRUE,\"\",INDIRECT(\"'3.09.1a (6)'!ad34\"))","v":""},{"$f":"IF(ISERROR(INDIRECT(\"'3.09.1a (6)'!ah34\"))=TRUE,\"\",INDIRECT(\"'3.09.1a (6)'!ah34\"))","v":""},{"$f":"IF(ISERROR(INDIRECT(\"'3.09.1a (6)'!am34\"))=TRUE,\"\",INDIRECT(\"'3.09.1a (6)'!am34\"))","v":""}]
[0,"3.09.1a (6)",{"$f":"IF(ISERROR(INDIRECT(\"'3.09.1a (6)'!b35\"))=TRUE,\"\",INDIRECT(\"'3.09.1a (6)'!b35\"))","v":""},{"$f":"IF(ISERROR(INDIRECT(\"'3.09.1a (6)'!c35\"))=TRUE,\"\",INDIRECT(\"'3.09.1a (6)'!c35\"))","v":""},{"$f":"IF(ISERROR(INDIRECT(\"'3.09.1a (6)'!d35\"))=TRUE,\"\",INDIRECT(\"'3.09.1a (6)'!d35\"))","v":""},{"$f":"IF(ISERROR(INDIRECT(\"'3.09.1a (6)'!e35\"))=TRUE,\"\",INDIRECT(\"'3.09.1a (6)'!e35\"))","v":""},{"$f":"IF(ISERROR(INDIRECT(\"'3.09.1a (6)'!f35\"))=TRUE,\"\",INDIRECT(\"'3.09.1a (6)'!f35\"))","v":""},{"$f":"IF(ISERROR(INDIRECT(\"'3.09.1a (6)'!g35\"))=TRUE,\"\",INDIRECT(\"'3.09.1a (6)'!g35\"))","v":""},{"$f":"IF(ISERROR(INDIRECT(\"'3.09.1a (6)'!h35\"))=TRUE,\"\",INDIRECT(\"'3.09.1a (6)'!h35\"))","v":""},{"$f":"IF(ISERROR(INDIRECT(\"'3.09.1a (6)'!i35\"))=TRUE,\"\",INDIRECT(\"'3.09.1a (6)'!i35\"))","v":""},{"$f":"IF(ISERROR(INDIRECT(\"'3.09.1a (6)'!j35\"))=TRUE,\"\",INDIRECT(\"'3.09.1a (6)'!j35\"))","v":""},{"$f":"IF(ISERROR(INDIRECT(\"'3.09.1a (6)'!o35\"))=TRUE,\"\",INDIRECT(\"'3.09.1a (6)'!o35\"))","v":""},{"$f":"IF(ISERROR(INDIRECT(\"'3.09.1a (6)'!p35\"))=TRUE,\"\",INDIRECT(\"'3.09.1a (6)'!p35\"))","v":""},{"$f":"IF(ISERROR(INDIRECT(\"'3.09.1a (6)'!q35\"))=TRUE,\"\",INDIRECT(\"'3.09.1a (6)'!q35\"))","v":""},{"$f":"IF(ISERROR(INDIRECT(\"'3.09.1a (6)'!s35\"))=TRUE,\"\",INDIRECT(\"'3.09.1a (6)'!s35\"))","v":""},{"$f":"IF(ISERROR(INDIRECT(\"'3.09.1a (6)'!t35\"))=TRUE,\"\",INDIRECT(\"'3.09.1a (6)'!t35\"))","v":""},{"$f":"IF(ISERROR(INDIRECT(\"'3.09.1a (6)'!u35\"))=TRUE,\"\",INDIRECT(\"'3.09.1a (6)'!u35\"))","v":""},{"$f":"IF(ISERROR(INDIRECT(\"'3.09.1a (6)'!v35\"))=TRUE,\"\",INDIRECT(\"'3.09.1a (6)'!v35\"))","v":""},{"$f":"IF(ISERROR(INDIRECT(\"'3.09.1a (6)'!w35\"))=TRUE,\"\",INDIRECT(\"'3.09.1a (6)'!w35\"))","v":""},{"$f":"IF(ISERROR(INDIRECT(\"'3.09.1a (6)'!x35\"))=TRUE,\"\",INDIRECT(\"'3.09.1a (6)'!x35\"))","v":""},{"$f":"IF(ISERROR(INDIRECT(\"'3.09.1a (6)'!aa35\"))=TRUE,\"\",INDIRECT(\"'3.09.1a (6)'!aa35\"))","v":""},{"$f":"IF(ISERROR(INDIRECT(\"'3.09.1a (6)'!ad35\"))=TRUE,\"\",INDIRECT(\"'3.09.1a (6)'!ad35\"))","v":""},{"$f":"IF(ISERROR(INDIRECT(\"'3.09.1a (6)'!ah35\"))=TRUE,\"\",INDIRECT(\"'3.09.1a (6)'!ah35\"))","v":""},{"$f":"IF(ISERROR(INDIRECT(\"'3.09.1a (6)'!am35\"))=TRUE,\"\",INDIRECT(\"'3.09.1a (6)'!am35\"))","v":""}]
[0,"3.09.1a (6)",{"$f":"IF(ISERROR(INDIRECT(\"'3.09.1a (6)'!b36\"))=TRUE,\"\",INDIRECT(\"'3.09.1a (6)'!b36\"))","v":""},{"$f":"IF(ISERROR(INDIRECT(\"'3.09.1a (6)'!c36\"))=TRUE,\"\",INDIRECT(\"'3.09.1a (6)'!c36\"))","v":""},{"$f":"IF(ISERROR(INDIRECT(\"'3.09.1a (6)'!d36\"))=TRUE,\"\",INDIRECT(\"'3.09.1a (6)'!d36\"))","v":""},{"$f":"IF(ISERROR(INDIRECT(\"'3.09.1a (6)'!e36\"))=TRUE,\"\",INDIRECT(\"'3.09.1a (6)'!e36\"))","v":""},{"$f":"IF(ISERROR(INDIRECT(\"'3.09.1a (6)'!f36\"))=TRUE,\"\",INDIRECT(\"'3.09.1a (6)'!f36\"))","v":""},{"$f":"IF(ISERROR(INDIRECT(\"'3.09.1a (6)'!g36\"))=TRUE,\"\",INDIRECT(\"'3.09.1a (6)'!g36\"))","v":""},{"$f":"IF(ISERROR(INDIRECT(\"'3.09.1a (6)'!h36\"))=TRUE,\"\",INDIRECT(\"'3.09.1a (6)'!h36\"))","v":""},{"$f":"IF(ISERROR(INDIRECT(\"'3.09.1a (6)'!i36\"))=TRUE,\"\",INDIRECT(\"'3.09.1a (6)'!i36\"))","v":""},{"$f":"IF(ISERROR(INDIRECT(\"'3.09.1a (6)'!j36\"))=TRUE,\"\",INDIRECT(\"'3.09.1a (6)'!j36\"))","v":""},{"$f":"IF(ISERROR(INDIRECT(\"'3.09.1a (6)'!o36\"))=TRUE,\"\",INDIRECT(\"'3.09.1a (6)'!o36\"))","v":""},{"$f":"IF(ISERROR(INDIRECT(\"'3.09.1a (6)'!p36\"))=TRUE,\"\",INDIRECT(\"'3.09.1a (6)'!p36\"))","v":""},{"$f":"IF(ISERROR(INDIRECT(\"'3.09.1a (6)'!q36\"))=TRUE,\"\",INDIRECT(\"'3.09.1a (6)'!q36\"))","v":""},{"$f":"IF(ISERROR(INDIRECT(\"'3.09.1a (6)'!s36\"))=TRUE,\"\",INDIRECT(\"'3.09.1a (6)'!s36\"))","v":""},{"$f":"IF(ISERROR(INDIRECT(\"'3.09.1a (6)'!t36\"))=TRUE,\"\",INDIRECT(\"'3.09.1a (6)'!t36\"))","v":""},{"$f":"IF(ISERROR(INDIRECT(\"'3.09.1a (6)'!u36\"))=TRUE,\"\",INDIRECT(\"'3.09.1a (6)'!u36\"))","v":""},{"$f":"IF(ISERROR(INDIRECT(\"'3.09.1a (6)'!v36\"))=TRUE,\"\",INDIRECT(\"'3.09.1a (6)'!v36\"))","v":""},{"$f":"IF(ISERROR(INDIRECT(\"'3.09.1a (6)'!w36\"))=TRUE,\"\",INDIRECT(\"'3.09.1a (6)'!w36\"))","v":""},{"$f":"IF(ISERROR(INDIRECT(\"'3.09.1a (6)'!x36\"))=TRUE,\"\",INDIRECT(\"'3.09.1a (6)'!x36\"))","v":""},{"$f":"IF(ISERROR(INDIRECT(\"'3.09.1a (6)'!aa36\"))=TRUE,\"\",INDIRECT(\"'3.09.1a (6)'!aa36\"))","v":""},{"$f":"IF(ISERROR(INDIRECT(\"'3.09.1a (6)'!ad36\"))=TRUE,\"\",INDIRECT(\"'3.09.1a (6)'!ad36\"))","v":""},{"$f":"IF(ISERROR(INDIRECT(\"'3.09.1a (6)'!ah36\"))=TRUE,\"\",INDIRECT(\"'3.09.1a (6)'!ah36\"))","v":""},{"$f":"IF(ISERROR(INDIRECT(\"'3.09.1a (6)'!am36\"))=TRUE,\"\",INDIRECT(\"'3.09.1a (6)'!am36\"))","v":""}]
[0,"3.09.1a (6)",{"$f":"IF(ISERROR(INDIRECT(\"'3.09.1a (6)'!b37\"))=TRUE,\"\",INDIRECT(\"'3.09.1a (6)'!b37\"))","v":""},{"$f":"IF(ISERROR(INDIRECT(\"'3.09.1a (6)'!c37\"))=TRUE,\"\",INDIRECT(\"'3.09.1a (6)'!c37\"))","v":""},{"$f":"IF(ISERROR(INDIRECT(\"'3.09.1a (6)'!d37\"))=TRUE,\"\",INDIRECT(\"'3.09.1a (6)'!d37\"))","v":""},{"$f":"IF(ISERROR(INDIRECT(\"'3.09.1a (6)'!e37\"))=TRUE,\"\",INDIRECT(\"'3.09.1a (6)'!e37\"))","v":""},{"$f":"IF(ISERROR(INDIRECT(\"'3.09.1a (6)'!f37\"))=TRUE,\"\",INDIRECT(\"'3.09.1a (6)'!f37\"))","v":""},{"$f":"IF(ISERROR(INDIRECT(\"'3.09.1a (6)'!g37\"))=TRUE,\"\",INDIRECT(\"'3.09.1a (6)'!g37\"))","v":""},{"$f":"IF(ISERROR(INDIRECT(\"'3.09.1a (6)'!h37\"))=TRUE,\"\",INDIRECT(\"'3.09.1a (6)'!h37\"))","v":""},{"$f":"IF(ISERROR(INDIRECT(\"'3.09.1a (6)'!i37\"))=TRUE,\"\",INDIRECT(\"'3.09.1a (6)'!i37\"))","v":""},{"$f":"IF(ISERROR(INDIRECT(\"'3.09.1a (6)'!j37\"))=TRUE,\"\",INDIRECT(\"'3.09.1a (6)'!j37\"))","v":""},{"$f":"IF(ISERROR(INDIRECT(\"'3.09.1a (6)'!o37\"))=TRUE,\"\",INDIRECT(\"'3.09.1a (6)'!o37\"))","v":""},{"$f":"IF(ISERROR(INDIRECT(\"'3.09.1a (6)'!p37\"))=TRUE,\"\",INDIRECT(\"'3.09.1a (6)'!p37\"))","v":""},{"$f":"IF(ISERROR(INDIRECT(\"'3.09.1a (6)'!q37\"))=TRUE,\"\",INDIRECT(\"'3.09.1a (6)'!q37\"))","v":""},{"$f":"IF(ISERROR(INDIRECT(\"'3.09.1a (6)'!s37\"))=TRUE,\"\",INDIRECT(\"'3.09.1a (6)'!s37\"))","v":""},{"$f":"IF(ISERROR(INDIRECT(\"'3.09.1a (6)'!t37\"))=TRUE,\"\",INDIRECT(\"'3.09.1a (6)'!t37\"))","v":""},{"$f":"IF(ISERROR(INDIRECT(\"'3.09.1a (6)'!u37\"))=TRUE,\"\",INDIRECT(\"'3.09.1a (6)'!u37\"))","v":""},{"$f":"IF(ISERROR(INDIRECT(\"'3.09.1a (6)'!v37\"))=TRUE,\"\",INDIRECT(\"'3.09.1a (6)'!v37\"))","v":""},{"$f":"IF(ISERROR(INDIRECT(\"'3.09.1a (6)'!w37\"))=TRUE,\"\",INDIRECT(\"'3.09.1a (6)'!w37\"))","v":""},{"$f":"IF(ISERROR(INDIRECT(\"'3.09.1a (6)'!x37\"))=TRUE,\"\",INDIRECT(\"'3.09.1a (6)'!x37\"))","v":""},{"$f":"IF(ISERROR(INDIRECT(\"'3.09.1a (6)'!aa37\"))=TRUE,\"\",INDIRECT(\"'3.09.1a (6)'!aa37\"))","v":""},{"$f":"IF(ISERROR(INDIRECT(\"'3.09.1a (6)'!ad37\"))=TRUE,\"\",INDIRECT(\"'3.09.1a (6)'!ad37\"))","v":""},{"$f":"IF(ISERROR(INDIRECT(\"'3.09.1a (6)'!ah37\"))=TRUE,\"\",INDIRECT(\"'3.09.1a (6)'!ah37\"))","v":""},{"$f":"IF(ISERROR(INDIRECT(\"'3.09.1a (6)'!am37\"))=TRUE,\"\",INDIRECT(\"'3.09.1a (6)'!am37\"))","v":""}]
[0,"3.09.1a (6)",{"$f":"IF(ISERROR(INDIRECT(\"'3.09.1a (6)'!b38\"))=TRUE,\"\",INDIRECT(\"'3.09.1a (6)'!b38\"))","v":""},{"$f":"IF(ISERROR(INDIRECT(\"'3.09.1a (6)'!c38\"))=TRUE,\"\",INDIRECT(\"'3.09.1a (6)'!c38\"))","v":""},{"$f":"IF(ISERROR(INDIRECT(\"'3.09.1a (6)'!d38\"))=TRUE,\"\",INDIRECT(\"'3.09.1a (6)'!d38\"))","v":""},{"$f":"IF(ISERROR(INDIRECT(\"'3.09.1a (6)'!e38\"))=TRUE,\"\",INDIRECT(\"'3.09.1a (6)'!e38\"))","v":""},{"$f":"IF(ISERROR(INDIRECT(\"'3.09.1a (6)'!f38\"))=TRUE,\"\",INDIRECT(\"'3.09.1a (6)'!f38\"))","v":""},{"$f":"IF(ISERROR(INDIRECT(\"'3.09.1a (6)'!g38\"))=TRUE,\"\",INDIRECT(\"'3.09.1a (6)'!g38\"))","v":""},{"$f":"IF(ISERROR(INDIRECT(\"'3.09.1a (6)'!h38\"))=TRUE,\"\",INDIRECT(\"'3.09.1a (6)'!h38\"))","v":""},{"$f":"IF(ISERROR(INDIRECT(\"'3.09.1a (6)'!i38\"))=TRUE,\"\",INDIRECT(\"'3.09.1a (6)'!i38\"))","v":""},{"$f":"IF(ISERROR(INDIRECT(\"'3.09.1a (6)'!j38\"))=TRUE,\"\",INDIRECT(\"'3.09.1a (6)'!j38\"))","v":""},{"$f":"IF(ISERROR(INDIRECT(\"'3.09.1a (6)'!o38\"))=TRUE,\"\",INDIRECT(\"'3.09.1a (6)'!o38\"))","v":""},{"$f":"IF(ISERROR(INDIRECT(\"'3.09.1a (6)'!p38\"))=TRUE,\"\",INDIRECT(\"'3.09.1a (6)'!p38\"))","v":""},{"$f":"IF(ISERROR(INDIRECT(\"'3.09.1a (6)'!q38\"))=TRUE,\"\",INDIRECT(\"'3.09.1a (6)'!q38\"))","v":""},{"$f":"IF(ISERROR(INDIRECT(\"'3.09.1a (6)'!s38\"))=TRUE,\"\",INDIRECT(\"'3.09.1a (6)'!s38\"))","v":""},{"$f":"IF(ISERROR(INDIRECT(\"'3.09.1a (6)'!t38\"))=TRUE,\"\",INDIRECT(\"'3.09.1a (6)'!t38\"))","v":""},{"$f":"IF(ISERROR(INDIRECT(\"'3.09.1a (6)'!u38\"))=TRUE,\"\",INDIRECT(\"'3.09.1a (6)'!u38\"))","v":""},{"$f":"IF(ISERROR(INDIRECT(\"'3.09.1a (6)'!v38\"))=TRUE,\"\",INDIRECT(\"'3.09.1a (6)'!v38\"))","v":""},{"$f":"IF(ISERROR(INDIRECT(\"'3.09.1a (6)'!w38\"))=TRUE,\"\",INDIRECT(\"'3.09.1a (6)'!w38\"))","v":""},{"$f":"IF(ISERROR(INDIRECT(\"'3.09.1a (6)'!x38\"))=TRUE,\"\",INDIRECT(\"'3.09.1a (6)'!x38\"))","v":""},{"$f":"IF(ISERROR(INDIRECT(\"'3.09.1a (6)'!aa38\"))=TRUE,\"\",INDIRECT(\"'3.09.1a (6)'!aa38\"))","v":""},{"$f":"IF(ISERROR(INDIRECT(\"'3.09.1a (6)'!ad38\"))=TRUE,\"\",INDIRECT(\"'3.09.1a (6)'!ad38\"))","v":""},{"$f":"IF(ISERROR(INDIRECT(\"'3.09.1a (6)'!ah38\"))=TRUE,\"\",INDIRECT(\"'3.09.1a (6)'!ah38\"))","v":""},{"$f":"IF(ISERROR(INDIRECT(\"'3.09.1a (6)'!am38\"))=TRUE,\"\",INDIRECT(\"'3.09.1a (6)'!am38\"))","v":""}]
[0,"3.09.1a (6)",{"$f":"IF(ISERROR(INDIRECT(\"'3.09.1a (6)'!b39\"))=TRUE,\"\",INDIRECT(\"'3.09.1a (6)'!b39\"))","v":""},{"$f":"IF(ISERROR(INDIRECT(\"'3.09.1a (6)'!c39\"))=TRUE,\"\",INDIRECT(\"'3.09.1a (6)'!c39\"))","v":""},{"$f":"IF(ISERROR(INDIRECT(\"'3.09.1a (6)'!d39\"))=TRUE,\"\",INDIRECT(\"'3.09.1a (6)'!d39\"))","v":""},{"$f":"IF(ISERROR(INDIRECT(\"'3.09.1a (6)'!e39\"))=TRUE,\"\",INDIRECT(\"'3.09.1a (6)'!e39\"))","v":""},{"$f":"IF(ISERROR(INDIRECT(\"'3.09.1a (6)'!f39\"))=TRUE,\"\",INDIRECT(\"'3.09.1a (6)'!f39\"))","v":""},{"$f":"IF(ISERROR(INDIRECT(\"'3.09.1a (6)'!g39\"))=TRUE,\"\",INDIRECT(\"'3.09.1a (6)'!g39\"))","v":""},{"$f":"IF(ISERROR(INDIRECT(\"'3.09.1a (6)'!h39\"))=TRUE,\"\",INDIRECT(\"'3.09.1a (6)'!h39\"))","v":""},{"$f":"IF(ISERROR(INDIRECT(\"'3.09.1a (6)'!i39\"))=TRUE,\"\",INDIRECT(\"'3.09.1a (6)'!i39\"))","v":""},{"$f":"IF(ISERROR(INDIRECT(\"'3.09.1a (6)'!j39\"))=TRUE,\"\",INDIRECT(\"'3.09.1a (6)'!j39\"))","v":""},{"$f":"IF(ISERROR(INDIRECT(\"'3.09.1a (6)'!o39\"))=TRUE,\"\",INDIRECT(\"'3.09.1a (6)'!o39\"))","v":""},{"$f":"IF(ISERROR(INDIRECT(\"'3.09.1a (6)'!p39\"))=TRUE,\"\",INDIRECT(\"'3.09.1a (6)'!p39\"))","v":""},{"$f":"IF(ISERROR(INDIRECT(\"'3.09.1a (6)'!q39\"))=TRUE,\"\",INDIRECT(\"'3.09.1a (6)'!q39\"))","v":""},{"$f":"IF(ISERROR(INDIRECT(\"'3.09.1a (6)'!s39\"))=TRUE,\"\",INDIRECT(\"'3.09.1a (6)'!s39\"))","v":""},{"$f":"IF(ISERROR(INDIRECT(\"'3.09.1a (6)'!t39\"))=TRUE,\"\",INDIRECT(\"'3.09.1a (6)'!t39\"))","v":""},{"$f":"IF(ISERROR(INDIRECT(\"'3.09.1a (6)'!u39\"))=TRUE,\"\",INDIRECT(\"'3.09.1a (6)'!u39\"))","v":""},{"$f":"IF(ISERROR(INDIRECT(\"'3.09.1a (6)'!v39\"))=TRUE,\"\",INDIRECT(\"'3.09.1a (6)'!v39\"))","v":""},{"$f":"IF(ISERROR(INDIRECT(\"'3.09.1a (6)'!w39\"))=TRUE,\"\",INDIRECT(\"'3.09.1a (6)'!w39\"))","v":""},{"$f":"IF(ISERROR(INDIRECT(\"'3.09.1a (6)'!x39\"))=TRUE,\"\",INDIRECT(\"'3.09.1a (6)'!x39\"))","v":""},{"$f":"IF(ISERROR(INDIRECT(\"'3.09.1a (6)'!aa39\"))=TRUE,\"\",INDIRECT(\"'3.09.1a (6)'!aa39\"))","v":""},{"$f":"IF(ISERROR(INDIRECT(\"'3.09.1a (6)'!ad39\"))=TRUE,\"\",INDIRECT(\"'3.09.1a (6)'!ad39\"))","v":""},{"$f":"IF(ISERROR(INDIRECT(\"'3.09.1a (6)'!ah39\"))=TRUE,\"\",INDIRECT(\"'3.09.1a (6)'!ah39\"))","v":""},{"$f":"IF(ISERROR(INDIRECT(\"'3.09.1a (6)'!am39\"))=TRUE,\"\",INDIRECT(\"'3.09.1a (6)'!am39\"))","v":""}]
[0,"3.09.1a (6)",{"$f":"IF(ISERROR(INDIRECT(\"'3.09.1a (6)'!b40\"))=TRUE,\"\",INDIRECT(\"'3.09.1a (6)'!b40\"))","v":""},{"$f":"IF(ISERROR(INDIRECT(\"'3.09.1a (6)'!c40\"))=TRUE,\"\",INDIRECT(\"'3.09.1a (6)'!c40\"))","v":""},{"$f":"IF(ISERROR(INDIRECT(\"'3.09.1a (6)'!d40\"))=TRUE,\"\",INDIRECT(\"'3.09.1a (6)'!d40\"))","v":""},{"$f":"IF(ISERROR(INDIRECT(\"'3.09.1a (6)'!e40\"))=TRUE,\"\",INDIRECT(\"'3.09.1a (6)'!e40\"))","v":""},{"$f":"IF(ISERROR(INDIRECT(\"'3.09.1a (6)'!f40\"))=TRUE,\"\",INDIRECT(\"'3.09.1a (6)'!f40\"))","v":""},{"$f":"IF(ISERROR(INDIRECT(\"'3.09.1a (6)'!g40\"))=TRUE,\"\",INDIRECT(\"'3.09.1a (6)'!g40\"))","v":""},{"$f":"IF(ISERROR(INDIRECT(\"'3.09.1a (6)'!h40\"))=TRUE,\"\",INDIRECT(\"'3.09.1a (6)'!h40\"))","v":""},{"$f":"IF(ISERROR(INDIRECT(\"'3.09.1a (6)'!i40\"))=TRUE,\"\",INDIRECT(\"'3.09.1a (6)'!i40\"))","v":""},{"$f":"IF(ISERROR(INDIRECT(\"'3.09.1a (6)'!j40\"))=TRUE,\"\",INDIRECT(\"'3.09.1a (6)'!j40\"))","v":""},{"$f":"IF(ISERROR(INDIRECT(\"'3.09.1a (6)'!o40\"))=TRUE,\"\",INDIRECT(\"'3.09.1a (6)'!o40\"))","v":""},{"$f":"IF(ISERROR(INDIRECT(\"'3.09.1a (6)'!p40\"))=TRUE,\"\",INDIRECT(\"'3.09.1a (6)'!p40\"))","v":""},{"$f":"IF(ISERROR(INDIRECT(\"'3.09.1a (6)'!q40\"))=TRUE,\"\",INDIRECT(\"'3.09.1a (6)'!q40\"))","v":""},{"$f":"IF(ISERROR(INDIRECT(\"'3.09.1a (6)'!s40\"))=TRUE,\"\",INDIRECT(\"'3.09.1a (6)'!s40\"))","v":""},{"$f":"IF(ISERROR(INDIRECT(\"'3.09.1a (6)'!t40\"))=TRUE,\"\",INDIRECT(\"'3.09.1a (6)'!t40\"))","v":""},{"$f":"IF(ISERROR(INDIRECT(\"'3.09.1a (6)'!u40\"))=TRUE,\"\",INDIRECT(\"'3.09.1a (6)'!u40\"))","v":""},{"$f":"IF(ISERROR(INDIRECT(\"'3.09.1a (6)'!v40\"))=TRUE,\"\",INDIRECT(\"'3.09.1a (6)'!v40\"))","v":""},{"$f":"IF(ISERROR(INDIRECT(\"'3.09.1a (6)'!w40\"))=TRUE,\"\",INDIRECT(\"'3.09.1a (6)'!w40\"))","v":""},{"$f":"IF(ISERROR(INDIRECT(\"'3.09.1a (6)'!x40\"))=TRUE,\"\",INDIRECT(\"'3.09.1a (6)'!x40\"))","v":""},{"$f":"IF(ISERROR(INDIRECT(\"'3.09.1a (6)'!aa40\"))=TRUE,\"\",INDIRECT(\"'3.09.1a (6)'!aa40\"))","v":""},{"$f":"IF(ISERROR(INDIRECT(\"'3.09.1a (6)'!ad40\"))=TRUE,\"\",INDIRECT(\"'3.09.1a (6)'!ad40\"))","v":""},{"$f":"IF(ISERROR(INDIRECT(\"'3.09.1a (6)'!ah40\"))=TRUE,\"\",INDIRECT(\"'3.09.1a (6)'!ah40\"))","v":""},{"$f":"IF(ISERROR(INDIRECT(\"'3.09.1a (6)'!am40\"))=TRUE,\"\",INDIRECT(\"'3.09.1a (6)'!am40\"))","v":""}]
[0,"3.09.1a (6)",{"$f":"IF(ISERROR(INDIRECT(\"'3.09.1a (6)'!b41\"))=TRUE,\"\",INDIRECT(\"'3.09.1a (6)'!b41\"))","v":""},{"$f":"IF(ISERROR(INDIRECT(\"'3.09.1a (6)'!c41\"))=TRUE,\"\",INDIRECT(\"'3.09.1a (6)'!c41\"))","v":""},{"$f":"IF(ISERROR(INDIRECT(\"'3.09.1a (6)'!d41\"))=TRUE,\"\",INDIRECT(\"'3.09.1a (6)'!d41\"))","v":""},{"$f":"IF(ISERROR(INDIRECT(\"'3.09.1a (6)'!e41\"))=TRUE,\"\",INDIRECT(\"'3.09.1a (6)'!e41\"))","v":""},{"$f":"IF(ISERROR(INDIRECT(\"'3.09.1a (6)'!f41\"))=TRUE,\"\",INDIRECT(\"'3.09.1a (6)'!f41\"))","v":""},{"$f":"IF(ISERROR(INDIRECT(\"'3.09.1a (6)'!g41\"))=TRUE,\"\",INDIRECT(\"'3.09.1a (6)'!g41\"))","v":""},{"$f":"IF(ISERROR(INDIRECT(\"'3.09.1a (6)'!h41\"))=TRUE,\"\",INDIRECT(\"'3.09.1a (6)'!h41\"))","v":""},{"$f":"IF(ISERROR(INDIRECT(\"'3.09.1a (6)'!i41\"))=TRUE,\"\",INDIRECT(\"'3.09.1a (6)'!i41\"))","v":""},{"$f":"IF(ISERROR(INDIRECT(\"'3.09.1a (6)'!j41\"))=TRUE,\"\",INDIRECT(\"'3.09.1a (6)'!j41\"))","v":""},{"$f":"IF(ISERROR(INDIRECT(\"'3.09.1a (6)'!o41\"))=TRUE,\"\",INDIRECT(\"'3.09.1a (6)'!o41\"))","v":""},{"$f":"IF(ISERROR(INDIRECT(\"'3.09.1a (6)'!p41\"))=TRUE,\"\",INDIRECT(\"'3.09.1a (6)'!p41\"))","v":""},{"$f":"IF(ISERROR(INDIRECT(\"'3.09.1a (6)'!q41\"))=TRUE,\"\",INDIRECT(\"'3.09.1a (6)'!q41\"))","v":""},{"$f":"IF(ISERROR(INDIRECT(\"'3.09.1a (6)'!s41\"))=TRUE,\"\",INDIRECT(\"'3.09.1a (6)'!s41\"))","v":""},{"$f":"IF(ISERROR(INDIRECT(\"'3.09.1a (6)'!t41\"))=TRUE,\"\",INDIRECT(\"'3.09.1a (6)'!t41\"))","v":""},{"$f":"IF(ISERROR(INDIRECT(\"'3.09.1a (6)'!u41\"))=TRUE,\"\",INDIRECT(\"'3.09.1a (6)'!u41\"))","v":""},{"$f":"IF(ISERROR(INDIRECT(\"'3.09.1a (6)'!v41\"))=TRUE,\"\",INDIRECT(\"'3.09.1a (6)'!v41\"))","v":""},{"$f":"IF(ISERROR(INDIRECT(\"'3.09.1a (6)'!w41\"))=TRUE,\"\",INDIRECT(\"'3.09.1a (6)'!w41\"))","v":""},{"$f":"IF(ISERROR(INDIRECT(\"'3.09.1a (6)'!x41\"))=TRUE,\"\",INDIRECT(\"'3.09.1a (6)'!x41\"))","v":""},{"$f":"IF(ISERROR(INDIRECT(\"'3.09.1a (6)'!aa41\"))=TRUE,\"\",INDIRECT(\"'3.09.1a (6)'!aa41\"))","v":""},{"$f":"IF(ISERROR(INDIRECT(\"'3.09.1a (6)'!ad41\"))=TRUE,\"\",INDIRECT(\"'3.09.1a (6)'!ad41\"))","v":""},{"$f":"IF(ISERROR(INDIRECT(\"'3.09.1a (6)'!ah41\"))=TRUE,\"\",INDIRECT(\"'3.09.1a (6)'!ah41\"))","v":""},{"$f":"IF(ISERROR(INDIRECT(\"'3.09.1a (6)'!am41\"))=TRUE,\"\",INDIRECT(\"'3.09.1a (6)'!am41\"))","v":""}]
[0,"3.09.1a (6)",{"$f":"IF(ISERROR(INDIRECT(\"'3.09.1a (6)'!b42\"))=TRUE,\"\",INDIRECT(\"'3.09.1a (6)'!b42\"))","v":""},{"$f":"IF(ISERROR(INDIRECT(\"'3.09.1a (6)'!c42\"))=TRUE,\"\",INDIRECT(\"'3.09.1a (6)'!c42\"))","v":""},{"$f":"IF(ISERROR(INDIRECT(\"'3.09.1a (6)'!d42\"))=TRUE,\"\",INDIRECT(\"'3.09.1a (6)'!d42\"))","v":""},{"$f":"IF(ISERROR(INDIRECT(\"'3.09.1a (6)'!e42\"))=TRUE,\"\",INDIRECT(\"'3.09.1a (6)'!e42\"))","v":""},{"$f":"IF(ISERROR(INDIRECT(\"'3.09.1a (6)'!f42\"))=TRUE,\"\",INDIRECT(\"'3.09.1a (6)'!f42\"))","v":""},{"$f":"IF(ISERROR(INDIRECT(\"'3.09.1a (6)'!g42\"))=TRUE,\"\",INDIRECT(\"'3.09.1a (6)'!g42\"))","v":""},{"$f":"IF(ISERROR(INDIRECT(\"'3.09.1a (6)'!h42\"))=TRUE,\"\",INDIRECT(\"'3.09.1a (6)'!h42\"))","v":""},{"$f":"IF(ISERROR(INDIRECT(\"'3.09.1a (6)'!i42\"))=TRUE,\"\",INDIRECT(\"'3.09.1a (6)'!i42\"))","v":""},{"$f":"IF(ISERROR(INDIRECT(\"'3.09.1a (6)'!j42\"))=TRUE,\"\",INDIRECT(\"'3.09.1a (6)'!j42\"))","v":""},{"$f":"IF(ISERROR(INDIRECT(\"'3.09.1a (6)'!o42\"))=TRUE,\"\",INDIRECT(\"'3.09.1a (6)'!o42\"))","v":""},{"$f":"IF(ISERROR(INDIRECT(\"'3.09.1a (6)'!p42\"))=TRUE,\"\",INDIRECT(\"'3.09.1a (6)'!p42\"))","v":""},{"$f":"IF(ISERROR(INDIRECT(\"'3.09.1a (6)'!q42\"))=TRUE,\"\",INDIRECT(\"'3.09.1a (6)'!q42\"))","v":""},{"$f":"IF(ISERROR(INDIRECT(\"'3.09.1a (6)'!s42\"))=TRUE,\"\",INDIRECT(\"'3.09.1a (6)'!s42\"))","v":""},{"$f":"IF(ISERROR(INDIRECT(\"'3.09.1a (6)'!t42\"))=TRUE,\"\",INDIRECT(\"'3.09.1a (6)'!t42\"))","v":""},{"$f":"IF(ISERROR(INDIRECT(\"'3.09.1a (6)'!u42\"))=TRUE,\"\",INDIRECT(\"'3.09.1a (6)'!u42\"))","v":""},{"$f":"IF(ISERROR(INDIRECT(\"'3.09.1a (6)'!v42\"))=TRUE,\"\",INDIRECT(\"'3.09.1a (6)'!v42\"))","v":""},{"$f":"IF(ISERROR(INDIRECT(\"'3.09.1a (6)'!w42\"))=TRUE,\"\",INDIRECT(\"'3.09.1a (6)'!w42\"))","v":""},{"$f":"IF(ISERROR(INDIRECT(\"'3.09.1a (6)'!x42\"))=TRUE,\"\",INDIRECT(\"'3.09.1a (6)'!x42\"))","v":""},{"$f":"IF(ISERROR(INDIRECT(\"'3.09.1a (6)'!aa42\"))=TRUE,\"\",INDIRECT(\"'3.09.1a (6)'!aa42\"))","v":""},{"$f":"IF(ISERROR(INDIRECT(\"'3.09.1a (6)'!ad42\"))=TRUE,\"\",INDIRECT(\"'3.09.1a (6)'!ad42\"))","v":""},{"$f":"IF(ISERROR(INDIRECT(\"'3.09.1a (6)'!ah42\"))=TRUE,\"\",INDIRECT(\"'3.09.1a (6)'!ah42\"))","v":""},{"$f":"IF(ISERROR(INDIRECT(\"'3.09.1a (6)'!am42\"))=TRUE,\"\",INDIRECT(\"'3.09.1a (6)'!am42\"))","v":""}]
[0,"3.09.1a (6)",{"$f":"IF(ISERROR(INDIRECT(\"'3.09.1a (6)'!b43\"))=TRUE,\"\",INDIRECT(\"'3.09.1a (6)'!b43\"))","v":""},{"$f":"IF(ISERROR(INDIRECT(\"'3.09.1a (6)'!c43\"))=TRUE,\"\",INDIRECT(\"'3.09.1a (6)'!c43\"))","v":""},{"$f":"IF(ISERROR(INDIRECT(\"'3.09.1a (6)'!d43\"))=TRUE,\"\",INDIRECT(\"'3.09.1a (6)'!d43\"))","v":""},{"$f":"IF(ISERROR(INDIRECT(\"'3.09.1a (6)'!e43\"))=TRUE,\"\",INDIRECT(\"'3.09.1a (6)'!e43\"))","v":""},{"$f":"IF(ISERROR(INDIRECT(\"'3.09.1a (6)'!f43\"))=TRUE,\"\",INDIRECT(\"'3.09.1a (6)'!f43\"))","v":""},{"$f":"IF(ISERROR(INDIRECT(\"'3.09.1a (6)'!g43\"))=TRUE,\"\",INDIRECT(\"'3.09.1a (6)'!g43\"))","v":""},{"$f":"IF(ISERROR(INDIRECT(\"'3.09.1a (6)'!h43\"))=TRUE,\"\",INDIRECT(\"'3.09.1a (6)'!h43\"))","v":""},{"$f":"IF(ISERROR(INDIRECT(\"'3.09.1a (6)'!i43\"))=TRUE,\"\",INDIRECT(\"'3.09.1a (6)'!i43\"))","v":""},{"$f":"IF(ISERROR(INDIRECT(\"'3.09.1a (6)'!j43\"))=TRUE,\"\",INDIRECT(\"'3.09.1a (6)'!j43\"))","v":""},{"$f":"IF(ISERROR(INDIRECT(\"'3.09.1a (6)'!o43\"))=TRUE,\"\",INDIRECT(\"'3.09.1a (6)'!o43\"))","v":""},{"$f":"IF(ISERROR(INDIRECT(\"'3.09.1a (6)'!p43\"))=TRUE,\"\",INDIRECT(\"'3.09.1a (6)'!p43\"))","v":""},{"$f":"IF(ISERROR(INDIRECT(\"'3.09.1a (6)'!q43\"))=TRUE,\"\",INDIRECT(\"'3.09.1a (6)'!q43\"))","v":""},{"$f":"IF(ISERROR(INDIRECT(\"'3.09.1a (6)'!s43\"))=TRUE,\"\",INDIRECT(\"'3.09.1a (6)'!s43\"))","v":""},{"$f":"IF(ISERROR(INDIRECT(\"'3.09.1a (6)'!t43\"))=TRUE,\"\",INDIRECT(\"'3.09.1a (6)'!t43\"))","v":""},{"$f":"IF(ISERROR(INDIRECT(\"'3.09.1a (6)'!u43\"))=TRUE,\"\",INDIRECT(\"'3.09.1a (6)'!u43\"))","v":""},{"$f":"IF(ISERROR(INDIRECT(\"'3.09.1a (6)'!v43\"))=TRUE,\"\",INDIRECT(\"'3.09.1a (6)'!v43\"))","v":""},{"$f":"IF(ISERROR(INDIRECT(\"'3.09.1a (6)'!w43\"))=TRUE,\"\",INDIRECT(\"'3.09.1a (6)'!w43\"))","v":""},{"$f":"IF(ISERROR(INDIRECT(\"'3.09.1a (6)'!x43\"))=TRUE,\"\",INDIRECT(\"'3.09.1a (6)'!x43\"))","v":""},{"$f":"IF(ISERROR(INDIRECT(\"'3.09.1a (6)'!aa43\"))=TRUE,\"\",INDIRECT(\"'3.09.1a (6)'!aa43\"))","v":""},{"$f":"IF(ISERROR(INDIRECT(\"'3.09.1a (6)'!ad43\"))=TRUE,\"\",INDIRECT(\"'3.09.1a (6)'!ad43\"))","v":""},{"$f":"IF(ISERROR(INDIRECT(\"'3.09.1a (6)'!ah43\"))=TRUE,\"\",INDIRECT(\"'3.09.1a (6)'!ah43\"))","v":""},{"$f":"IF(ISERROR(INDIRECT(\"'3.09.1a (6)'!am43\"))=TRUE,\"\",INDIRECT(\"'3.09.1a (6)'!am43\"))","v":""}]
[{"$f":"AgencyCode","v":0},"3.09.1a (7)",{"$f":"IF(ISERROR(INDIRECT(\"'3.09.1a (7)'!b19\"))=TRUE,\"\",INDIRECT(\"'3.09.1a (7)'!b19\"))","v":""},{"$f":"IF(ISERROR(INDIRECT(\"'3.09.1a (7)'!c19\"))=TRUE,\"\",INDIRECT(\"'3.09.1a (7)'!c19\"))","v":""},{"$f":"IF(ISERROR(INDIRECT(\"'3.09.1a (7)'!D19\"))=TRUE,\"\",INDIRECT(\"'3.09.1a (7)'!D19\"))","v":""},{"$f":"IF(ISERROR(INDIRECT(\"'3.09.1a (7)'!e19\"))=TRUE,\"\",INDIRECT(\"'3.09.1a (7)'!e19\"))","v":""},{"$f":"IF(ISERROR(INDIRECT(\"'3.09.1a (7)'!f19\"))=TRUE,\"\",INDIRECT(\"'3.09.1a (7)'!f19\"))","v":""},{"$f":"IF(ISERROR(INDIRECT(\"'3.09.1a (7)'!g19\"))=TRUE,\"\",INDIRECT(\"'3.09.1a (7)'!g19\"))","v":""},{"$f":"IF(ISERROR(INDIRECT(\"'3.09.1a (7)'!h19\"))=TRUE,\"\",INDIRECT(\"'3.09.1a (7)'!h19\"))","v":""},{"$f":"IF(ISERROR(INDIRECT(\"'3.09.1a (7)'!i19\"))=TRUE,\"\",INDIRECT(\"'3.09.1a (7)'!i19\"))","v":""},{"$f":"IF(ISERROR(INDIRECT(\"'3.09.1a (7)'!j19\"))=TRUE,\"\",INDIRECT(\"'3.09.1a (7)'!j19\"))","v":""},{"$f":"IF(ISERROR(INDIRECT(\"'3.09.1a (7)'!o19\"))=TRUE,\"\",INDIRECT(\"'3.09.1a (7)'!o19\"))","v":""},{"$f":"IF(ISERROR(INDIRECT(\"'3.09.1a (7)'!p19\"))=TRUE,\"\",INDIRECT(\"'3.09.1a (7)'!p19\"))","v":""},{"$f":"IF(ISERROR(INDIRECT(\"'3.09.1a (7)'!q19\"))=TRUE,\"\",INDIRECT(\"'3.09.1a (7)'!q19\"))","v":""},{"$f":"IF(ISERROR(INDIRECT(\"'3.09.1a (7)'!s19\"))=TRUE,\"\",INDIRECT(\"'3.09.1a (7)'!s19\"))","v":""},{"$f":"IF(ISERROR(INDIRECT(\"'3.09.1a (7)'!t19\"))=TRUE,\"\",INDIRECT(\"'3.09.1a (7)'!t19\"))","v":""},{"$f":"IF(ISERROR(INDIRECT(\"'3.09.1a (7)'!u19\"))=TRUE,\"\",INDIRECT(\"'3.09.1a (7)'!u19\"))","v":""},{"$f":"IF(ISERROR(INDIRECT(\"'3.09.1a (7)'!v19\"))=TRUE,\"\",INDIRECT(\"'3.09.1a (7)'!v19\"))","v":""},{"$f":"IF(ISERROR(INDIRECT(\"'3.09.1a (7)'!w19\"))=TRUE,\"\",INDIRECT(\"'3.09.1a (7)'!w19\"))","v":""},{"$f":"IF(ISERROR(INDIRECT(\"'3.09.1a (7)'!x19\"))=TRUE,\"\",INDIRECT(\"'3.09.1a (7)'!x19\"))","v":""},{"$f":"IF(ISERROR(INDIRECT(\"'3.09.1a (7)'!aa19\"))=TRUE,\"\",INDIRECT(\"'3.09.1a (7)'!aa19\"))","v":""},{"$f":"IF(ISERROR(INDIRECT(\"'3.09.1a (7)'!ad19\"))=TRUE,\"\",INDIRECT(\"'3.09.1a (7)'!ad19\"))","v":""},{"$f":"IF(ISERROR(INDIRECT(\"'3.09.1a (7)'!ah19\"))=TRUE,\"\",INDIRECT(\"'3.09.1a (7)'!ah19\"))","v":""},{"$f":"IF(ISERROR(INDIRECT(\"'3.09.1a (7)'!am19\"))=TRUE,\"\",INDIRECT(\"'3.09.1a (7)'!am19\"))","v":""}]
[0,"3.09.1a (7)",{"$f":"IF(ISERROR(INDIRECT(\"'3.09.1a (7)'!b20\"))=TRUE,\"\",INDIRECT(\"'3.09.1a (7)'!b20\"))","v":""},{"$f":"IF(ISERROR(INDIRECT(\"'3.09.1a (7)'!c20\"))=TRUE,\"\",INDIRECT(\"'3.09.1a (7)'!c20\"))","v":""},{"$f":"IF(ISERROR(INDIRECT(\"'3.09.1a (7)'!d20\"))=TRUE,\"\",INDIRECT(\"'3.09.1a (7)'!d20\"))","v":""},{"$f":"IF(ISERROR(INDIRECT(\"'3.09.1a (7)'!e20\"))=TRUE,\"\",INDIRECT(\"'3.09.1a (7)'!e20\"))","v":""},{"$f":"IF(ISERROR(INDIRECT(\"'3.09.1a (7)'!f20\"))=TRUE,\"\",INDIRECT(\"'3.09.1a (7)'!f20\"))","v":""},{"$f":"IF(ISERROR(INDIRECT(\"'3.09.1a (7)'!g20\"))=TRUE,\"\",INDIRECT(\"'3.09.1a (7)'!g20\"))","v":""},{"$f":"IF(ISERROR(INDIRECT(\"'3.09.1a (7)'!h20\"))=TRUE,\"\",INDIRECT(\"'3.09.1a (7)'!h20\"))","v":""},{"$f":"IF(ISERROR(INDIRECT(\"'3.09.1a (7)'!i20\"))=TRUE,\"\",INDIRECT(\"'3.09.1a (7)'!i20\"))","v":""},{"$f":"IF(ISERROR(INDIRECT(\"'3.09.1a (7)'!j20\"))=TRUE,\"\",INDIRECT(\"'3.09.1a (7)'!j20\"))","v":""},{"$f":"IF(ISERROR(INDIRECT(\"'3.09.1a (7)'!o20\"))=TRUE,\"\",INDIRECT(\"'3.09.1a (7)'!o20\"))","v":""},{"$f":"IF(ISERROR(INDIRECT(\"'3.09.1a (7)'!p20\"))=TRUE,\"\",INDIRECT(\"'3.09.1a (7)'!p20\"))","v":""},{"$f":"IF(ISERROR(INDIRECT(\"'3.09.1a (7)'!q20\"))=TRUE,\"\",INDIRECT(\"'3.09.1a (7)'!q20\"))","v":""},{"$f":"IF(ISERROR(INDIRECT(\"'3.09.1a (7)'!s20\"))=TRUE,\"\",INDIRECT(\"'3.09.1a (7)'!s20\"))","v":""},{"$f":"IF(ISERROR(INDIRECT(\"'3.09.1a (7)'!t20\"))=TRUE,\"\",INDIRECT(\"'3.09.1a (7)'!t20\"))","v":""},{"$f":"IF(ISERROR(INDIRECT(\"'3.09.1a (7)'!u20\"))=TRUE,\"\",INDIRECT(\"'3.09.1a (7)'!u20\"))","v":""},{"$f":"IF(ISERROR(INDIRECT(\"'3.09.1a (7)'!v20\"))=TRUE,\"\",INDIRECT(\"'3.09.1a (7)'!v20\"))","v":""},{"$f":"IF(ISERROR(INDIRECT(\"'3.09.1a (7)'!w20\"))=TRUE,\"\",INDIRECT(\"'3.09.1a (7)'!w20\"))","v":""},{"$f":"IF(ISERROR(INDIRECT(\"'3.09.1a (7)'!x20\"))=TRUE,\"\",INDIRECT(\"'3.09.1a (7)'!x20\"))","v":""},{"$f":"IF(ISERROR(INDIRECT(\"'3.09.1a (7)'!aa20\"))=TRUE,\"\",INDIRECT(\"'3.09.1a (7)'!aa20\"))","v":""},{"$f":"IF(ISERROR(INDIRECT(\"'3.09.1a (7)'!ad20\"))=TRUE,\"\",INDIRECT(\"'3.09.1a (7)'!ad20\"))","v":""},{"$f":"IF(ISERROR(INDIRECT(\"'3.09.1a (7)'!ah20\"))=TRUE,\"\",INDIRECT(\"'3.09.1a (7)'!ah20\"))","v":""},{"$f":"IF(ISERROR(INDIRECT(\"'3.09.1a (7)'!am20\"))=TRUE,\"\",INDIRECT(\"'3.09.1a (7)'!am20\"))","v":""}]
[0,"3.09.1a (7)",{"$f":"IF(ISERROR(INDIRECT(\"'3.09.1a (7)'!b21\"))=TRUE,\"\",INDIRECT(\"'3.09.1a (7)'!b21\"))","v":""},{"$f":"IF(ISERROR(INDIRECT(\"'3.09.1a (7)'!c21\"))=TRUE,\"\",INDIRECT(\"'3.09.1a (7)'!c21\"))","v":""},{"$f":"IF(ISERROR(INDIRECT(\"'3.09.1a (7)'!d21\"))=TRUE,\"\",INDIRECT(\"'3.09.1a (7)'!d21\"))","v":""},{"$f":"IF(ISERROR(INDIRECT(\"'3.09.1a (7)'!e21\"))=TRUE,\"\",INDIRECT(\"'3.09.1a (7)'!e21\"))","v":""},{"$f":"IF(ISERROR(INDIRECT(\"'3.09.1a (7)'!f21\"))=TRUE,\"\",INDIRECT(\"'3.09.1a (7)'!f21\"))","v":""},{"$f":"IF(ISERROR(INDIRECT(\"'3.09.1a (7)'!g21\"))=TRUE,\"\",INDIRECT(\"'3.09.1a (7)'!g21\"))","v":""},{"$f":"IF(ISERROR(INDIRECT(\"'3.09.1a (7)'!h21\"))=TRUE,\"\",INDIRECT(\"'3.09.1a (7)'!h21\"))","v":""},{"$f":"IF(ISERROR(INDIRECT(\"'3.09.1a (7)'!i21\"))=TRUE,\"\",INDIRECT(\"'3.09.1a (7)'!i21\"))","v":""},{"$f":"IF(ISERROR(INDIRECT(\"'3.09.1a (7)'!j21\"))=TRUE,\"\",INDIRECT(\"'3.09.1a (7)'!j21\"))","v":""},{"$f":"IF(ISERROR(INDIRECT(\"'3.09.1a (7)'!o21\"))=TRUE,\"\",INDIRECT(\"'3.09.1a (7)'!o21\"))","v":""},{"$f":"IF(ISERROR(INDIRECT(\"'3.09.1a (7)'!p21\"))=TRUE,\"\",INDIRECT(\"'3.09.1a (7)'!p21\"))","v":""},{"$f":"IF(ISERROR(INDIRECT(\"'3.09.1a (7)'!q21\"))=TRUE,\"\",INDIRECT(\"'3.09.1a (7)'!q21\"))","v":""},{"$f":"IF(ISERROR(INDIRECT(\"'3.09.1a (7)'!s21\"))=TRUE,\"\",INDIRECT(\"'3.09.1a (7)'!s21\"))","v":""},{"$f":"IF(ISERROR(INDIRECT(\"'3.09.1a (7)'!t21\"))=TRUE,\"\",INDIRECT(\"'3.09.1a (7)'!t21\"))","v":""},{"$f":"IF(ISERROR(INDIRECT(\"'3.09.1a (7)'!u21\"))=TRUE,\"\",INDIRECT(\"'3.09.1a (7)'!u21\"))","v":""},{"$f":"IF(ISERROR(INDIRECT(\"'3.09.1a (7)'!v21\"))=TRUE,\"\",INDIRECT(\"'3.09.1a (7)'!v21\"))","v":""},{"$f":"IF(ISERROR(INDIRECT(\"'3.09.1a (7)'!w21\"))=TRUE,\"\",INDIRECT(\"'3.09.1a (7)'!w21\"))","v":""},{"$f":"IF(ISERROR(INDIRECT(\"'3.09.1a (7)'!x21\"))=TRUE,\"\",INDIRECT(\"'3.09.1a (7)'!x21\"))","v":""},{"$f":"IF(ISERROR(INDIRECT(\"'3.09.1a (7)'!aa21\"))=TRUE,\"\",INDIRECT(\"'3.09.1a (7)'!aa21\"))","v":""},{"$f":"IF(ISERROR(INDIRECT(\"'3.09.1a (7)'!ad21\"))=TRUE,\"\",INDIRECT(\"'3.09.1a (7)'!ad21\"))","v":""},{"$f":"IF(ISERROR(INDIRECT(\"'3.09.1a (7)'!ah21\"))=TRUE,\"\",INDIRECT(\"'3.09.1a (7)'!ah21\"))","v":""},{"$f":"IF(ISERROR(INDIRECT(\"'3.09.1a (7)'!am21\"))=TRUE,\"\",INDIRECT(\"'3.09.1a (7)'!am21\"))","v":""}]
[0,"3.09.1a (7)",{"$f":"IF(ISERROR(INDIRECT(\"'3.09.1a (7)'!b22\"))=TRUE,\"\",INDIRECT(\"'3.09.1a (7)'!b22\"))","v":""},{"$f":"IF(ISERROR(INDIRECT(\"'3.09.1a (7)'!c22\"))=TRUE,\"\",INDIRECT(\"'3.09.1a (7)'!c22\"))","v":""},{"$f":"IF(ISERROR(INDIRECT(\"'3.09.1a (7)'!d22\"))=TRUE,\"\",INDIRECT(\"'3.09.1a (7)'!d22\"))","v":""},{"$f":"IF(ISERROR(INDIRECT(\"'3.09.1a (7)'!e22\"))=TRUE,\"\",INDIRECT(\"'3.09.1a (7)'!e22\"))","v":""},{"$f":"IF(ISERROR(INDIRECT(\"'3.09.1a (7)'!f22\"))=TRUE,\"\",INDIRECT(\"'3.09.1a (7)'!f22\"))","v":""},{"$f":"IF(ISERROR(INDIRECT(\"'3.09.1a (7)'!g22\"))=TRUE,\"\",INDIRECT(\"'3.09.1a (7)'!g22\"))","v":""},{"$f":"IF(ISERROR(INDIRECT(\"'3.09.1a (7)'!h22\"))=TRUE,\"\",INDIRECT(\"'3.09.1a (7)'!h22\"))","v":""},{"$f":"IF(ISERROR(INDIRECT(\"'3.09.1a (7)'!i22\"))=TRUE,\"\",INDIRECT(\"'3.09.1a (7)'!i22\"))","v":""},{"$f":"IF(ISERROR(INDIRECT(\"'3.09.1a (7)'!j22\"))=TRUE,\"\",INDIRECT(\"'3.09.1a (7)'!j22\"))","v":""},{"$f":"IF(ISERROR(INDIRECT(\"'3.09.1a (7)'!o22\"))=TRUE,\"\",INDIRECT(\"'3.09.1a (7)'!o22\"))","v":""},{"$f":"IF(ISERROR(INDIRECT(\"'3.09.1a (7)'!p22\"))=TRUE,\"\",INDIRECT(\"'3.09.1a (7)'!p22\"))","v":""},{"$f":"IF(ISERROR(INDIRECT(\"'3.09.1a (7)'!q22\"))=TRUE,\"\",INDIRECT(\"'3.09.1a (7)'!q22\"))","v":""},{"$f":"IF(ISERROR(INDIRECT(\"'3.09.1a (7)'!s22\"))=TRUE,\"\",INDIRECT(\"'3.09.1a (7)'!s22\"))","v":""},{"$f":"IF(ISERROR(INDIRECT(\"'3.09.1a (7)'!t22\"))=TRUE,\"\",INDIRECT(\"'3.09.1a (7)'!t22\"))","v":""},{"$f":"IF(ISERROR(INDIRECT(\"'3.09.1a (7)'!u22\"))=TRUE,\"\",INDIRECT(\"'3.09.1a (7)'!u22\"))","v":""},{"$f":"IF(ISERROR(INDIRECT(\"'3.09.1a (7)'!v22\"))=TRUE,\"\",INDIRECT(\"'3.09.1a (7)'!v22\"))","v":""},{"$f":"IF(ISERROR(INDIRECT(\"'3.09.1a (7)'!w22\"))=TRUE,\"\",INDIRECT(\"'3.09.1a (7)'!w22\"))","v":""},{"$f":"IF(ISERROR(INDIRECT(\"'3.09.1a (7)'!x22\"))=TRUE,\"\",INDIRECT(\"'3.09.1a (7)'!x22\"))","v":""},{"$f":"IF(ISERROR(INDIRECT(\"'3.09.1a (7)'!aa22\"))=TRUE,\"\",INDIRECT(\"'3.09.1a (7)'!aa22\"))","v":""},{"$f":"IF(ISERROR(INDIRECT(\"'3.09.1a (7)'!ad22\"))=TRUE,\"\",INDIRECT(\"'3.09.1a (7)'!ad22\"))","v":""},{"$f":"IF(ISERROR(INDIRECT(\"'3.09.1a (7)'!ah22\"))=TRUE,\"\",INDIRECT(\"'3.09.1a (7)'!ah22\"))","v":""},{"$f":"IF(ISERROR(INDIRECT(\"'3.09.1a (7)'!am22\"))=TRUE,\"\",INDIRECT(\"'3.09.1a (7)'!am22\"))","v":""}]
[0,"3.09.1a (7)",{"$f":"IF(ISERROR(INDIRECT(\"'3.09.1a (7)'!b23\"))=TRUE,\"\",INDIRECT(\"'3.09.1a (7)'!b23\"))","v":""},{"$f":"IF(ISERROR(INDIRECT(\"'3.09.1a (7)'!c23\"))=TRUE,\"\",INDIRECT(\"'3.09.1a (7)'!c23\"))","v":""},{"$f":"IF(ISERROR(INDIRECT(\"'3.09.1a (7)'!d23\"))=TRUE,\"\",INDIRECT(\"'3.09.1a (7)'!d23\"))","v":""},{"$f":"IF(ISERROR(INDIRECT(\"'3.09.1a (7)'!e23\"))=TRUE,\"\",INDIRECT(\"'3.09.1a (7)'!e23\"))","v":""},{"$f":"IF(ISERROR(INDIRECT(\"'3.09.1a (7)'!f23\"))=TRUE,\"\",INDIRECT(\"'3.09.1a (7)'!f23\"))","v":""},{"$f":"IF(ISERROR(INDIRECT(\"'3.09.1a (7)'!g23\"))=TRUE,\"\",INDIRECT(\"'3.09.1a (7)'!g23\"))","v":""},{"$f":"IF(ISERROR(INDIRECT(\"'3.09.1a (7)'!h23\"))=TRUE,\"\",INDIRECT(\"'3.09.1a (7)'!h23\"))","v":""},{"$f":"IF(ISERROR(INDIRECT(\"'3.09.1a (7)'!i23\"))=TRUE,\"\",INDIRECT(\"'3.09.1a (7)'!i23\"))","v":""},{"$f":"IF(ISERROR(INDIRECT(\"'3.09.1a (7)'!j23\"))=TRUE,\"\",INDIRECT(\"'3.09.1a (7)'!j23\"))","v":""},{"$f":"IF(ISERROR(INDIRECT(\"'3.09.1a (7)'!o23\"))=TRUE,\"\",INDIRECT(\"'3.09.1a (7)'!o23\"))","v":""},{"$f":"IF(ISERROR(INDIRECT(\"'3.09.1a (7)'!p23\"))=TRUE,\"\",INDIRECT(\"'3.09.1a (7)'!p23\"))","v":""},{"$f":"IF(ISERROR(INDIRECT(\"'3.09.1a (7)'!q23\"))=TRUE,\"\",INDIRECT(\"'3.09.1a (7)'!q23\"))","v":""},{"$f":"IF(ISERROR(INDIRECT(\"'3.09.1a (7)'!s23\"))=TRUE,\"\",INDIRECT(\"'3.09.1a (7)'!s23\"))","v":""},{"$f":"IF(ISERROR(INDIRECT(\"'3.09.1a (7)'!t23\"))=TRUE,\"\",INDIRECT(\"'3.09.1a (7)'!t23\"))","v":""},{"$f":"IF(ISERROR(INDIRECT(\"'3.09.1a (7)'!u23\"))=TRUE,\"\",INDIRECT(\"'3.09.1a (7)'!u23\"))","v":""},{"$f":"IF(ISERROR(INDIRECT(\"'3.09.1a (7)'!v23\"))=TRUE,\"\",INDIRECT(\"'3.09.1a (7)'!v23\"))","v":""},{"$f":"IF(ISERROR(INDIRECT(\"'3.09.1a (7)'!w23\"))=TRUE,\"\",INDIRECT(\"'3.09.1a (7)'!w23\"))","v":""},{"$f":"IF(ISERROR(INDIRECT(\"'3.09.1a (7)'!x23\"))=TRUE,\"\",INDIRECT(\"'3.09.1a (7)'!x23\"))","v":""},{"$f":"IF(ISERROR(INDIRECT(\"'3.09.1a (7)'!aa23\"))=TRUE,\"\",INDIRECT(\"'3.09.1a (7)'!aa23\"))","v":""},{"$f":"IF(ISERROR(INDIRECT(\"'3.09.1a (7)'!ad23\"))=TRUE,\"\",INDIRECT(\"'3.09.1a (7)'!ad23\"))","v":""},{"$f":"IF(ISERROR(INDIRECT(\"'3.09.1a (7)'!ah23\"))=TRUE,\"\",INDIRECT(\"'3.09.1a (7)'!ah23\"))","v":""},{"$f":"IF(ISERROR(INDIRECT(\"'3.09.1a (7)'!am23\"))=TRUE,\"\",INDIRECT(\"'3.09.1a (7)'!am23\"))","v":""}]
[0,"3.09.1a (7)",{"$f":"IF(ISERROR(INDIRECT(\"'3.09.1a (7)'!b24\"))=TRUE,\"\",INDIRECT(\"'3.09.1a (7)'!b24\"))","v":""},{"$f":"IF(ISERROR(INDIRECT(\"'3.09.1a (7)'!c24\"))=TRUE,\"\",INDIRECT(\"'3.09.1a (7)'!c24\"))","v":""},{"$f":"IF(ISERROR(INDIRECT(\"'3.09.1a (7)'!d24\"))=TRUE,\"\",INDIRECT(\"'3.09.1a (7)'!d24\"))","v":""},{"$f":"IF(ISERROR(INDIRECT(\"'3.09.1a (7)'!e24\"))=TRUE,\"\",INDIRECT(\"'3.09.1a (7)'!e24\"))","v":""},{"$f":"IF(ISERROR(INDIRECT(\"'3.09.1a (7)'!f24\"))=TRUE,\"\",INDIRECT(\"'3.09.1a (7)'!f24\"))","v":""},{"$f":"IF(ISERROR(INDIRECT(\"'3.09.1a (7)'!g24\"))=TRUE,\"\",INDIRECT(\"'3.09.1a (7)'!g24\"))","v":""},{"$f":"IF(ISERROR(INDIRECT(\"'3.09.1a (7)'!h24\"))=TRUE,\"\",INDIRECT(\"'3.09.1a (7)'!h24\"))","v":""},{"$f":"IF(ISERROR(INDIRECT(\"'3.09.1a (7)'!i24\"))=TRUE,\"\",INDIRECT(\"'3.09.1a (7)'!i24\"))","v":""},{"$f":"IF(ISERROR(INDIRECT(\"'3.09.1a (7)'!j24\"))=TRUE,\"\",INDIRECT(\"'3.09.1a (7)'!j24\"))","v":""},{"$f":"IF(ISERROR(INDIRECT(\"'3.09.1a (7)'!o24\"))=TRUE,\"\",INDIRECT(\"'3.09.1a (7)'!o24\"))","v":""},{"$f":"IF(ISERROR(INDIRECT(\"'3.09.1a (7)'!p24\"))=TRUE,\"\",INDIRECT(\"'3.09.1a (7)'!p24\"))","v":""},{"$f":"IF(ISERROR(INDIRECT(\"'3.09.1a (7)'!q24\"))=TRUE,\"\",INDIRECT(\"'3.09.1a (7)'!q24\"))","v":""},{"$f":"IF(ISERROR(INDIRECT(\"'3.09.1a (7)'!s24\"))=TRUE,\"\",INDIRECT(\"'3.09.1a (7)'!s24\"))","v":""},{"$f":"IF(ISERROR(INDIRECT(\"'3.09.1a (7)'!t24\"))=TRUE,\"\",INDIRECT(\"'3.09.1a (7)'!t24\"))","v":""},{"$f":"IF(ISERROR(INDIRECT(\"'3.09.1a (7)'!u24\"))=TRUE,\"\",INDIRECT(\"'3.09.1a (7)'!u24\"))","v":""},{"$f":"IF(ISERROR(INDIRECT(\"'3.09.1a (7)'!v24\"))=TRUE,\"\",INDIRECT(\"'3.09.1a (7)'!v24\"))","v":""},{"$f":"IF(ISERROR(INDIRECT(\"'3.09.1a (7)'!w24\"))=TRUE,\"\",INDIRECT(\"'3.09.1a (7)'!w24\"))","v":""},{"$f":"IF(ISERROR(INDIRECT(\"'3.09.1a (7)'!x24\"))=TRUE,\"\",INDIRECT(\"'3.09.1a (7)'!x24\"))","v":""},{"$f":"IF(ISERROR(INDIRECT(\"'3.09.1a (7)'!aa24\"))=TRUE,\"\",INDIRECT(\"'3.09.1a (7)'!aa24\"))","v":""},{"$f":"IF(ISERROR(INDIRECT(\"'3.09.1a (7)'!ad24\"))=TRUE,\"\",INDIRECT(\"'3.09.1a (7)'!ad24\"))","v":""},{"$f":"IF(ISERROR(INDIRECT(\"'3.09.1a (7)'!ah24\"))=TRUE,\"\",INDIRECT(\"'3.09.1a (7)'!ah24\"))","v":""},{"$f":"IF(ISERROR(INDIRECT(\"'3.09.1a (7)'!am24\"))=TRUE,\"\",INDIRECT(\"'3.09.1a (7)'!am24\"))","v":""}]
[0,"3.09.1a (7)",{"$f":"IF(ISERROR(INDIRECT(\"'3.09.1a (7)'!b25\"))=TRUE,\"\",INDIRECT(\"'3.09.1a (7)'!b25\"))","v":""},{"$f":"IF(ISERROR(INDIRECT(\"'3.09.1a (7)'!c25\"))=TRUE,\"\",INDIRECT(\"'3.09.1a (7)'!c25\"))","v":""},{"$f":"IF(ISERROR(INDIRECT(\"'3.09.1a (7)'!d25\"))=TRUE,\"\",INDIRECT(\"'3.09.1a (7)'!d25\"))","v":""},{"$f":"IF(ISERROR(INDIRECT(\"'3.09.1a (7)'!e25\"))=TRUE,\"\",INDIRECT(\"'3.09.1a (7)'!e25\"))","v":""},{"$f":"IF(ISERROR(INDIRECT(\"'3.09.1a (7)'!f25\"))=TRUE,\"\",INDIRECT(\"'3.09.1a (7)'!f25\"))","v":""},{"$f":"IF(ISERROR(INDIRECT(\"'3.09.1a (7)'!g25\"))=TRUE,\"\",INDIRECT(\"'3.09.1a (7)'!g25\"))","v":""},{"$f":"IF(ISERROR(INDIRECT(\"'3.09.1a (7)'!h25\"))=TRUE,\"\",INDIRECT(\"'3.09.1a (7)'!h25\"))","v":""},{"$f":"IF(ISERROR(INDIRECT(\"'3.09.1a (7)'!i25\"))=TRUE,\"\",INDIRECT(\"'3.09.1a (7)'!i25\"))","v":""},{"$f":"IF(ISERROR(INDIRECT(\"'3.09.1a (7)'!j25\"))=TRUE,\"\",INDIRECT(\"'3.09.1a (7)'!j25\"))","v":""},{"$f":"IF(ISERROR(INDIRECT(\"'3.09.1a (7)'!o25\"))=TRUE,\"\",INDIRECT(\"'3.09.1a (7)'!o25\"))","v":""},{"$f":"IF(ISERROR(INDIRECT(\"'3.09.1a (7)'!p25\"))=TRUE,\"\",INDIRECT(\"'3.09.1a (7)'!p25\"))","v":""},{"$f":"IF(ISERROR(INDIRECT(\"'3.09.1a (7)'!q25\"))=TRUE,\"\",INDIRECT(\"'3.09.1a (7)'!q25\"))","v":""},{"$f":"IF(ISERROR(INDIRECT(\"'3.09.1a (7)'!s25\"))=TRUE,\"\",INDIRECT(\"'3.09.1a (7)'!s25\"))","v":""},{"$f":"IF(ISERROR(INDIRECT(\"'3.09.1a (7)'!t25\"))=TRUE,\"\",INDIRECT(\"'3.09.1a (7)'!t25\"))","v":""},{"$f":"IF(ISERROR(INDIRECT(\"'3.09.1a (7)'!u25\"))=TRUE,\"\",INDIRECT(\"'3.09.1a (7)'!u25\"))","v":""},{"$f":"IF(ISERROR(INDIRECT(\"'3.09.1a (7)'!v25\"))=TRUE,\"\",INDIRECT(\"'3.09.1a (7)'!v25\"))","v":""},{"$f":"IF(ISERROR(INDIRECT(\"'3.09.1a (7)'!w25\"))=TRUE,\"\",INDIRECT(\"'3.09.1a (7)'!w25\"))","v":""},{"$f":"IF(ISERROR(INDIRECT(\"'3.09.1a (7)'!x25\"))=TRUE,\"\",INDIRECT(\"'3.09.1a (7)'!x25\"))","v":""},{"$f":"IF(ISERROR(INDIRECT(\"'3.09.1a (7)'!aa25\"))=TRUE,\"\",INDIRECT(\"'3.09.1a (7)'!aa25\"))","v":""},{"$f":"IF(ISERROR(INDIRECT(\"'3.09.1a (7)'!ad25\"))=TRUE,\"\",INDIRECT(\"'3.09.1a (7)'!ad25\"))","v":""},{"$f":"IF(ISERROR(INDIRECT(\"'3.09.1a (7)'!ah25\"))=TRUE,\"\",INDIRECT(\"'3.09.1a (7)'!ah25\"))","v":""},{"$f":"IF(ISERROR(INDIRECT(\"'3.09.1a (7)'!am25\"))=TRUE,\"\",INDIRECT(\"'3.09.1a (7)'!am25\"))","v":""}]
[0,"3.09.1a (7)",{"$f":"IF(ISERROR(INDIRECT(\"'3.09.1a (7)'!b26\"))=TRUE,\"\",INDIRECT(\"'3.09.1a (7)'!b26\"))","v":""},{"$f":"IF(ISERROR(INDIRECT(\"'3.09.1a (7)'!c26\"))=TRUE,\"\",INDIRECT(\"'3.09.1a (7)'!c26\"))","v":""},{"$f":"IF(ISERROR(INDIRECT(\"'3.09.1a (7)'!d26\"))=TRUE,\"\",INDIRECT(\"'3.09.1a (7)'!d26\"))","v":""},{"$f":"IF(ISERROR(INDIRECT(\"'3.09.1a (7)'!e26\"))=TRUE,\"\",INDIRECT(\"'3.09.1a (7)'!e26\"))","v":""},{"$f":"IF(ISERROR(INDIRECT(\"'3.09.1a (7)'!f26\"))=TRUE,\"\",INDIRECT(\"'3.09.1a (7)'!f26\"))","v":""},{"$f":"IF(ISERROR(INDIRECT(\"'3.09.1a (7)'!g26\"))=TRUE,\"\",INDIRECT(\"'3.09.1a (7)'!g26\"))","v":""},{"$f":"IF(ISERROR(INDIRECT(\"'3.09.1a (7)'!h26\"))=TRUE,\"\",INDIRECT(\"'3.09.1a (7)'!h26\"))","v":""},{"$f":"IF(ISERROR(INDIRECT(\"'3.09.1a (7)'!i26\"))=TRUE,\"\",INDIRECT(\"'3.09.1a (7)'!i26\"))","v":""},{"$f":"IF(ISERROR(INDIRECT(\"'3.09.1a (7)'!j26\"))=TRUE,\"\",INDIRECT(\"'3.09.1a (7)'!j26\"))","v":""},{"$f":"IF(ISERROR(INDIRECT(\"'3.09.1a (7)'!o26\"))=TRUE,\"\",INDIRECT(\"'3.09.1a (7)'!o26\"))","v":""},{"$f":"IF(ISERROR(INDIRECT(\"'3.09.1a (7)'!p26\"))=TRUE,\"\",INDIRECT(\"'3.09.1a (7)'!p26\"))","v":""},{"$f":"IF(ISERROR(INDIRECT(\"'3.09.1a (7)'!q26\"))=TRUE,\"\",INDIRECT(\"'3.09.1a (7)'!q26\"))","v":""},{"$f":"IF(ISERROR(INDIRECT(\"'3.09.1a (7)'!s26\"))=TRUE,\"\",INDIRECT(\"'3.09.1a (7)'!s26\"))","v":""},{"$f":"IF(ISERROR(INDIRECT(\"'3.09.1a (7)'!t26\"))=TRUE,\"\",INDIRECT(\"'3.09.1a (7)'!t26\"))","v":""},{"$f":"IF(ISERROR(INDIRECT(\"'3.09.1a (7)'!u26\"))=TRUE,\"\",INDIRECT(\"'3.09.1a (7)'!u26\"))","v":""},{"$f":"IF(ISERROR(INDIRECT(\"'3.09.1a (7)'!v26\"))=TRUE,\"\",INDIRECT(\"'3.09.1a (7)'!v26\"))","v":""},{"$f":"IF(ISERROR(INDIRECT(\"'3.09.1a (7)'!w26\"))=TRUE,\"\",INDIRECT(\"'3.09.1a (7)'!w26\"))","v":""},{"$f":"IF(ISERROR(INDIRECT(\"'3.09.1a (7)'!x26\"))=TRUE,\"\",INDIRECT(\"'3.09.1a (7)'!x26\"))","v":""},{"$f":"IF(ISERROR(INDIRECT(\"'3.09.1a (7)'!aa26\"))=TRUE,\"\",INDIRECT(\"'3.09.1a (7)'!aa26\"))","v":""},{"$f":"IF(ISERROR(INDIRECT(\"'3.09.1a (7)'!ad26\"))=TRUE,\"\",INDIRECT(\"'3.09.1a (7)'!ad26\"))","v":""},{"$f":"IF(ISERROR(INDIRECT(\"'3.09.1a (7)'!ah26\"))=TRUE,\"\",INDIRECT(\"'3.09.1a (7)'!ah26\"))","v":""},{"$f":"IF(ISERROR(INDIRECT(\"'3.09.1a (7)'!am26\"))=TRUE,\"\",INDIRECT(\"'3.09.1a (7)'!am26\"))","v":""}]
[0,"3.09.1a (7)",{"$f":"IF(ISERROR(INDIRECT(\"'3.09.1a (7)'!b27\"))=TRUE,\"\",INDIRECT(\"'3.09.1a (7)'!b27\"))","v":""},{"$f":"IF(ISERROR(INDIRECT(\"'3.09.1a (7)'!c27\"))=TRUE,\"\",INDIRECT(\"'3.09.1a (7)'!c27\"))","v":""},{"$f":"IF(ISERROR(INDIRECT(\"'3.09.1a (7)'!d27\"))=TRUE,\"\",INDIRECT(\"'3.09.1a (7)'!d27\"))","v":""},{"$f":"IF(ISERROR(INDIRECT(\"'3.09.1a (7)'!e27\"))=TRUE,\"\",INDIRECT(\"'3.09.1a (7)'!e27\"))","v":""},{"$f":"IF(ISERROR(INDIRECT(\"'3.09.1a (7)'!f27\"))=TRUE,\"\",INDIRECT(\"'3.09.1a (7)'!f27\"))","v":""},{"$f":"IF(ISERROR(INDIRECT(\"'3.09.1a (7)'!g27\"))=TRUE,\"\",INDIRECT(\"'3.09.1a (7)'!g27\"))","v":""},{"$f":"IF(ISERROR(INDIRECT(\"'3.09.1a (7)'!h27\"))=TRUE,\"\",INDIRECT(\"'3.09.1a (7)'!h27\"))","v":""},{"$f":"IF(ISERROR(INDIRECT(\"'3.09.1a (7)'!i27\"))=TRUE,\"\",INDIRECT(\"'3.09.1a (7)'!i27\"))","v":""},{"$f":"IF(ISERROR(INDIRECT(\"'3.09.1a (7)'!j27\"))=TRUE,\"\",INDIRECT(\"'3.09.1a (7)'!j27\"))","v":""},{"$f":"IF(ISERROR(INDIRECT(\"'3.09.1a (7)'!o27\"))=TRUE,\"\",INDIRECT(\"'3.09.1a (7)'!o27\"))","v":""},{"$f":"IF(ISERROR(INDIRECT(\"'3.09.1a (7)'!p27\"))=TRUE,\"\",INDIRECT(\"'3.09.1a (7)'!p27\"))","v":""},{"$f":"IF(ISERROR(INDIRECT(\"'3.09.1a (7)'!q27\"))=TRUE,\"\",INDIRECT(\"'3.09.1a (7)'!q27\"))","v":""},{"$f":"IF(ISERROR(INDIRECT(\"'3.09.1a (7)'!s27\"))=TRUE,\"\",INDIRECT(\"'3.09.1a (7)'!s27\"))","v":""},{"$f":"IF(ISERROR(INDIRECT(\"'3.09.1a (7)'!t27\"))=TRUE,\"\",INDIRECT(\"'3.09.1a (7)'!t27\"))","v":""},{"$f":"IF(ISERROR(INDIRECT(\"'3.09.1a (7)'!u27\"))=TRUE,\"\",INDIRECT(\"'3.09.1a (7)'!u27\"))","v":""},{"$f":"IF(ISERROR(INDIRECT(\"'3.09.1a (7)'!v27\"))=TRUE,\"\",INDIRECT(\"'3.09.1a (7)'!v27\"))","v":""},{"$f":"IF(ISERROR(INDIRECT(\"'3.09.1a (7)'!w27\"))=TRUE,\"\",INDIRECT(\"'3.09.1a (7)'!w27\"))","v":""},{"$f":"IF(ISERROR(INDIRECT(\"'3.09.1a (7)'!x27\"))=TRUE,\"\",INDIRECT(\"'3.09.1a (7)'!x27\"))","v":""},{"$f":"IF(ISERROR(INDIRECT(\"'3.09.1a (7)'!aa27\"))=TRUE,\"\",INDIRECT(\"'3.09.1a (7)'!aa27\"))","v":""},{"$f":"IF(ISERROR(INDIRECT(\"'3.09.1a (7)'!ad27\"))=TRUE,\"\",INDIRECT(\"'3.09.1a (7)'!ad27\"))","v":""},{"$f":"IF(ISERROR(INDIRECT(\"'3.09.1a (7)'!ah27\"))=TRUE,\"\",INDIRECT(\"'3.09.1a (7)'!ah27\"))","v":""},{"$f":"IF(ISERROR(INDIRECT(\"'3.09.1a (7)'!am27\"))=TRUE,\"\",INDIRECT(\"'3.09.1a (7)'!am27\"))","v":""}]
[0,"3.09.1a (7)",{"$f":"IF(ISERROR(INDIRECT(\"'3.09.1a (7)'!b28\"))=TRUE,\"\",INDIRECT(\"'3.09.1a (7)'!b28\"))","v":""},{"$f":"IF(ISERROR(INDIRECT(\"'3.09.1a (7)'!c28\"))=TRUE,\"\",INDIRECT(\"'3.09.1a (7)'!c28\"))","v":""},{"$f":"IF(ISERROR(INDIRECT(\"'3.09.1a (7)'!d28\"))=TRUE,\"\",INDIRECT(\"'3.09.1a (7)'!d28\"))","v":""},{"$f":"IF(ISERROR(INDIRECT(\"'3.09.1a (7)'!e28\"))=TRUE,\"\",INDIRECT(\"'3.09.1a (7)'!e28\"))","v":""},{"$f":"IF(ISERROR(INDIRECT(\"'3.09.1a (7)'!f28\"))=TRUE,\"\",INDIRECT(\"'3.09.1a (7)'!f28\"))","v":""},{"$f":"IF(ISERROR(INDIRECT(\"'3.09.1a (7)'!g28\"))=TRUE,\"\",INDIRECT(\"'3.09.1a (7)'!g28\"))","v":""},{"$f":"IF(ISERROR(INDIRECT(\"'3.09.1a (7)'!h28\"))=TRUE,\"\",INDIRECT(\"'3.09.1a (7)'!h28\"))","v":""},{"$f":"IF(ISERROR(INDIRECT(\"'3.09.1a (7)'!i28\"))=TRUE,\"\",INDIRECT(\"'3.09.1a (7)'!i28\"))","v":""},{"$f":"IF(ISERROR(INDIRECT(\"'3.09.1a (7)'!j28\"))=TRUE,\"\",INDIRECT(\"'3.09.1a (7)'!j28\"))","v":""},{"$f":"IF(ISERROR(INDIRECT(\"'3.09.1a (7)'!o28\"))=TRUE,\"\",INDIRECT(\"'3.09.1a (7)'!o28\"))","v":""},{"$f":"IF(ISERROR(INDIRECT(\"'3.09.1a (7)'!p28\"))=TRUE,\"\",INDIRECT(\"'3.09.1a (7)'!p28\"))","v":""},{"$f":"IF(ISERROR(INDIRECT(\"'3.09.1a (7)'!q28\"))=TRUE,\"\",INDIRECT(\"'3.09.1a (7)'!q28\"))","v":""},{"$f":"IF(ISERROR(INDIRECT(\"'3.09.1a (7)'!s28\"))=TRUE,\"\",INDIRECT(\"'3.09.1a (7)'!s28\"))","v":""},{"$f":"IF(ISERROR(INDIRECT(\"'3.09.1a (7)'!t28\"))=TRUE,\"\",INDIRECT(\"'3.09.1a (7)'!t28\"))","v":""},{"$f":"IF(ISERROR(INDIRECT(\"'3.09.1a (7)'!u28\"))=TRUE,\"\",INDIRECT(\"'3.09.1a (7)'!u28\"))","v":""},{"$f":"IF(ISERROR(INDIRECT(\"'3.09.1a (7)'!v28\"))=TRUE,\"\",INDIRECT(\"'3.09.1a (7)'!v28\"))","v":""},{"$f":"IF(ISERROR(INDIRECT(\"'3.09.1a (7)'!w28\"))=TRUE,\"\",INDIRECT(\"'3.09.1a (7)'!w28\"))","v":""},{"$f":"IF(ISERROR(INDIRECT(\"'3.09.1a (7)'!x28\"))=TRUE,\"\",INDIRECT(\"'3.09.1a (7)'!x28\"))","v":""},{"$f":"IF(ISERROR(INDIRECT(\"'3.09.1a (7)'!aa28\"))=TRUE,\"\",INDIRECT(\"'3.09.1a (7)'!aa28\"))","v":""},{"$f":"IF(ISERROR(INDIRECT(\"'3.09.1a (7)'!ad28\"))=TRUE,\"\",INDIRECT(\"'3.09.1a (7)'!ad28\"))","v":""},{"$f":"IF(ISERROR(INDIRECT(\"'3.09.1a (7)'!ah28\"))=TRUE,\"\",INDIRECT(\"'3.09.1a (7)'!ah28\"))","v":""},{"$f":"IF(ISERROR(INDIRECT(\"'3.09.1a (7)'!am28\"))=TRUE,\"\",INDIRECT(\"'3.09.1a (7)'!am28\"))","v":""}]
[0,"3.09.1a (7)",{"$f":"IF(ISERROR(INDIRECT(\"'3.09.1a (7)'!b29\"))=TRUE,\"\",INDIRECT(\"'3.09.1a (7)'!b29\"))","v":""},{"$f":"IF(ISERROR(INDIRECT(\"'3.09.1a (7)'!c29\"))=TRUE,\"\",INDIRECT(\"'3.09.1a (7)'!c29\"))","v":""},{"$f":"IF(ISERROR(INDIRECT(\"'3.09.1a (7)'!d29\"))=TRUE,\"\",INDIRECT(\"'3.09.1a (7)'!d29\"))","v":""},{"$f":"IF(ISERROR(INDIRECT(\"'3.09.1a (7)'!e29\"))=TRUE,\"\",INDIRECT(\"'3.09.1a (7)'!e29\"))","v":""},{"$f":"IF(ISERROR(INDIRECT(\"'3.09.1a (7)'!f29\"))=TRUE,\"\",INDIRECT(\"'3.09.1a (7)'!f29\"))","v":""},{"$f":"IF(ISERROR(INDIRECT(\"'3.09.1a (7)'!g29\"))=TRUE,\"\",INDIRECT(\"'3.09.1a (7)'!g29\"))","v":""},{"$f":"IF(ISERROR(INDIRECT(\"'3.09.1a (7)'!h29\"))=TRUE,\"\",INDIRECT(\"'3.09.1a (7)'!h29\"))","v":""},{"$f":"IF(ISERROR(INDIRECT(\"'3.09.1a (7)'!i29\"))=TRUE,\"\",INDIRECT(\"'3.09.1a (7)'!i29\"))","v":""},{"$f":"IF(ISERROR(INDIRECT(\"'3.09.1a (7)'!j29\"))=TRUE,\"\",INDIRECT(\"'3.09.1a (7)'!j29\"))","v":""},{"$f":"IF(ISERROR(INDIRECT(\"'3.09.1a (7)'!o29\"))=TRUE,\"\",INDIRECT(\"'3.09.1a (7)'!o29\"))","v":""},{"$f":"IF(ISERROR(INDIRECT(\"'3.09.1a (7)'!p29\"))=TRUE,\"\",INDIRECT(\"'3.09.1a (7)'!p29\"))","v":""},{"$f":"IF(ISERROR(INDIRECT(\"'3.09.1a (7)'!q29\"))=TRUE,\"\",INDIRECT(\"'3.09.1a (7)'!q29\"))","v":""},{"$f":"IF(ISERROR(INDIRECT(\"'3.09.1a (7)'!s29\"))=TRUE,\"\",INDIRECT(\"'3.09.1a (7)'!s29\"))","v":""},{"$f":"IF(ISERROR(INDIRECT(\"'3.09.1a (7)'!t29\"))=TRUE,\"\",INDIRECT(\"'3.09.1a (7)'!t29\"))","v":""},{"$f":"IF(ISERROR(INDIRECT(\"'3.09.1a (7)'!u29\"))=TRUE,\"\",INDIRECT(\"'3.09.1a (7)'!u29\"))","v":""},{"$f":"IF(ISERROR(INDIRECT(\"'3.09.1a (7)'!v29\"))=TRUE,\"\",INDIRECT(\"'3.09.1a (7)'!v29\"))","v":""},{"$f":"IF(ISERROR(INDIRECT(\"'3.09.1a (7)'!w29\"))=TRUE,\"\",INDIRECT(\"'3.09.1a (7)'!w29\"))","v":""},{"$f":"IF(ISERROR(INDIRECT(\"'3.09.1a (7)'!x29\"))=TRUE,\"\",INDIRECT(\"'3.09.1a (7)'!x29\"))","v":""},{"$f":"IF(ISERROR(INDIRECT(\"'3.09.1a (7)'!aa29\"))=TRUE,\"\",INDIRECT(\"'3.09.1a (7)'!aa29\"))","v":""},{"$f":"IF(ISERROR(INDIRECT(\"'3.09.1a (7)'!ad29\"))=TRUE,\"\",INDIRECT(\"'3.09.1a (7)'!ad29\"))","v":""},{"$f":"IF(ISERROR(INDIRECT(\"'3.09.1a (7)'!ah29\"))=TRUE,\"\",INDIRECT(\"'3.09.1a (7)'!ah29\"))","v":""},{"$f":"IF(ISERROR(INDIRECT(\"'3.09.1a (7)'!am29\"))=TRUE,\"\",INDIRECT(\"'3.09.1a (7)'!am29\"))","v":""}]
[0,"3.09.1a (7)",{"$f":"IF(ISERROR(INDIRECT(\"'3.09.1a (7)'!b30\"))=TRUE,\"\",INDIRECT(\"'3.09.1a (7)'!b30\"))","v":""},{"$f":"IF(ISERROR(INDIRECT(\"'3.09.1a (7)'!c30\"))=TRUE,\"\",INDIRECT(\"'3.09.1a (7)'!c30\"))","v":""},{"$f":"IF(ISERROR(INDIRECT(\"'3.09.1a (7)'!d30\"))=TRUE,\"\",INDIRECT(\"'3.09.1a (7)'!d30\"))","v":""},{"$f":"IF(ISERROR(INDIRECT(\"'3.09.1a (7)'!e30\"))=TRUE,\"\",INDIRECT(\"'3.09.1a (7)'!e30\"))","v":""},{"$f":"IF(ISERROR(INDIRECT(\"'3.09.1a (7)'!f30\"))=TRUE,\"\",INDIRECT(\"'3.09.1a (7)'!f30\"))","v":""},{"$f":"IF(ISERROR(INDIRECT(\"'3.09.1a (7)'!g30\"))=TRUE,\"\",INDIRECT(\"'3.09.1a (7)'!g30\"))","v":""},{"$f":"IF(ISERROR(INDIRECT(\"'3.09.1a (7)'!h30\"))=TRUE,\"\",INDIRECT(\"'3.09.1a (7)'!h30\"))","v":""},{"$f":"IF(ISERROR(INDIRECT(\"'3.09.1a (7)'!i30\"))=TRUE,\"\",INDIRECT(\"'3.09.1a (7)'!i30\"))","v":""},{"$f":"IF(ISERROR(INDIRECT(\"'3.09.1a (7)'!j30\"))=TRUE,\"\",INDIRECT(\"'3.09.1a (7)'!j30\"))","v":""},{"$f":"IF(ISERROR(INDIRECT(\"'3.09.1a (7)'!o30\"))=TRUE,\"\",INDIRECT(\"'3.09.1a (7)'!o30\"))","v":""},{"$f":"IF(ISERROR(INDIRECT(\"'3.09.1a (7)'!p30\"))=TRUE,\"\",INDIRECT(\"'3.09.1a (7)'!p30\"))","v":""},{"$f":"IF(ISERROR(INDIRECT(\"'3.09.1a (7)'!q30\"))=TRUE,\"\",INDIRECT(\"'3.09.1a (7)'!q30\"))","v":""},{"$f":"IF(ISERROR(INDIRECT(\"'3.09.1a (7)'!s30\"))=TRUE,\"\",INDIRECT(\"'3.09.1a (7)'!s30\"))","v":""},{"$f":"IF(ISERROR(INDIRECT(\"'3.09.1a (7)'!t30\"))=TRUE,\"\",INDIRECT(\"'3.09.1a (7)'!t30\"))","v":""},{"$f":"IF(ISERROR(INDIRECT(\"'3.09.1a (7)'!u30\"))=TRUE,\"\",INDIRECT(\"'3.09.1a (7)'!u30\"))","v":""},{"$f":"IF(ISERROR(INDIRECT(\"'3.09.1a (7)'!v30\"))=TRUE,\"\",INDIRECT(\"'3.09.1a (7)'!v30\"))","v":""},{"$f":"IF(ISERROR(INDIRECT(\"'3.09.1a (7)'!w30\"))=TRUE,\"\",INDIRECT(\"'3.09.1a (7)'!w30\"))","v":""},{"$f":"IF(ISERROR(INDIRECT(\"'3.09.1a (7)'!x30\"))=TRUE,\"\",INDIRECT(\"'3.09.1a (7)'!x30\"))","v":""},{"$f":"IF(ISERROR(INDIRECT(\"'3.09.1a (7)'!aa30\"))=TRUE,\"\",INDIRECT(\"'3.09.1a (7)'!aa30\"))","v":""},{"$f":"IF(ISERROR(INDIRECT(\"'3.09.1a (7)'!ad30\"))=TRUE,\"\",INDIRECT(\"'3.09.1a (7)'!ad30\"))","v":""},{"$f":"IF(ISERROR(INDIRECT(\"'3.09.1a (7)'!ah30\"))=TRUE,\"\",INDIRECT(\"'3.09.1a (7)'!ah30\"))","v":""},{"$f":"IF(ISERROR(INDIRECT(\"'3.09.1a (7)'!am30\"))=TRUE,\"\",INDIRECT(\"'3.09.1a (7)'!am30\"))","v":""}]
[0,"3.09.1a (7)",{"$f":"IF(ISERROR(INDIRECT(\"'3.09.1a (7)'!b31\"))=TRUE,\"\",INDIRECT(\"'3.09.1a (7)'!b31\"))","v":""},{"$f":"IF(ISERROR(INDIRECT(\"'3.09.1a (7)'!c31\"))=TRUE,\"\",INDIRECT(\"'3.09.1a (7)'!c31\"))","v":""},{"$f":"IF(ISERROR(INDIRECT(\"'3.09.1a (7)'!d31\"))=TRUE,\"\",INDIRECT(\"'3.09.1a (7)'!d31\"))","v":""},{"$f":"IF(ISERROR(INDIRECT(\"'3.09.1a (7)'!e31\"))=TRUE,\"\",INDIRECT(\"'3.09.1a (7)'!e31\"))","v":""},{"$f":"IF(ISERROR(INDIRECT(\"'3.09.1a (7)'!f31\"))=TRUE,\"\",INDIRECT(\"'3.09.1a (7)'!f31\"))","v":""},{"$f":"IF(ISERROR(INDIRECT(\"'3.09.1a (7)'!g31\"))=TRUE,\"\",INDIRECT(\"'3.09.1a (7)'!g31\"))","v":""},{"$f":"IF(ISERROR(INDIRECT(\"'3.09.1a (7)'!h31\"))=TRUE,\"\",INDIRECT(\"'3.09.1a (7)'!h31\"))","v":""},{"$f":"IF(ISERROR(INDIRECT(\"'3.09.1a (7)'!i31\"))=TRUE,\"\",INDIRECT(\"'3.09.1a (7)'!i31\"))","v":""},{"$f":"IF(ISERROR(INDIRECT(\"'3.09.1a (7)'!j31\"))=TRUE,\"\",INDIRECT(\"'3.09.1a (7)'!j31\"))","v":""},{"$f":"IF(ISERROR(INDIRECT(\"'3.09.1a (7)'!o31\"))=TRUE,\"\",INDIRECT(\"'3.09.1a (7)'!o31\"))","v":""},{"$f":"IF(ISERROR(INDIRECT(\"'3.09.1a (7)'!p31\"))=TRUE,\"\",INDIRECT(\"'3.09.1a (7)'!p31\"))","v":""},{"$f":"IF(ISERROR(INDIRECT(\"'3.09.1a (7)'!q31\"))=TRUE,\"\",INDIRECT(\"'3.09.1a (7)'!q31\"))","v":""},{"$f":"IF(ISERROR(INDIRECT(\"'3.09.1a (7)'!s31\"))=TRUE,\"\",INDIRECT(\"'3.09.1a (7)'!s31\"))","v":""},{"$f":"IF(ISERROR(INDIRECT(\"'3.09.1a (7)'!t31\"))=TRUE,\"\",INDIRECT(\"'3.09.1a (7)'!t31\"))","v":""},{"$f":"IF(ISERROR(INDIRECT(\"'3.09.1a (7)'!u31\"))=TRUE,\"\",INDIRECT(\"'3.09.1a (7)'!u31\"))","v":""},{"$f":"IF(ISERROR(INDIRECT(\"'3.09.1a (7)'!v31\"))=TRUE,\"\",INDIRECT(\"'3.09.1a (7)'!v31\"))","v":""},{"$f":"IF(ISERROR(INDIRECT(\"'3.09.1a (7)'!w31\"))=TRUE,\"\",INDIRECT(\"'3.09.1a (7)'!w31\"))","v":""},{"$f":"IF(ISERROR(INDIRECT(\"'3.09.1a (7)'!x31\"))=TRUE,\"\",INDIRECT(\"'3.09.1a (7)'!x31\"))","v":""},{"$f":"IF(ISERROR(INDIRECT(\"'3.09.1a (7)'!aa31\"))=TRUE,\"\",INDIRECT(\"'3.09.1a (7)'!aa31\"))","v":""},{"$f":"IF(ISERROR(INDIRECT(\"'3.09.1a (7)'!ad31\"))=TRUE,\"\",INDIRECT(\"'3.09.1a (7)'!ad31\"))","v":""},{"$f":"IF(ISERROR(INDIRECT(\"'3.09.1a (7)'!ah31\"))=TRUE,\"\",INDIRECT(\"'3.09.1a (7)'!ah31\"))","v":""},{"$f":"IF(ISERROR(INDIRECT(\"'3.09.1a (7)'!am31\"))=TRUE,\"\",INDIRECT(\"'3.09.1a (7)'!am31\"))","v":""}]
[0,"3.09.1a (7)",{"$f":"IF(ISERROR(INDIRECT(\"'3.09.1a (7)'!b32\"))=TRUE,\"\",INDIRECT(\"'3.09.1a (7)'!b32\"))","v":""},{"$f":"IF(ISERROR(INDIRECT(\"'3.09.1a (7)'!c32\"))=TRUE,\"\",INDIRECT(\"'3.09.1a (7)'!c32\"))","v":""},{"$f":"IF(ISERROR(INDIRECT(\"'3.09.1a (7)'!d32\"))=TRUE,\"\",INDIRECT(\"'3.09.1a (7)'!d32\"))","v":""},{"$f":"IF(ISERROR(INDIRECT(\"'3.09.1a (7)'!e32\"))=TRUE,\"\",INDIRECT(\"'3.09.1a (7)'!e32\"))","v":""},{"$f":"IF(ISERROR(INDIRECT(\"'3.09.1a (7)'!f32\"))=TRUE,\"\",INDIRECT(\"'3.09.1a (7)'!f32\"))","v":""},{"$f":"IF(ISERROR(INDIRECT(\"'3.09.1a (7)'!g32\"))=TRUE,\"\",INDIRECT(\"'3.09.1a (7)'!g32\"))","v":""},{"$f":"IF(ISERROR(INDIRECT(\"'3.09.1a (7)'!h32\"))=TRUE,\"\",INDIRECT(\"'3.09.1a (7)'!h32\"))","v":""},{"$f":"IF(ISERROR(INDIRECT(\"'3.09.1a (7)'!i32\"))=TRUE,\"\",INDIRECT(\"'3.09.1a (7)'!i32\"))","v":""},{"$f":"IF(ISERROR(INDIRECT(\"'3.09.1a (7)'!j32\"))=TRUE,\"\",INDIRECT(\"'3.09.1a (7)'!j32\"))","v":""},{"$f":"IF(ISERROR(INDIRECT(\"'3.09.1a (7)'!o32\"))=TRUE,\"\",INDIRECT(\"'3.09.1a (7)'!o32\"))","v":""},{"$f":"IF(ISERROR(INDIRECT(\"'3.09.1a (7)'!p32\"))=TRUE,\"\",INDIRECT(\"'3.09.1a (7)'!p32\"))","v":""},{"$f":"IF(ISERROR(INDIRECT(\"'3.09.1a (7)'!q32\"))=TRUE,\"\",INDIRECT(\"'3.09.1a (7)'!q32\"))","v":""},{"$f":"IF(ISERROR(INDIRECT(\"'3.09.1a (7)'!s32\"))=TRUE,\"\",INDIRECT(\"'3.09.1a (7)'!s32\"))","v":""},{"$f":"IF(ISERROR(INDIRECT(\"'3.09.1a (7)'!t32\"))=TRUE,\"\",INDIRECT(\"'3.09.1a (7)'!t32\"))","v":""},{"$f":"IF(ISERROR(INDIRECT(\"'3.09.1a (7)'!u32\"))=TRUE,\"\",INDIRECT(\"'3.09.1a (7)'!u32\"))","v":""},{"$f":"IF(ISERROR(INDIRECT(\"'3.09.1a (7)'!v32\"))=TRUE,\"\",INDIRECT(\"'3.09.1a (7)'!v32\"))","v":""},{"$f":"IF(ISERROR(INDIRECT(\"'3.09.1a (7)'!w32\"))=TRUE,\"\",INDIRECT(\"'3.09.1a (7)'!w32\"))","v":""},{"$f":"IF(ISERROR(INDIRECT(\"'3.09.1a (7)'!x32\"))=TRUE,\"\",INDIRECT(\"'3.09.1a (7)'!x32\"))","v":""},{"$f":"IF(ISERROR(INDIRECT(\"'3.09.1a (7)'!aa32\"))=TRUE,\"\",INDIRECT(\"'3.09.1a (7)'!aa32\"))","v":""},{"$f":"IF(ISERROR(INDIRECT(\"'3.09.1a (7)'!ad32\"))=TRUE,\"\",INDIRECT(\"'3.09.1a (7)'!ad32\"))","v":""},{"$f":"IF(ISERROR(INDIRECT(\"'3.09.1a (7)'!ah32\"))=TRUE,\"\",INDIRECT(\"'3.09.1a (7)'!ah32\"))","v":""},{"$f":"IF(ISERROR(INDIRECT(\"'3.09.1a (7)'!am32\"))=TRUE,\"\",INDIRECT(\"'3.09.1a (7)'!am32\"))","v":""}]
[0,"3.09.1a (7)",{"$f":"IF(ISERROR(INDIRECT(\"'3.09.1a (7)'!b33\"))=TRUE,\"\",INDIRECT(\"'3.09.1a (7)'!b33\"))","v":""},{"$f":"IF(ISERROR(INDIRECT(\"'3.09.1a (7)'!c33\"))=TRUE,\"\",INDIRECT(\"'3.09.1a (7)'!c33\"))","v":""},{"$f":"IF(ISERROR(INDIRECT(\"'3.09.1a (7)'!d33\"))=TRUE,\"\",INDIRECT(\"'3.09.1a (7)'!d33\"))","v":""},{"$f":"IF(ISERROR(INDIRECT(\"'3.09.1a (7)'!e33\"))=TRUE,\"\",INDIRECT(\"'3.09.1a (7)'!e33\"))","v":""},{"$f":"IF(ISERROR(INDIRECT(\"'3.09.1a (7)'!f33\"))=TRUE,\"\",INDIRECT(\"'3.09.1a (7)'!f33\"))","v":""},{"$f":"IF(ISERROR(INDIRECT(\"'3.09.1a (7)'!g33\"))=TRUE,\"\",INDIRECT(\"'3.09.1a (7)'!g33\"))","v":""},{"$f":"IF(ISERROR(INDIRECT(\"'3.09.1a (7)'!h33\"))=TRUE,\"\",INDIRECT(\"'3.09.1a (7)'!h33\"))","v":""},{"$f":"IF(ISERROR(INDIRECT(\"'3.09.1a (7)'!i33\"))=TRUE,\"\",INDIRECT(\"'3.09.1a (7)'!i33\"))","v":""},{"$f":"IF(ISERROR(INDIRECT(\"'3.09.1a (7)'!j33\"))=TRUE,\"\",INDIRECT(\"'3.09.1a (7)'!j33\"))","v":""},{"$f":"IF(ISERROR(INDIRECT(\"'3.09.1a (7)'!o33\"))=TRUE,\"\",INDIRECT(\"'3.09.1a (7)'!o33\"))","v":""},{"$f":"IF(ISERROR(INDIRECT(\"'3.09.1a (7)'!p33\"))=TRUE,\"\",INDIRECT(\"'3.09.1a (7)'!p33\"))","v":""},{"$f":"IF(ISERROR(INDIRECT(\"'3.09.1a (7)'!q33\"))=TRUE,\"\",INDIRECT(\"'3.09.1a (7)'!q33\"))","v":""},{"$f":"IF(ISERROR(INDIRECT(\"'3.09.1a (7)'!s33\"))=TRUE,\"\",INDIRECT(\"'3.09.1a (7)'!s33\"))","v":""},{"$f":"IF(ISERROR(INDIRECT(\"'3.09.1a (7)'!t33\"))=TRUE,\"\",INDIRECT(\"'3.09.1a (7)'!t33\"))","v":""},{"$f":"IF(ISERROR(INDIRECT(\"'3.09.1a (7)'!u33\"))=TRUE,\"\",INDIRECT(\"'3.09.1a (7)'!u33\"))","v":""},{"$f":"IF(ISERROR(INDIRECT(\"'3.09.1a (7)'!v33\"))=TRUE,\"\",INDIRECT(\"'3.09.1a (7)'!v33\"))","v":""},{"$f":"IF(ISERROR(INDIRECT(\"'3.09.1a (7)'!w33\"))=TRUE,\"\",INDIRECT(\"'3.09.1a (7)'!w33\"))","v":""},{"$f":"IF(ISERROR(INDIRECT(\"'3.09.1a (7)'!x33\"))=TRUE,\"\",INDIRECT(\"'3.09.1a (7)'!x33\"))","v":""},{"$f":"IF(ISERROR(INDIRECT(\"'3.09.1a (7)'!aa33\"))=TRUE,\"\",INDIRECT(\"'3.09.1a (7)'!aa33\"))","v":""},{"$f":"IF(ISERROR(INDIRECT(\"'3.09.1a (7)'!ad33\"))=TRUE,\"\",INDIRECT(\"'3.09.1a (7)'!ad33\"))","v":""},{"$f":"IF(ISERROR(INDIRECT(\"'3.09.1a (7)'!ah33\"))=TRUE,\"\",INDIRECT(\"'3.09.1a (7)'!ah33\"))","v":""},{"$f":"IF(ISERROR(INDIRECT(\"'3.09.1a (7)'!am33\"))=TRUE,\"\",INDIRECT(\"'3.09.1a (7)'!am33\"))","v":""}]
[0,"3.09.1a (7)",{"$f":"IF(ISERROR(INDIRECT(\"'3.09.1a (7)'!b34\"))=TRUE,\"\",INDIRECT(\"'3.09.1a (7)'!b34\"))","v":""},{"$f":"IF(ISERROR(INDIRECT(\"'3.09.1a (7)'!c34\"))=TRUE,\"\",INDIRECT(\"'3.09.1a (7)'!c34\"))","v":""},{"$f":"IF(ISERROR(INDIRECT(\"'3.09.1a (7)'!d34\"))=TRUE,\"\",INDIRECT(\"'3.09.1a (7)'!d34\"))","v":""},{"$f":"IF(ISERROR(INDIRECT(\"'3.09.1a (7)'!e34\"))=TRUE,\"\",INDIRECT(\"'3.09.1a (7)'!e34\"))","v":""},{"$f":"IF(ISERROR(INDIRECT(\"'3.09.1a (7)'!f34\"))=TRUE,\"\",INDIRECT(\"'3.09.1a (7)'!f34\"))","v":""},{"$f":"IF(ISERROR(INDIRECT(\"'3.09.1a (7)'!g34\"))=TRUE,\"\",INDIRECT(\"'3.09.1a (7)'!g34\"))","v":""},{"$f":"IF(ISERROR(INDIRECT(\"'3.09.1a (7)'!h34\"))=TRUE,\"\",INDIRECT(\"'3.09.1a (7)'!h34\"))","v":""},{"$f":"IF(ISERROR(INDIRECT(\"'3.09.1a (7)'!i34\"))=TRUE,\"\",INDIRECT(\"'3.09.1a (7)'!i34\"))","v":""},{"$f":"IF(ISERROR(INDIRECT(\"'3.09.1a (7)'!j34\"))=TRUE,\"\",INDIRECT(\"'3.09.1a (7)'!j34\"))","v":""},{"$f":"IF(ISERROR(INDIRECT(\"'3.09.1a (7)'!o34\"))=TRUE,\"\",INDIRECT(\"'3.09.1a (7)'!o34\"))","v":""},{"$f":"IF(ISERROR(INDIRECT(\"'3.09.1a (7)'!p34\"))=TRUE,\"\",INDIRECT(\"'3.09.1a (7)'!p34\"))","v":""},{"$f":"IF(ISERROR(INDIRECT(\"'3.09.1a (7)'!q34\"))=TRUE,\"\",INDIRECT(\"'3.09.1a (7)'!q34\"))","v":""},{"$f":"IF(ISERROR(INDIRECT(\"'3.09.1a (7)'!s34\"))=TRUE,\"\",INDIRECT(\"'3.09.1a (7)'!s34\"))","v":""},{"$f":"IF(ISERROR(INDIRECT(\"'3.09.1a (7)'!t34\"))=TRUE,\"\",INDIRECT(\"'3.09.1a (7)'!t34\"))","v":""},{"$f":"IF(ISERROR(INDIRECT(\"'3.09.1a (7)'!u34\"))=TRUE,\"\",INDIRECT(\"'3.09.1a (7)'!u34\"))","v":""},{"$f":"IF(ISERROR(INDIRECT(\"'3.09.1a (7)'!v34\"))=TRUE,\"\",INDIRECT(\"'3.09.1a (7)'!v34\"))","v":""},{"$f":"IF(ISERROR(INDIRECT(\"'3.09.1a (7)'!w34\"))=TRUE,\"\",INDIRECT(\"'3.09.1a (7)'!w34\"))","v":""},{"$f":"IF(ISERROR(INDIRECT(\"'3.09.1a (7)'!x34\"))=TRUE,\"\",INDIRECT(\"'3.09.1a (7)'!x34\"))","v":""},{"$f":"IF(ISERROR(INDIRECT(\"'3.09.1a (7)'!aa34\"))=TRUE,\"\",INDIRECT(\"'3.09.1a (7)'!aa34\"))","v":""},{"$f":"IF(ISERROR(INDIRECT(\"'3.09.1a (7)'!ad34\"))=TRUE,\"\",INDIRECT(\"'3.09.1a (7)'!ad34\"))","v":""},{"$f":"IF(ISERROR(INDIRECT(\"'3.09.1a (7)'!ah34\"))=TRUE,\"\",INDIRECT(\"'3.09.1a (7)'!ah34\"))","v":""},{"$f":"IF(ISERROR(INDIRECT(\"'3.09.1a (7)'!am34\"))=TRUE,\"\",INDIRECT(\"'3.09.1a (7)'!am34\"))","v":""}]
[0,"3.09.1a (7)",{"$f":"IF(ISERROR(INDIRECT(\"'3.09.1a (7)'!b35\"))=TRUE,\"\",INDIRECT(\"'3.09.1a (7)'!b35\"))","v":""},{"$f":"IF(ISERROR(INDIRECT(\"'3.09.1a (7)'!c35\"))=TRUE,\"\",INDIRECT(\"'3.09.1a (7)'!c35\"))","v":""},{"$f":"IF(ISERROR(INDIRECT(\"'3.09.1a (7)'!d35\"))=TRUE,\"\",INDIRECT(\"'3.09.1a (7)'!d35\"))","v":""},{"$f":"IF(ISERROR(INDIRECT(\"'3.09.1a (7)'!e35\"))=TRUE,\"\",INDIRECT(\"'3.09.1a (7)'!e35\"))","v":""},{"$f":"IF(ISERROR(INDIRECT(\"'3.09.1a (7)'!f35\"))=TRUE,\"\",INDIRECT(\"'3.09.1a (7)'!f35\"))","v":""},{"$f":"IF(ISERROR(INDIRECT(\"'3.09.1a (7)'!g35\"))=TRUE,\"\",INDIRECT(\"'3.09.1a (7)'!g35\"))","v":""},{"$f":"IF(ISERROR(INDIRECT(\"'3.09.1a (7)'!h35\"))=TRUE,\"\",INDIRECT(\"'3.09.1a (7)'!h35\"))","v":""},{"$f":"IF(ISERROR(INDIRECT(\"'3.09.1a (7)'!i35\"))=TRUE,\"\",INDIRECT(\"'3.09.1a (7)'!i35\"))","v":""},{"$f":"IF(ISERROR(INDIRECT(\"'3.09.1a (7)'!j35\"))=TRUE,\"\",INDIRECT(\"'3.09.1a (7)'!j35\"))","v":""},{"$f":"IF(ISERROR(INDIRECT(\"'3.09.1a (7)'!o35\"))=TRUE,\"\",INDIRECT(\"'3.09.1a (7)'!o35\"))","v":""},{"$f":"IF(ISERROR(INDIRECT(\"'3.09.1a (7)'!p35\"))=TRUE,\"\",INDIRECT(\"'3.09.1a (7)'!p35\"))","v":""},{"$f":"IF(ISERROR(INDIRECT(\"'3.09.1a (7)'!q35\"))=TRUE,\"\",INDIRECT(\"'3.09.1a (7)'!q35\"))","v":""},{"$f":"IF(ISERROR(INDIRECT(\"'3.09.1a (7)'!s35\"))=TRUE,\"\",INDIRECT(\"'3.09.1a (7)'!s35\"))","v":""},{"$f":"IF(ISERROR(INDIRECT(\"'3.09.1a (7)'!t35\"))=TRUE,\"\",INDIRECT(\"'3.09.1a (7)'!t35\"))","v":""},{"$f":"IF(ISERROR(INDIRECT(\"'3.09.1a (7)'!u35\"))=TRUE,\"\",INDIRECT(\"'3.09.1a (7)'!u35\"))","v":""},{"$f":"IF(ISERROR(INDIRECT(\"'3.09.1a (7)'!v35\"))=TRUE,\"\",INDIRECT(\"'3.09.1a (7)'!v35\"))","v":""},{"$f":"IF(ISERROR(INDIRECT(\"'3.09.1a (7)'!w35\"))=TRUE,\"\",INDIRECT(\"'3.09.1a (7)'!w35\"))","v":""},{"$f":"IF(ISERROR(INDIRECT(\"'3.09.1a (7)'!x35\"))=TRUE,\"\",INDIRECT(\"'3.09.1a (7)'!x35\"))","v":""},{"$f":"IF(ISERROR(INDIRECT(\"'3.09.1a (7)'!aa35\"))=TRUE,\"\",INDIRECT(\"'3.09.1a (7)'!aa35\"))","v":""},{"$f":"IF(ISERROR(INDIRECT(\"'3.09.1a (7)'!ad35\"))=TRUE,\"\",INDIRECT(\"'3.09.1a (7)'!ad35\"))","v":""},{"$f":"IF(ISERROR(INDIRECT(\"'3.09.1a (7)'!ah35\"))=TRUE,\"\",INDIRECT(\"'3.09.1a (7)'!ah35\"))","v":""},{"$f":"IF(ISERROR(INDIRECT(\"'3.09.1a (7)'!am35\"))=TRUE,\"\",INDIRECT(\"'3.09.1a (7)'!am35\"))","v":""}]
[0,"3.09.1a (7)",{"$f":"IF(ISERROR(INDIRECT(\"'3.09.1a (7)'!b36\"))=TRUE,\"\",INDIRECT(\"'3.09.1a (7)'!b36\"))","v":""},{"$f":"IF(ISERROR(INDIRECT(\"'3.09.1a (7)'!c36\"))=TRUE,\"\",INDIRECT(\"'3.09.1a (7)'!c36\"))","v":""},{"$f":"IF(ISERROR(INDIRECT(\"'3.09.1a (7)'!d36\"))=TRUE,\"\",INDIRECT(\"'3.09.1a (7)'!d36\"))","v":""},{"$f":"IF(ISERROR(INDIRECT(\"'3.09.1a (7)'!e36\"))=TRUE,\"\",INDIRECT(\"'3.09.1a (7)'!e36\"))","v":""},{"$f":"IF(ISERROR(INDIRECT(\"'3.09.1a (7)'!f36\"))=TRUE,\"\",INDIRECT(\"'3.09.1a (7)'!f36\"))","v":""},{"$f":"IF(ISERROR(INDIRECT(\"'3.09.1a (7)'!g36\"))=TRUE,\"\",INDIRECT(\"'3.09.1a (7)'!g36\"))","v":""},{"$f":"IF(ISERROR(INDIRECT(\"'3.09.1a (7)'!h36\"))=TRUE,\"\",INDIRECT(\"'3.09.1a (7)'!h36\"))","v":""},{"$f":"IF(ISERROR(INDIRECT(\"'3.09.1a (7)'!i36\"))=TRUE,\"\",INDIRECT(\"'3.09.1a (7)'!i36\"))","v":""},{"$f":"IF(ISERROR(INDIRECT(\"'3.09.1a (7)'!j36\"))=TRUE,\"\",INDIRECT(\"'3.09.1a (7)'!j36\"))","v":""},{"$f":"IF(ISERROR(INDIRECT(\"'3.09.1a (7)'!o36\"))=TRUE,\"\",INDIRECT(\"'3.09.1a (7)'!o36\"))","v":""},{"$f":"IF(ISERROR(INDIRECT(\"'3.09.1a (7)'!p36\"))=TRUE,\"\",INDIRECT(\"'3.09.1a (7)'!p36\"))","v":""},{"$f":"IF(ISERROR(INDIRECT(\"'3.09.1a (7)'!q36\"))=TRUE,\"\",INDIRECT(\"'3.09.1a (7)'!q36\"))","v":""},{"$f":"IF(ISERROR(INDIRECT(\"'3.09.1a (7)'!s36\"))=TRUE,\"\",INDIRECT(\"'3.09.1a (7)'!s36\"))","v":""},{"$f":"IF(ISERROR(INDIRECT(\"'3.09.1a (7)'!t36\"))=TRUE,\"\",INDIRECT(\"'3.09.1a (7)'!t36\"))","v":""},{"$f":"IF(ISERROR(INDIRECT(\"'3.09.1a (7)'!u36\"))=TRUE,\"\",INDIRECT(\"'3.09.1a (7)'!u36\"))","v":""},{"$f":"IF(ISERROR(INDIRECT(\"'3.09.1a (7)'!v36\"))=TRUE,\"\",INDIRECT(\"'3.09.1a (7)'!v36\"))","v":""},{"$f":"IF(ISERROR(INDIRECT(\"'3.09.1a (7)'!w36\"))=TRUE,\"\",INDIRECT(\"'3.09.1a (7)'!w36\"))","v":""},{"$f":"IF(ISERROR(INDIRECT(\"'3.09.1a (7)'!x36\"))=TRUE,\"\",INDIRECT(\"'3.09.1a (7)'!x36\"))","v":""},{"$f":"IF(ISERROR(INDIRECT(\"'3.09.1a (7)'!aa36\"))=TRUE,\"\",INDIRECT(\"'3.09.1a (7)'!aa36\"))","v":""},{"$f":"IF(ISERROR(INDIRECT(\"'3.09.1a (7)'!ad36\"))=TRUE,\"\",INDIRECT(\"'3.09.1a (7)'!ad36\"))","v":""},{"$f":"IF(ISERROR(INDIRECT(\"'3.09.1a (7)'!ah36\"))=TRUE,\"\",INDIRECT(\"'3.09.1a (7)'!ah36\"))","v":""},{"$f":"IF(ISERROR(INDIRECT(\"'3.09.1a (7)'!am36\"))=TRUE,\"\",INDIRECT(\"'3.09.1a (7)'!am36\"))","v":""}]
[0,"3.09.1a (7)",{"$f":"IF(ISERROR(INDIRECT(\"'3.09.1a (7)'!b37\"))=TRUE,\"\",INDIRECT(\"'3.09.1a (7)'!b37\"))","v":""},{"$f":"IF(ISERROR(INDIRECT(\"'3.09.1a (7)'!c37\"))=TRUE,\"\",INDIRECT(\"'3.09.1a (7)'!c37\"))","v":""},{"$f":"IF(ISERROR(INDIRECT(\"'3.09.1a (7)'!d37\"))=TRUE,\"\",INDIRECT(\"'3.09.1a (7)'!d37\"))","v":""},{"$f":"IF(ISERROR(INDIRECT(\"'3.09.1a (7)'!e37\"))=TRUE,\"\",INDIRECT(\"'3.09.1a (7)'!e37\"))","v":""},{"$f":"IF(ISERROR(INDIRECT(\"'3.09.1a (7)'!f37\"))=TRUE,\"\",INDIRECT(\"'3.09.1a (7)'!f37\"))","v":""},{"$f":"IF(ISERROR(INDIRECT(\"'3.09.1a (7)'!g37\"))=TRUE,\"\",INDIRECT(\"'3.09.1a (7)'!g37\"))","v":""},{"$f":"IF(ISERROR(INDIRECT(\"'3.09.1a (7)'!h37\"))=TRUE,\"\",INDIRECT(\"'3.09.1a (7)'!h37\"))","v":""},{"$f":"IF(ISERROR(INDIRECT(\"'3.09.1a (7)'!i37\"))=TRUE,\"\",INDIRECT(\"'3.09.1a (7)'!i37\"))","v":""},{"$f":"IF(ISERROR(INDIRECT(\"'3.09.1a (7)'!j37\"))=TRUE,\"\",INDIRECT(\"'3.09.1a (7)'!j37\"))","v":""},{"$f":"IF(ISERROR(INDIRECT(\"'3.09.1a (7)'!o37\"))=TRUE,\"\",INDIRECT(\"'3.09.1a (7)'!o37\"))","v":""},{"$f":"IF(ISERROR(INDIRECT(\"'3.09.1a (7)'!p37\"))=TRUE,\"\",INDIRECT(\"'3.09.1a (7)'!p37\"))","v":""},{"$f":"IF(ISERROR(INDIRECT(\"'3.09.1a (7)'!q37\"))=TRUE,\"\",INDIRECT(\"'3.09.1a (7)'!q37\"))","v":""},{"$f":"IF(ISERROR(INDIRECT(\"'3.09.1a (7)'!s37\"))=TRUE,\"\",INDIRECT(\"'3.09.1a (7)'!s37\"))","v":""},{"$f":"IF(ISERROR(INDIRECT(\"'3.09.1a (7)'!t37\"))=TRUE,\"\",INDIRECT(\"'3.09.1a (7)'!t37\"))","v":""},{"$f":"IF(ISERROR(INDIRECT(\"'3.09.1a (7)'!u37\"))=TRUE,\"\",INDIRECT(\"'3.09.1a (7)'!u37\"))","v":""},{"$f":"IF(ISERROR(INDIRECT(\"'3.09.1a (7)'!v37\"))=TRUE,\"\",INDIRECT(\"'3.09.1a (7)'!v37\"))","v":""},{"$f":"IF(ISERROR(INDIRECT(\"'3.09.1a (7)'!w37\"))=TRUE,\"\",INDIRECT(\"'3.09.1a (7)'!w37\"))","v":""},{"$f":"IF(ISERROR(INDIRECT(\"'3.09.1a (7)'!x37\"))=TRUE,\"\",INDIRECT(\"'3.09.1a (7)'!x37\"))","v":""},{"$f":"IF(ISERROR(INDIRECT(\"'3.09.1a (7)'!aa37\"))=TRUE,\"\",INDIRECT(\"'3.09.1a (7)'!aa37\"))","v":""},{"$f":"IF(ISERROR(INDIRECT(\"'3.09.1a (7)'!ad37\"))=TRUE,\"\",INDIRECT(\"'3.09.1a (7)'!ad37\"))","v":""},{"$f":"IF(ISERROR(INDIRECT(\"'3.09.1a (7)'!ah37\"))=TRUE,\"\",INDIRECT(\"'3.09.1a (7)'!ah37\"))","v":""},{"$f":"IF(ISERROR(INDIRECT(\"'3.09.1a (7)'!am37\"))=TRUE,\"\",INDIRECT(\"'3.09.1a (7)'!am37\"))","v":""}]
[0,"3.09.1a (7)",{"$f":"IF(ISERROR(INDIRECT(\"'3.09.1a (7)'!b38\"))=TRUE,\"\",INDIRECT(\"'3.09.1a (7)'!b38\"))","v":""},{"$f":"IF(ISERROR(INDIRECT(\"'3.09.1a (7)'!c38\"))=TRUE,\"\",INDIRECT(\"'3.09.1a (7)'!c38\"))","v":""},{"$f":"IF(ISERROR(INDIRECT(\"'3.09.1a (7)'!d38\"))=TRUE,\"\",INDIRECT(\"'3.09.1a (7)'!d38\"))","v":""},{"$f":"IF(ISERROR(INDIRECT(\"'3.09.1a (7)'!e38\"))=TRUE,\"\",INDIRECT(\"'3.09.1a (7)'!e38\"))","v":""},{"$f":"IF(ISERROR(INDIRECT(\"'3.09.1a (7)'!f38\"))=TRUE,\"\",INDIRECT(\"'3.09.1a (7)'!f38\"))","v":""},{"$f":"IF(ISERROR(INDIRECT(\"'3.09.1a (7)'!g38\"))=TRUE,\"\",INDIRECT(\"'3.09.1a (7)'!g38\"))","v":""},{"$f":"IF(ISERROR(INDIRECT(\"'3.09.1a (7)'!h38\"))=TRUE,\"\",INDIRECT(\"'3.09.1a (7)'!h38\"))","v":""},{"$f":"IF(ISERROR(INDIRECT(\"'3.09.1a (7)'!i38\"))=TRUE,\"\",INDIRECT(\"'3.09.1a (7)'!i38\"))","v":""},{"$f":"IF(ISERROR(INDIRECT(\"'3.09.1a (7)'!j38\"))=TRUE,\"\",INDIRECT(\"'3.09.1a (7)'!j38\"))","v":""},{"$f":"IF(ISERROR(INDIRECT(\"'3.09.1a (7)'!o38\"))=TRUE,\"\",INDIRECT(\"'3.09.1a (7)'!o38\"))","v":""},{"$f":"IF(ISERROR(INDIRECT(\"'3.09.1a (7)'!p38\"))=TRUE,\"\",INDIRECT(\"'3.09.1a (7)'!p38\"))","v":""},{"$f":"IF(ISERROR(INDIRECT(\"'3.09.1a (7)'!q38\"))=TRUE,\"\",INDIRECT(\"'3.09.1a (7)'!q38\"))","v":""},{"$f":"IF(ISERROR(INDIRECT(\"'3.09.1a (7)'!s38\"))=TRUE,\"\",INDIRECT(\"'3.09.1a (7)'!s38\"))","v":""},{"$f":"IF(ISERROR(INDIRECT(\"'3.09.1a (7)'!t38\"))=TRUE,\"\",INDIRECT(\"'3.09.1a (7)'!t38\"))","v":""},{"$f":"IF(ISERROR(INDIRECT(\"'3.09.1a (7)'!u38\"))=TRUE,\"\",INDIRECT(\"'3.09.1a (7)'!u38\"))","v":""},{"$f":"IF(ISERROR(INDIRECT(\"'3.09.1a (7)'!v38\"))=TRUE,\"\",INDIRECT(\"'3.09.1a (7)'!v38\"))","v":""},{"$f":"IF(ISERROR(INDIRECT(\"'3.09.1a (7)'!w38\"))=TRUE,\"\",INDIRECT(\"'3.09.1a (7)'!w38\"))","v":""},{"$f":"IF(ISERROR(INDIRECT(\"'3.09.1a (7)'!x38\"))=TRUE,\"\",INDIRECT(\"'3.09.1a (7)'!x38\"))","v":""},{"$f":"IF(ISERROR(INDIRECT(\"'3.09.1a (7)'!aa38\"))=TRUE,\"\",INDIRECT(\"'3.09.1a (7)'!aa38\"))","v":""},{"$f":"IF(ISERROR(INDIRECT(\"'3.09.1a (7)'!ad38\"))=TRUE,\"\",INDIRECT(\"'3.09.1a (7)'!ad38\"))","v":""},{"$f":"IF(ISERROR(INDIRECT(\"'3.09.1a (7)'!ah38\"))=TRUE,\"\",INDIRECT(\"'3.09.1a (7)'!ah38\"))","v":""},{"$f":"IF(ISERROR(INDIRECT(\"'3.09.1a (7)'!am38\"))=TRUE,\"\",INDIRECT(\"'3.09.1a (7)'!am38\"))","v":""}]
[0,"3.09.1a (7)",{"$f":"IF(ISERROR(INDIRECT(\"'3.09.1a (7)'!b39\"))=TRUE,\"\",INDIRECT(\"'3.09.1a (7)'!b39\"))","v":""},{"$f":"IF(ISERROR(INDIRECT(\"'3.09.1a (7)'!c39\"))=TRUE,\"\",INDIRECT(\"'3.09.1a (7)'!c39\"))","v":""},{"$f":"IF(ISERROR(INDIRECT(\"'3.09.1a (7)'!d39\"))=TRUE,\"\",INDIRECT(\"'3.09.1a (7)'!d39\"))","v":""},{"$f":"IF(ISERROR(INDIRECT(\"'3.09.1a (7)'!e39\"))=TRUE,\"\",INDIRECT(\"'3.09.1a (7)'!e39\"))","v":""},{"$f":"IF(ISERROR(INDIRECT(\"'3.09.1a (7)'!f39\"))=TRUE,\"\",INDIRECT(\"'3.09.1a (7)'!f39\"))","v":""},{"$f":"IF(ISERROR(INDIRECT(\"'3.09.1a (7)'!g39\"))=TRUE,\"\",INDIRECT(\"'3.09.1a (7)'!g39\"))","v":""},{"$f":"IF(ISERROR(INDIRECT(\"'3.09.1a (7)'!h39\"))=TRUE,\"\",INDIRECT(\"'3.09.1a (7)'!h39\"))","v":""},{"$f":"IF(ISERROR(INDIRECT(\"'3.09.1a (7)'!i39\"))=TRUE,\"\",INDIRECT(\"'3.09.1a (7)'!i39\"))","v":""},{"$f":"IF(ISERROR(INDIRECT(\"'3.09.1a (7)'!j39\"))=TRUE,\"\",INDIRECT(\"'3.09.1a (7)'!j39\"))","v":""},{"$f":"IF(ISERROR(INDIRECT(\"'3.09.1a (7)'!o39\"))=TRUE,\"\",INDIRECT(\"'3.09.1a (7)'!o39\"))","v":""},{"$f":"IF(ISERROR(INDIRECT(\"'3.09.1a (7)'!p39\"))=TRUE,\"\",INDIRECT(\"'3.09.1a (7)'!p39\"))","v":""},{"$f":"IF(ISERROR(INDIRECT(\"'3.09.1a (7)'!q39\"))=TRUE,\"\",INDIRECT(\"'3.09.1a (7)'!q39\"))","v":""},{"$f":"IF(ISERROR(INDIRECT(\"'3.09.1a (7)'!s39\"))=TRUE,\"\",INDIRECT(\"'3.09.1a (7)'!s39\"))","v":""},{"$f":"IF(ISERROR(INDIRECT(\"'3.09.1a (7)'!t39\"))=TRUE,\"\",INDIRECT(\"'3.09.1a (7)'!t39\"))","v":""},{"$f":"IF(ISERROR(INDIRECT(\"'3.09.1a (7)'!u39\"))=TRUE,\"\",INDIRECT(\"'3.09.1a (7)'!u39\"))","v":""},{"$f":"IF(ISERROR(INDIRECT(\"'3.09.1a (7)'!v39\"))=TRUE,\"\",INDIRECT(\"'3.09.1a (7)'!v39\"))","v":""},{"$f":"IF(ISERROR(INDIRECT(\"'3.09.1a (7)'!w39\"))=TRUE,\"\",INDIRECT(\"'3.09.1a (7)'!w39\"))","v":""},{"$f":"IF(ISERROR(INDIRECT(\"'3.09.1a (7)'!x39\"))=TRUE,\"\",INDIRECT(\"'3.09.1a (7)'!x39\"))","v":""},{"$f":"IF(ISERROR(INDIRECT(\"'3.09.1a (7)'!aa39\"))=TRUE,\"\",INDIRECT(\"'3.09.1a (7)'!aa39\"))","v":""},{"$f":"IF(ISERROR(INDIRECT(\"'3.09.1a (7)'!ad39\"))=TRUE,\"\",INDIRECT(\"'3.09.1a (7)'!ad39\"))","v":""},{"$f":"IF(ISERROR(INDIRECT(\"'3.09.1a (7)'!ah39\"))=TRUE,\"\",INDIRECT(\"'3.09.1a (7)'!ah39\"))","v":""},{"$f":"IF(ISERROR(INDIRECT(\"'3.09.1a (7)'!am39\"))=TRUE,\"\",INDIRECT(\"'3.09.1a (7)'!am39\"))","v":""}]
[0,"3.09.1a (7)",{"$f":"IF(ISERROR(INDIRECT(\"'3.09.1a (7)'!b40\"))=TRUE,\"\",INDIRECT(\"'3.09.1a (7)'!b40\"))","v":""},{"$f":"IF(ISERROR(INDIRECT(\"'3.09.1a (7)'!c40\"))=TRUE,\"\",INDIRECT(\"'3.09.1a (7)'!c40\"))","v":""},{"$f":"IF(ISERROR(INDIRECT(\"'3.09.1a (7)'!d40\"))=TRUE,\"\",INDIRECT(\"'3.09.1a (7)'!d40\"))","v":""},{"$f":"IF(ISERROR(INDIRECT(\"'3.09.1a (7)'!e40\"))=TRUE,\"\",INDIRECT(\"'3.09.1a (7)'!e40\"))","v":""},{"$f":"IF(ISERROR(INDIRECT(\"'3.09.1a (7)'!f40\"))=TRUE,\"\",INDIRECT(\"'3.09.1a (7)'!f40\"))","v":""},{"$f":"IF(ISERROR(INDIRECT(\"'3.09.1a (7)'!g40\"))=TRUE,\"\",INDIRECT(\"'3.09.1a (7)'!g40\"))","v":""},{"$f":"IF(ISERROR(INDIRECT(\"'3.09.1a (7)'!h40\"))=TRUE,\"\",INDIRECT(\"'3.09.1a (7)'!h40\"))","v":""},{"$f":"IF(ISERROR(INDIRECT(\"'3.09.1a (7)'!i40\"))=TRUE,\"\",INDIRECT(\"'3.09.1a (7)'!i40\"))","v":""},{"$f":"IF(ISERROR(INDIRECT(\"'3.09.1a (7)'!j40\"))=TRUE,\"\",INDIRECT(\"'3.09.1a (7)'!j40\"))","v":""},{"$f":"IF(ISERROR(INDIRECT(\"'3.09.1a (7)'!o40\"))=TRUE,\"\",INDIRECT(\"'3.09.1a (7)'!o40\"))","v":""},{"$f":"IF(ISERROR(INDIRECT(\"'3.09.1a (7)'!p40\"))=TRUE,\"\",INDIRECT(\"'3.09.1a (7)'!p40\"))","v":""},{"$f":"IF(ISERROR(INDIRECT(\"'3.09.1a (7)'!q40\"))=TRUE,\"\",INDIRECT(\"'3.09.1a (7)'!q40\"))","v":""},{"$f":"IF(ISERROR(INDIRECT(\"'3.09.1a (7)'!s40\"))=TRUE,\"\",INDIRECT(\"'3.09.1a (7)'!s40\"))","v":""},{"$f":"IF(ISERROR(INDIRECT(\"'3.09.1a (7)'!t40\"))=TRUE,\"\",INDIRECT(\"'3.09.1a (7)'!t40\"))","v":""},{"$f":"IF(ISERROR(INDIRECT(\"'3.09.1a (7)'!u40\"))=TRUE,\"\",INDIRECT(\"'3.09.1a (7)'!u40\"))","v":""},{"$f":"IF(ISERROR(INDIRECT(\"'3.09.1a (7)'!v40\"))=TRUE,\"\",INDIRECT(\"'3.09.1a (7)'!v40\"))","v":""},{"$f":"IF(ISERROR(INDIRECT(\"'3.09.1a (7)'!w40\"))=TRUE,\"\",INDIRECT(\"'3.09.1a (7)'!w40\"))","v":""},{"$f":"IF(ISERROR(INDIRECT(\"'3.09.1a (7)'!x40\"))=TRUE,\"\",INDIRECT(\"'3.09.1a (7)'!x40\"))","v":""},{"$f":"IF(ISERROR(INDIRECT(\"'3.09.1a (7)'!aa40\"))=TRUE,\"\",INDIRECT(\"'3.09.1a (7)'!aa40\"))","v":""},{"$f":"IF(ISERROR(INDIRECT(\"'3.09.1a (7)'!ad40\"))=TRUE,\"\",INDIRECT(\"'3.09.1a (7)'!ad40\"))","v":""},{"$f":"IF(ISERROR(INDIRECT(\"'3.09.1a (7)'!ah40\"))=TRUE,\"\",INDIRECT(\"'3.09.1a (7)'!ah40\"))","v":""},{"$f":"IF(ISERROR(INDIRECT(\"'3.09.1a (7)'!am40\"))=TRUE,\"\",INDIRECT(\"'3.09.1a (7)'!am40\"))","v":""}]
[0,"3.09.1a (7)",{"$f":"IF(ISERROR(INDIRECT(\"'3.09.1a (7)'!b41\"))=TRUE,\"\",INDIRECT(\"'3.09.1a (7)'!b41\"))","v":""},{"$f":"IF(ISERROR(INDIRECT(\"'3.09.1a (7)'!c41\"))=TRUE,\"\",INDIRECT(\"'3.09.1a (7)'!c41\"))","v":""},{"$f":"IF(ISERROR(INDIRECT(\"'3.09.1a (7)'!d41\"))=TRUE,\"\",INDIRECT(\"'3.09.1a (7)'!d41\"))","v":""},{"$f":"IF(ISERROR(INDIRECT(\"'3.09.1a (7)'!e41\"))=TRUE,\"\",INDIRECT(\"'3.09.1a (7)'!e41\"))","v":""},{"$f":"IF(ISERROR(INDIRECT(\"'3.09.1a (7)'!f41\"))=TRUE,\"\",INDIRECT(\"'3.09.1a (7)'!f41\"))","v":""},{"$f":"IF(ISERROR(INDIRECT(\"'3.09.1a (7)'!g41\"))=TRUE,\"\",INDIRECT(\"'3.09.1a (7)'!g41\"))","v":""},{"$f":"IF(ISERROR(INDIRECT(\"'3.09.1a (7)'!h41\"))=TRUE,\"\",INDIRECT(\"'3.09.1a (7)'!h41\"))","v":""},{"$f":"IF(ISERROR(INDIRECT(\"'3.09.1a (7)'!i41\"))=TRUE,\"\",INDIRECT(\"'3.09.1a (7)'!i41\"))","v":""},{"$f":"IF(ISERROR(INDIRECT(\"'3.09.1a (7)'!j41\"))=TRUE,\"\",INDIRECT(\"'3.09.1a (7)'!j41\"))","v":""},{"$f":"IF(ISERROR(INDIRECT(\"'3.09.1a (7)'!o41\"))=TRUE,\"\",INDIRECT(\"'3.09.1a (7)'!o41\"))","v":""},{"$f":"IF(ISERROR(INDIRECT(\"'3.09.1a (7)'!p41\"))=TRUE,\"\",INDIRECT(\"'3.09.1a (7)'!p41\"))","v":""},{"$f":"IF(ISERROR(INDIRECT(\"'3.09.1a (7)'!q41\"))=TRUE,\"\",INDIRECT(\"'3.09.1a (7)'!q41\"))","v":""},{"$f":"IF(ISERROR(INDIRECT(\"'3.09.1a (7)'!s41\"))=TRUE,\"\",INDIRECT(\"'3.09.1a (7)'!s41\"))","v":""},{"$f":"IF(ISERROR(INDIRECT(\"'3.09.1a (7)'!t41\"))=TRUE,\"\",INDIRECT(\"'3.09.1a (7)'!t41\"))","v":""},{"$f":"IF(ISERROR(INDIRECT(\"'3.09.1a (7)'!u41\"))=TRUE,\"\",INDIRECT(\"'3.09.1a (7)'!u41\"))","v":""},{"$f":"IF(ISERROR(INDIRECT(\"'3.09.1a (7)'!v41\"))=TRUE,\"\",INDIRECT(\"'3.09.1a (7)'!v41\"))","v":""},{"$f":"IF(ISERROR(INDIRECT(\"'3.09.1a (7)'!w41\"))=TRUE,\"\",INDIRECT(\"'3.09.1a (7)'!w41\"))","v":""},{"$f":"IF(ISERROR(INDIRECT(\"'3.09.1a (7)'!x41\"))=TRUE,\"\",INDIRECT(\"'3.09.1a (7)'!x41\"))","v":""},{"$f":"IF(ISERROR(INDIRECT(\"'3.09.1a (7)'!aa41\"))=TRUE,\"\",INDIRECT(\"'3.09.1a (7)'!aa41\"))","v":""},{"$f":"IF(ISERROR(INDIRECT(\"'3.09.1a (7)'!ad41\"))=TRUE,\"\",INDIRECT(\"'3.09.1a (7)'!ad41\"))","v":""},{"$f":"IF(ISERROR(INDIRECT(\"'3.09.1a (7)'!ah41\"))=TRUE,\"\",INDIRECT(\"'3.09.1a (7)'!ah41\"))","v":""},{"$f":"IF(ISERROR(INDIRECT(\"'3.09.1a (7)'!am41\"))=TRUE,\"\",INDIRECT(\"'3.09.1a (7)'!am41\"))","v":""}]
[0,"3.09.1a (7)",{"$f":"IF(ISERROR(INDIRECT(\"'3.09.1a (7)'!b42\"))=TRUE,\"\",INDIRECT(\"'3.09.1a (7)'!b42\"))","v":""},{"$f":"IF(ISERROR(INDIRECT(\"'3.09.1a (7)'!c42\"))=TRUE,\"\",INDIRECT(\"'3.09.1a (7)'!c42\"))","v":""},{"$f":"IF(ISERROR(INDIRECT(\"'3.09.1a (7)'!d42\"))=TRUE,\"\",INDIRECT(\"'3.09.1a (7)'!d42\"))","v":""},{"$f":"IF(ISERROR(INDIRECT(\"'3.09.1a (7)'!e42\"))=TRUE,\"\",INDIRECT(\"'3.09.1a (7)'!e42\"))","v":""},{"$f":"IF(ISERROR(INDIRECT(\"'3.09.1a (7)'!f42\"))=TRUE,\"\",INDIRECT(\"'3.09.1a (7)'!f42\"))","v":""},{"$f":"IF(ISERROR(INDIRECT(\"'3.09.1a (7)'!g42\"))=TRUE,\"\",INDIRECT(\"'3.09.1a (7)'!g42\"))","v":""},{"$f":"IF(ISERROR(INDIRECT(\"'3.09.1a (7)'!h42\"))=TRUE,\"\",INDIRECT(\"'3.09.1a (7)'!h42\"))","v":""},{"$f":"IF(ISERROR(INDIRECT(\"'3.09.1a (7)'!i42\"))=TRUE,\"\",INDIRECT(\"'3.09.1a (7)'!i42\"))","v":""},{"$f":"IF(ISERROR(INDIRECT(\"'3.09.1a (7)'!j42\"))=TRUE,\"\",INDIRECT(\"'3.09.1a (7)'!j42\"))","v":""},{"$f":"IF(ISERROR(INDIRECT(\"'3.09.1a (7)'!o42\"))=TRUE,\"\",INDIRECT(\"'3.09.1a (7)'!o42\"))","v":""},{"$f":"IF(ISERROR(INDIRECT(\"'3.09.1a (7)'!p42\"))=TRUE,\"\",INDIRECT(\"'3.09.1a (7)'!p42\"))","v":""},{"$f":"IF(ISERROR(INDIRECT(\"'3.09.1a (7)'!q42\"))=TRUE,\"\",INDIRECT(\"'3.09.1a (7)'!q42\"))","v":""},{"$f":"IF(ISERROR(INDIRECT(\"'3.09.1a (7)'!s42\"))=TRUE,\"\",INDIRECT(\"'3.09.1a (7)'!s42\"))","v":""},{"$f":"IF(ISERROR(INDIRECT(\"'3.09.1a (7)'!t42\"))=TRUE,\"\",INDIRECT(\"'3.09.1a (7)'!t42\"))","v":""},{"$f":"IF(ISERROR(INDIRECT(\"'3.09.1a (7)'!u42\"))=TRUE,\"\",INDIRECT(\"'3.09.1a (7)'!u42\"))","v":""},{"$f":"IF(ISERROR(INDIRECT(\"'3.09.1a (7)'!v42\"))=TRUE,\"\",INDIRECT(\"'3.09.1a (7)'!v42\"))","v":""},{"$f":"IF(ISERROR(INDIRECT(\"'3.09.1a (7)'!w42\"))=TRUE,\"\",INDIRECT(\"'3.09.1a (7)'!w42\"))","v":""},{"$f":"IF(ISERROR(INDIRECT(\"'3.09.1a (7)'!x42\"))=TRUE,\"\",INDIRECT(\"'3.09.1a (7)'!x42\"))","v":""},{"$f":"IF(ISERROR(INDIRECT(\"'3.09.1a (7)'!aa42\"))=TRUE,\"\",INDIRECT(\"'3.09.1a (7)'!aa42\"))","v":""},{"$f":"IF(ISERROR(INDIRECT(\"'3.09.1a (7)'!ad42\"))=TRUE,\"\",INDIRECT(\"'3.09.1a (7)'!ad42\"))","v":""},{"$f":"IF(ISERROR(INDIRECT(\"'3.09.1a (7)'!ah42\"))=TRUE,\"\",INDIRECT(\"'3.09.1a (7)'!ah42\"))","v":""},{"$f":"IF(ISERROR(INDIRECT(\"'3.09.1a (7)'!am42\"))=TRUE,\"\",INDIRECT(\"'3.09.1a (7)'!am42\"))","v":""}]
[0,"3.09.1a (7)",{"$f":"IF(ISERROR(INDIRECT(\"'3.09.1a (7)'!b43\"))=TRUE,\"\",INDIRECT(\"'3.09.1a (7)'!b43\"))","v":""},{"$f":"IF(ISERROR(INDIRECT(\"'3.09.1a (7)'!c43\"))=TRUE,\"\",INDIRECT(\"'3.09.1a (7)'!c43\"))","v":""},{"$f":"IF(ISERROR(INDIRECT(\"'3.09.1a (7)'!d43\"))=TRUE,\"\",INDIRECT(\"'3.09.1a (7)'!d43\"))","v":""},{"$f":"IF(ISERROR(INDIRECT(\"'3.09.1a (7)'!e43\"))=TRUE,\"\",INDIRECT(\"'3.09.1a (7)'!e43\"))","v":""},{"$f":"IF(ISERROR(INDIRECT(\"'3.09.1a (7)'!f43\"))=TRUE,\"\",INDIRECT(\"'3.09.1a (7)'!f43\"))","v":""},{"$f":"IF(ISERROR(INDIRECT(\"'3.09.1a (7)'!g43\"))=TRUE,\"\",INDIRECT(\"'3.09.1a (7)'!g43\"))","v":""},{"$f":"IF(ISERROR(INDIRECT(\"'3.09.1a (7)'!h43\"))=TRUE,\"\",INDIRECT(\"'3.09.1a (7)'!h43\"))","v":""},{"$f":"IF(ISERROR(INDIRECT(\"'3.09.1a (7)'!i43\"))=TRUE,\"\",INDIRECT(\"'3.09.1a (7)'!i43\"))","v":""},{"$f":"IF(ISERROR(INDIRECT(\"'3.09.1a (7)'!j43\"))=TRUE,\"\",INDIRECT(\"'3.09.1a (7)'!j43\"))","v":""},{"$f":"IF(ISERROR(INDIRECT(\"'3.09.1a (7)'!o43\"))=TRUE,\"\",INDIRECT(\"'3.09.1a (7)'!o43\"))","v":""},{"$f":"IF(ISERROR(INDIRECT(\"'3.09.1a (7)'!p43\"))=TRUE,\"\",INDIRECT(\"'3.09.1a (7)'!p43\"))","v":""},{"$f":"IF(ISERROR(INDIRECT(\"'3.09.1a (7)'!q43\"))=TRUE,\"\",INDIRECT(\"'3.09.1a (7)'!q43\"))","v":""},{"$f":"IF(ISERROR(INDIRECT(\"'3.09.1a (7)'!s43\"))=TRUE,\"\",INDIRECT(\"'3.09.1a (7)'!s43\"))","v":""},{"$f":"IF(ISERROR(INDIRECT(\"'3.09.1a (7)'!t43\"))=TRUE,\"\",INDIRECT(\"'3.09.1a (7)'!t43\"))","v":""},{"$f":"IF(ISERROR(INDIRECT(\"'3.09.1a (7)'!u43\"))=TRUE,\"\",INDIRECT(\"'3.09.1a (7)'!u43\"))","v":""},{"$f":"IF(ISERROR(INDIRECT(\"'3.09.1a (7)'!v43\"))=TRUE,\"\",INDIRECT(\"'3.09.1a (7)'!v43\"))","v":""},{"$f":"IF(ISERROR(INDIRECT(\"'3.09.1a (7)'!w43\"))=TRUE,\"\",INDIRECT(\"'3.09.1a (7)'!w43\"))","v":""},{"$f":"IF(ISERROR(INDIRECT(\"'3.09.1a (7)'!x43\"))=TRUE,\"\",INDIRECT(\"'3.09.1a (7)'!x43\"))","v":""},{"$f":"IF(ISERROR(INDIRECT(\"'3.09.1a (7)'!aa43\"))=TRUE,\"\",INDIRECT(\"'3.09.1a (7)'!aa43\"))","v":""},{"$f":"IF(ISERROR(INDIRECT(\"'3.09.1a (7)'!ad43\"))=TRUE,\"\",INDIRECT(\"'3.09.1a (7)'!ad43\"))","v":""},{"$f":"IF(ISERROR(INDIRECT(\"'3.09.1a (7)'!ah43\"))=TRUE,\"\",INDIRECT(\"'3.09.1a (7)'!ah43\"))","v":""},{"$f":"IF(ISERROR(INDIRECT(\"'3.09.1a (7)'!am43\"))=TRUE,\"\",INDIRECT(\"'3.09.1a (7)'!am43\"))","v":""}]
[{"$f":"AgencyCode","v":0},"3.09.1a (8)",{"$f":"IF(ISERROR(INDIRECT(\"'3.09.1a (8)'!b19\"))=TRUE,\"\",INDIRECT(\"'3.09.1a (8)'!b19\"))","v":""},{"$f":"IF(ISERROR(INDIRECT(\"'3.09.1a (8)'!c19\"))=TRUE,\"\",INDIRECT(\"'3.09.1a (8)'!c19\"))","v":""},{"$f":"IF(ISERROR(INDIRECT(\"'3.09.1a (8)'!D19\"))=TRUE,\"\",INDIRECT(\"'3.09.1a (8)'!D19\"))","v":""},{"$f":"IF(ISERROR(INDIRECT(\"'3.09.1a (8)'!e19\"))=TRUE,\"\",INDIRECT(\"'3.09.1a (8)'!e19\"))","v":""},{"$f":"IF(ISERROR(INDIRECT(\"'3.09.1a (8)'!f19\"))=TRUE,\"\",INDIRECT(\"'3.09.1a (8)'!f19\"))","v":""},{"$f":"IF(ISERROR(INDIRECT(\"'3.09.1a (8)'!g19\"))=TRUE,\"\",INDIRECT(\"'3.09.1a (8)'!g19\"))","v":""},{"$f":"IF(ISERROR(INDIRECT(\"'3.09.1a (8)'!h19\"))=TRUE,\"\",INDIRECT(\"'3.09.1a (8)'!h19\"))","v":""},{"$f":"IF(ISERROR(INDIRECT(\"'3.09.1a (8)'!i19\"))=TRUE,\"\",INDIRECT(\"'3.09.1a (8)'!i19\"))","v":""},{"$f":"IF(ISERROR(INDIRECT(\"'3.09.1a (8)'!j19\"))=TRUE,\"\",INDIRECT(\"'3.09.1a (8)'!j19\"))","v":""},{"$f":"IF(ISERROR(INDIRECT(\"'3.09.1a (8)'!o19\"))=TRUE,\"\",INDIRECT(\"'3.09.1a (8)'!o19\"))","v":""},{"$f":"IF(ISERROR(INDIRECT(\"'3.09.1a (8)'!p19\"))=TRUE,\"\",INDIRECT(\"'3.09.1a (8)'!p19\"))","v":""},{"$f":"IF(ISERROR(INDIRECT(\"'3.09.1a (8)'!q19\"))=TRUE,\"\",INDIRECT(\"'3.09.1a (8)'!q19\"))","v":""},{"$f":"IF(ISERROR(INDIRECT(\"'3.09.1a (8)'!s19\"))=TRUE,\"\",INDIRECT(\"'3.09.1a (8)'!s19\"))","v":""},{"$f":"IF(ISERROR(INDIRECT(\"'3.09.1a (8)'!t19\"))=TRUE,\"\",INDIRECT(\"'3.09.1a (8)'!t19\"))","v":""},{"$f":"IF(ISERROR(INDIRECT(\"'3.09.1a (8)'!u19\"))=TRUE,\"\",INDIRECT(\"'3.09.1a (8)'!u19\"))","v":""},{"$f":"IF(ISERROR(INDIRECT(\"'3.09.1a (8)'!v19\"))=TRUE,\"\",INDIRECT(\"'3.09.1a (8)'!v19\"))","v":""},{"$f":"IF(ISERROR(INDIRECT(\"'3.09.1a (8)'!w19\"))=TRUE,\"\",INDIRECT(\"'3.09.1a (8)'!w19\"))","v":""},{"$f":"IF(ISERROR(INDIRECT(\"'3.09.1a (8)'!x19\"))=TRUE,\"\",INDIRECT(\"'3.09.1a (8)'!x19\"))","v":""},{"$f":"IF(ISERROR(INDIRECT(\"'3.09.1a (8)'!aa19\"))=TRUE,\"\",INDIRECT(\"'3.09.1a (8)'!aa19\"))","v":""},{"$f":"IF(ISERROR(INDIRECT(\"'3.09.1a (8)'!ad19\"))=TRUE,\"\",INDIRECT(\"'3.09.1a (8)'!ad19\"))","v":""},{"$f":"IF(ISERROR(INDIRECT(\"'3.09.1a (8)'!ah19\"))=TRUE,\"\",INDIRECT(\"'3.09.1a (8)'!ah19\"))","v":""},{"$f":"IF(ISERROR(INDIRECT(\"'3.09.1a (8)'!am19\"))=TRUE,\"\",INDIRECT(\"'3.09.1a (8)'!am19\"))","v":""}]
[0,"3.09.1a (8)",{"$f":"IF(ISERROR(INDIRECT(\"'3.09.1a (8)'!b20\"))=TRUE,\"\",INDIRECT(\"'3.09.1a (8)'!b20\"))","v":""},{"$f":"IF(ISERROR(INDIRECT(\"'3.09.1a (8)'!c20\"))=TRUE,\"\",INDIRECT(\"'3.09.1a (8)'!c20\"))","v":""},{"$f":"IF(ISERROR(INDIRECT(\"'3.09.1a (8)'!d20\"))=TRUE,\"\",INDIRECT(\"'3.09.1a (8)'!d20\"))","v":""},{"$f":"IF(ISERROR(INDIRECT(\"'3.09.1a (8)'!e20\"))=TRUE,\"\",INDIRECT(\"'3.09.1a (8)'!e20\"))","v":""},{"$f":"IF(ISERROR(INDIRECT(\"'3.09.1a (8)'!f20\"))=TRUE,\"\",INDIRECT(\"'3.09.1a (8)'!f20\"))","v":""},{"$f":"IF(ISERROR(INDIRECT(\"'3.09.1a (8)'!g20\"))=TRUE,\"\",INDIRECT(\"'3.09.1a (8)'!g20\"))","v":""},{"$f":"IF(ISERROR(INDIRECT(\"'3.09.1a (8)'!h20\"))=TRUE,\"\",INDIRECT(\"'3.09.1a (8)'!h20\"))","v":""},{"$f":"IF(ISERROR(INDIRECT(\"'3.09.1a (8)'!i20\"))=TRUE,\"\",INDIRECT(\"'3.09.1a (8)'!i20\"))","v":""},{"$f":"IF(ISERROR(INDIRECT(\"'3.09.1a (8)'!j20\"))=TRUE,\"\",INDIRECT(\"'3.09.1a (8)'!j20\"))","v":""},{"$f":"IF(ISERROR(INDIRECT(\"'3.09.1a (8)'!o20\"))=TRUE,\"\",INDIRECT(\"'3.09.1a (8)'!o20\"))","v":""},{"$f":"IF(ISERROR(INDIRECT(\"'3.09.1a (8)'!p20\"))=TRUE,\"\",INDIRECT(\"'3.09.1a (8)'!p20\"))","v":""},{"$f":"IF(ISERROR(INDIRECT(\"'3.09.1a (8)'!q20\"))=TRUE,\"\",INDIRECT(\"'3.09.1a (8)'!q20\"))","v":""},{"$f":"IF(ISERROR(INDIRECT(\"'3.09.1a (8)'!s20\"))=TRUE,\"\",INDIRECT(\"'3.09.1a (8)'!s20\"))","v":""},{"$f":"IF(ISERROR(INDIRECT(\"'3.09.1a (8)'!t20\"))=TRUE,\"\",INDIRECT(\"'3.09.1a (8)'!t20\"))","v":""},{"$f":"IF(ISERROR(INDIRECT(\"'3.09.1a (8)'!u20\"))=TRUE,\"\",INDIRECT(\"'3.09.1a (8)'!u20\"))","v":""},{"$f":"IF(ISERROR(INDIRECT(\"'3.09.1a (8)'!v20\"))=TRUE,\"\",INDIRECT(\"'3.09.1a (8)'!v20\"))","v":""},{"$f":"IF(ISERROR(INDIRECT(\"'3.09.1a (8)'!w20\"))=TRUE,\"\",INDIRECT(\"'3.09.1a (8)'!w20\"))","v":""},{"$f":"IF(ISERROR(INDIRECT(\"'3.09.1a (8)'!x20\"))=TRUE,\"\",INDIRECT(\"'3.09.1a (8)'!x20\"))","v":""},{"$f":"IF(ISERROR(INDIRECT(\"'3.09.1a (8)'!aa20\"))=TRUE,\"\",INDIRECT(\"'3.09.1a (8)'!aa20\"))","v":""},{"$f":"IF(ISERROR(INDIRECT(\"'3.09.1a (8)'!ad20\"))=TRUE,\"\",INDIRECT(\"'3.09.1a (8)'!ad20\"))","v":""},{"$f":"IF(ISERROR(INDIRECT(\"'3.09.1a (8)'!ah20\"))=TRUE,\"\",INDIRECT(\"'3.09.1a (8)'!ah20\"))","v":""},{"$f":"IF(ISERROR(INDIRECT(\"'3.09.1a (8)'!am20\"))=TRUE,\"\",INDIRECT(\"'3.09.1a (8)'!am20\"))","v":""}]
[0,"3.09.1a (8)",{"$f":"IF(ISERROR(INDIRECT(\"'3.09.1a (8)'!b21\"))=TRUE,\"\",INDIRECT(\"'3.09.1a (8)'!b21\"))","v":""},{"$f":"IF(ISERROR(INDIRECT(\"'3.09.1a (8)'!c21\"))=TRUE,\"\",INDIRECT(\"'3.09.1a (8)'!c21\"))","v":""},{"$f":"IF(ISERROR(INDIRECT(\"'3.09.1a (8)'!d21\"))=TRUE,\"\",INDIRECT(\"'3.09.1a (8)'!d21\"))","v":""},{"$f":"IF(ISERROR(INDIRECT(\"'3.09.1a (8)'!e21\"))=TRUE,\"\",INDIRECT(\"'3.09.1a (8)'!e21\"))","v":""},{"$f":"IF(ISERROR(INDIRECT(\"'3.09.1a (8)'!f21\"))=TRUE,\"\",INDIRECT(\"'3.09.1a (8)'!f21\"))","v":""},{"$f":"IF(ISERROR(INDIRECT(\"'3.09.1a (8)'!g21\"))=TRUE,\"\",INDIRECT(\"'3.09.1a (8)'!g21\"))","v":""},{"$f":"IF(ISERROR(INDIRECT(\"'3.09.1a (8)'!h21\"))=TRUE,\"\",INDIRECT(\"'3.09.1a (8)'!h21\"))","v":""},{"$f":"IF(ISERROR(INDIRECT(\"'3.09.1a (8)'!i21\"))=TRUE,\"\",INDIRECT(\"'3.09.1a (8)'!i21\"))","v":""},{"$f":"IF(ISERROR(INDIRECT(\"'3.09.1a (8)'!j21\"))=TRUE,\"\",INDIRECT(\"'3.09.1a (8)'!j21\"))","v":""},{"$f":"IF(ISERROR(INDIRECT(\"'3.09.1a (8)'!o21\"))=TRUE,\"\",INDIRECT(\"'3.09.1a (8)'!o21\"))","v":""},{"$f":"IF(ISERROR(INDIRECT(\"'3.09.1a (8)'!p21\"))=TRUE,\"\",INDIRECT(\"'3.09.1a (8)'!p21\"))","v":""},{"$f":"IF(ISERROR(INDIRECT(\"'3.09.1a (8)'!q21\"))=TRUE,\"\",INDIRECT(\"'3.09.1a (8)'!q21\"))","v":""},{"$f":"IF(ISERROR(INDIRECT(\"'3.09.1a (8)'!s21\"))=TRUE,\"\",INDIRECT(\"'3.09.1a (8)'!s21\"))","v":""},{"$f":"IF(ISERROR(INDIRECT(\"'3.09.1a (8)'!t21\"))=TRUE,\"\",INDIRECT(\"'3.09.1a (8)'!t21\"))","v":""},{"$f":"IF(ISERROR(INDIRECT(\"'3.09.1a (8)'!u21\"))=TRUE,\"\",INDIRECT(\"'3.09.1a (8)'!u21\"))","v":""},{"$f":"IF(ISERROR(INDIRECT(\"'3.09.1a (8)'!v21\"))=TRUE,\"\",INDIRECT(\"'3.09.1a (8)'!v21\"))","v":""},{"$f":"IF(ISERROR(INDIRECT(\"'3.09.1a (8)'!w21\"))=TRUE,\"\",INDIRECT(\"'3.09.1a (8)'!w21\"))","v":""},{"$f":"IF(ISERROR(INDIRECT(\"'3.09.1a (8)'!x21\"))=TRUE,\"\",INDIRECT(\"'3.09.1a (8)'!x21\"))","v":""},{"$f":"IF(ISERROR(INDIRECT(\"'3.09.1a (8)'!aa21\"))=TRUE,\"\",INDIRECT(\"'3.09.1a (8)'!aa21\"))","v":""},{"$f":"IF(ISERROR(INDIRECT(\"'3.09.1a (8)'!ad21\"))=TRUE,\"\",INDIRECT(\"'3.09.1a (8)'!ad21\"))","v":""},{"$f":"IF(ISERROR(INDIRECT(\"'3.09.1a (8)'!ah21\"))=TRUE,\"\",INDIRECT(\"'3.09.1a (8)'!ah21\"))","v":""},{"$f":"IF(ISERROR(INDIRECT(\"'3.09.1a (8)'!am21\"))=TRUE,\"\",INDIRECT(\"'3.09.1a (8)'!am21\"))","v":""}]
[0,"3.09.1a (8)",{"$f":"IF(ISERROR(INDIRECT(\"'3.09.1a (8)'!b22\"))=TRUE,\"\",INDIRECT(\"'3.09.1a (8)'!b22\"))","v":""},{"$f":"IF(ISERROR(INDIRECT(\"'3.09.1a (8)'!c22\"))=TRUE,\"\",INDIRECT(\"'3.09.1a (8)'!c22\"))","v":""},{"$f":"IF(ISERROR(INDIRECT(\"'3.09.1a (8)'!d22\"))=TRUE,\"\",INDIRECT(\"'3.09.1a (8)'!d22\"))","v":""},{"$f":"IF(ISERROR(INDIRECT(\"'3.09.1a (8)'!e22\"))=TRUE,\"\",INDIRECT(\"'3.09.1a (8)'!e22\"))","v":""},{"$f":"IF(ISERROR(INDIRECT(\"'3.09.1a (8)'!f22\"))=TRUE,\"\",INDIRECT(\"'3.09.1a (8)'!f22\"))","v":""},{"$f":"IF(ISERROR(INDIRECT(\"'3.09.1a (8)'!g22\"))=TRUE,\"\",INDIRECT(\"'3.09.1a (8)'!g22\"))","v":""},{"$f":"IF(ISERROR(INDIRECT(\"'3.09.1a (8)'!h22\"))=TRUE,\"\",INDIRECT(\"'3.09.1a (8)'!h22\"))","v":""},{"$f":"IF(ISERROR(INDIRECT(\"'3.09.1a (8)'!i22\"))=TRUE,\"\",INDIRECT(\"'3.09.1a (8)'!i22\"))","v":""},{"$f":"IF(ISERROR(INDIRECT(\"'3.09.1a (8)'!j22\"))=TRUE,\"\",INDIRECT(\"'3.09.1a (8)'!j22\"))","v":""},{"$f":"IF(ISERROR(INDIRECT(\"'3.09.1a (8)'!o22\"))=TRUE,\"\",INDIRECT(\"'3.09.1a (8)'!o22\"))","v":""},{"$f":"IF(ISERROR(INDIRECT(\"'3.09.1a (8)'!p22\"))=TRUE,\"\",INDIRECT(\"'3.09.1a (8)'!p22\"))","v":""},{"$f":"IF(ISERROR(INDIRECT(\"'3.09.1a (8)'!q22\"))=TRUE,\"\",INDIRECT(\"'3.09.1a (8)'!q22\"))","v":""},{"$f":"IF(ISERROR(INDIRECT(\"'3.09.1a (8)'!s22\"))=TRUE,\"\",INDIRECT(\"'3.09.1a (8)'!s22\"))","v":""},{"$f":"IF(ISERROR(INDIRECT(\"'3.09.1a (8)'!t22\"))=TRUE,\"\",INDIRECT(\"'3.09.1a (8)'!t22\"))","v":""},{"$f":"IF(ISERROR(INDIRECT(\"'3.09.1a (8)'!u22\"))=TRUE,\"\",INDIRECT(\"'3.09.1a (8)'!u22\"))","v":""},{"$f":"IF(ISERROR(INDIRECT(\"'3.09.1a (8)'!v22\"))=TRUE,\"\",INDIRECT(\"'3.09.1a (8)'!v22\"))","v":""},{"$f":"IF(ISERROR(INDIRECT(\"'3.09.1a (8)'!w22\"))=TRUE,\"\",INDIRECT(\"'3.09.1a (8)'!w22\"))","v":""},{"$f":"IF(ISERROR(INDIRECT(\"'3.09.1a (8)'!x22\"))=TRUE,\"\",INDIRECT(\"'3.09.1a (8)'!x22\"))","v":""},{"$f":"IF(ISERROR(INDIRECT(\"'3.09.1a (8)'!aa22\"))=TRUE,\"\",INDIRECT(\"'3.09.1a (8)'!aa22\"))","v":""},{"$f":"IF(ISERROR(INDIRECT(\"'3.09.1a (8)'!ad22\"))=TRUE,\"\",INDIRECT(\"'3.09.1a (8)'!ad22\"))","v":""},{"$f":"IF(ISERROR(INDIRECT(\"'3.09.1a (8)'!ah22\"))=TRUE,\"\",INDIRECT(\"'3.09.1a (8)'!ah22\"))","v":""},{"$f":"IF(ISERROR(INDIRECT(\"'3.09.1a (8)'!am22\"))=TRUE,\"\",INDIRECT(\"'3.09.1a (8)'!am22\"))","v":""}]
[0,"3.09.1a (8)",{"$f":"IF(ISERROR(INDIRECT(\"'3.09.1a (8)'!b23\"))=TRUE,\"\",INDIRECT(\"'3.09.1a (8)'!b23\"))","v":""},{"$f":"IF(ISERROR(INDIRECT(\"'3.09.1a (8)'!c23\"))=TRUE,\"\",INDIRECT(\"'3.09.1a (8)'!c23\"))","v":""},{"$f":"IF(ISERROR(INDIRECT(\"'3.09.1a (8)'!d23\"))=TRUE,\"\",INDIRECT(\"'3.09.1a (8)'!d23\"))","v":""},{"$f":"IF(ISERROR(INDIRECT(\"'3.09.1a (8)'!e23\"))=TRUE,\"\",INDIRECT(\"'3.09.1a (8)'!e23\"))","v":""},{"$f":"IF(ISERROR(INDIRECT(\"'3.09.1a (8)'!f23\"))=TRUE,\"\",INDIRECT(\"'3.09.1a (8)'!f23\"))","v":""},{"$f":"IF(ISERROR(INDIRECT(\"'3.09.1a (8)'!g23\"))=TRUE,\"\",INDIRECT(\"'3.09.1a (8)'!g23\"))","v":""},{"$f":"IF(ISERROR(INDIRECT(\"'3.09.1a (8)'!h23\"))=TRUE,\"\",INDIRECT(\"'3.09.1a (8)'!h23\"))","v":""},{"$f":"IF(ISERROR(INDIRECT(\"'3.09.1a (8)'!i23\"))=TRUE,\"\",INDIRECT(\"'3.09.1a (8)'!i23\"))","v":""},{"$f":"IF(ISERROR(INDIRECT(\"'3.09.1a (8)'!j23\"))=TRUE,\"\",INDIRECT(\"'3.09.1a (8)'!j23\"))","v":""},{"$f":"IF(ISERROR(INDIRECT(\"'3.09.1a (8)'!o23\"))=TRUE,\"\",INDIRECT(\"'3.09.1a (8)'!o23\"))","v":""},{"$f":"IF(ISERROR(INDIRECT(\"'3.09.1a (8)'!p23\"))=TRUE,\"\",INDIRECT(\"'3.09.1a (8)'!p23\"))","v":""},{"$f":"IF(ISERROR(INDIRECT(\"'3.09.1a (8)'!q23\"))=TRUE,\"\",INDIRECT(\"'3.09.1a (8)'!q23\"))","v":""},{"$f":"IF(ISERROR(INDIRECT(\"'3.09.1a (8)'!s23\"))=TRUE,\"\",INDIRECT(\"'3.09.1a (8)'!s23\"))","v":""},{"$f":"IF(ISERROR(INDIRECT(\"'3.09.1a (8)'!t23\"))=TRUE,\"\",INDIRECT(\"'3.09.1a (8)'!t23\"))","v":""},{"$f":"IF(ISERROR(INDIRECT(\"'3.09.1a (8)'!u23\"))=TRUE,\"\",INDIRECT(\"'3.09.1a (8)'!u23\"))","v":""},{"$f":"IF(ISERROR(INDIRECT(\"'3.09.1a (8)'!v23\"))=TRUE,\"\",INDIRECT(\"'3.09.1a (8)'!v23\"))","v":""},{"$f":"IF(ISERROR(INDIRECT(\"'3.09.1a (8)'!w23\"))=TRUE,\"\",INDIRECT(\"'3.09.1a (8)'!w23\"))","v":""},{"$f":"IF(ISERROR(INDIRECT(\"'3.09.1a (8)'!x23\"))=TRUE,\"\",INDIRECT(\"'3.09.1a (8)'!x23\"))","v":""},{"$f":"IF(ISERROR(INDIRECT(\"'3.09.1a (8)'!aa23\"))=TRUE,\"\",INDIRECT(\"'3.09.1a (8)'!aa23\"))","v":""},{"$f":"IF(ISERROR(INDIRECT(\"'3.09.1a (8)'!ad23\"))=TRUE,\"\",INDIRECT(\"'3.09.1a (8)'!ad23\"))","v":""},{"$f":"IF(ISERROR(INDIRECT(\"'3.09.1a (8)'!ah23\"))=TRUE,\"\",INDIRECT(\"'3.09.1a (8)'!ah23\"))","v":""},{"$f":"IF(ISERROR(INDIRECT(\"'3.09.1a (8)'!am23\"))=TRUE,\"\",INDIRECT(\"'3.09.1a (8)'!am23\"))","v":""}]
[0,"3.09.1a (8)",{"$f":"IF(ISERROR(INDIRECT(\"'3.09.1a (8)'!b24\"))=TRUE,\"\",INDIRECT(\"'3.09.1a (8)'!b24\"))","v":""},{"$f":"IF(ISERROR(INDIRECT(\"'3.09.1a (8)'!c24\"))=TRUE,\"\",INDIRECT(\"'3.09.1a (8)'!c24\"))","v":""},{"$f":"IF(ISERROR(INDIRECT(\"'3.09.1a (8)'!d24\"))=TRUE,\"\",INDIRECT(\"'3.09.1a (8)'!d24\"))","v":""},{"$f":"IF(ISERROR(INDIRECT(\"'3.09.1a (8)'!e24\"))=TRUE,\"\",INDIRECT(\"'3.09.1a (8)'!e24\"))","v":""},{"$f":"IF(ISERROR(INDIRECT(\"'3.09.1a (8)'!f24\"))=TRUE,\"\",INDIRECT(\"'3.09.1a (8)'!f24\"))","v":""},{"$f":"IF(ISERROR(INDIRECT(\"'3.09.1a (8)'!g24\"))=TRUE,\"\",INDIRECT(\"'3.09.1a (8)'!g24\"))","v":""},{"$f":"IF(ISERROR(INDIRECT(\"'3.09.1a (8)'!h24\"))=TRUE,\"\",INDIRECT(\"'3.09.1a (8)'!h24\"))","v":""},{"$f":"IF(ISERROR(INDIRECT(\"'3.09.1a (8)'!i24\"))=TRUE,\"\",INDIRECT(\"'3.09.1a (8)'!i24\"))","v":""},{"$f":"IF(ISERROR(INDIRECT(\"'3.09.1a (8)'!j24\"))=TRUE,\"\",INDIRECT(\"'3.09.1a (8)'!j24\"))","v":""},{"$f":"IF(ISERROR(INDIRECT(\"'3.09.1a (8)'!o24\"))=TRUE,\"\",INDIRECT(\"'3.09.1a (8)'!o24\"))","v":""},{"$f":"IF(ISERROR(INDIRECT(\"'3.09.1a (8)'!p24\"))=TRUE,\"\",INDIRECT(\"'3.09.1a (8)'!p24\"))","v":""},{"$f":"IF(ISERROR(INDIRECT(\"'3.09.1a (8)'!q24\"))=TRUE,\"\",INDIRECT(\"'3.09.1a (8)'!q24\"))","v":""},{"$f":"IF(ISERROR(INDIRECT(\"'3.09.1a (8)'!s24\"))=TRUE,\"\",INDIRECT(\"'3.09.1a (8)'!s24\"))","v":""},{"$f":"IF(ISERROR(INDIRECT(\"'3.09.1a (8)'!t24\"))=TRUE,\"\",INDIRECT(\"'3.09.1a (8)'!t24\"))","v":""},{"$f":"IF(ISERROR(INDIRECT(\"'3.09.1a (8)'!u24\"))=TRUE,\"\",INDIRECT(\"'3.09.1a (8)'!u24\"))","v":""},{"$f":"IF(ISERROR(INDIRECT(\"'3.09.1a (8)'!v24\"))=TRUE,\"\",INDIRECT(\"'3.09.1a (8)'!v24\"))","v":""},{"$f":"IF(ISERROR(INDIRECT(\"'3.09.1a (8)'!w24\"))=TRUE,\"\",INDIRECT(\"'3.09.1a (8)'!w24\"))","v":""},{"$f":"IF(ISERROR(INDIRECT(\"'3.09.1a (8)'!x24\"))=TRUE,\"\",INDIRECT(\"'3.09.1a (8)'!x24\"))","v":""},{"$f":"IF(ISERROR(INDIRECT(\"'3.09.1a (8)'!aa24\"))=TRUE,\"\",INDIRECT(\"'3.09.1a (8)'!aa24\"))","v":""},{"$f":"IF(ISERROR(INDIRECT(\"'3.09.1a (8)'!ad24\"))=TRUE,\"\",INDIRECT(\"'3.09.1a (8)'!ad24\"))","v":""},{"$f":"IF(ISERROR(INDIRECT(\"'3.09.1a (8)'!ah24\"))=TRUE,\"\",INDIRECT(\"'3.09.1a (8)'!ah24\"))","v":""},{"$f":"IF(ISERROR(INDIRECT(\"'3.09.1a (8)'!am24\"))=TRUE,\"\",INDIRECT(\"'3.09.1a (8)'!am24\"))","v":""}]
[0,"3.09.1a (8)",{"$f":"IF(ISERROR(INDIRECT(\"'3.09.1a (8)'!b25\"))=TRUE,\"\",INDIRECT(\"'3.09.1a (8)'!b25\"))","v":""},{"$f":"IF(ISERROR(INDIRECT(\"'3.09.1a (8)'!c25\"))=TRUE,\"\",INDIRECT(\"'3.09.1a (8)'!c25\"))","v":""},{"$f":"IF(ISERROR(INDIRECT(\"'3.09.1a (8)'!d25\"))=TRUE,\"\",INDIRECT(\"'3.09.1a (8)'!d25\"))","v":""},{"$f":"IF(ISERROR(INDIRECT(\"'3.09.1a (8)'!e25\"))=TRUE,\"\",INDIRECT(\"'3.09.1a (8)'!e25\"))","v":""},{"$f":"IF(ISERROR(INDIRECT(\"'3.09.1a (8)'!f25\"))=TRUE,\"\",INDIRECT(\"'3.09.1a (8)'!f25\"))","v":""},{"$f":"IF(ISERROR(INDIRECT(\"'3.09.1a (8)'!g25\"))=TRUE,\"\",INDIRECT(\"'3.09.1a (8)'!g25\"))","v":""},{"$f":"IF(ISERROR(INDIRECT(\"'3.09.1a (8)'!h25\"))=TRUE,\"\",INDIRECT(\"'3.09.1a (8)'!h25\"))","v":""},{"$f":"IF(ISERROR(INDIRECT(\"'3.09.1a (8)'!i25\"))=TRUE,\"\",INDIRECT(\"'3.09.1a (8)'!i25\"))","v":""},{"$f":"IF(ISERROR(INDIRECT(\"'3.09.1a (8)'!j25\"))=TRUE,\"\",INDIRECT(\"'3.09.1a (8)'!j25\"))","v":""},{"$f":"IF(ISERROR(INDIRECT(\"'3.09.1a (8)'!o25\"))=TRUE,\"\",INDIRECT(\"'3.09.1a (8)'!o25\"))","v":""},{"$f":"IF(ISERROR(INDIRECT(\"'3.09.1a (8)'!p25\"))=TRUE,\"\",INDIRECT(\"'3.09.1a (8)'!p25\"))","v":""},{"$f":"IF(ISERROR(INDIRECT(\"'3.09.1a (8)'!q25\"))=TRUE,\"\",INDIRECT(\"'3.09.1a (8)'!q25\"))","v":""},{"$f":"IF(ISERROR(INDIRECT(\"'3.09.1a (8)'!s25\"))=TRUE,\"\",INDIRECT(\"'3.09.1a (8)'!s25\"))","v":""},{"$f":"IF(ISERROR(INDIRECT(\"'3.09.1a (8)'!t25\"))=TRUE,\"\",INDIRECT(\"'3.09.1a (8)'!t25\"))","v":""},{"$f":"IF(ISERROR(INDIRECT(\"'3.09.1a (8)'!u25\"))=TRUE,\"\",INDIRECT(\"'3.09.1a (8)'!u25\"))","v":""},{"$f":"IF(ISERROR(INDIRECT(\"'3.09.1a (8)'!v25\"))=TRUE,\"\",INDIRECT(\"'3.09.1a (8)'!v25\"))","v":""},{"$f":"IF(ISERROR(INDIRECT(\"'3.09.1a (8)'!w25\"))=TRUE,\"\",INDIRECT(\"'3.09.1a (8)'!w25\"))","v":""},{"$f":"IF(ISERROR(INDIRECT(\"'3.09.1a (8)'!x25\"))=TRUE,\"\",INDIRECT(\"'3.09.1a (8)'!x25\"))","v":""},{"$f":"IF(ISERROR(INDIRECT(\"'3.09.1a (8)'!aa25\"))=TRUE,\"\",INDIRECT(\"'3.09.1a (8)'!aa25\"))","v":""},{"$f":"IF(ISERROR(INDIRECT(\"'3.09.1a (8)'!ad25\"))=TRUE,\"\",INDIRECT(\"'3.09.1a (8)'!ad25\"))","v":""},{"$f":"IF(ISERROR(INDIRECT(\"'3.09.1a (8)'!ah25\"))=TRUE,\"\",INDIRECT(\"'3.09.1a (8)'!ah25\"))","v":""},{"$f":"IF(ISERROR(INDIRECT(\"'3.09.1a (8)'!am25\"))=TRUE,\"\",INDIRECT(\"'3.09.1a (8)'!am25\"))","v":""}]
[0,"3.09.1a (8)",{"$f":"IF(ISERROR(INDIRECT(\"'3.09.1a (8)'!b26\"))=TRUE,\"\",INDIRECT(\"'3.09.1a (8)'!b26\"))","v":""},{"$f":"IF(ISERROR(INDIRECT(\"'3.09.1a (8)'!c26\"))=TRUE,\"\",INDIRECT(\"'3.09.1a (8)'!c26\"))","v":""},{"$f":"IF(ISERROR(INDIRECT(\"'3.09.1a (8)'!d26\"))=TRUE,\"\",INDIRECT(\"'3.09.1a (8)'!d26\"))","v":""},{"$f":"IF(ISERROR(INDIRECT(\"'3.09.1a (8)'!e26\"))=TRUE,\"\",INDIRECT(\"'3.09.1a (8)'!e26\"))","v":""},{"$f":"IF(ISERROR(INDIRECT(\"'3.09.1a (8)'!f26\"))=TRUE,\"\",INDIRECT(\"'3.09.1a (8)'!f26\"))","v":""},{"$f":"IF(ISERROR(INDIRECT(\"'3.09.1a (8)'!g26\"))=TRUE,\"\",INDIRECT(\"'3.09.1a (8)'!g26\"))","v":""},{"$f":"IF(ISERROR(INDIRECT(\"'3.09.1a (8)'!h26\"))=TRUE,\"\",INDIRECT(\"'3.09.1a (8)'!h26\"))","v":""},{"$f":"IF(ISERROR(INDIRECT(\"'3.09.1a (8)'!i26\"))=TRUE,\"\",INDIRECT(\"'3.09.1a (8)'!i26\"))","v":""},{"$f":"IF(ISERROR(INDIRECT(\"'3.09.1a (8)'!j26\"))=TRUE,\"\",INDIRECT(\"'3.09.1a (8)'!j26\"))","v":""},{"$f":"IF(ISERROR(INDIRECT(\"'3.09.1a (8)'!o26\"))=TRUE,\"\",INDIRECT(\"'3.09.1a (8)'!o26\"))","v":""},{"$f":"IF(ISERROR(INDIRECT(\"'3.09.1a (8)'!p26\"))=TRUE,\"\",INDIRECT(\"'3.09.1a (8)'!p26\"))","v":""},{"$f":"IF(ISERROR(INDIRECT(\"'3.09.1a (8)'!q26\"))=TRUE,\"\",INDIRECT(\"'3.09.1a (8)'!q26\"))","v":""},{"$f":"IF(ISERROR(INDIRECT(\"'3.09.1a (8)'!s26\"))=TRUE,\"\",INDIRECT(\"'3.09.1a (8)'!s26\"))","v":""},{"$f":"IF(ISERROR(INDIRECT(\"'3.09.1a (8)'!t26\"))=TRUE,\"\",INDIRECT(\"'3.09.1a (8)'!t26\"))","v":""},{"$f":"IF(ISERROR(INDIRECT(\"'3.09.1a (8)'!u26\"))=TRUE,\"\",INDIRECT(\"'3.09.1a (8)'!u26\"))","v":""},{"$f":"IF(ISERROR(INDIRECT(\"'3.09.1a (8)'!v26\"))=TRUE,\"\",INDIRECT(\"'3.09.1a (8)'!v26\"))","v":""},{"$f":"IF(ISERROR(INDIRECT(\"'3.09.1a (8)'!w26\"))=TRUE,\"\",INDIRECT(\"'3.09.1a (8)'!w26\"))","v":""},{"$f":"IF(ISERROR(INDIRECT(\"'3.09.1a (8)'!x26\"))=TRUE,\"\",INDIRECT(\"'3.09.1a (8)'!x26\"))","v":""},{"$f":"IF(ISERROR(INDIRECT(\"'3.09.1a (8)'!aa26\"))=TRUE,\"\",INDIRECT(\"'3.09.1a (8)'!aa26\"))","v":""},{"$f":"IF(ISERROR(INDIRECT(\"'3.09.1a (8)'!ad26\"))=TRUE,\"\",INDIRECT(\"'3.09.1a (8)'!ad26\"))","v":""},{"$f":"IF(ISERROR(INDIRECT(\"'3.09.1a (8)'!ah26\"))=TRUE,\"\",INDIRECT(\"'3.09.1a (8)'!ah26\"))","v":""},{"$f":"IF(ISERROR(INDIRECT(\"'3.09.1a (8)'!am26\"))=TRUE,\"\",INDIRECT(\"'3.09.1a (8)'!am26\"))","v":""}]
[0,"3.09.1a (8)",{"$f":"IF(ISERROR(INDIRECT(\"'3.09.1a (8)'!b27\"))=TRUE,\"\",INDIRECT(\"'3.09.1a (8)'!b27\"))","v":""},{"$f":"IF(ISERROR(INDIRECT(\"'3.09.1a (8)'!c27\"))=TRUE,\"\",INDIRECT(\"'3.09.1a (8)'!c27\"))","v":""},{"$f":"IF(ISERROR(INDIRECT(\"'3.09.1a (8)'!d27\"))=TRUE,\"\",INDIRECT(\"'3.09.1a (8)'!d27\"))","v":""},{"$f":"IF(ISERROR(INDIRECT(\"'3.09.1a (8)'!e27\"))=TRUE,\"\",INDIRECT(\"'3.09.1a (8)'!e27\"))","v":""},{"$f":"IF(ISERROR(INDIRECT(\"'3.09.1a (8)'!f27\"))=TRUE,\"\",INDIRECT(\"'3.09.1a (8)'!f27\"))","v":""},{"$f":"IF(ISERROR(INDIRECT(\"'3.09.1a (8)'!g27\"))=TRUE,\"\",INDIRECT(\"'3.09.1a (8)'!g27\"))","v":""},{"$f":"IF(ISERROR(INDIRECT(\"'3.09.1a (8)'!h27\"))=TRUE,\"\",INDIRECT(\"'3.09.1a (8)'!h27\"))","v":""},{"$f":"IF(ISERROR(INDIRECT(\"'3.09.1a (8)'!i27\"))=TRUE,\"\",INDIRECT(\"'3.09.1a (8)'!i27\"))","v":""},{"$f":"IF(ISERROR(INDIRECT(\"'3.09.1a (8)'!j27\"))=TRUE,\"\",INDIRECT(\"'3.09.1a (8)'!j27\"))","v":""},{"$f":"IF(ISERROR(INDIRECT(\"'3.09.1a (8)'!o27\"))=TRUE,\"\",INDIRECT(\"'3.09.1a (8)'!o27\"))","v":""},{"$f":"IF(ISERROR(INDIRECT(\"'3.09.1a (8)'!p27\"))=TRUE,\"\",INDIRECT(\"'3.09.1a (8)'!p27\"))","v":""},{"$f":"IF(ISERROR(INDIRECT(\"'3.09.1a (8)'!q27\"))=TRUE,\"\",INDIRECT(\"'3.09.1a (8)'!q27\"))","v":""},{"$f":"IF(ISERROR(INDIRECT(\"'3.09.1a (8)'!s27\"))=TRUE,\"\",INDIRECT(\"'3.09.1a (8)'!s27\"))","v":""},{"$f":"IF(ISERROR(INDIRECT(\"'3.09.1a (8)'!t27\"))=TRUE,\"\",INDIRECT(\"'3.09.1a (8)'!t27\"))","v":""},{"$f":"IF(ISERROR(INDIRECT(\"'3.09.1a (8)'!u27\"))=TRUE,\"\",INDIRECT(\"'3.09.1a (8)'!u27\"))","v":""},{"$f":"IF(ISERROR(INDIRECT(\"'3.09.1a (8)'!v27\"))=TRUE,\"\",INDIRECT(\"'3.09.1a (8)'!v27\"))","v":""},{"$f":"IF(ISERROR(INDIRECT(\"'3.09.1a (8)'!w27\"))=TRUE,\"\",INDIRECT(\"'3.09.1a (8)'!w27\"))","v":""},{"$f":"IF(ISERROR(INDIRECT(\"'3.09.1a (8)'!x27\"))=TRUE,\"\",INDIRECT(\"'3.09.1a (8)'!x27\"))","v":""},{"$f":"IF(ISERROR(INDIRECT(\"'3.09.1a (8)'!aa27\"))=TRUE,\"\",INDIRECT(\"'3.09.1a (8)'!aa27\"))","v":""},{"$f":"IF(ISERROR(INDIRECT(\"'3.09.1a (8)'!ad27\"))=TRUE,\"\",INDIRECT(\"'3.09.1a (8)'!ad27\"))","v":""},{"$f":"IF(ISERROR(INDIRECT(\"'3.09.1a (8)'!ah27\"))=TRUE,\"\",INDIRECT(\"'3.09.1a (8)'!ah27\"))","v":""},{"$f":"IF(ISERROR(INDIRECT(\"'3.09.1a (8)'!am27\"))=TRUE,\"\",INDIRECT(\"'3.09.1a (8)'!am27\"))","v":""}]
[0,"3.09.1a (8)",{"$f":"IF(ISERROR(INDIRECT(\"'3.09.1a (8)'!b28\"))=TRUE,\"\",INDIRECT(\"'3.09.1a (8)'!b28\"))","v":""},{"$f":"IF(ISERROR(INDIRECT(\"'3.09.1a (8)'!c28\"))=TRUE,\"\",INDIRECT(\"'3.09.1a (8)'!c28\"))","v":""},{"$f":"IF(ISERROR(INDIRECT(\"'3.09.1a (8)'!d28\"))=TRUE,\"\",INDIRECT(\"'3.09.1a (8)'!d28\"))","v":""},{"$f":"IF(ISERROR(INDIRECT(\"'3.09.1a (8)'!e28\"))=TRUE,\"\",INDIRECT(\"'3.09.1a (8)'!e28\"))","v":""},{"$f":"IF(ISERROR(INDIRECT(\"'3.09.1a (8)'!f28\"))=TRUE,\"\",INDIRECT(\"'3.09.1a (8)'!f28\"))","v":""},{"$f":"IF(ISERROR(INDIRECT(\"'3.09.1a (8)'!g28\"))=TRUE,\"\",INDIRECT(\"'3.09.1a (8)'!g28\"))","v":""},{"$f":"IF(ISERROR(INDIRECT(\"'3.09.1a (8)'!h28\"))=TRUE,\"\",INDIRECT(\"'3.09.1a (8)'!h28\"))","v":""},{"$f":"IF(ISERROR(INDIRECT(\"'3.09.1a (8)'!i28\"))=TRUE,\"\",INDIRECT(\"'3.09.1a (8)'!i28\"))","v":""},{"$f":"IF(ISERROR(INDIRECT(\"'3.09.1a (8)'!j28\"))=TRUE,\"\",INDIRECT(\"'3.09.1a (8)'!j28\"))","v":""},{"$f":"IF(ISERROR(INDIRECT(\"'3.09.1a (8)'!o28\"))=TRUE,\"\",INDIRECT(\"'3.09.1a (8)'!o28\"))","v":""},{"$f":"IF(ISERROR(INDIRECT(\"'3.09.1a (8)'!p28\"))=TRUE,\"\",INDIRECT(\"'3.09.1a (8)'!p28\"))","v":""},{"$f":"IF(ISERROR(INDIRECT(\"'3.09.1a (8)'!q28\"))=TRUE,\"\",INDIRECT(\"'3.09.1a (8)'!q28\"))","v":""},{"$f":"IF(ISERROR(INDIRECT(\"'3.09.1a (8)'!s28\"))=TRUE,\"\",INDIRECT(\"'3.09.1a (8)'!s28\"))","v":""},{"$f":"IF(ISERROR(INDIRECT(\"'3.09.1a (8)'!t28\"))=TRUE,\"\",INDIRECT(\"'3.09.1a (8)'!t28\"))","v":""},{"$f":"IF(ISERROR(INDIRECT(\"'3.09.1a (8)'!u28\"))=TRUE,\"\",INDIRECT(\"'3.09.1a (8)'!u28\"))","v":""},{"$f":"IF(ISERROR(INDIRECT(\"'3.09.1a (8)'!v28\"))=TRUE,\"\",INDIRECT(\"'3.09.1a (8)'!v28\"))","v":""},{"$f":"IF(ISERROR(INDIRECT(\"'3.09.1a (8)'!w28\"))=TRUE,\"\",INDIRECT(\"'3.09.1a (8)'!w28\"))","v":""},{"$f":"IF(ISERROR(INDIRECT(\"'3.09.1a (8)'!x28\"))=TRUE,\"\",INDIRECT(\"'3.09.1a (8)'!x28\"))","v":""},{"$f":"IF(ISERROR(INDIRECT(\"'3.09.1a (8)'!aa28\"))=TRUE,\"\",INDIRECT(\"'3.09.1a (8)'!aa28\"))","v":""},{"$f":"IF(ISERROR(INDIRECT(\"'3.09.1a (8)'!ad28\"))=TRUE,\"\",INDIRECT(\"'3.09.1a (8)'!ad28\"))","v":""},{"$f":"IF(ISERROR(INDIRECT(\"'3.09.1a (8)'!ah28\"))=TRUE,\"\",INDIRECT(\"'3.09.1a (8)'!ah28\"))","v":""},{"$f":"IF(ISERROR(INDIRECT(\"'3.09.1a (8)'!am28\"))=TRUE,\"\",INDIRECT(\"'3.09.1a (8)'!am28\"))","v":""}]
[0,"3.09.1a (8)",{"$f":"IF(ISERROR(INDIRECT(\"'3.09.1a (8)'!b29\"))=TRUE,\"\",INDIRECT(\"'3.09.1a (8)'!b29\"))","v":""},{"$f":"IF(ISERROR(INDIRECT(\"'3.09.1a (8)'!c29\"))=TRUE,\"\",INDIRECT(\"'3.09.1a (8)'!c29\"))","v":""},{"$f":"IF(ISERROR(INDIRECT(\"'3.09.1a (8)'!d29\"))=TRUE,\"\",INDIRECT(\"'3.09.1a (8)'!d29\"))","v":""},{"$f":"IF(ISERROR(INDIRECT(\"'3.09.1a (8)'!e29\"))=TRUE,\"\",INDIRECT(\"'3.09.1a (8)'!e29\"))","v":""},{"$f":"IF(ISERROR(INDIRECT(\"'3.09.1a (8)'!f29\"))=TRUE,\"\",INDIRECT(\"'3.09.1a (8)'!f29\"))","v":""},{"$f":"IF(ISERROR(INDIRECT(\"'3.09.1a (8)'!g29\"))=TRUE,\"\",INDIRECT(\"'3.09.1a (8)'!g29\"))","v":""},{"$f":"IF(ISERROR(INDIRECT(\"'3.09.1a (8)'!h29\"))=TRUE,\"\",INDIRECT(\"'3.09.1a (8)'!h29\"))","v":""},{"$f":"IF(ISERROR(INDIRECT(\"'3.09.1a (8)'!i29\"))=TRUE,\"\",INDIRECT(\"'3.09.1a (8)'!i29\"))","v":""},{"$f":"IF(ISERROR(INDIRECT(\"'3.09.1a (8)'!j29\"))=TRUE,\"\",INDIRECT(\"'3.09.1a (8)'!j29\"))","v":""},{"$f":"IF(ISERROR(INDIRECT(\"'3.09.1a (8)'!o29\"))=TRUE,\"\",INDIRECT(\"'3.09.1a (8)'!o29\"))","v":""},{"$f":"IF(ISERROR(INDIRECT(\"'3.09.1a (8)'!p29\"))=TRUE,\"\",INDIRECT(\"'3.09.1a (8)'!p29\"))","v":""},{"$f":"IF(ISERROR(INDIRECT(\"'3.09.1a (8)'!q29\"))=TRUE,\"\",INDIRECT(\"'3.09.1a (8)'!q29\"))","v":""},{"$f":"IF(ISERROR(INDIRECT(\"'3.09.1a (8)'!s29\"))=TRUE,\"\",INDIRECT(\"'3.09.1a (8)'!s29\"))","v":""},{"$f":"IF(ISERROR(INDIRECT(\"'3.09.1a (8)'!t29\"))=TRUE,\"\",INDIRECT(\"'3.09.1a (8)'!t29\"))","v":""},{"$f":"IF(ISERROR(INDIRECT(\"'3.09.1a (8)'!u29\"))=TRUE,\"\",INDIRECT(\"'3.09.1a (8)'!u29\"))","v":""},{"$f":"IF(ISERROR(INDIRECT(\"'3.09.1a (8)'!v29\"))=TRUE,\"\",INDIRECT(\"'3.09.1a (8)'!v29\"))","v":""},{"$f":"IF(ISERROR(INDIRECT(\"'3.09.1a (8)'!w29\"))=TRUE,\"\",INDIRECT(\"'3.09.1a (8)'!w29\"))","v":""},{"$f":"IF(ISERROR(INDIRECT(\"'3.09.1a (8)'!x29\"))=TRUE,\"\",INDIRECT(\"'3.09.1a (8)'!x29\"))","v":""},{"$f":"IF(ISERROR(INDIRECT(\"'3.09.1a (8)'!aa29\"))=TRUE,\"\",INDIRECT(\"'3.09.1a (8)'!aa29\"))","v":""},{"$f":"IF(ISERROR(INDIRECT(\"'3.09.1a (8)'!ad29\"))=TRUE,\"\",INDIRECT(\"'3.09.1a (8)'!ad29\"))","v":""},{"$f":"IF(ISERROR(INDIRECT(\"'3.09.1a (8)'!ah29\"))=TRUE,\"\",INDIRECT(\"'3.09.1a (8)'!ah29\"))","v":""},{"$f":"IF(ISERROR(INDIRECT(\"'3.09.1a (8)'!am29\"))=TRUE,\"\",INDIRECT(\"'3.09.1a (8)'!am29\"))","v":""}]
[0,"3.09.1a (8)",{"$f":"IF(ISERROR(INDIRECT(\"'3.09.1a (8)'!b30\"))=TRUE,\"\",INDIRECT(\"'3.09.1a (8)'!b30\"))","v":""},{"$f":"IF(ISERROR(INDIRECT(\"'3.09.1a (8)'!c30\"))=TRUE,\"\",INDIRECT(\"'3.09.1a (8)'!c30\"))","v":""},{"$f":"IF(ISERROR(INDIRECT(\"'3.09.1a (8)'!d30\"))=TRUE,\"\",INDIRECT(\"'3.09.1a (8)'!d30\"))","v":""},{"$f":"IF(ISERROR(INDIRECT(\"'3.09.1a (8)'!e30\"))=TRUE,\"\",INDIRECT(\"'3.09.1a (8)'!e30\"))","v":""},{"$f":"IF(ISERROR(INDIRECT(\"'3.09.1a (8)'!f30\"))=TRUE,\"\",INDIRECT(\"'3.09.1a (8)'!f30\"))","v":""},{"$f":"IF(ISERROR(INDIRECT(\"'3.09.1a (8)'!g30\"))=TRUE,\"\",INDIRECT(\"'3.09.1a (8)'!g30\"))","v":""},{"$f":"IF(ISERROR(INDIRECT(\"'3.09.1a (8)'!h30\"))=TRUE,\"\",INDIRECT(\"'3.09.1a (8)'!h30\"))","v":""},{"$f":"IF(ISERROR(INDIRECT(\"'3.09.1a (8)'!i30\"))=TRUE,\"\",INDIRECT(\"'3.09.1a (8)'!i30\"))","v":""},{"$f":"IF(ISERROR(INDIRECT(\"'3.09.1a (8)'!j30\"))=TRUE,\"\",INDIRECT(\"'3.09.1a (8)'!j30\"))","v":""},{"$f":"IF(ISERROR(INDIRECT(\"'3.09.1a (8)'!o30\"))=TRUE,\"\",INDIRECT(\"'3.09.1a (8)'!o30\"))","v":""},{"$f":"IF(ISERROR(INDIRECT(\"'3.09.1a (8)'!p30\"))=TRUE,\"\",INDIRECT(\"'3.09.1a (8)'!p30\"))","v":""},{"$f":"IF(ISERROR(INDIRECT(\"'3.09.1a (8)'!q30\"))=TRUE,\"\",INDIRECT(\"'3.09.1a (8)'!q30\"))","v":""},{"$f":"IF(ISERROR(INDIRECT(\"'3.09.1a (8)'!s30\"))=TRUE,\"\",INDIRECT(\"'3.09.1a (8)'!s30\"))","v":""},{"$f":"IF(ISERROR(INDIRECT(\"'3.09.1a (8)'!t30\"))=TRUE,\"\",INDIRECT(\"'3.09.1a (8)'!t30\"))","v":""},{"$f":"IF(ISERROR(INDIRECT(\"'3.09.1a (8)'!u30\"))=TRUE,\"\",INDIRECT(\"'3.09.1a (8)'!u30\"))","v":""},{"$f":"IF(ISERROR(INDIRECT(\"'3.09.1a (8)'!v30\"))=TRUE,\"\",INDIRECT(\"'3.09.1a (8)'!v30\"))","v":""},{"$f":"IF(ISERROR(INDIRECT(\"'3.09.1a (8)'!w30\"))=TRUE,\"\",INDIRECT(\"'3.09.1a (8)'!w30\"))","v":""},{"$f":"IF(ISERROR(INDIRECT(\"'3.09.1a (8)'!x30\"))=TRUE,\"\",INDIRECT(\"'3.09.1a (8)'!x30\"))","v":""},{"$f":"IF(ISERROR(INDIRECT(\"'3.09.1a (8)'!aa30\"))=TRUE,\"\",INDIRECT(\"'3.09.1a (8)'!aa30\"))","v":""},{"$f":"IF(ISERROR(INDIRECT(\"'3.09.1a (8)'!ad30\"))=TRUE,\"\",INDIRECT(\"'3.09.1a (8)'!ad30\"))","v":""},{"$f":"IF(ISERROR(INDIRECT(\"'3.09.1a (8)'!ah30\"))=TRUE,\"\",INDIRECT(\"'3.09.1a (8)'!ah30\"))","v":""},{"$f":"IF(ISERROR(INDIRECT(\"'3.09.1a (8)'!am30\"))=TRUE,\"\",INDIRECT(\"'3.09.1a (8)'!am30\"))","v":""}]
[0,"3.09.1a (8)",{"$f":"IF(ISERROR(INDIRECT(\"'3.09.1a (8)'!b31\"))=TRUE,\"\",INDIRECT(\"'3.09.1a (8)'!b31\"))","v":""},{"$f":"IF(ISERROR(INDIRECT(\"'3.09.1a (8)'!c31\"))=TRUE,\"\",INDIRECT(\"'3.09.1a (8)'!c31\"))","v":""},{"$f":"IF(ISERROR(INDIRECT(\"'3.09.1a (8)'!d31\"))=TRUE,\"\",INDIRECT(\"'3.09.1a (8)'!d31\"))","v":""},{"$f":"IF(ISERROR(INDIRECT(\"'3.09.1a (8)'!e31\"))=TRUE,\"\",INDIRECT(\"'3.09.1a (8)'!e31\"))","v":""},{"$f":"IF(ISERROR(INDIRECT(\"'3.09.1a (8)'!f31\"))=TRUE,\"\",INDIRECT(\"'3.09.1a (8)'!f31\"))","v":""},{"$f":"IF(ISERROR(INDIRECT(\"'3.09.1a (8)'!g31\"))=TRUE,\"\",INDIRECT(\"'3.09.1a (8)'!g31\"))","v":""},{"$f":"IF(ISERROR(INDIRECT(\"'3.09.1a (8)'!h31\"))=TRUE,\"\",INDIRECT(\"'3.09.1a (8)'!h31\"))","v":""},{"$f":"IF(ISERROR(INDIRECT(\"'3.09.1a (8)'!i31\"))=TRUE,\"\",INDIRECT(\"'3.09.1a (8)'!i31\"))","v":""},{"$f":"IF(ISERROR(INDIRECT(\"'3.09.1a (8)'!j31\"))=TRUE,\"\",INDIRECT(\"'3.09.1a (8)'!j31\"))","v":""},{"$f":"IF(ISERROR(INDIRECT(\"'3.09.1a (8)'!o31\"))=TRUE,\"\",INDIRECT(\"'3.09.1a (8)'!o31\"))","v":""},{"$f":"IF(ISERROR(INDIRECT(\"'3.09.1a (8)'!p31\"))=TRUE,\"\",INDIRECT(\"'3.09.1a (8)'!p31\"))","v":""},{"$f":"IF(ISERROR(INDIRECT(\"'3.09.1a (8)'!q31\"))=TRUE,\"\",INDIRECT(\"'3.09.1a (8)'!q31\"))","v":""},{"$f":"IF(ISERROR(INDIRECT(\"'3.09.1a (8)'!s31\"))=TRUE,\"\",INDIRECT(\"'3.09.1a (8)'!s31\"))","v":""},{"$f":"IF(ISERROR(INDIRECT(\"'3.09.1a (8)'!t31\"))=TRUE,\"\",INDIRECT(\"'3.09.1a (8)'!t31\"))","v":""},{"$f":"IF(ISERROR(INDIRECT(\"'3.09.1a (8)'!u31\"))=TRUE,\"\",INDIRECT(\"'3.09.1a (8)'!u31\"))","v":""},{"$f":"IF(ISERROR(INDIRECT(\"'3.09.1a (8)'!v31\"))=TRUE,\"\",INDIRECT(\"'3.09.1a (8)'!v31\"))","v":""},{"$f":"IF(ISERROR(INDIRECT(\"'3.09.1a (8)'!w31\"))=TRUE,\"\",INDIRECT(\"'3.09.1a (8)'!w31\"))","v":""},{"$f":"IF(ISERROR(INDIRECT(\"'3.09.1a (8)'!x31\"))=TRUE,\"\",INDIRECT(\"'3.09.1a (8)'!x31\"))","v":""},{"$f":"IF(ISERROR(INDIRECT(\"'3.09.1a (8)'!aa31\"))=TRUE,\"\",INDIRECT(\"'3.09.1a (8)'!aa31\"))","v":""},{"$f":"IF(ISERROR(INDIRECT(\"'3.09.1a (8)'!ad31\"))=TRUE,\"\",INDIRECT(\"'3.09.1a (8)'!ad31\"))","v":""},{"$f":"IF(ISERROR(INDIRECT(\"'3.09.1a (8)'!ah31\"))=TRUE,\"\",INDIRECT(\"'3.09.1a (8)'!ah31\"))","v":""},{"$f":"IF(ISERROR(INDIRECT(\"'3.09.1a (8)'!am31\"))=TRUE,\"\",INDIRECT(\"'3.09.1a (8)'!am31\"))","v":""}]
[0,"3.09.1a (8)",{"$f":"IF(ISERROR(INDIRECT(\"'3.09.1a (8)'!b32\"))=TRUE,\"\",INDIRECT(\"'3.09.1a (8)'!b32\"))","v":""},{"$f":"IF(ISERROR(INDIRECT(\"'3.09.1a (8)'!c32\"))=TRUE,\"\",INDIRECT(\"'3.09.1a (8)'!c32\"))","v":""},{"$f":"IF(ISERROR(INDIRECT(\"'3.09.1a (8)'!d32\"))=TRUE,\"\",INDIRECT(\"'3.09.1a (8)'!d32\"))","v":""},{"$f":"IF(ISERROR(INDIRECT(\"'3.09.1a (8)'!e32\"))=TRUE,\"\",INDIRECT(\"'3.09.1a (8)'!e32\"))","v":""},{"$f":"IF(ISERROR(INDIRECT(\"'3.09.1a (8)'!f32\"))=TRUE,\"\",INDIRECT(\"'3.09.1a (8)'!f32\"))","v":""},{"$f":"IF(ISERROR(INDIRECT(\"'3.09.1a (8)'!g32\"))=TRUE,\"\",INDIRECT(\"'3.09.1a (8)'!g32\"))","v":""},{"$f":"IF(ISERROR(INDIRECT(\"'3.09.1a (8)'!h32\"))=TRUE,\"\",INDIRECT(\"'3.09.1a (8)'!h32\"))","v":""},{"$f":"IF(ISERROR(INDIRECT(\"'3.09.1a (8)'!i32\"))=TRUE,\"\",INDIRECT(\"'3.09.1a (8)'!i32\"))","v":""},{"$f":"IF(ISERROR(INDIRECT(\"'3.09.1a (8)'!j32\"))=TRUE,\"\",INDIRECT(\"'3.09.1a (8)'!j32\"))","v":""},{"$f":"IF(ISERROR(INDIRECT(\"'3.09.1a (8)'!o32\"))=TRUE,\"\",INDIRECT(\"'3.09.1a (8)'!o32\"))","v":""},{"$f":"IF(ISERROR(INDIRECT(\"'3.09.1a (8)'!p32\"))=TRUE,\"\",INDIRECT(\"'3.09.1a (8)'!p32\"))","v":""},{"$f":"IF(ISERROR(INDIRECT(\"'3.09.1a (8)'!q32\"))=TRUE,\"\",INDIRECT(\"'3.09.1a (8)'!q32\"))","v":""},{"$f":"IF(ISERROR(INDIRECT(\"'3.09.1a (8)'!s32\"))=TRUE,\"\",INDIRECT(\"'3.09.1a (8)'!s32\"))","v":""},{"$f":"IF(ISERROR(INDIRECT(\"'3.09.1a (8)'!t32\"))=TRUE,\"\",INDIRECT(\"'3.09.1a (8)'!t32\"))","v":""},{"$f":"IF(ISERROR(INDIRECT(\"'3.09.1a (8)'!u32\"))=TRUE,\"\",INDIRECT(\"'3.09.1a (8)'!u32\"))","v":""},{"$f":"IF(ISERROR(INDIRECT(\"'3.09.1a (8)'!v32\"))=TRUE,\"\",INDIRECT(\"'3.09.1a (8)'!v32\"))","v":""},{"$f":"IF(ISERROR(INDIRECT(\"'3.09.1a (8)'!w32\"))=TRUE,\"\",INDIRECT(\"'3.09.1a (8)'!w32\"))","v":""},{"$f":"IF(ISERROR(INDIRECT(\"'3.09.1a (8)'!x32\"))=TRUE,\"\",INDIRECT(\"'3.09.1a (8)'!x32\"))","v":""},{"$f":"IF(ISERROR(INDIRECT(\"'3.09.1a (8)'!aa32\"))=TRUE,\"\",INDIRECT(\"'3.09.1a (8)'!aa32\"))","v":""},{"$f":"IF(ISERROR(INDIRECT(\"'3.09.1a (8)'!ad32\"))=TRUE,\"\",INDIRECT(\"'3.09.1a (8)'!ad32\"))","v":""},{"$f":"IF(ISERROR(INDIRECT(\"'3.09.1a (8)'!ah32\"))=TRUE,\"\",INDIRECT(\"'3.09.1a (8)'!ah32\"))","v":""},{"$f":"IF(ISERROR(INDIRECT(\"'3.09.1a (8)'!am32\"))=TRUE,\"\",INDIRECT(\"'3.09.1a (8)'!am32\"))","v":""}]
[0,"3.09.1a (8)",{"$f":"IF(ISERROR(INDIRECT(\"'3.09.1a (8)'!b33\"))=TRUE,\"\",INDIRECT(\"'3.09.1a (8)'!b33\"))","v":""},{"$f":"IF(ISERROR(INDIRECT(\"'3.09.1a (8)'!c33\"))=TRUE,\"\",INDIRECT(\"'3.09.1a (8)'!c33\"))","v":""},{"$f":"IF(ISERROR(INDIRECT(\"'3.09.1a (8)'!d33\"))=TRUE,\"\",INDIRECT(\"'3.09.1a (8)'!d33\"))","v":""},{"$f":"IF(ISERROR(INDIRECT(\"'3.09.1a (8)'!e33\"))=TRUE,\"\",INDIRECT(\"'3.09.1a (8)'!e33\"))","v":""},{"$f":"IF(ISERROR(INDIRECT(\"'3.09.1a (8)'!f33\"))=TRUE,\"\",INDIRECT(\"'3.09.1a (8)'!f33\"))","v":""},{"$f":"IF(ISERROR(INDIRECT(\"'3.09.1a (8)'!g33\"))=TRUE,\"\",INDIRECT(\"'3.09.1a (8)'!g33\"))","v":""},{"$f":"IF(ISERROR(INDIRECT(\"'3.09.1a (8)'!h33\"))=TRUE,\"\",INDIRECT(\"'3.09.1a (8)'!h33\"))","v":""},{"$f":"IF(ISERROR(INDIRECT(\"'3.09.1a (8)'!i33\"))=TRUE,\"\",INDIRECT(\"'3.09.1a (8)'!i33\"))","v":""},{"$f":"IF(ISERROR(INDIRECT(\"'3.09.1a (8)'!j33\"))=TRUE,\"\",INDIRECT(\"'3.09.1a (8)'!j33\"))","v":""},{"$f":"IF(ISERROR(INDIRECT(\"'3.09.1a (8)'!o33\"))=TRUE,\"\",INDIRECT(\"'3.09.1a (8)'!o33\"))","v":""},{"$f":"IF(ISERROR(INDIRECT(\"'3.09.1a (8)'!p33\"))=TRUE,\"\",INDIRECT(\"'3.09.1a (8)'!p33\"))","v":""},{"$f":"IF(ISERROR(INDIRECT(\"'3.09.1a (8)'!q33\"))=TRUE,\"\",INDIRECT(\"'3.09.1a (8)'!q33\"))","v":""},{"$f":"IF(ISERROR(INDIRECT(\"'3.09.1a (8)'!s33\"))=TRUE,\"\",INDIRECT(\"'3.09.1a (8)'!s33\"))","v":""},{"$f":"IF(ISERROR(INDIRECT(\"'3.09.1a (8)'!t33\"))=TRUE,\"\",INDIRECT(\"'3.09.1a (8)'!t33\"))","v":""},{"$f":"IF(ISERROR(INDIRECT(\"'3.09.1a (8)'!u33\"))=TRUE,\"\",INDIRECT(\"'3.09.1a (8)'!u33\"))","v":""},{"$f":"IF(ISERROR(INDIRECT(\"'3.09.1a (8)'!v33\"))=TRUE,\"\",INDIRECT(\"'3.09.1a (8)'!v33\"))","v":""},{"$f":"IF(ISERROR(INDIRECT(\"'3.09.1a (8)'!w33\"))=TRUE,\"\",INDIRECT(\"'3.09.1a (8)'!w33\"))","v":""},{"$f":"IF(ISERROR(INDIRECT(\"'3.09.1a (8)'!x33\"))=TRUE,\"\",INDIRECT(\"'3.09.1a (8)'!x33\"))","v":""},{"$f":"IF(ISERROR(INDIRECT(\"'3.09.1a (8)'!aa33\"))=TRUE,\"\",INDIRECT(\"'3.09.1a (8)'!aa33\"))","v":""},{"$f":"IF(ISERROR(INDIRECT(\"'3.09.1a (8)'!ad33\"))=TRUE,\"\",INDIRECT(\"'3.09.1a (8)'!ad33\"))","v":""},{"$f":"IF(ISERROR(INDIRECT(\"'3.09.1a (8)'!ah33\"))=TRUE,\"\",INDIRECT(\"'3.09.1a (8)'!ah33\"))","v":""},{"$f":"IF(ISERROR(INDIRECT(\"'3.09.1a (8)'!am33\"))=TRUE,\"\",INDIRECT(\"'3.09.1a (8)'!am33\"))","v":""}]
[0,"3.09.1a (8)",{"$f":"IF(ISERROR(INDIRECT(\"'3.09.1a (8)'!b34\"))=TRUE,\"\",INDIRECT(\"'3.09.1a (8)'!b34\"))","v":""},{"$f":"IF(ISERROR(INDIRECT(\"'3.09.1a (8)'!c34\"))=TRUE,\"\",INDIRECT(\"'3.09.1a (8)'!c34\"))","v":""},{"$f":"IF(ISERROR(INDIRECT(\"'3.09.1a (8)'!d34\"))=TRUE,\"\",INDIRECT(\"'3.09.1a (8)'!d34\"))","v":""},{"$f":"IF(ISERROR(INDIRECT(\"'3.09.1a (8)'!e34\"))=TRUE,\"\",INDIRECT(\"'3.09.1a (8)'!e34\"))","v":""},{"$f":"IF(ISERROR(INDIRECT(\"'3.09.1a (8)'!f34\"))=TRUE,\"\",INDIRECT(\"'3.09.1a (8)'!f34\"))","v":""},{"$f":"IF(ISERROR(INDIRECT(\"'3.09.1a (8)'!g34\"))=TRUE,\"\",INDIRECT(\"'3.09.1a (8)'!g34\"))","v":""},{"$f":"IF(ISERROR(INDIRECT(\"'3.09.1a (8)'!h34\"))=TRUE,\"\",INDIRECT(\"'3.09.1a (8)'!h34\"))","v":""},{"$f":"IF(ISERROR(INDIRECT(\"'3.09.1a (8)'!i34\"))=TRUE,\"\",INDIRECT(\"'3.09.1a (8)'!i34\"))","v":""},{"$f":"IF(ISERROR(INDIRECT(\"'3.09.1a (8)'!j34\"))=TRUE,\"\",INDIRECT(\"'3.09.1a (8)'!j34\"))","v":""},{"$f":"IF(ISERROR(INDIRECT(\"'3.09.1a (8)'!o34\"))=TRUE,\"\",INDIRECT(\"'3.09.1a (8)'!o34\"))","v":""},{"$f":"IF(ISERROR(INDIRECT(\"'3.09.1a (8)'!p34\"))=TRUE,\"\",INDIRECT(\"'3.09.1a (8)'!p34\"))","v":""},{"$f":"IF(ISERROR(INDIRECT(\"'3.09.1a (8)'!q34\"))=TRUE,\"\",INDIRECT(\"'3.09.1a (8)'!q34\"))","v":""},{"$f":"IF(ISERROR(INDIRECT(\"'3.09.1a (8)'!s34\"))=TRUE,\"\",INDIRECT(\"'3.09.1a (8)'!s34\"))","v":""},{"$f":"IF(ISERROR(INDIRECT(\"'3.09.1a (8)'!t34\"))=TRUE,\"\",INDIRECT(\"'3.09.1a (8)'!t34\"))","v":""},{"$f":"IF(ISERROR(INDIRECT(\"'3.09.1a (8)'!u34\"))=TRUE,\"\",INDIRECT(\"'3.09.1a (8)'!u34\"))","v":""},{"$f":"IF(ISERROR(INDIRECT(\"'3.09.1a (8)'!v34\"))=TRUE,\"\",INDIRECT(\"'3.09.1a (8)'!v34\"))","v":""},{"$f":"IF(ISERROR(INDIRECT(\"'3.09.1a (8)'!w34\"))=TRUE,\"\",INDIRECT(\"'3.09.1a (8)'!w34\"))","v":""},{"$f":"IF(ISERROR(INDIRECT(\"'3.09.1a (8)'!x34\"))=TRUE,\"\",INDIRECT(\"'3.09.1a (8)'!x34\"))","v":""},{"$f":"IF(ISERROR(INDIRECT(\"'3.09.1a (8)'!aa34\"))=TRUE,\"\",INDIRECT(\"'3.09.1a (8)'!aa34\"))","v":""},{"$f":"IF(ISERROR(INDIRECT(\"'3.09.1a (8)'!ad34\"))=TRUE,\"\",INDIRECT(\"'3.09.1a (8)'!ad34\"))","v":""},{"$f":"IF(ISERROR(INDIRECT(\"'3.09.1a (8)'!ah34\"))=TRUE,\"\",INDIRECT(\"'3.09.1a (8)'!ah34\"))","v":""},{"$f":"IF(ISERROR(INDIRECT(\"'3.09.1a (8)'!am34\"))=TRUE,\"\",INDIRECT(\"'3.09.1a (8)'!am34\"))","v":""}]
[0,"3.09.1a (8)",{"$f":"IF(ISERROR(INDIRECT(\"'3.09.1a (8)'!b35\"))=TRUE,\"\",INDIRECT(\"'3.09.1a (8)'!b35\"))","v":""},{"$f":"IF(ISERROR(INDIRECT(\"'3.09.1a (8)'!c35\"))=TRUE,\"\",INDIRECT(\"'3.09.1a (8)'!c35\"))","v":""},{"$f":"IF(ISERROR(INDIRECT(\"'3.09.1a (8)'!d35\"))=TRUE,\"\",INDIRECT(\"'3.09.1a (8)'!d35\"))","v":""},{"$f":"IF(ISERROR(INDIRECT(\"'3.09.1a (8)'!e35\"))=TRUE,\"\",INDIRECT(\"'3.09.1a (8)'!e35\"))","v":""},{"$f":"IF(ISERROR(INDIRECT(\"'3.09.1a (8)'!f35\"))=TRUE,\"\",INDIRECT(\"'3.09.1a (8)'!f35\"))","v":""},{"$f":"IF(ISERROR(INDIRECT(\"'3.09.1a (8)'!g35\"))=TRUE,\"\",INDIRECT(\"'3.09.1a (8)'!g35\"))","v":""},{"$f":"IF(ISERROR(INDIRECT(\"'3.09.1a (8)'!h35\"))=TRUE,\"\",INDIRECT(\"'3.09.1a (8)'!h35\"))","v":""},{"$f":"IF(ISERROR(INDIRECT(\"'3.09.1a (8)'!i35\"))=TRUE,\"\",INDIRECT(\"'3.09.1a (8)'!i35\"))","v":""},{"$f":"IF(ISERROR(INDIRECT(\"'3.09.1a (8)'!j35\"))=TRUE,\"\",INDIRECT(\"'3.09.1a (8)'!j35\"))","v":""},{"$f":"IF(ISERROR(INDIRECT(\"'3.09.1a (8)'!o35\"))=TRUE,\"\",INDIRECT(\"'3.09.1a (8)'!o35\"))","v":""},{"$f":"IF(ISERROR(INDIRECT(\"'3.09.1a (8)'!p35\"))=TRUE,\"\",INDIRECT(\"'3.09.1a (8)'!p35\"))","v":""},{"$f":"IF(ISERROR(INDIRECT(\"'3.09.1a (8)'!q35\"))=TRUE,\"\",INDIRECT(\"'3.09.1a (8)'!q35\"))","v":""},{"$f":"IF(ISERROR(INDIRECT(\"'3.09.1a (8)'!s35\"))=TRUE,\"\",INDIRECT(\"'3.09.1a (8)'!s35\"))","v":""},{"$f":"IF(ISERROR(INDIRECT(\"'3.09.1a (8)'!t35\"))=TRUE,\"\",INDIRECT(\"'3.09.1a (8)'!t35\"))","v":""},{"$f":"IF(ISERROR(INDIRECT(\"'3.09.1a (8)'!u35\"))=TRUE,\"\",INDIRECT(\"'3.09.1a (8)'!u35\"))","v":""},{"$f":"IF(ISERROR(INDIRECT(\"'3.09.1a (8)'!v35\"))=TRUE,\"\",INDIRECT(\"'3.09.1a (8)'!v35\"))","v":""},{"$f":"IF(ISERROR(INDIRECT(\"'3.09.1a (8)'!w35\"))=TRUE,\"\",INDIRECT(\"'3.09.1a (8)'!w35\"))","v":""},{"$f":"IF(ISERROR(INDIRECT(\"'3.09.1a (8)'!x35\"))=TRUE,\"\",INDIRECT(\"'3.09.1a (8)'!x35\"))","v":""},{"$f":"IF(ISERROR(INDIRECT(\"'3.09.1a (8)'!aa35\"))=TRUE,\"\",INDIRECT(\"'3.09.1a (8)'!aa35\"))","v":""},{"$f":"IF(ISERROR(INDIRECT(\"'3.09.1a (8)'!ad35\"))=TRUE,\"\",INDIRECT(\"'3.09.1a (8)'!ad35\"))","v":""},{"$f":"IF(ISERROR(INDIRECT(\"'3.09.1a (8)'!ah35\"))=TRUE,\"\",INDIRECT(\"'3.09.1a (8)'!ah35\"))","v":""},{"$f":"IF(ISERROR(INDIRECT(\"'3.09.1a (8)'!am35\"))=TRUE,\"\",INDIRECT(\"'3.09.1a (8)'!am35\"))","v":""}]
[0,"3.09.1a (8)",{"$f":"IF(ISERROR(INDIRECT(\"'3.09.1a (8)'!b36\"))=TRUE,\"\",INDIRECT(\"'3.09.1a (8)'!b36\"))","v":""},{"$f":"IF(ISERROR(INDIRECT(\"'3.09.1a (8)'!c36\"))=TRUE,\"\",INDIRECT(\"'3.09.1a (8)'!c36\"))","v":""},{"$f":"IF(ISERROR(INDIRECT(\"'3.09.1a (8)'!d36\"))=TRUE,\"\",INDIRECT(\"'3.09.1a (8)'!d36\"))","v":""},{"$f":"IF(ISERROR(INDIRECT(\"'3.09.1a (8)'!e36\"))=TRUE,\"\",INDIRECT(\"'3.09.1a (8)'!e36\"))","v":""},{"$f":"IF(ISERROR(INDIRECT(\"'3.09.1a (8)'!f36\"))=TRUE,\"\",INDIRECT(\"'3.09.1a (8)'!f36\"))","v":""},{"$f":"IF(ISERROR(INDIRECT(\"'3.09.1a (8)'!g36\"))=TRUE,\"\",INDIRECT(\"'3.09.1a (8)'!g36\"))","v":""},{"$f":"IF(ISERROR(INDIRECT(\"'3.09.1a (8)'!h36\"))=TRUE,\"\",INDIRECT(\"'3.09.1a (8)'!h36\"))","v":""},{"$f":"IF(ISERROR(INDIRECT(\"'3.09.1a (8)'!i36\"))=TRUE,\"\",INDIRECT(\"'3.09.1a (8)'!i36\"))","v":""},{"$f":"IF(ISERROR(INDIRECT(\"'3.09.1a (8)'!j36\"))=TRUE,\"\",INDIRECT(\"'3.09.1a (8)'!j36\"))","v":""},{"$f":"IF(ISERROR(INDIRECT(\"'3.09.1a (8)'!o36\"))=TRUE,\"\",INDIRECT(\"'3.09.1a (8)'!o36\"))","v":""},{"$f":"IF(ISERROR(INDIRECT(\"'3.09.1a (8)'!p36\"))=TRUE,\"\",INDIRECT(\"'3.09.1a (8)'!p36\"))","v":""},{"$f":"IF(ISERROR(INDIRECT(\"'3.09.1a (8)'!q36\"))=TRUE,\"\",INDIRECT(\"'3.09.1a (8)'!q36\"))","v":""},{"$f":"IF(ISERROR(INDIRECT(\"'3.09.1a (8)'!s36\"))=TRUE,\"\",INDIRECT(\"'3.09.1a (8)'!s36\"))","v":""},{"$f":"IF(ISERROR(INDIRECT(\"'3.09.1a (8)'!t36\"))=TRUE,\"\",INDIRECT(\"'3.09.1a (8)'!t36\"))","v":""},{"$f":"IF(ISERROR(INDIRECT(\"'3.09.1a (8)'!u36\"))=TRUE,\"\",INDIRECT(\"'3.09.1a (8)'!u36\"))","v":""},{"$f":"IF(ISERROR(INDIRECT(\"'3.09.1a (8)'!v36\"))=TRUE,\"\",INDIRECT(\"'3.09.1a (8)'!v36\"))","v":""},{"$f":"IF(ISERROR(INDIRECT(\"'3.09.1a (8)'!w36\"))=TRUE,\"\",INDIRECT(\"'3.09.1a (8)'!w36\"))","v":""},{"$f":"IF(ISERROR(INDIRECT(\"'3.09.1a (8)'!x36\"))=TRUE,\"\",INDIRECT(\"'3.09.1a (8)'!x36\"))","v":""},{"$f":"IF(ISERROR(INDIRECT(\"'3.09.1a (8)'!aa36\"))=TRUE,\"\",INDIRECT(\"'3.09.1a (8)'!aa36\"))","v":""},{"$f":"IF(ISERROR(INDIRECT(\"'3.09.1a (8)'!ad36\"))=TRUE,\"\",INDIRECT(\"'3.09.1a (8)'!ad36\"))","v":""},{"$f":"IF(ISERROR(INDIRECT(\"'3.09.1a (8)'!ah36\"))=TRUE,\"\",INDIRECT(\"'3.09.1a (8)'!ah36\"))","v":""},{"$f":"IF(ISERROR(INDIRECT(\"'3.09.1a (8)'!am36\"))=TRUE,\"\",INDIRECT(\"'3.09.1a (8)'!am36\"))","v":""}]
[0,"3.09.1a (8)",{"$f":"IF(ISERROR(INDIRECT(\"'3.09.1a (8)'!b37\"))=TRUE,\"\",INDIRECT(\"'3.09.1a (8)'!b37\"))","v":""},{"$f":"IF(ISERROR(INDIRECT(\"'3.09.1a (8)'!c37\"))=TRUE,\"\",INDIRECT(\"'3.09.1a (8)'!c37\"))","v":""},{"$f":"IF(ISERROR(INDIRECT(\"'3.09.1a (8)'!d37\"))=TRUE,\"\",INDIRECT(\"'3.09.1a (8)'!d37\"))","v":""},{"$f":"IF(ISERROR(INDIRECT(\"'3.09.1a (8)'!e37\"))=TRUE,\"\",INDIRECT(\"'3.09.1a (8)'!e37\"))","v":""},{"$f":"IF(ISERROR(INDIRECT(\"'3.09.1a (8)'!f37\"))=TRUE,\"\",INDIRECT(\"'3.09.1a (8)'!f37\"))","v":""},{"$f":"IF(ISERROR(INDIRECT(\"'3.09.1a (8)'!g37\"))=TRUE,\"\",INDIRECT(\"'3.09.1a (8)'!g37\"))","v":""},{"$f":"IF(ISERROR(INDIRECT(\"'3.09.1a (8)'!h37\"))=TRUE,\"\",INDIRECT(\"'3.09.1a (8)'!h37\"))","v":""},{"$f":"IF(ISERROR(INDIRECT(\"'3.09.1a (8)'!i37\"))=TRUE,\"\",INDIRECT(\"'3.09.1a (8)'!i37\"))","v":""},{"$f":"IF(ISERROR(INDIRECT(\"'3.09.1a (8)'!j37\"))=TRUE,\"\",INDIRECT(\"'3.09.1a (8)'!j37\"))","v":""},{"$f":"IF(ISERROR(INDIRECT(\"'3.09.1a (8)'!o37\"))=TRUE,\"\",INDIRECT(\"'3.09.1a (8)'!o37\"))","v":""},{"$f":"IF(ISERROR(INDIRECT(\"'3.09.1a (8)'!p37\"))=TRUE,\"\",INDIRECT(\"'3.09.1a (8)'!p37\"))","v":""},{"$f":"IF(ISERROR(INDIRECT(\"'3.09.1a (8)'!q37\"))=TRUE,\"\",INDIRECT(\"'3.09.1a (8)'!q37\"))","v":""},{"$f":"IF(ISERROR(INDIRECT(\"'3.09.1a (8)'!s37\"))=TRUE,\"\",INDIRECT(\"'3.09.1a (8)'!s37\"))","v":""},{"$f":"IF(ISERROR(INDIRECT(\"'3.09.1a (8)'!t37\"))=TRUE,\"\",INDIRECT(\"'3.09.1a (8)'!t37\"))","v":""},{"$f":"IF(ISERROR(INDIRECT(\"'3.09.1a (8)'!u37\"))=TRUE,\"\",INDIRECT(\"'3.09.1a (8)'!u37\"))","v":""},{"$f":"IF(ISERROR(INDIRECT(\"'3.09.1a (8)'!v37\"))=TRUE,\"\",INDIRECT(\"'3.09.1a (8)'!v37\"))","v":""},{"$f":"IF(ISERROR(INDIRECT(\"'3.09.1a (8)'!w37\"))=TRUE,\"\",INDIRECT(\"'3.09.1a (8)'!w37\"))","v":""},{"$f":"IF(ISERROR(INDIRECT(\"'3.09.1a (8)'!x37\"))=TRUE,\"\",INDIRECT(\"'3.09.1a (8)'!x37\"))","v":""},{"$f":"IF(ISERROR(INDIRECT(\"'3.09.1a (8)'!aa37\"))=TRUE,\"\",INDIRECT(\"'3.09.1a (8)'!aa37\"))","v":""},{"$f":"IF(ISERROR(INDIRECT(\"'3.09.1a (8)'!ad37\"))=TRUE,\"\",INDIRECT(\"'3.09.1a (8)'!ad37\"))","v":""},{"$f":"IF(ISERROR(INDIRECT(\"'3.09.1a (8)'!ah37\"))=TRUE,\"\",INDIRECT(\"'3.09.1a (8)'!ah37\"))","v":""},{"$f":"IF(ISERROR(INDIRECT(\"'3.09.1a (8)'!am37\"))=TRUE,\"\",INDIRECT(\"'3.09.1a (8)'!am37\"))","v":""}]
[0,"3.09.1a (8)",{"$f":"IF(ISERROR(INDIRECT(\"'3.09.1a (8)'!b38\"))=TRUE,\"\",INDIRECT(\"'3.09.1a (8)'!b38\"))","v":""},{"$f":"IF(ISERROR(INDIRECT(\"'3.09.1a (8)'!c38\"))=TRUE,\"\",INDIRECT(\"'3.09.1a (8)'!c38\"))","v":""},{"$f":"IF(ISERROR(INDIRECT(\"'3.09.1a (8)'!d38\"))=TRUE,\"\",INDIRECT(\"'3.09.1a (8)'!d38\"))","v":""},{"$f":"IF(ISERROR(INDIRECT(\"'3.09.1a (8)'!e38\"))=TRUE,\"\",INDIRECT(\"'3.09.1a (8)'!e38\"))","v":""},{"$f":"IF(ISERROR(INDIRECT(\"'3.09.1a (8)'!f38\"))=TRUE,\"\",INDIRECT(\"'3.09.1a (8)'!f38\"))","v":""},{"$f":"IF(ISERROR(INDIRECT(\"'3.09.1a (8)'!g38\"))=TRUE,\"\",INDIRECT(\"'3.09.1a (8)'!g38\"))","v":""},{"$f":"IF(ISERROR(INDIRECT(\"'3.09.1a (8)'!h38\"))=TRUE,\"\",INDIRECT(\"'3.09.1a (8)'!h38\"))","v":""},{"$f":"IF(ISERROR(INDIRECT(\"'3.09.1a (8)'!i38\"))=TRUE,\"\",INDIRECT(\"'3.09.1a (8)'!i38\"))","v":""},{"$f":"IF(ISERROR(INDIRECT(\"'3.09.1a (8)'!j38\"))=TRUE,\"\",INDIRECT(\"'3.09.1a (8)'!j38\"))","v":""},{"$f":"IF(ISERROR(INDIRECT(\"'3.09.1a (8)'!o38\"))=TRUE,\"\",INDIRECT(\"'3.09.1a (8)'!o38\"))","v":""},{"$f":"IF(ISERROR(INDIRECT(\"'3.09.1a (8)'!p38\"))=TRUE,\"\",INDIRECT(\"'3.09.1a (8)'!p38\"))","v":""},{"$f":"IF(ISERROR(INDIRECT(\"'3.09.1a (8)'!q38\"))=TRUE,\"\",INDIRECT(\"'3.09.1a (8)'!q38\"))","v":""},{"$f":"IF(ISERROR(INDIRECT(\"'3.09.1a (8)'!s38\"))=TRUE,\"\",INDIRECT(\"'3.09.1a (8)'!s38\"))","v":""},{"$f":"IF(ISERROR(INDIRECT(\"'3.09.1a (8)'!t38\"))=TRUE,\"\",INDIRECT(\"'3.09.1a (8)'!t38\"))","v":""},{"$f":"IF(ISERROR(INDIRECT(\"'3.09.1a (8)'!u38\"))=TRUE,\"\",INDIRECT(\"'3.09.1a (8)'!u38\"))","v":""},{"$f":"IF(ISERROR(INDIRECT(\"'3.09.1a (8)'!v38\"))=TRUE,\"\",INDIRECT(\"'3.09.1a (8)'!v38\"))","v":""},{"$f":"IF(ISERROR(INDIRECT(\"'3.09.1a (8)'!w38\"))=TRUE,\"\",INDIRECT(\"'3.09.1a (8)'!w38\"))","v":""},{"$f":"IF(ISERROR(INDIRECT(\"'3.09.1a (8)'!x38\"))=TRUE,\"\",INDIRECT(\"'3.09.1a (8)'!x38\"))","v":""},{"$f":"IF(ISERROR(INDIRECT(\"'3.09.1a (8)'!aa38\"))=TRUE,\"\",INDIRECT(\"'3.09.1a (8)'!aa38\"))","v":""},{"$f":"IF(ISERROR(INDIRECT(\"'3.09.1a (8)'!ad38\"))=TRUE,\"\",INDIRECT(\"'3.09.1a (8)'!ad38\"))","v":""},{"$f":"IF(ISERROR(INDIRECT(\"'3.09.1a (8)'!ah38\"))=TRUE,\"\",INDIRECT(\"'3.09.1a (8)'!ah38\"))","v":""},{"$f":"IF(ISERROR(INDIRECT(\"'3.09.1a (8)'!am38\"))=TRUE,\"\",INDIRECT(\"'3.09.1a (8)'!am38\"))","v":""}]
[0,"3.09.1a (8)",{"$f":"IF(ISERROR(INDIRECT(\"'3.09.1a (8)'!b39\"))=TRUE,\"\",INDIRECT(\"'3.09.1a (8)'!b39\"))","v":""},{"$f":"IF(ISERROR(INDIRECT(\"'3.09.1a (8)'!c39\"))=TRUE,\"\",INDIRECT(\"'3.09.1a (8)'!c39\"))","v":""},{"$f":"IF(ISERROR(INDIRECT(\"'3.09.1a (8)'!d39\"))=TRUE,\"\",INDIRECT(\"'3.09.1a (8)'!d39\"))","v":""},{"$f":"IF(ISERROR(INDIRECT(\"'3.09.1a (8)'!e39\"))=TRUE,\"\",INDIRECT(\"'3.09.1a (8)'!e39\"))","v":""},{"$f":"IF(ISERROR(INDIRECT(\"'3.09.1a (8)'!f39\"))=TRUE,\"\",INDIRECT(\"'3.09.1a (8)'!f39\"))","v":""},{"$f":"IF(ISERROR(INDIRECT(\"'3.09.1a (8)'!g39\"))=TRUE,\"\",INDIRECT(\"'3.09.1a (8)'!g39\"))","v":""},{"$f":"IF(ISERROR(INDIRECT(\"'3.09.1a (8)'!h39\"))=TRUE,\"\",INDIRECT(\"'3.09.1a (8)'!h39\"))","v":""},{"$f":"IF(ISERROR(INDIRECT(\"'3.09.1a (8)'!i39\"))=TRUE,\"\",INDIRECT(\"'3.09.1a (8)'!i39\"))","v":""},{"$f":"IF(ISERROR(INDIRECT(\"'3.09.1a (8)'!j39\"))=TRUE,\"\",INDIRECT(\"'3.09.1a (8)'!j39\"))","v":""},{"$f":"IF(ISERROR(INDIRECT(\"'3.09.1a (8)'!o39\"))=TRUE,\"\",INDIRECT(\"'3.09.1a (8)'!o39\"))","v":""},{"$f":"IF(ISERROR(INDIRECT(\"'3.09.1a (8)'!p39\"))=TRUE,\"\",INDIRECT(\"'3.09.1a (8)'!p39\"))","v":""},{"$f":"IF(ISERROR(INDIRECT(\"'3.09.1a (8)'!q39\"))=TRUE,\"\",INDIRECT(\"'3.09.1a (8)'!q39\"))","v":""},{"$f":"IF(ISERROR(INDIRECT(\"'3.09.1a (8)'!s39\"))=TRUE,\"\",INDIRECT(\"'3.09.1a (8)'!s39\"))","v":""},{"$f":"IF(ISERROR(INDIRECT(\"'3.09.1a (8)'!t39\"))=TRUE,\"\",INDIRECT(\"'3.09.1a (8)'!t39\"))","v":""},{"$f":"IF(ISERROR(INDIRECT(\"'3.09.1a (8)'!u39\"))=TRUE,\"\",INDIRECT(\"'3.09.1a (8)'!u39\"))","v":""},{"$f":"IF(ISERROR(INDIRECT(\"'3.09.1a (8)'!v39\"))=TRUE,\"\",INDIRECT(\"'3.09.1a (8)'!v39\"))","v":""},{"$f":"IF(ISERROR(INDIRECT(\"'3.09.1a (8)'!w39\"))=TRUE,\"\",INDIRECT(\"'3.09.1a (8)'!w39\"))","v":""},{"$f":"IF(ISERROR(INDIRECT(\"'3.09.1a (8)'!x39\"))=TRUE,\"\",INDIRECT(\"'3.09.1a (8)'!x39\"))","v":""},{"$f":"IF(ISERROR(INDIRECT(\"'3.09.1a (8)'!aa39\"))=TRUE,\"\",INDIRECT(\"'3.09.1a (8)'!aa39\"))","v":""},{"$f":"IF(ISERROR(INDIRECT(\"'3.09.1a (8)'!ad39\"))=TRUE,\"\",INDIRECT(\"'3.09.1a (8)'!ad39\"))","v":""},{"$f":"IF(ISERROR(INDIRECT(\"'3.09.1a (8)'!ah39\"))=TRUE,\"\",INDIRECT(\"'3.09.1a (8)'!ah39\"))","v":""},{"$f":"IF(ISERROR(INDIRECT(\"'3.09.1a (8)'!am39\"))=TRUE,\"\",INDIRECT(\"'3.09.1a (8)'!am39\"))","v":""}]
[0,"3.09.1a (8)",{"$f":"IF(ISERROR(INDIRECT(\"'3.09.1a (8)'!b40\"))=TRUE,\"\",INDIRECT(\"'3.09.1a (8)'!b40\"))","v":""},{"$f":"IF(ISERROR(INDIRECT(\"'3.09.1a (8)'!c40\"))=TRUE,\"\",INDIRECT(\"'3.09.1a (8)'!c40\"))","v":""},{"$f":"IF(ISERROR(INDIRECT(\"'3.09.1a (8)'!d40\"))=TRUE,\"\",INDIRECT(\"'3.09.1a (8)'!d40\"))","v":""},{"$f":"IF(ISERROR(INDIRECT(\"'3.09.1a (8)'!e40\"))=TRUE,\"\",INDIRECT(\"'3.09.1a (8)'!e40\"))","v":""},{"$f":"IF(ISERROR(INDIRECT(\"'3.09.1a (8)'!f40\"))=TRUE,\"\",INDIRECT(\"'3.09.1a (8)'!f40\"))","v":""},{"$f":"IF(ISERROR(INDIRECT(\"'3.09.1a (8)'!g40\"))=TRUE,\"\",INDIRECT(\"'3.09.1a (8)'!g40\"))","v":""},{"$f":"IF(ISERROR(INDIRECT(\"'3.09.1a (8)'!h40\"))=TRUE,\"\",INDIRECT(\"'3.09.1a (8)'!h40\"))","v":""},{"$f":"IF(ISERROR(INDIRECT(\"'3.09.1a (8)'!i40\"))=TRUE,\"\",INDIRECT(\"'3.09.1a (8)'!i40\"))","v":""},{"$f":"IF(ISERROR(INDIRECT(\"'3.09.1a (8)'!j40\"))=TRUE,\"\",INDIRECT(\"'3.09.1a (8)'!j40\"))","v":""},{"$f":"IF(ISERROR(INDIRECT(\"'3.09.1a (8)'!o40\"))=TRUE,\"\",INDIRECT(\"'3.09.1a (8)'!o40\"))","v":""},{"$f":"IF(ISERROR(INDIRECT(\"'3.09.1a (8)'!p40\"))=TRUE,\"\",INDIRECT(\"'3.09.1a (8)'!p40\"))","v":""},{"$f":"IF(ISERROR(INDIRECT(\"'3.09.1a (8)'!q40\"))=TRUE,\"\",INDIRECT(\"'3.09.1a (8)'!q40\"))","v":""},{"$f":"IF(ISERROR(INDIRECT(\"'3.09.1a (8)'!s40\"))=TRUE,\"\",INDIRECT(\"'3.09.1a (8)'!s40\"))","v":""},{"$f":"IF(ISERROR(INDIRECT(\"'3.09.1a (8)'!t40\"))=TRUE,\"\",INDIRECT(\"'3.09.1a (8)'!t40\"))","v":""},{"$f":"IF(ISERROR(INDIRECT(\"'3.09.1a (8)'!u40\"))=TRUE,\"\",INDIRECT(\"'3.09.1a (8)'!u40\"))","v":""},{"$f":"IF(ISERROR(INDIRECT(\"'3.09.1a (8)'!v40\"))=TRUE,\"\",INDIRECT(\"'3.09.1a (8)'!v40\"))","v":""},{"$f":"IF(ISERROR(INDIRECT(\"'3.09.1a (8)'!w40\"))=TRUE,\"\",INDIRECT(\"'3.09.1a (8)'!w40\"))","v":""},{"$f":"IF(ISERROR(INDIRECT(\"'3.09.1a (8)'!x40\"))=TRUE,\"\",INDIRECT(\"'3.09.1a (8)'!x40\"))","v":""},{"$f":"IF(ISERROR(INDIRECT(\"'3.09.1a (8)'!aa40\"))=TRUE,\"\",INDIRECT(\"'3.09.1a (8)'!aa40\"))","v":""},{"$f":"IF(ISERROR(INDIRECT(\"'3.09.1a (8)'!ad40\"))=TRUE,\"\",INDIRECT(\"'3.09.1a (8)'!ad40\"))","v":""},{"$f":"IF(ISERROR(INDIRECT(\"'3.09.1a (8)'!ah40\"))=TRUE,\"\",INDIRECT(\"'3.09.1a (8)'!ah40\"))","v":""},{"$f":"IF(ISERROR(INDIRECT(\"'3.09.1a (8)'!am40\"))=TRUE,\"\",INDIRECT(\"'3.09.1a (8)'!am40\"))","v":""}]
[0,"3.09.1a (8)",{"$f":"IF(ISERROR(INDIRECT(\"'3.09.1a (8)'!b41\"))=TRUE,\"\",INDIRECT(\"'3.09.1a (8)'!b41\"))","v":""},{"$f":"IF(ISERROR(INDIRECT(\"'3.09.1a (8)'!c41\"))=TRUE,\"\",INDIRECT(\"'3.09.1a (8)'!c41\"))","v":""},{"$f":"IF(ISERROR(INDIRECT(\"'3.09.1a (8)'!d41\"))=TRUE,\"\",INDIRECT(\"'3.09.1a (8)'!d41\"))","v":""},{"$f":"IF(ISERROR(INDIRECT(\"'3.09.1a (8)'!e41\"))=TRUE,\"\",INDIRECT(\"'3.09.1a (8)'!e41\"))","v":""},{"$f":"IF(ISERROR(INDIRECT(\"'3.09.1a (8)'!f41\"))=TRUE,\"\",INDIRECT(\"'3.09.1a (8)'!f41\"))","v":""},{"$f":"IF(ISERROR(INDIRECT(\"'3.09.1a (8)'!g41\"))=TRUE,\"\",INDIRECT(\"'3.09.1a (8)'!g41\"))","v":""},{"$f":"IF(ISERROR(INDIRECT(\"'3.09.1a (8)'!h41\"))=TRUE,\"\",INDIRECT(\"'3.09.1a (8)'!h41\"))","v":""},{"$f":"IF(ISERROR(INDIRECT(\"'3.09.1a (8)'!i41\"))=TRUE,\"\",INDIRECT(\"'3.09.1a (8)'!i41\"))","v":""},{"$f":"IF(ISERROR(INDIRECT(\"'3.09.1a (8)'!j41\"))=TRUE,\"\",INDIRECT(\"'3.09.1a (8)'!j41\"))","v":""},{"$f":"IF(ISERROR(INDIRECT(\"'3.09.1a (8)'!o41\"))=TRUE,\"\",INDIRECT(\"'3.09.1a (8)'!o41\"))","v":""},{"$f":"IF(ISERROR(INDIRECT(\"'3.09.1a (8)'!p41\"))=TRUE,\"\",INDIRECT(\"'3.09.1a (8)'!p41\"))","v":""},{"$f":"IF(ISERROR(INDIRECT(\"'3.09.1a (8)'!q41\"))=TRUE,\"\",INDIRECT(\"'3.09.1a (8)'!q41\"))","v":""},{"$f":"IF(ISERROR(INDIRECT(\"'3.09.1a (8)'!s41\"))=TRUE,\"\",INDIRECT(\"'3.09.1a (8)'!s41\"))","v":""},{"$f":"IF(ISERROR(INDIRECT(\"'3.09.1a (8)'!t41\"))=TRUE,\"\",INDIRECT(\"'3.09.1a (8)'!t41\"))","v":""},{"$f":"IF(ISERROR(INDIRECT(\"'3.09.1a (8)'!u41\"))=TRUE,\"\",INDIRECT(\"'3.09.1a (8)'!u41\"))","v":""},{"$f":"IF(ISERROR(INDIRECT(\"'3.09.1a (8)'!v41\"))=TRUE,\"\",INDIRECT(\"'3.09.1a (8)'!v41\"))","v":""},{"$f":"IF(ISERROR(INDIRECT(\"'3.09.1a (8)'!w41\"))=TRUE,\"\",INDIRECT(\"'3.09.1a (8)'!w41\"))","v":""},{"$f":"IF(ISERROR(INDIRECT(\"'3.09.1a (8)'!x41\"))=TRUE,\"\",INDIRECT(\"'3.09.1a (8)'!x41\"))","v":""},{"$f":"IF(ISERROR(INDIRECT(\"'3.09.1a (8)'!aa41\"))=TRUE,\"\",INDIRECT(\"'3.09.1a (8)'!aa41\"))","v":""},{"$f":"IF(ISERROR(INDIRECT(\"'3.09.1a (8)'!ad41\"))=TRUE,\"\",INDIRECT(\"'3.09.1a (8)'!ad41\"))","v":""},{"$f":"IF(ISERROR(INDIRECT(\"'3.09.1a (8)'!ah41\"))=TRUE,\"\",INDIRECT(\"'3.09.1a (8)'!ah41\"))","v":""},{"$f":"IF(ISERROR(INDIRECT(\"'3.09.1a (8)'!am41\"))=TRUE,\"\",INDIRECT(\"'3.09.1a (8)'!am41\"))","v":""}]
[0,"3.09.1a (8)",{"$f":"IF(ISERROR(INDIRECT(\"'3.09.1a (8)'!b42\"))=TRUE,\"\",INDIRECT(\"'3.09.1a (8)'!b42\"))","v":""},{"$f":"IF(ISERROR(INDIRECT(\"'3.09.1a (8)'!c42\"))=TRUE,\"\",INDIRECT(\"'3.09.1a (8)'!c42\"))","v":""},{"$f":"IF(ISERROR(INDIRECT(\"'3.09.1a (8)'!d42\"))=TRUE,\"\",INDIRECT(\"'3.09.1a (8)'!d42\"))","v":""},{"$f":"IF(ISERROR(INDIRECT(\"'3.09.1a (8)'!e42\"))=TRUE,\"\",INDIRECT(\"'3.09.1a (8)'!e42\"))","v":""},{"$f":"IF(ISERROR(INDIRECT(\"'3.09.1a (8)'!f42\"))=TRUE,\"\",INDIRECT(\"'3.09.1a (8)'!f42\"))","v":""},{"$f":"IF(ISERROR(INDIRECT(\"'3.09.1a (8)'!g42\"))=TRUE,\"\",INDIRECT(\"'3.09.1a (8)'!g42\"))","v":""},{"$f":"IF(ISERROR(INDIRECT(\"'3.09.1a (8)'!h42\"))=TRUE,\"\",INDIRECT(\"'3.09.1a (8)'!h42\"))","v":""},{"$f":"IF(ISERROR(INDIRECT(\"'3.09.1a (8)'!i42\"))=TRUE,\"\",INDIRECT(\"'3.09.1a (8)'!i42\"))","v":""},{"$f":"IF(ISERROR(INDIRECT(\"'3.09.1a (8)'!j42\"))=TRUE,\"\",INDIRECT(\"'3.09.1a (8)'!j42\"))","v":""},{"$f":"IF(ISERROR(INDIRECT(\"'3.09.1a (8)'!o42\"))=TRUE,\"\",INDIRECT(\"'3.09.1a (8)'!o42\"))","v":""},{"$f":"IF(ISERROR(INDIRECT(\"'3.09.1a (8)'!p42\"))=TRUE,\"\",INDIRECT(\"'3.09.1a (8)'!p42\"))","v":""},{"$f":"IF(ISERROR(INDIRECT(\"'3.09.1a (8)'!q42\"))=TRUE,\"\",INDIRECT(\"'3.09.1a (8)'!q42\"))","v":""},{"$f":"IF(ISERROR(INDIRECT(\"'3.09.1a (8)'!s42\"))=TRUE,\"\",INDIRECT(\"'3.09.1a (8)'!s42\"))","v":""},{"$f":"IF(ISERROR(INDIRECT(\"'3.09.1a (8)'!t42\"))=TRUE,\"\",INDIRECT(\"'3.09.1a (8)'!t42\"))","v":""},{"$f":"IF(ISERROR(INDIRECT(\"'3.09.1a (8)'!u42\"))=TRUE,\"\",INDIRECT(\"'3.09.1a (8)'!u42\"))","v":""},{"$f":"IF(ISERROR(INDIRECT(\"'3.09.1a (8)'!v42\"))=TRUE,\"\",INDIRECT(\"'3.09.1a (8)'!v42\"))","v":""},{"$f":"IF(ISERROR(INDIRECT(\"'3.09.1a (8)'!w42\"))=TRUE,\"\",INDIRECT(\"'3.09.1a (8)'!w42\"))","v":""},{"$f":"IF(ISERROR(INDIRECT(\"'3.09.1a (8)'!x42\"))=TRUE,\"\",INDIRECT(\"'3.09.1a (8)'!x42\"))","v":""},{"$f":"IF(ISERROR(INDIRECT(\"'3.09.1a (8)'!aa42\"))=TRUE,\"\",INDIRECT(\"'3.09.1a (8)'!aa42\"))","v":""},{"$f":"IF(ISERROR(INDIRECT(\"'3.09.1a (8)'!ad42\"))=TRUE,\"\",INDIRECT(\"'3.09.1a (8)'!ad42\"))","v":""},{"$f":"IF(ISERROR(INDIRECT(\"'3.09.1a (8)'!ah42\"))=TRUE,\"\",INDIRECT(\"'3.09.1a (8)'!ah42\"))","v":""},{"$f":"IF(ISERROR(INDIRECT(\"'3.09.1a (8)'!am42\"))=TRUE,\"\",INDIRECT(\"'3.09.1a (8)'!am42\"))","v":""}]
[0,"3.09.1a (8)",{"$f":"IF(ISERROR(INDIRECT(\"'3.09.1a (8)'!b43\"))=TRUE,\"\",INDIRECT(\"'3.09.1a (8)'!b43\"))","v":""},{"$f":"IF(ISERROR(INDIRECT(\"'3.09.1a (8)'!c43\"))=TRUE,\"\",INDIRECT(\"'3.09.1a (8)'!c43\"))","v":""},{"$f":"IF(ISERROR(INDIRECT(\"'3.09.1a (8)'!d43\"))=TRUE,\"\",INDIRECT(\"'3.09.1a (8)'!d43\"))","v":""},{"$f":"IF(ISERROR(INDIRECT(\"'3.09.1a (8)'!e43\"))=TRUE,\"\",INDIRECT(\"'3.09.1a (8)'!e43\"))","v":""},{"$f":"IF(ISERROR(INDIRECT(\"'3.09.1a (8)'!f43\"))=TRUE,\"\",INDIRECT(\"'3.09.1a (8)'!f43\"))","v":""},{"$f":"IF(ISERROR(INDIRECT(\"'3.09.1a (8)'!g43\"))=TRUE,\"\",INDIRECT(\"'3.09.1a (8)'!g43\"))","v":""},{"$f":"IF(ISERROR(INDIRECT(\"'3.09.1a (8)'!h43\"))=TRUE,\"\",INDIRECT(\"'3.09.1a (8)'!h43\"))","v":""},{"$f":"IF(ISERROR(INDIRECT(\"'3.09.1a (8)'!i43\"))=TRUE,\"\",INDIRECT(\"'3.09.1a (8)'!i43\"))","v":""},{"$f":"IF(ISERROR(INDIRECT(\"'3.09.1a (8)'!j43\"))=TRUE,\"\",INDIRECT(\"'3.09.1a (8)'!j43\"))","v":""},{"$f":"IF(ISERROR(INDIRECT(\"'3.09.1a (8)'!o43\"))=TRUE,\"\",INDIRECT(\"'3.09.1a (8)'!o43\"))","v":""},{"$f":"IF(ISERROR(INDIRECT(\"'3.09.1a (8)'!p43\"))=TRUE,\"\",INDIRECT(\"'3.09.1a (8)'!p43\"))","v":""},{"$f":"IF(ISERROR(INDIRECT(\"'3.09.1a (8)'!q43\"))=TRUE,\"\",INDIRECT(\"'3.09.1a (8)'!q43\"))","v":""},{"$f":"IF(ISERROR(INDIRECT(\"'3.09.1a (8)'!s43\"))=TRUE,\"\",INDIRECT(\"'3.09.1a (8)'!s43\"))","v":""},{"$f":"IF(ISERROR(INDIRECT(\"'3.09.1a (8)'!t43\"))=TRUE,\"\",INDIRECT(\"'3.09.1a (8)'!t43\"))","v":""},{"$f":"IF(ISERROR(INDIRECT(\"'3.09.1a (8)'!u43\"))=TRUE,\"\",INDIRECT(\"'3.09.1a (8)'!u43\"))","v":""},{"$f":"IF(ISERROR(INDIRECT(\"'3.09.1a (8)'!v43\"))=TRUE,\"\",INDIRECT(\"'3.09.1a (8)'!v43\"))","v":""},{"$f":"IF(ISERROR(INDIRECT(\"'3.09.1a (8)'!w43\"))=TRUE,\"\",INDIRECT(\"'3.09.1a (8)'!w43\"))","v":""},{"$f":"IF(ISERROR(INDIRECT(\"'3.09.1a (8)'!x43\"))=TRUE,\"\",INDIRECT(\"'3.09.1a (8)'!x43\"))","v":""},{"$f":"IF(ISERROR(INDIRECT(\"'3.09.1a (8)'!aa43\"))=TRUE,\"\",INDIRECT(\"'3.09.1a (8)'!aa43\"))","v":""},{"$f":"IF(ISERROR(INDIRECT(\"'3.09.1a (8)'!ad43\"))=TRUE,\"\",INDIRECT(\"'3.09.1a (8)'!ad43\"))","v":""},{"$f":"IF(ISERROR(INDIRECT(\"'3.09.1a (8)'!ah43\"))=TRUE,\"\",INDIRECT(\"'3.09.1a (8)'!ah43\"))","v":""},{"$f":"IF(ISERROR(INDIRECT(\"'3.09.1a (8)'!am43\"))=TRUE,\"\",INDIRECT(\"'3.09.1a (8)'!am43\"))","v":""}]
[{"$f":"AgencyCode","v":0},"3.09.1a (9)",{"$f":"IF(ISERROR(INDIRECT(\"'3.09.1a (9)'!b19\"))=TRUE,\"\",INDIRECT(\"'3.09.1a (9)'!b19\"))","v":""},{"$f":"IF(ISERROR(INDIRECT(\"'3.09.1a (9)'!c19\"))=TRUE,\"\",INDIRECT(\"'3.09.1a (9)'!c19\"))","v":""},{"$f":"IF(ISERROR(INDIRECT(\"'3.09.1a (9)'!D19\"))=TRUE,\"\",INDIRECT(\"'3.09.1a (9)'!D19\"))","v":""},{"$f":"IF(ISERROR(INDIRECT(\"'3.09.1a (9)'!e19\"))=TRUE,\"\",INDIRECT(\"'3.09.1a (9)'!e19\"))","v":""},{"$f":"IF(ISERROR(INDIRECT(\"'3.09.1a (9)'!f19\"))=TRUE,\"\",INDIRECT(\"'3.09.1a (9)'!f19\"))","v":""},{"$f":"IF(ISERROR(INDIRECT(\"'3.09.1a (9)'!g19\"))=TRUE,\"\",INDIRECT(\"'3.09.1a (9)'!g19\"))","v":""},{"$f":"IF(ISERROR(INDIRECT(\"'3.09.1a (9)'!h19\"))=TRUE,\"\",INDIRECT(\"'3.09.1a (9)'!h19\"))","v":""},{"$f":"IF(ISERROR(INDIRECT(\"'3.09.1a (9)'!i19\"))=TRUE,\"\",INDIRECT(\"'3.09.1a (9)'!i19\"))","v":""},{"$f":"IF(ISERROR(INDIRECT(\"'3.09.1a (9)'!j19\"))=TRUE,\"\",INDIRECT(\"'3.09.1a (9)'!j19\"))","v":""},{"$f":"IF(ISERROR(INDIRECT(\"'3.09.1a (9)'!o19\"))=TRUE,\"\",INDIRECT(\"'3.09.1a (9)'!o19\"))","v":""},{"$f":"IF(ISERROR(INDIRECT(\"'3.09.1a (9)'!p19\"))=TRUE,\"\",INDIRECT(\"'3.09.1a (9)'!p19\"))","v":""},{"$f":"IF(ISERROR(INDIRECT(\"'3.09.1a (9)'!q19\"))=TRUE,\"\",INDIRECT(\"'3.09.1a (9)'!q19\"))","v":""},{"$f":"IF(ISERROR(INDIRECT(\"'3.09.1a (9)'!s19\"))=TRUE,\"\",INDIRECT(\"'3.09.1a (9)'!s19\"))","v":""},{"$f":"IF(ISERROR(INDIRECT(\"'3.09.1a (9)'!t19\"))=TRUE,\"\",INDIRECT(\"'3.09.1a (9)'!t19\"))","v":""},{"$f":"IF(ISERROR(INDIRECT(\"'3.09.1a (9)'!u19\"))=TRUE,\"\",INDIRECT(\"'3.09.1a (9)'!u19\"))","v":""},{"$f":"IF(ISERROR(INDIRECT(\"'3.09.1a (9)'!v19\"))=TRUE,\"\",INDIRECT(\"'3.09.1a (9)'!v19\"))","v":""},{"$f":"IF(ISERROR(INDIRECT(\"'3.09.1a (9)'!w19\"))=TRUE,\"\",INDIRECT(\"'3.09.1a (9)'!w19\"))","v":""},{"$f":"IF(ISERROR(INDIRECT(\"'3.09.1a (9)'!x19\"))=TRUE,\"\",INDIRECT(\"'3.09.1a (9)'!x19\"))","v":""},{"$f":"IF(ISERROR(INDIRECT(\"'3.09.1a (9)'!aa19\"))=TRUE,\"\",INDIRECT(\"'3.09.1a (9)'!aa19\"))","v":""},{"$f":"IF(ISERROR(INDIRECT(\"'3.09.1a (9)'!ad19\"))=TRUE,\"\",INDIRECT(\"'3.09.1a (9)'!ad19\"))","v":""},{"$f":"IF(ISERROR(INDIRECT(\"'3.09.1a (9)'!ah19\"))=TRUE,\"\",INDIRECT(\"'3.09.1a (9)'!ah19\"))","v":""},{"$f":"IF(ISERROR(INDIRECT(\"'3.09.1a (9)'!am19\"))=TRUE,\"\",INDIRECT(\"'3.09.1a (9)'!am19\"))","v":""}]
[0,"3.09.1a (9)",{"$f":"IF(ISERROR(INDIRECT(\"'3.09.1a (9)'!b20\"))=TRUE,\"\",INDIRECT(\"'3.09.1a (9)'!b20\"))","v":""},{"$f":"IF(ISERROR(INDIRECT(\"'3.09.1a (9)'!c20\"))=TRUE,\"\",INDIRECT(\"'3.09.1a (9)'!c20\"))","v":""},{"$f":"IF(ISERROR(INDIRECT(\"'3.09.1a (9)'!d20\"))=TRUE,\"\",INDIRECT(\"'3.09.1a (9)'!d20\"))","v":""},{"$f":"IF(ISERROR(INDIRECT(\"'3.09.1a (9)'!e20\"))=TRUE,\"\",INDIRECT(\"'3.09.1a (9)'!e20\"))","v":""},{"$f":"IF(ISERROR(INDIRECT(\"'3.09.1a (9)'!f20\"))=TRUE,\"\",INDIRECT(\"'3.09.1a (9)'!f20\"))","v":""},{"$f":"IF(ISERROR(INDIRECT(\"'3.09.1a (9)'!g20\"))=TRUE,\"\",INDIRECT(\"'3.09.1a (9)'!g20\"))","v":""},{"$f":"IF(ISERROR(INDIRECT(\"'3.09.1a (9)'!h20\"))=TRUE,\"\",INDIRECT(\"'3.09.1a (9)'!h20\"))","v":""},{"$f":"IF(ISERROR(INDIRECT(\"'3.09.1a (9)'!i20\"))=TRUE,\"\",INDIRECT(\"'3.09.1a (9)'!i20\"))","v":""},{"$f":"IF(ISERROR(INDIRECT(\"'3.09.1a (9)'!j20\"))=TRUE,\"\",INDIRECT(\"'3.09.1a (9)'!j20\"))","v":""},{"$f":"IF(ISERROR(INDIRECT(\"'3.09.1a (9)'!o20\"))=TRUE,\"\",INDIRECT(\"'3.09.1a (9)'!o20\"))","v":""},{"$f":"IF(ISERROR(INDIRECT(\"'3.09.1a (9)'!p20\"))=TRUE,\"\",INDIRECT(\"'3.09.1a (9)'!p20\"))","v":""},{"$f":"IF(ISERROR(INDIRECT(\"'3.09.1a (9)'!q20\"))=TRUE,\"\",INDIRECT(\"'3.09.1a (9)'!q20\"))","v":""},{"$f":"IF(ISERROR(INDIRECT(\"'3.09.1a (9)'!s20\"))=TRUE,\"\",INDIRECT(\"'3.09.1a (9)'!s20\"))","v":""},{"$f":"IF(ISERROR(INDIRECT(\"'3.09.1a (9)'!t20\"))=TRUE,\"\",INDIRECT(\"'3.09.1a (9)'!t20\"))","v":""},{"$f":"IF(ISERROR(INDIRECT(\"'3.09.1a (9)'!u20\"))=TRUE,\"\",INDIRECT(\"'3.09.1a (9)'!u20\"))","v":""},{"$f":"IF(ISERROR(INDIRECT(\"'3.09.1a (9)'!v20\"))=TRUE,\"\",INDIRECT(\"'3.09.1a (9)'!v20\"))","v":""},{"$f":"IF(ISERROR(INDIRECT(\"'3.09.1a (9)'!w20\"))=TRUE,\"\",INDIRECT(\"'3.09.1a (9)'!w20\"))","v":""},{"$f":"IF(ISERROR(INDIRECT(\"'3.09.1a (9)'!x20\"))=TRUE,\"\",INDIRECT(\"'3.09.1a (9)'!x20\"))","v":""},{"$f":"IF(ISERROR(INDIRECT(\"'3.09.1a (9)'!aa20\"))=TRUE,\"\",INDIRECT(\"'3.09.1a (9)'!aa20\"))","v":""},{"$f":"IF(ISERROR(INDIRECT(\"'3.09.1a (9)'!ad20\"))=TRUE,\"\",INDIRECT(\"'3.09.1a (9)'!ad20\"))","v":""},{"$f":"IF(ISERROR(INDIRECT(\"'3.09.1a (9)'!ah20\"))=TRUE,\"\",INDIRECT(\"'3.09.1a (9)'!ah20\"))","v":""},{"$f":"IF(ISERROR(INDIRECT(\"'3.09.1a (9)'!am20\"))=TRUE,\"\",INDIRECT(\"'3.09.1a (9)'!am20\"))","v":""}]
[0,"3.09.1a (9)",{"$f":"IF(ISERROR(INDIRECT(\"'3.09.1a (9)'!b21\"))=TRUE,\"\",INDIRECT(\"'3.09.1a (9)'!b21\"))","v":""},{"$f":"IF(ISERROR(INDIRECT(\"'3.09.1a (9)'!c21\"))=TRUE,\"\",INDIRECT(\"'3.09.1a (9)'!c21\"))","v":""},{"$f":"IF(ISERROR(INDIRECT(\"'3.09.1a (9)'!d21\"))=TRUE,\"\",INDIRECT(\"'3.09.1a (9)'!d21\"))","v":""},{"$f":"IF(ISERROR(INDIRECT(\"'3.09.1a (9)'!e21\"))=TRUE,\"\",INDIRECT(\"'3.09.1a (9)'!e21\"))","v":""},{"$f":"IF(ISERROR(INDIRECT(\"'3.09.1a (9)'!f21\"))=TRUE,\"\",INDIRECT(\"'3.09.1a (9)'!f21\"))","v":""},{"$f":"IF(ISERROR(INDIRECT(\"'3.09.1a (9)'!g21\"))=TRUE,\"\",INDIRECT(\"'3.09.1a (9)'!g21\"))","v":""},{"$f":"IF(ISERROR(INDIRECT(\"'3.09.1a (9)'!h21\"))=TRUE,\"\",INDIRECT(\"'3.09.1a (9)'!h21\"))","v":""},{"$f":"IF(ISERROR(INDIRECT(\"'3.09.1a (9)'!i21\"))=TRUE,\"\",INDIRECT(\"'3.09.1a (9)'!i21\"))","v":""},{"$f":"IF(ISERROR(INDIRECT(\"'3.09.1a (9)'!j21\"))=TRUE,\"\",INDIRECT(\"'3.09.1a (9)'!j21\"))","v":""},{"$f":"IF(ISERROR(INDIRECT(\"'3.09.1a (9)'!o21\"))=TRUE,\"\",INDIRECT(\"'3.09.1a (9)'!o21\"))","v":""},{"$f":"IF(ISERROR(INDIRECT(\"'3.09.1a (9)'!p21\"))=TRUE,\"\",INDIRECT(\"'3.09.1a (9)'!p21\"))","v":""},{"$f":"IF(ISERROR(INDIRECT(\"'3.09.1a (9)'!q21\"))=TRUE,\"\",INDIRECT(\"'3.09.1a (9)'!q21\"))","v":""},{"$f":"IF(ISERROR(INDIRECT(\"'3.09.1a (9)'!s21\"))=TRUE,\"\",INDIRECT(\"'3.09.1a (9)'!s21\"))","v":""},{"$f":"IF(ISERROR(INDIRECT(\"'3.09.1a (9)'!t21\"))=TRUE,\"\",INDIRECT(\"'3.09.1a (9)'!t21\"))","v":""},{"$f":"IF(ISERROR(INDIRECT(\"'3.09.1a (9)'!u21\"))=TRUE,\"\",INDIRECT(\"'3.09.1a (9)'!u21\"))","v":""},{"$f":"IF(ISERROR(INDIRECT(\"'3.09.1a (9)'!v21\"))=TRUE,\"\",INDIRECT(\"'3.09.1a (9)'!v21\"))","v":""},{"$f":"IF(ISERROR(INDIRECT(\"'3.09.1a (9)'!w21\"))=TRUE,\"\",INDIRECT(\"'3.09.1a (9)'!w21\"))","v":""},{"$f":"IF(ISERROR(INDIRECT(\"'3.09.1a (9)'!x21\"))=TRUE,\"\",INDIRECT(\"'3.09.1a (9)'!x21\"))","v":""},{"$f":"IF(ISERROR(INDIRECT(\"'3.09.1a (9)'!aa21\"))=TRUE,\"\",INDIRECT(\"'3.09.1a (9)'!aa21\"))","v":""},{"$f":"IF(ISERROR(INDIRECT(\"'3.09.1a (9)'!ad21\"))=TRUE,\"\",INDIRECT(\"'3.09.1a (9)'!ad21\"))","v":""},{"$f":"IF(ISERROR(INDIRECT(\"'3.09.1a (9)'!ah21\"))=TRUE,\"\",INDIRECT(\"'3.09.1a (9)'!ah21\"))","v":""},{"$f":"IF(ISERROR(INDIRECT(\"'3.09.1a (9)'!am21\"))=TRUE,\"\",INDIRECT(\"'3.09.1a (9)'!am21\"))","v":""}]
[0,"3.09.1a (9)",{"$f":"IF(ISERROR(INDIRECT(\"'3.09.1a (9)'!b22\"))=TRUE,\"\",INDIRECT(\"'3.09.1a (9)'!b22\"))","v":""},{"$f":"IF(ISERROR(INDIRECT(\"'3.09.1a (9)'!c22\"))=TRUE,\"\",INDIRECT(\"'3.09.1a (9)'!c22\"))","v":""},{"$f":"IF(ISERROR(INDIRECT(\"'3.09.1a (9)'!d22\"))=TRUE,\"\",INDIRECT(\"'3.09.1a (9)'!d22\"))","v":""},{"$f":"IF(ISERROR(INDIRECT(\"'3.09.1a (9)'!e22\"))=TRUE,\"\",INDIRECT(\"'3.09.1a (9)'!e22\"))","v":""},{"$f":"IF(ISERROR(INDIRECT(\"'3.09.1a (9)'!f22\"))=TRUE,\"\",INDIRECT(\"'3.09.1a (9)'!f22\"))","v":""},{"$f":"IF(ISERROR(INDIRECT(\"'3.09.1a (9)'!g22\"))=TRUE,\"\",INDIRECT(\"'3.09.1a (9)'!g22\"))","v":""},{"$f":"IF(ISERROR(INDIRECT(\"'3.09.1a (9)'!h22\"))=TRUE,\"\",INDIRECT(\"'3.09.1a (9)'!h22\"))","v":""},{"$f":"IF(ISERROR(INDIRECT(\"'3.09.1a (9)'!i22\"))=TRUE,\"\",INDIRECT(\"'3.09.1a (9)'!i22\"))","v":""},{"$f":"IF(ISERROR(INDIRECT(\"'3.09.1a (9)'!j22\"))=TRUE,\"\",INDIRECT(\"'3.09.1a (9)'!j22\"))","v":""},{"$f":"IF(ISERROR(INDIRECT(\"'3.09.1a (9)'!o22\"))=TRUE,\"\",INDIRECT(\"'3.09.1a (9)'!o22\"))","v":""},{"$f":"IF(ISERROR(INDIRECT(\"'3.09.1a (9)'!p22\"))=TRUE,\"\",INDIRECT(\"'3.09.1a (9)'!p22\"))","v":""},{"$f":"IF(ISERROR(INDIRECT(\"'3.09.1a (9)'!q22\"))=TRUE,\"\",INDIRECT(\"'3.09.1a (9)'!q22\"))","v":""},{"$f":"IF(ISERROR(INDIRECT(\"'3.09.1a (9)'!s22\"))=TRUE,\"\",INDIRECT(\"'3.09.1a (9)'!s22\"))","v":""},{"$f":"IF(ISERROR(INDIRECT(\"'3.09.1a (9)'!t22\"))=TRUE,\"\",INDIRECT(\"'3.09.1a (9)'!t22\"))","v":""},{"$f":"IF(ISERROR(INDIRECT(\"'3.09.1a (9)'!u22\"))=TRUE,\"\",INDIRECT(\"'3.09.1a (9)'!u22\"))","v":""},{"$f":"IF(ISERROR(INDIRECT(\"'3.09.1a (9)'!v22\"))=TRUE,\"\",INDIRECT(\"'3.09.1a (9)'!v22\"))","v":""},{"$f":"IF(ISERROR(INDIRECT(\"'3.09.1a (9)'!w22\"))=TRUE,\"\",INDIRECT(\"'3.09.1a (9)'!w22\"))","v":""},{"$f":"IF(ISERROR(INDIRECT(\"'3.09.1a (9)'!x22\"))=TRUE,\"\",INDIRECT(\"'3.09.1a (9)'!x22\"))","v":""},{"$f":"IF(ISERROR(INDIRECT(\"'3.09.1a (9)'!aa22\"))=TRUE,\"\",INDIRECT(\"'3.09.1a (9)'!aa22\"))","v":""},{"$f":"IF(ISERROR(INDIRECT(\"'3.09.1a (9)'!ad22\"))=TRUE,\"\",INDIRECT(\"'3.09.1a (9)'!ad22\"))","v":""},{"$f":"IF(ISERROR(INDIRECT(\"'3.09.1a (9)'!ah22\"))=TRUE,\"\",INDIRECT(\"'3.09.1a (9)'!ah22\"))","v":""},{"$f":"IF(ISERROR(INDIRECT(\"'3.09.1a (9)'!am22\"))=TRUE,\"\",INDIRECT(\"'3.09.1a (9)'!am22\"))","v":""}]
[0,"3.09.1a (9)",{"$f":"IF(ISERROR(INDIRECT(\"'3.09.1a (9)'!b23\"))=TRUE,\"\",INDIRECT(\"'3.09.1a (9)'!b23\"))","v":""},{"$f":"IF(ISERROR(INDIRECT(\"'3.09.1a (9)'!c23\"))=TRUE,\"\",INDIRECT(\"'3.09.1a (9)'!c23\"))","v":""},{"$f":"IF(ISERROR(INDIRECT(\"'3.09.1a (9)'!d23\"))=TRUE,\"\",INDIRECT(\"'3.09.1a (9)'!d23\"))","v":""},{"$f":"IF(ISERROR(INDIRECT(\"'3.09.1a (9)'!e23\"))=TRUE,\"\",INDIRECT(\"'3.09.1a (9)'!e23\"))","v":""},{"$f":"IF(ISERROR(INDIRECT(\"'3.09.1a (9)'!f23\"))=TRUE,\"\",INDIRECT(\"'3.09.1a (9)'!f23\"))","v":""},{"$f":"IF(ISERROR(INDIRECT(\"'3.09.1a (9)'!g23\"))=TRUE,\"\",INDIRECT(\"'3.09.1a (9)'!g23\"))","v":""},{"$f":"IF(ISERROR(INDIRECT(\"'3.09.1a (9)'!h23\"))=TRUE,\"\",INDIRECT(\"'3.09.1a (9)'!h23\"))","v":""},{"$f":"IF(ISERROR(INDIRECT(\"'3.09.1a (9)'!i23\"))=TRUE,\"\",INDIRECT(\"'3.09.1a (9)'!i23\"))","v":""},{"$f":"IF(ISERROR(INDIRECT(\"'3.09.1a (9)'!j23\"))=TRUE,\"\",INDIRECT(\"'3.09.1a (9)'!j23\"))","v":""},{"$f":"IF(ISERROR(INDIRECT(\"'3.09.1a (9)'!o23\"))=TRUE,\"\",INDIRECT(\"'3.09.1a (9)'!o23\"))","v":""},{"$f":"IF(ISERROR(INDIRECT(\"'3.09.1a (9)'!p23\"))=TRUE,\"\",INDIRECT(\"'3.09.1a (9)'!p23\"))","v":""},{"$f":"IF(ISERROR(INDIRECT(\"'3.09.1a (9)'!q23\"))=TRUE,\"\",INDIRECT(\"'3.09.1a (9)'!q23\"))","v":""},{"$f":"IF(ISERROR(INDIRECT(\"'3.09.1a (9)'!s23\"))=TRUE,\"\",INDIRECT(\"'3.09.1a (9)'!s23\"))","v":""},{"$f":"IF(ISERROR(INDIRECT(\"'3.09.1a (9)'!t23\"))=TRUE,\"\",INDIRECT(\"'3.09.1a (9)'!t23\"))","v":""},{"$f":"IF(ISERROR(INDIRECT(\"'3.09.1a (9)'!u23\"))=TRUE,\"\",INDIRECT(\"'3.09.1a (9)'!u23\"))","v":""},{"$f":"IF(ISERROR(INDIRECT(\"'3.09.1a (9)'!v23\"))=TRUE,\"\",INDIRECT(\"'3.09.1a (9)'!v23\"))","v":""},{"$f":"IF(ISERROR(INDIRECT(\"'3.09.1a (9)'!w23\"))=TRUE,\"\",INDIRECT(\"'3.09.1a (9)'!w23\"))","v":""},{"$f":"IF(ISERROR(INDIRECT(\"'3.09.1a (9)'!x23\"))=TRUE,\"\",INDIRECT(\"'3.09.1a (9)'!x23\"))","v":""},{"$f":"IF(ISERROR(INDIRECT(\"'3.09.1a (9)'!aa23\"))=TRUE,\"\",INDIRECT(\"'3.09.1a (9)'!aa23\"))","v":""},{"$f":"IF(ISERROR(INDIRECT(\"'3.09.1a (9)'!ad23\"))=TRUE,\"\",INDIRECT(\"'3.09.1a (9)'!ad23\"))","v":""},{"$f":"IF(ISERROR(INDIRECT(\"'3.09.1a (9)'!ah23\"))=TRUE,\"\",INDIRECT(\"'3.09.1a (9)'!ah23\"))","v":""},{"$f":"IF(ISERROR(INDIRECT(\"'3.09.1a (9)'!am23\"))=TRUE,\"\",INDIRECT(\"'3.09.1a (9)'!am23\"))","v":""}]
[0,"3.09.1a (9)",{"$f":"IF(ISERROR(INDIRECT(\"'3.09.1a (9)'!b24\"))=TRUE,\"\",INDIRECT(\"'3.09.1a (9)'!b24\"))","v":""},{"$f":"IF(ISERROR(INDIRECT(\"'3.09.1a (9)'!c24\"))=TRUE,\"\",INDIRECT(\"'3.09.1a (9)'!c24\"))","v":""},{"$f":"IF(ISERROR(INDIRECT(\"'3.09.1a (9)'!d24\"))=TRUE,\"\",INDIRECT(\"'3.09.1a (9)'!d24\"))","v":""},{"$f":"IF(ISERROR(INDIRECT(\"'3.09.1a (9)'!e24\"))=TRUE,\"\",INDIRECT(\"'3.09.1a (9)'!e24\"))","v":""},{"$f":"IF(ISERROR(INDIRECT(\"'3.09.1a (9)'!f24\"))=TRUE,\"\",INDIRECT(\"'3.09.1a (9)'!f24\"))","v":""},{"$f":"IF(ISERROR(INDIRECT(\"'3.09.1a (9)'!g24\"))=TRUE,\"\",INDIRECT(\"'3.09.1a (9)'!g24\"))","v":""},{"$f":"IF(ISERROR(INDIRECT(\"'3.09.1a (9)'!h24\"))=TRUE,\"\",INDIRECT(\"'3.09.1a (9)'!h24\"))","v":""},{"$f":"IF(ISERROR(INDIRECT(\"'3.09.1a (9)'!i24\"))=TRUE,\"\",INDIRECT(\"'3.09.1a (9)'!i24\"))","v":""},{"$f":"IF(ISERROR(INDIRECT(\"'3.09.1a (9)'!j24\"))=TRUE,\"\",INDIRECT(\"'3.09.1a (9)'!j24\"))","v":""},{"$f":"IF(ISERROR(INDIRECT(\"'3.09.1a (9)'!o24\"))=TRUE,\"\",INDIRECT(\"'3.09.1a (9)'!o24\"))","v":""},{"$f":"IF(ISERROR(INDIRECT(\"'3.09.1a (9)'!p24\"))=TRUE,\"\",INDIRECT(\"'3.09.1a (9)'!p24\"))","v":""},{"$f":"IF(ISERROR(INDIRECT(\"'3.09.1a (9)'!q24\"))=TRUE,\"\",INDIRECT(\"'3.09.1a (9)'!q24\"))","v":""},{"$f":"IF(ISERROR(INDIRECT(\"'3.09.1a (9)'!s24\"))=TRUE,\"\",INDIRECT(\"'3.09.1a (9)'!s24\"))","v":""},{"$f":"IF(ISERROR(INDIRECT(\"'3.09.1a (9)'!t24\"))=TRUE,\"\",INDIRECT(\"'3.09.1a (9)'!t24\"))","v":""},{"$f":"IF(ISERROR(INDIRECT(\"'3.09.1a (9)'!u24\"))=TRUE,\"\",INDIRECT(\"'3.09.1a (9)'!u24\"))","v":""},{"$f":"IF(ISERROR(INDIRECT(\"'3.09.1a (9)'!v24\"))=TRUE,\"\",INDIRECT(\"'3.09.1a (9)'!v24\"))","v":""},{"$f":"IF(ISERROR(INDIRECT(\"'3.09.1a (9)'!w24\"))=TRUE,\"\",INDIRECT(\"'3.09.1a (9)'!w24\"))","v":""},{"$f":"IF(ISERROR(INDIRECT(\"'3.09.1a (9)'!x24\"))=TRUE,\"\",INDIRECT(\"'3.09.1a (9)'!x24\"))","v":""},{"$f":"IF(ISERROR(INDIRECT(\"'3.09.1a (9)'!aa24\"))=TRUE,\"\",INDIRECT(\"'3.09.1a (9)'!aa24\"))","v":""},{"$f":"IF(ISERROR(INDIRECT(\"'3.09.1a (9)'!ad24\"))=TRUE,\"\",INDIRECT(\"'3.09.1a (9)'!ad24\"))","v":""},{"$f":"IF(ISERROR(INDIRECT(\"'3.09.1a (9)'!ah24\"))=TRUE,\"\",INDIRECT(\"'3.09.1a (9)'!ah24\"))","v":""},{"$f":"IF(ISERROR(INDIRECT(\"'3.09.1a (9)'!am24\"))=TRUE,\"\",INDIRECT(\"'3.09.1a (9)'!am24\"))","v":""}]
[0,"3.09.1a (9)",{"$f":"IF(ISERROR(INDIRECT(\"'3.09.1a (9)'!b25\"))=TRUE,\"\",INDIRECT(\"'3.09.1a (9)'!b25\"))","v":""},{"$f":"IF(ISERROR(INDIRECT(\"'3.09.1a (9)'!c25\"))=TRUE,\"\",INDIRECT(\"'3.09.1a (9)'!c25\"))","v":""},{"$f":"IF(ISERROR(INDIRECT(\"'3.09.1a (9)'!d25\"))=TRUE,\"\",INDIRECT(\"'3.09.1a (9)'!d25\"))","v":""},{"$f":"IF(ISERROR(INDIRECT(\"'3.09.1a (9)'!e25\"))=TRUE,\"\",INDIRECT(\"'3.09.1a (9)'!e25\"))","v":""},{"$f":"IF(ISERROR(INDIRECT(\"'3.09.1a (9)'!f25\"))=TRUE,\"\",INDIRECT(\"'3.09.1a (9)'!f25\"))","v":""},{"$f":"IF(ISERROR(INDIRECT(\"'3.09.1a (9)'!g25\"))=TRUE,\"\",INDIRECT(\"'3.09.1a (9)'!g25\"))","v":""},{"$f":"IF(ISERROR(INDIRECT(\"'3.09.1a (9)'!h25\"))=TRUE,\"\",INDIRECT(\"'3.09.1a (9)'!h25\"))","v":""},{"$f":"IF(ISERROR(INDIRECT(\"'3.09.1a (9)'!i25\"))=TRUE,\"\",INDIRECT(\"'3.09.1a (9)'!i25\"))","v":""},{"$f":"IF(ISERROR(INDIRECT(\"'3.09.1a (9)'!j25\"))=TRUE,\"\",INDIRECT(\"'3.09.1a (9)'!j25\"))","v":""},{"$f":"IF(ISERROR(INDIRECT(\"'3.09.1a (9)'!o25\"))=TRUE,\"\",INDIRECT(\"'3.09.1a (9)'!o25\"))","v":""},{"$f":"IF(ISERROR(INDIRECT(\"'3.09.1a (9)'!p25\"))=TRUE,\"\",INDIRECT(\"'3.09.1a (9)'!p25\"))","v":""},{"$f":"IF(ISERROR(INDIRECT(\"'3.09.1a (9)'!q25\"))=TRUE,\"\",INDIRECT(\"'3.09.1a (9)'!q25\"))","v":""},{"$f":"IF(ISERROR(INDIRECT(\"'3.09.1a (9)'!s25\"))=TRUE,\"\",INDIRECT(\"'3.09.1a (9)'!s25\"))","v":""},{"$f":"IF(ISERROR(INDIRECT(\"'3.09.1a (9)'!t25\"))=TRUE,\"\",INDIRECT(\"'3.09.1a (9)'!t25\"))","v":""},{"$f":"IF(ISERROR(INDIRECT(\"'3.09.1a (9)'!u25\"))=TRUE,\"\",INDIRECT(\"'3.09.1a (9)'!u25\"))","v":""},{"$f":"IF(ISERROR(INDIRECT(\"'3.09.1a (9)'!v25\"))=TRUE,\"\",INDIRECT(\"'3.09.1a (9)'!v25\"))","v":""},{"$f":"IF(ISERROR(INDIRECT(\"'3.09.1a (9)'!w25\"))=TRUE,\"\",INDIRECT(\"'3.09.1a (9)'!w25\"))","v":""},{"$f":"IF(ISERROR(INDIRECT(\"'3.09.1a (9)'!x25\"))=TRUE,\"\",INDIRECT(\"'3.09.1a (9)'!x25\"))","v":""},{"$f":"IF(ISERROR(INDIRECT(\"'3.09.1a (9)'!aa25\"))=TRUE,\"\",INDIRECT(\"'3.09.1a (9)'!aa25\"))","v":""},{"$f":"IF(ISERROR(INDIRECT(\"'3.09.1a (9)'!ad25\"))=TRUE,\"\",INDIRECT(\"'3.09.1a (9)'!ad25\"))","v":""},{"$f":"IF(ISERROR(INDIRECT(\"'3.09.1a (9)'!ah25\"))=TRUE,\"\",INDIRECT(\"'3.09.1a (9)'!ah25\"))","v":""},{"$f":"IF(ISERROR(INDIRECT(\"'3.09.1a (9)'!am25\"))=TRUE,\"\",INDIRECT(\"'3.09.1a (9)'!am25\"))","v":""}]
[0,"3.09.1a (9)",{"$f":"IF(ISERROR(INDIRECT(\"'3.09.1a (9)'!b26\"))=TRUE,\"\",INDIRECT(\"'3.09.1a (9)'!b26\"))","v":""},{"$f":"IF(ISERROR(INDIRECT(\"'3.09.1a (9)'!c26\"))=TRUE,\"\",INDIRECT(\"'3.09.1a (9)'!c26\"))","v":""},{"$f":"IF(ISERROR(INDIRECT(\"'3.09.1a (9)'!d26\"))=TRUE,\"\",INDIRECT(\"'3.09.1a (9)'!d26\"))","v":""},{"$f":"IF(ISERROR(INDIRECT(\"'3.09.1a (9)'!e26\"))=TRUE,\"\",INDIRECT(\"'3.09.1a (9)'!e26\"))","v":""},{"$f":"IF(ISERROR(INDIRECT(\"'3.09.1a (9)'!f26\"))=TRUE,\"\",INDIRECT(\"'3.09.1a (9)'!f26\"))","v":""},{"$f":"IF(ISERROR(INDIRECT(\"'3.09.1a (9)'!g26\"))=TRUE,\"\",INDIRECT(\"'3.09.1a (9)'!g26\"))","v":""},{"$f":"IF(ISERROR(INDIRECT(\"'3.09.1a (9)'!h26\"))=TRUE,\"\",INDIRECT(\"'3.09.1a (9)'!h26\"))","v":""},{"$f":"IF(ISERROR(INDIRECT(\"'3.09.1a (9)'!i26\"))=TRUE,\"\",INDIRECT(\"'3.09.1a (9)'!i26\"))","v":""},{"$f":"IF(ISERROR(INDIRECT(\"'3.09.1a (9)'!j26\"))=TRUE,\"\",INDIRECT(\"'3.09.1a (9)'!j26\"))","v":""},{"$f":"IF(ISERROR(INDIRECT(\"'3.09.1a (9)'!o26\"))=TRUE,\"\",INDIRECT(\"'3.09.1a (9)'!o26\"))","v":""},{"$f":"IF(ISERROR(INDIRECT(\"'3.09.1a (9)'!p26\"))=TRUE,\"\",INDIRECT(\"'3.09.1a (9)'!p26\"))","v":""},{"$f":"IF(ISERROR(INDIRECT(\"'3.09.1a (9)'!q26\"))=TRUE,\"\",INDIRECT(\"'3.09.1a (9)'!q26\"))","v":""},{"$f":"IF(ISERROR(INDIRECT(\"'3.09.1a (9)'!s26\"))=TRUE,\"\",INDIRECT(\"'3.09.1a (9)'!s26\"))","v":""},{"$f":"IF(ISERROR(INDIRECT(\"'3.09.1a (9)'!t26\"))=TRUE,\"\",INDIRECT(\"'3.09.1a (9)'!t26\"))","v":""},{"$f":"IF(ISERROR(INDIRECT(\"'3.09.1a (9)'!u26\"))=TRUE,\"\",INDIRECT(\"'3.09.1a (9)'!u26\"))","v":""},{"$f":"IF(ISERROR(INDIRECT(\"'3.09.1a (9)'!v26\"))=TRUE,\"\",INDIRECT(\"'3.09.1a (9)'!v26\"))","v":""},{"$f":"IF(ISERROR(INDIRECT(\"'3.09.1a (9)'!w26\"))=TRUE,\"\",INDIRECT(\"'3.09.1a (9)'!w26\"))","v":""},{"$f":"IF(ISERROR(INDIRECT(\"'3.09.1a (9)'!x26\"))=TRUE,\"\",INDIRECT(\"'3.09.1a (9)'!x26\"))","v":""},{"$f":"IF(ISERROR(INDIRECT(\"'3.09.1a (9)'!aa26\"))=TRUE,\"\",INDIRECT(\"'3.09.1a (9)'!aa26\"))","v":""},{"$f":"IF(ISERROR(INDIRECT(\"'3.09.1a (9)'!ad26\"))=TRUE,\"\",INDIRECT(\"'3.09.1a (9)'!ad26\"))","v":""},{"$f":"IF(ISERROR(INDIRECT(\"'3.09.1a (9)'!ah26\"))=TRUE,\"\",INDIRECT(\"'3.09.1a (9)'!ah26\"))","v":""},{"$f":"IF(ISERROR(INDIRECT(\"'3.09.1a (9)'!am26\"))=TRUE,\"\",INDIRECT(\"'3.09.1a (9)'!am26\"))","v":""}]
[0,"3.09.1a (9)",{"$f":"IF(ISERROR(INDIRECT(\"'3.09.1a (9)'!b27\"))=TRUE,\"\",INDIRECT(\"'3.09.1a (9)'!b27\"))","v":""},{"$f":"IF(ISERROR(INDIRECT(\"'3.09.1a (9)'!c27\"))=TRUE,\"\",INDIRECT(\"'3.09.1a (9)'!c27\"))","v":""},{"$f":"IF(ISERROR(INDIRECT(\"'3.09.1a (9)'!d27\"))=TRUE,\"\",INDIRECT(\"'3.09.1a (9)'!d27\"))","v":""},{"$f":"IF(ISERROR(INDIRECT(\"'3.09.1a (9)'!e27\"))=TRUE,\"\",INDIRECT(\"'3.09.1a (9)'!e27\"))","v":""},{"$f":"IF(ISERROR(INDIRECT(\"'3.09.1a (9)'!f27\"))=TRUE,\"\",INDIRECT(\"'3.09.1a (9)'!f27\"))","v":""},{"$f":"IF(ISERROR(INDIRECT(\"'3.09.1a (9)'!g27\"))=TRUE,\"\",INDIRECT(\"'3.09.1a (9)'!g27\"))","v":""},{"$f":"IF(ISERROR(INDIRECT(\"'3.09.1a (9)'!h27\"))=TRUE,\"\",INDIRECT(\"'3.09.1a (9)'!h27\"))","v":""},{"$f":"IF(ISERROR(INDIRECT(\"'3.09.1a (9)'!i27\"))=TRUE,\"\",INDIRECT(\"'3.09.1a (9)'!i27\"))","v":""},{"$f":"IF(ISERROR(INDIRECT(\"'3.09.1a (9)'!j27\"))=TRUE,\"\",INDIRECT(\"'3.09.1a (9)'!j27\"))","v":""},{"$f":"IF(ISERROR(INDIRECT(\"'3.09.1a (9)'!o27\"))=TRUE,\"\",INDIRECT(\"'3.09.1a (9)'!o27\"))","v":""},{"$f":"IF(ISERROR(INDIRECT(\"'3.09.1a (9)'!p27\"))=TRUE,\"\",INDIRECT(\"'3.09.1a (9)'!p27\"))","v":""},{"$f":"IF(ISERROR(INDIRECT(\"'3.09.1a (9)'!q27\"))=TRUE,\"\",INDIRECT(\"'3.09.1a (9)'!q27\"))","v":""},{"$f":"IF(ISERROR(INDIRECT(\"'3.09.1a (9)'!s27\"))=TRUE,\"\",INDIRECT(\"'3.09.1a (9)'!s27\"))","v":""},{"$f":"IF(ISERROR(INDIRECT(\"'3.09.1a (9)'!t27\"))=TRUE,\"\",INDIRECT(\"'3.09.1a (9)'!t27\"))","v":""},{"$f":"IF(ISERROR(INDIRECT(\"'3.09.1a (9)'!u27\"))=TRUE,\"\",INDIRECT(\"'3.09.1a (9)'!u27\"))","v":""},{"$f":"IF(ISERROR(INDIRECT(\"'3.09.1a (9)'!v27\"))=TRUE,\"\",INDIRECT(\"'3.09.1a (9)'!v27\"))","v":""},{"$f":"IF(ISERROR(INDIRECT(\"'3.09.1a (9)'!w27\"))=TRUE,\"\",INDIRECT(\"'3.09.1a (9)'!w27\"))","v":""},{"$f":"IF(ISERROR(INDIRECT(\"'3.09.1a (9)'!x27\"))=TRUE,\"\",INDIRECT(\"'3.09.1a (9)'!x27\"))","v":""},{"$f":"IF(ISERROR(INDIRECT(\"'3.09.1a (9)'!aa27\"))=TRUE,\"\",INDIRECT(\"'3.09.1a (9)'!aa27\"))","v":""},{"$f":"IF(ISERROR(INDIRECT(\"'3.09.1a (9)'!ad27\"))=TRUE,\"\",INDIRECT(\"'3.09.1a (9)'!ad27\"))","v":""},{"$f":"IF(ISERROR(INDIRECT(\"'3.09.1a (9)'!ah27\"))=TRUE,\"\",INDIRECT(\"'3.09.1a (9)'!ah27\"))","v":""},{"$f":"IF(ISERROR(INDIRECT(\"'3.09.1a (9)'!am27\"))=TRUE,\"\",INDIRECT(\"'3.09.1a (9)'!am27\"))","v":""}]
[0,"3.09.1a (9)",{"$f":"IF(ISERROR(INDIRECT(\"'3.09.1a (9)'!b28\"))=TRUE,\"\",INDIRECT(\"'3.09.1a (9)'!b28\"))","v":""},{"$f":"IF(ISERROR(INDIRECT(\"'3.09.1a (9)'!c28\"))=TRUE,\"\",INDIRECT(\"'3.09.1a (9)'!c28\"))","v":""},{"$f":"IF(ISERROR(INDIRECT(\"'3.09.1a (9)'!d28\"))=TRUE,\"\",INDIRECT(\"'3.09.1a (9)'!d28\"))","v":""},{"$f":"IF(ISERROR(INDIRECT(\"'3.09.1a (9)'!e28\"))=TRUE,\"\",INDIRECT(\"'3.09.1a (9)'!e28\"))","v":""},{"$f":"IF(ISERROR(INDIRECT(\"'3.09.1a (9)'!f28\"))=TRUE,\"\",INDIRECT(\"'3.09.1a (9)'!f28\"))","v":""},{"$f":"IF(ISERROR(INDIRECT(\"'3.09.1a (9)'!g28\"))=TRUE,\"\",INDIRECT(\"'3.09.1a (9)'!g28\"))","v":""},{"$f":"IF(ISERROR(INDIRECT(\"'3.09.1a (9)'!h28\"))=TRUE,\"\",INDIRECT(\"'3.09.1a (9)'!h28\"))","v":""},{"$f":"IF(ISERROR(INDIRECT(\"'3.09.1a (9)'!i28\"))=TRUE,\"\",INDIRECT(\"'3.09.1a (9)'!i28\"))","v":""},{"$f":"IF(ISERROR(INDIRECT(\"'3.09.1a (9)'!j28\"))=TRUE,\"\",INDIRECT(\"'3.09.1a (9)'!j28\"))","v":""},{"$f":"IF(ISERROR(INDIRECT(\"'3.09.1a (9)'!o28\"))=TRUE,\"\",INDIRECT(\"'3.09.1a (9)'!o28\"))","v":""},{"$f":"IF(ISERROR(INDIRECT(\"'3.09.1a (9)'!p28\"))=TRUE,\"\",INDIRECT(\"'3.09.1a (9)'!p28\"))","v":""},{"$f":"IF(ISERROR(INDIRECT(\"'3.09.1a (9)'!q28\"))=TRUE,\"\",INDIRECT(\"'3.09.1a (9)'!q28\"))","v":""},{"$f":"IF(ISERROR(INDIRECT(\"'3.09.1a (9)'!s28\"))=TRUE,\"\",INDIRECT(\"'3.09.1a (9)'!s28\"))","v":""},{"$f":"IF(ISERROR(INDIRECT(\"'3.09.1a (9)'!t28\"))=TRUE,\"\",INDIRECT(\"'3.09.1a (9)'!t28\"))","v":""},{"$f":"IF(ISERROR(INDIRECT(\"'3.09.1a (9)'!u28\"))=TRUE,\"\",INDIRECT(\"'3.09.1a (9)'!u28\"))","v":""},{"$f":"IF(ISERROR(INDIRECT(\"'3.09.1a (9)'!v28\"))=TRUE,\"\",INDIRECT(\"'3.09.1a (9)'!v28\"))","v":""},{"$f":"IF(ISERROR(INDIRECT(\"'3.09.1a (9)'!w28\"))=TRUE,\"\",INDIRECT(\"'3.09.1a (9)'!w28\"))","v":""},{"$f":"IF(ISERROR(INDIRECT(\"'3.09.1a (9)'!x28\"))=TRUE,\"\",INDIRECT(\"'3.09.1a (9)'!x28\"))","v":""},{"$f":"IF(ISERROR(INDIRECT(\"'3.09.1a (9)'!aa28\"))=TRUE,\"\",INDIRECT(\"'3.09.1a (9)'!aa28\"))","v":""},{"$f":"IF(ISERROR(INDIRECT(\"'3.09.1a (9)'!ad28\"))=TRUE,\"\",INDIRECT(\"'3.09.1a (9)'!ad28\"))","v":""},{"$f":"IF(ISERROR(INDIRECT(\"'3.09.1a (9)'!ah28\"))=TRUE,\"\",INDIRECT(\"'3.09.1a (9)'!ah28\"))","v":""},{"$f":"IF(ISERROR(INDIRECT(\"'3.09.1a (9)'!am28\"))=TRUE,\"\",INDIRECT(\"'3.09.1a (9)'!am28\"))","v":""}]
[0,"3.09.1a (9)",{"$f":"IF(ISERROR(INDIRECT(\"'3.09.1a (9)'!b29\"))=TRUE,\"\",INDIRECT(\"'3.09.1a (9)'!b29\"))","v":""},{"$f":"IF(ISERROR(INDIRECT(\"'3.09.1a (9)'!c29\"))=TRUE,\"\",INDIRECT(\"'3.09.1a (9)'!c29\"))","v":""},{"$f":"IF(ISERROR(INDIRECT(\"'3.09.1a (9)'!d29\"))=TRUE,\"\",INDIRECT(\"'3.09.1a (9)'!d29\"))","v":""},{"$f":"IF(ISERROR(INDIRECT(\"'3.09.1a (9)'!e29\"))=TRUE,\"\",INDIRECT(\"'3.09.1a (9)'!e29\"))","v":""},{"$f":"IF(ISERROR(INDIRECT(\"'3.09.1a (9)'!f29\"))=TRUE,\"\",INDIRECT(\"'3.09.1a (9)'!f29\"))","v":""},{"$f":"IF(ISERROR(INDIRECT(\"'3.09.1a (9)'!g29\"))=TRUE,\"\",INDIRECT(\"'3.09.1a (9)'!g29\"))","v":""},{"$f":"IF(ISERROR(INDIRECT(\"'3.09.1a (9)'!h29\"))=TRUE,\"\",INDIRECT(\"'3.09.1a (9)'!h29\"))","v":""},{"$f":"IF(ISERROR(INDIRECT(\"'3.09.1a (9)'!i29\"))=TRUE,\"\",INDIRECT(\"'3.09.1a (9)'!i29\"))","v":""},{"$f":"IF(ISERROR(INDIRECT(\"'3.09.1a (9)'!j29\"))=TRUE,\"\",INDIRECT(\"'3.09.1a (9)'!j29\"))","v":""},{"$f":"IF(ISERROR(INDIRECT(\"'3.09.1a (9)'!o29\"))=TRUE,\"\",INDIRECT(\"'3.09.1a (9)'!o29\"))","v":""},{"$f":"IF(ISERROR(INDIRECT(\"'3.09.1a (9)'!p29\"))=TRUE,\"\",INDIRECT(\"'3.09.1a (9)'!p29\"))","v":""},{"$f":"IF(ISERROR(INDIRECT(\"'3.09.1a (9)'!q29\"))=TRUE,\"\",INDIRECT(\"'3.09.1a (9)'!q29\"))","v":""},{"$f":"IF(ISERROR(INDIRECT(\"'3.09.1a (9)'!s29\"))=TRUE,\"\",INDIRECT(\"'3.09.1a (9)'!s29\"))","v":""},{"$f":"IF(ISERROR(INDIRECT(\"'3.09.1a (9)'!t29\"))=TRUE,\"\",INDIRECT(\"'3.09.1a (9)'!t29\"))","v":""},{"$f":"IF(ISERROR(INDIRECT(\"'3.09.1a (9)'!u29\"))=TRUE,\"\",INDIRECT(\"'3.09.1a (9)'!u29\"))","v":""},{"$f":"IF(ISERROR(INDIRECT(\"'3.09.1a (9)'!v29\"))=TRUE,\"\",INDIRECT(\"'3.09.1a (9)'!v29\"))","v":""},{"$f":"IF(ISERROR(INDIRECT(\"'3.09.1a (9)'!w29\"))=TRUE,\"\",INDIRECT(\"'3.09.1a (9)'!w29\"))","v":""},{"$f":"IF(ISERROR(INDIRECT(\"'3.09.1a (9)'!x29\"))=TRUE,\"\",INDIRECT(\"'3.09.1a (9)'!x29\"))","v":""},{"$f":"IF(ISERROR(INDIRECT(\"'3.09.1a (9)'!aa29\"))=TRUE,\"\",INDIRECT(\"'3.09.1a (9)'!aa29\"))","v":""},{"$f":"IF(ISERROR(INDIRECT(\"'3.09.1a (9)'!ad29\"))=TRUE,\"\",INDIRECT(\"'3.09.1a (9)'!ad29\"))","v":""},{"$f":"IF(ISERROR(INDIRECT(\"'3.09.1a (9)'!ah29\"))=TRUE,\"\",INDIRECT(\"'3.09.1a (9)'!ah29\"))","v":""},{"$f":"IF(ISERROR(INDIRECT(\"'3.09.1a (9)'!am29\"))=TRUE,\"\",INDIRECT(\"'3.09.1a (9)'!am29\"))","v":""}]
[0,"3.09.1a (9)",{"$f":"IF(ISERROR(INDIRECT(\"'3.09.1a (9)'!b30\"))=TRUE,\"\",INDIRECT(\"'3.09.1a (9)'!b30\"))","v":""},{"$f":"IF(ISERROR(INDIRECT(\"'3.09.1a (9)'!c30\"))=TRUE,\"\",INDIRECT(\"'3.09.1a (9)'!c30\"))","v":""},{"$f":"IF(ISERROR(INDIRECT(\"'3.09.1a (9)'!d30\"))=TRUE,\"\",INDIRECT(\"'3.09.1a (9)'!d30\"))","v":""},{"$f":"IF(ISERROR(INDIRECT(\"'3.09.1a (9)'!e30\"))=TRUE,\"\",INDIRECT(\"'3.09.1a (9)'!e30\"))","v":""},{"$f":"IF(ISERROR(INDIRECT(\"'3.09.1a (9)'!f30\"))=TRUE,\"\",INDIRECT(\"'3.09.1a (9)'!f30\"))","v":""},{"$f":"IF(ISERROR(INDIRECT(\"'3.09.1a (9)'!g30\"))=TRUE,\"\",INDIRECT(\"'3.09.1a (9)'!g30\"))","v":""},{"$f":"IF(ISERROR(INDIRECT(\"'3.09.1a (9)'!h30\"))=TRUE,\"\",INDIRECT(\"'3.09.1a (9)'!h30\"))","v":""},{"$f":"IF(ISERROR(INDIRECT(\"'3.09.1a (9)'!i30\"))=TRUE,\"\",INDIRECT(\"'3.09.1a (9)'!i30\"))","v":""},{"$f":"IF(ISERROR(INDIRECT(\"'3.09.1a (9)'!j30\"))=TRUE,\"\",INDIRECT(\"'3.09.1a (9)'!j30\"))","v":""},{"$f":"IF(ISERROR(INDIRECT(\"'3.09.1a (9)'!o30\"))=TRUE,\"\",INDIRECT(\"'3.09.1a (9)'!o30\"))","v":""},{"$f":"IF(ISERROR(INDIRECT(\"'3.09.1a (9)'!p30\"))=TRUE,\"\",INDIRECT(\"'3.09.1a (9)'!p30\"))","v":""},{"$f":"IF(ISERROR(INDIRECT(\"'3.09.1a (9)'!q30\"))=TRUE,\"\",INDIRECT(\"'3.09.1a (9)'!q30\"))","v":""},{"$f":"IF(ISERROR(INDIRECT(\"'3.09.1a (9)'!s30\"))=TRUE,\"\",INDIRECT(\"'3.09.1a (9)'!s30\"))","v":""},{"$f":"IF(ISERROR(INDIRECT(\"'3.09.1a (9)'!t30\"))=TRUE,\"\",INDIRECT(\"'3.09.1a (9)'!t30\"))","v":""},{"$f":"IF(ISERROR(INDIRECT(\"'3.09.1a (9)'!u30\"))=TRUE,\"\",INDIRECT(\"'3.09.1a (9)'!u30\"))","v":""},{"$f":"IF(ISERROR(INDIRECT(\"'3.09.1a (9)'!v30\"))=TRUE,\"\",INDIRECT(\"'3.09.1a (9)'!v30\"))","v":""},{"$f":"IF(ISERROR(INDIRECT(\"'3.09.1a (9)'!w30\"))=TRUE,\"\",INDIRECT(\"'3.09.1a (9)'!w30\"))","v":""},{"$f":"IF(ISERROR(INDIRECT(\"'3.09.1a (9)'!x30\"))=TRUE,\"\",INDIRECT(\"'3.09.1a (9)'!x30\"))","v":""},{"$f":"IF(ISERROR(INDIRECT(\"'3.09.1a (9)'!aa30\"))=TRUE,\"\",INDIRECT(\"'3.09.1a (9)'!aa30\"))","v":""},{"$f":"IF(ISERROR(INDIRECT(\"'3.09.1a (9)'!ad30\"))=TRUE,\"\",INDIRECT(\"'3.09.1a (9)'!ad30\"))","v":""},{"$f":"IF(ISERROR(INDIRECT(\"'3.09.1a (9)'!ah30\"))=TRUE,\"\",INDIRECT(\"'3.09.1a (9)'!ah30\"))","v":""},{"$f":"IF(ISERROR(INDIRECT(\"'3.09.1a (9)'!am30\"))=TRUE,\"\",INDIRECT(\"'3.09.1a (9)'!am30\"))","v":""}]
[0,"3.09.1a (9)",{"$f":"IF(ISERROR(INDIRECT(\"'3.09.1a (9)'!b31\"))=TRUE,\"\",INDIRECT(\"'3.09.1a (9)'!b31\"))","v":""},{"$f":"IF(ISERROR(INDIRECT(\"'3.09.1a (9)'!c31\"))=TRUE,\"\",INDIRECT(\"'3.09.1a (9)'!c31\"))","v":""},{"$f":"IF(ISERROR(INDIRECT(\"'3.09.1a (9)'!d31\"))=TRUE,\"\",INDIRECT(\"'3.09.1a (9)'!d31\"))","v":""},{"$f":"IF(ISERROR(INDIRECT(\"'3.09.1a (9)'!e31\"))=TRUE,\"\",INDIRECT(\"'3.09.1a (9)'!e31\"))","v":""},{"$f":"IF(ISERROR(INDIRECT(\"'3.09.1a (9)'!f31\"))=TRUE,\"\",INDIRECT(\"'3.09.1a (9)'!f31\"))","v":""},{"$f":"IF(ISERROR(INDIRECT(\"'3.09.1a (9)'!g31\"))=TRUE,\"\",INDIRECT(\"'3.09.1a (9)'!g31\"))","v":""},{"$f":"IF(ISERROR(INDIRECT(\"'3.09.1a (9)'!h31\"))=TRUE,\"\",INDIRECT(\"'3.09.1a (9)'!h31\"))","v":""},{"$f":"IF(ISERROR(INDIRECT(\"'3.09.1a (9)'!i31\"))=TRUE,\"\",INDIRECT(\"'3.09.1a (9)'!i31\"))","v":""},{"$f":"IF(ISERROR(INDIRECT(\"'3.09.1a (9)'!j31\"))=TRUE,\"\",INDIRECT(\"'3.09.1a (9)'!j31\"))","v":""},{"$f":"IF(ISERROR(INDIRECT(\"'3.09.1a (9)'!o31\"))=TRUE,\"\",INDIRECT(\"'3.09.1a (9)'!o31\"))","v":""},{"$f":"IF(ISERROR(INDIRECT(\"'3.09.1a (9)'!p31\"))=TRUE,\"\",INDIRECT(\"'3.09.1a (9)'!p31\"))","v":""},{"$f":"IF(ISERROR(INDIRECT(\"'3.09.1a (9)'!q31\"))=TRUE,\"\",INDIRECT(\"'3.09.1a (9)'!q31\"))","v":""},{"$f":"IF(ISERROR(INDIRECT(\"'3.09.1a (9)'!s31\"))=TRUE,\"\",INDIRECT(\"'3.09.1a (9)'!s31\"))","v":""},{"$f":"IF(ISERROR(INDIRECT(\"'3.09.1a (9)'!t31\"))=TRUE,\"\",INDIRECT(\"'3.09.1a (9)'!t31\"))","v":""},{"$f":"IF(ISERROR(INDIRECT(\"'3.09.1a (9)'!u31\"))=TRUE,\"\",INDIRECT(\"'3.09.1a (9)'!u31\"))","v":""},{"$f":"IF(ISERROR(INDIRECT(\"'3.09.1a (9)'!v31\"))=TRUE,\"\",INDIRECT(\"'3.09.1a (9)'!v31\"))","v":""},{"$f":"IF(ISERROR(INDIRECT(\"'3.09.1a (9)'!w31\"))=TRUE,\"\",INDIRECT(\"'3.09.1a (9)'!w31\"))","v":""},{"$f":"IF(ISERROR(INDIRECT(\"'3.09.1a (9)'!x31\"))=TRUE,\"\",INDIRECT(\"'3.09.1a (9)'!x31\"))","v":""},{"$f":"IF(ISERROR(INDIRECT(\"'3.09.1a (9)'!aa31\"))=TRUE,\"\",INDIRECT(\"'3.09.1a (9)'!aa31\"))","v":""},{"$f":"IF(ISERROR(INDIRECT(\"'3.09.1a (9)'!ad31\"))=TRUE,\"\",INDIRECT(\"'3.09.1a (9)'!ad31\"))","v":""},{"$f":"IF(ISERROR(INDIRECT(\"'3.09.1a (9)'!ah31\"))=TRUE,\"\",INDIRECT(\"'3.09.1a (9)'!ah31\"))","v":""},{"$f":"IF(ISERROR(INDIRECT(\"'3.09.1a (9)'!am31\"))=TRUE,\"\",INDIRECT(\"'3.09.1a (9)'!am31\"))","v":""}]
[0,"3.09.1a (9)",{"$f":"IF(ISERROR(INDIRECT(\"'3.09.1a (9)'!b32\"))=TRUE,\"\",INDIRECT(\"'3.09.1a (9)'!b32\"))","v":""},{"$f":"IF(ISERROR(INDIRECT(\"'3.09.1a (9)'!c32\"))=TRUE,\"\",INDIRECT(\"'3.09.1a (9)'!c32\"))","v":""},{"$f":"IF(ISERROR(INDIRECT(\"'3.09.1a (9)'!d32\"))=TRUE,\"\",INDIRECT(\"'3.09.1a (9)'!d32\"))","v":""},{"$f":"IF(ISERROR(INDIRECT(\"'3.09.1a (9)'!e32\"))=TRUE,\"\",INDIRECT(\"'3.09.1a (9)'!e32\"))","v":""},{"$f":"IF(ISERROR(INDIRECT(\"'3.09.1a (9)'!f32\"))=TRUE,\"\",INDIRECT(\"'3.09.1a (9)'!f32\"))","v":""},{"$f":"IF(ISERROR(INDIRECT(\"'3.09.1a (9)'!g32\"))=TRUE,\"\",INDIRECT(\"'3.09.1a (9)'!g32\"))","v":""},{"$f":"IF(ISERROR(INDIRECT(\"'3.09.1a (9)'!h32\"))=TRUE,\"\",INDIRECT(\"'3.09.1a (9)'!h32\"))","v":""},{"$f":"IF(ISERROR(INDIRECT(\"'3.09.1a (9)'!i32\"))=TRUE,\"\",INDIRECT(\"'3.09.1a (9)'!i32\"))","v":""},{"$f":"IF(ISERROR(INDIRECT(\"'3.09.1a (9)'!j32\"))=TRUE,\"\",INDIRECT(\"'3.09.1a (9)'!j32\"))","v":""},{"$f":"IF(ISERROR(INDIRECT(\"'3.09.1a (9)'!o32\"))=TRUE,\"\",INDIRECT(\"'3.09.1a (9)'!o32\"))","v":""},{"$f":"IF(ISERROR(INDIRECT(\"'3.09.1a (9)'!p32\"))=TRUE,\"\",INDIRECT(\"'3.09.1a (9)'!p32\"))","v":""},{"$f":"IF(ISERROR(INDIRECT(\"'3.09.1a (9)'!q32\"))=TRUE,\"\",INDIRECT(\"'3.09.1a (9)'!q32\"))","v":""},{"$f":"IF(ISERROR(INDIRECT(\"'3.09.1a (9)'!s32\"))=TRUE,\"\",INDIRECT(\"'3.09.1a (9)'!s32\"))","v":""},{"$f":"IF(ISERROR(INDIRECT(\"'3.09.1a (9)'!t32\"))=TRUE,\"\",INDIRECT(\"'3.09.1a (9)'!t32\"))","v":""},{"$f":"IF(ISERROR(INDIRECT(\"'3.09.1a (9)'!u32\"))=TRUE,\"\",INDIRECT(\"'3.09.1a (9)'!u32\"))","v":""},{"$f":"IF(ISERROR(INDIRECT(\"'3.09.1a (9)'!v32\"))=TRUE,\"\",INDIRECT(\"'3.09.1a (9)'!v32\"))","v":""},{"$f":"IF(ISERROR(INDIRECT(\"'3.09.1a (9)'!w32\"))=TRUE,\"\",INDIRECT(\"'3.09.1a (9)'!w32\"))","v":""},{"$f":"IF(ISERROR(INDIRECT(\"'3.09.1a (9)'!x32\"))=TRUE,\"\",INDIRECT(\"'3.09.1a (9)'!x32\"))","v":""},{"$f":"IF(ISERROR(INDIRECT(\"'3.09.1a (9)'!aa32\"))=TRUE,\"\",INDIRECT(\"'3.09.1a (9)'!aa32\"))","v":""},{"$f":"IF(ISERROR(INDIRECT(\"'3.09.1a (9)'!ad32\"))=TRUE,\"\",INDIRECT(\"'3.09.1a (9)'!ad32\"))","v":""},{"$f":"IF(ISERROR(INDIRECT(\"'3.09.1a (9)'!ah32\"))=TRUE,\"\",INDIRECT(\"'3.09.1a (9)'!ah32\"))","v":""},{"$f":"IF(ISERROR(INDIRECT(\"'3.09.1a (9)'!am32\"))=TRUE,\"\",INDIRECT(\"'3.09.1a (9)'!am32\"))","v":""}]
[0,"3.09.1a (9)",{"$f":"IF(ISERROR(INDIRECT(\"'3.09.1a (9)'!b33\"))=TRUE,\"\",INDIRECT(\"'3.09.1a (9)'!b33\"))","v":""},{"$f":"IF(ISERROR(INDIRECT(\"'3.09.1a (9)'!c33\"))=TRUE,\"\",INDIRECT(\"'3.09.1a (9)'!c33\"))","v":""},{"$f":"IF(ISERROR(INDIRECT(\"'3.09.1a (9)'!d33\"))=TRUE,\"\",INDIRECT(\"'3.09.1a (9)'!d33\"))","v":""},{"$f":"IF(ISERROR(INDIRECT(\"'3.09.1a (9)'!e33\"))=TRUE,\"\",INDIRECT(\"'3.09.1a (9)'!e33\"))","v":""},{"$f":"IF(ISERROR(INDIRECT(\"'3.09.1a (9)'!f33\"))=TRUE,\"\",INDIRECT(\"'3.09.1a (9)'!f33\"))","v":""},{"$f":"IF(ISERROR(INDIRECT(\"'3.09.1a (9)'!g33\"))=TRUE,\"\",INDIRECT(\"'3.09.1a (9)'!g33\"))","v":""},{"$f":"IF(ISERROR(INDIRECT(\"'3.09.1a (9)'!h33\"))=TRUE,\"\",INDIRECT(\"'3.09.1a (9)'!h33\"))","v":""},{"$f":"IF(ISERROR(INDIRECT(\"'3.09.1a (9)'!i33\"))=TRUE,\"\",INDIRECT(\"'3.09.1a (9)'!i33\"))","v":""},{"$f":"IF(ISERROR(INDIRECT(\"'3.09.1a (9)'!j33\"))=TRUE,\"\",INDIRECT(\"'3.09.1a (9)'!j33\"))","v":""},{"$f":"IF(ISERROR(INDIRECT(\"'3.09.1a (9)'!o33\"))=TRUE,\"\",INDIRECT(\"'3.09.1a (9)'!o33\"))","v":""},{"$f":"IF(ISERROR(INDIRECT(\"'3.09.1a (9)'!p33\"))=TRUE,\"\",INDIRECT(\"'3.09.1a (9)'!p33\"))","v":""},{"$f":"IF(ISERROR(INDIRECT(\"'3.09.1a (9)'!q33\"))=TRUE,\"\",INDIRECT(\"'3.09.1a (9)'!q33\"))","v":""},{"$f":"IF(ISERROR(INDIRECT(\"'3.09.1a (9)'!s33\"))=TRUE,\"\",INDIRECT(\"'3.09.1a (9)'!s33\"))","v":""},{"$f":"IF(ISERROR(INDIRECT(\"'3.09.1a (9)'!t33\"))=TRUE,\"\",INDIRECT(\"'3.09.1a (9)'!t33\"))","v":""},{"$f":"IF(ISERROR(INDIRECT(\"'3.09.1a (9)'!u33\"))=TRUE,\"\",INDIRECT(\"'3.09.1a (9)'!u33\"))","v":""},{"$f":"IF(ISERROR(INDIRECT(\"'3.09.1a (9)'!v33\"))=TRUE,\"\",INDIRECT(\"'3.09.1a (9)'!v33\"))","v":""},{"$f":"IF(ISERROR(INDIRECT(\"'3.09.1a (9)'!w33\"))=TRUE,\"\",INDIRECT(\"'3.09.1a (9)'!w33\"))","v":""},{"$f":"IF(ISERROR(INDIRECT(\"'3.09.1a (9)'!x33\"))=TRUE,\"\",INDIRECT(\"'3.09.1a (9)'!x33\"))","v":""},{"$f":"IF(ISERROR(INDIRECT(\"'3.09.1a (9)'!aa33\"))=TRUE,\"\",INDIRECT(\"'3.09.1a (9)'!aa33\"))","v":""},{"$f":"IF(ISERROR(INDIRECT(\"'3.09.1a (9)'!ad33\"))=TRUE,\"\",INDIRECT(\"'3.09.1a (9)'!ad33\"))","v":""},{"$f":"IF(ISERROR(INDIRECT(\"'3.09.1a (9)'!ah33\"))=TRUE,\"\",INDIRECT(\"'3.09.1a (9)'!ah33\"))","v":""},{"$f":"IF(ISERROR(INDIRECT(\"'3.09.1a (9)'!am33\"))=TRUE,\"\",INDIRECT(\"'3.09.1a (9)'!am33\"))","v":""}]
[0,"3.09.1a (9)",{"$f":"IF(ISERROR(INDIRECT(\"'3.09.1a (9)'!b34\"))=TRUE,\"\",INDIRECT(\"'3.09.1a (9)'!b34\"))","v":""},{"$f":"IF(ISERROR(INDIRECT(\"'3.09.1a (9)'!c34\"))=TRUE,\"\",INDIRECT(\"'3.09.1a (9)'!c34\"))","v":""},{"$f":"IF(ISERROR(INDIRECT(\"'3.09.1a (9)'!d34\"))=TRUE,\"\",INDIRECT(\"'3.09.1a (9)'!d34\"))","v":""},{"$f":"IF(ISERROR(INDIRECT(\"'3.09.1a (9)'!e34\"))=TRUE,\"\",INDIRECT(\"'3.09.1a (9)'!e34\"))","v":""},{"$f":"IF(ISERROR(INDIRECT(\"'3.09.1a (9)'!f34\"))=TRUE,\"\",INDIRECT(\"'3.09.1a (9)'!f34\"))","v":""},{"$f":"IF(ISERROR(INDIRECT(\"'3.09.1a (9)'!g34\"))=TRUE,\"\",INDIRECT(\"'3.09.1a (9)'!g34\"))","v":""},{"$f":"IF(ISERROR(INDIRECT(\"'3.09.1a (9)'!h34\"))=TRUE,\"\",INDIRECT(\"'3.09.1a (9)'!h34\"))","v":""},{"$f":"IF(ISERROR(INDIRECT(\"'3.09.1a (9)'!i34\"))=TRUE,\"\",INDIRECT(\"'3.09.1a (9)'!i34\"))","v":""},{"$f":"IF(ISERROR(INDIRECT(\"'3.09.1a (9)'!j34\"))=TRUE,\"\",INDIRECT(\"'3.09.1a (9)'!j34\"))","v":""},{"$f":"IF(ISERROR(INDIRECT(\"'3.09.1a (9)'!o34\"))=TRUE,\"\",INDIRECT(\"'3.09.1a (9)'!o34\"))","v":""},{"$f":"IF(ISERROR(INDIRECT(\"'3.09.1a (9)'!p34\"))=TRUE,\"\",INDIRECT(\"'3.09.1a (9)'!p34\"))","v":""},{"$f":"IF(ISERROR(INDIRECT(\"'3.09.1a (9)'!q34\"))=TRUE,\"\",INDIRECT(\"'3.09.1a (9)'!q34\"))","v":""},{"$f":"IF(ISERROR(INDIRECT(\"'3.09.1a (9)'!s34\"))=TRUE,\"\",INDIRECT(\"'3.09.1a (9)'!s34\"))","v":""},{"$f":"IF(ISERROR(INDIRECT(\"'3.09.1a (9)'!t34\"))=TRUE,\"\",INDIRECT(\"'3.09.1a (9)'!t34\"))","v":""},{"$f":"IF(ISERROR(INDIRECT(\"'3.09.1a (9)'!u34\"))=TRUE,\"\",INDIRECT(\"'3.09.1a (9)'!u34\"))","v":""},{"$f":"IF(ISERROR(INDIRECT(\"'3.09.1a (9)'!v34\"))=TRUE,\"\",INDIRECT(\"'3.09.1a (9)'!v34\"))","v":""},{"$f":"IF(ISERROR(INDIRECT(\"'3.09.1a (9)'!w34\"))=TRUE,\"\",INDIRECT(\"'3.09.1a (9)'!w34\"))","v":""},{"$f":"IF(ISERROR(INDIRECT(\"'3.09.1a (9)'!x34\"))=TRUE,\"\",INDIRECT(\"'3.09.1a (9)'!x34\"))","v":""},{"$f":"IF(ISERROR(INDIRECT(\"'3.09.1a (9)'!aa34\"))=TRUE,\"\",INDIRECT(\"'3.09.1a (9)'!aa34\"))","v":""},{"$f":"IF(ISERROR(INDIRECT(\"'3.09.1a (9)'!ad34\"))=TRUE,\"\",INDIRECT(\"'3.09.1a (9)'!ad34\"))","v":""},{"$f":"IF(ISERROR(INDIRECT(\"'3.09.1a (9)'!ah34\"))=TRUE,\"\",INDIRECT(\"'3.09.1a (9)'!ah34\"))","v":""},{"$f":"IF(ISERROR(INDIRECT(\"'3.09.1a (9)'!am34\"))=TRUE,\"\",INDIRECT(\"'3.09.1a (9)'!am34\"))","v":""}]
[0,"3.09.1a (9)",{"$f":"IF(ISERROR(INDIRECT(\"'3.09.1a (9)'!b35\"))=TRUE,\"\",INDIRECT(\"'3.09.1a (9)'!b35\"))","v":""},{"$f":"IF(ISERROR(INDIRECT(\"'3.09.1a (9)'!c35\"))=TRUE,\"\",INDIRECT(\"'3.09.1a (9)'!c35\"))","v":""},{"$f":"IF(ISERROR(INDIRECT(\"'3.09.1a (9)'!d35\"))=TRUE,\"\",INDIRECT(\"'3.09.1a (9)'!d35\"))","v":""},{"$f":"IF(ISERROR(INDIRECT(\"'3.09.1a (9)'!e35\"))=TRUE,\"\",INDIRECT(\"'3.09.1a (9)'!e35\"))","v":""},{"$f":"IF(ISERROR(INDIRECT(\"'3.09.1a (9)'!f35\"))=TRUE,\"\",INDIRECT(\"'3.09.1a (9)'!f35\"))","v":""},{"$f":"IF(ISERROR(INDIRECT(\"'3.09.1a (9)'!g35\"))=TRUE,\"\",INDIRECT(\"'3.09.1a (9)'!g35\"))","v":""},{"$f":"IF(ISERROR(INDIRECT(\"'3.09.1a (9)'!h35\"))=TRUE,\"\",INDIRECT(\"'3.09.1a (9)'!h35\"))","v":""},{"$f":"IF(ISERROR(INDIRECT(\"'3.09.1a (9)'!i35\"))=TRUE,\"\",INDIRECT(\"'3.09.1a (9)'!i35\"))","v":""},{"$f":"IF(ISERROR(INDIRECT(\"'3.09.1a (9)'!j35\"))=TRUE,\"\",INDIRECT(\"'3.09.1a (9)'!j35\"))","v":""},{"$f":"IF(ISERROR(INDIRECT(\"'3.09.1a (9)'!o35\"))=TRUE,\"\",INDIRECT(\"'3.09.1a (9)'!o35\"))","v":""},{"$f":"IF(ISERROR(INDIRECT(\"'3.09.1a (9)'!p35\"))=TRUE,\"\",INDIRECT(\"'3.09.1a (9)'!p35\"))","v":""},{"$f":"IF(ISERROR(INDIRECT(\"'3.09.1a (9)'!q35\"))=TRUE,\"\",INDIRECT(\"'3.09.1a (9)'!q35\"))","v":""},{"$f":"IF(ISERROR(INDIRECT(\"'3.09.1a (9)'!s35\"))=TRUE,\"\",INDIRECT(\"'3.09.1a (9)'!s35\"))","v":""},{"$f":"IF(ISERROR(INDIRECT(\"'3.09.1a (9)'!t35\"))=TRUE,\"\",INDIRECT(\"'3.09.1a (9)'!t35\"))","v":""},{"$f":"IF(ISERROR(INDIRECT(\"'3.09.1a (9)'!u35\"))=TRUE,\"\",INDIRECT(\"'3.09.1a (9)'!u35\"))","v":""},{"$f":"IF(ISERROR(INDIRECT(\"'3.09.1a (9)'!v35\"))=TRUE,\"\",INDIRECT(\"'3.09.1a (9)'!v35\"))","v":""},{"$f":"IF(ISERROR(INDIRECT(\"'3.09.1a (9)'!w35\"))=TRUE,\"\",INDIRECT(\"'3.09.1a (9)'!w35\"))","v":""},{"$f":"IF(ISERROR(INDIRECT(\"'3.09.1a (9)'!x35\"))=TRUE,\"\",INDIRECT(\"'3.09.1a (9)'!x35\"))","v":""},{"$f":"IF(ISERROR(INDIRECT(\"'3.09.1a (9)'!aa35\"))=TRUE,\"\",INDIRECT(\"'3.09.1a (9)'!aa35\"))","v":""},{"$f":"IF(ISERROR(INDIRECT(\"'3.09.1a (9)'!ad35\"))=TRUE,\"\",INDIRECT(\"'3.09.1a (9)'!ad35\"))","v":""},{"$f":"IF(ISERROR(INDIRECT(\"'3.09.1a (9)'!ah35\"))=TRUE,\"\",INDIRECT(\"'3.09.1a (9)'!ah35\"))","v":""},{"$f":"IF(ISERROR(INDIRECT(\"'3.09.1a (9)'!am35\"))=TRUE,\"\",INDIRECT(\"'3.09.1a (9)'!am35\"))","v":""}]
[0,"3.09.1a (9)",{"$f":"IF(ISERROR(INDIRECT(\"'3.09.1a (9)'!b36\"))=TRUE,\"\",INDIRECT(\"'3.09.1a (9)'!b36\"))","v":""},{"$f":"IF(ISERROR(INDIRECT(\"'3.09.1a (9)'!c36\"))=TRUE,\"\",INDIRECT(\"'3.09.1a (9)'!c36\"))","v":""},{"$f":"IF(ISERROR(INDIRECT(\"'3.09.1a (9)'!d36\"))=TRUE,\"\",INDIRECT(\"'3.09.1a (9)'!d36\"))","v":""},{"$f":"IF(ISERROR(INDIRECT(\"'3.09.1a (9)'!e36\"))=TRUE,\"\",INDIRECT(\"'3.09.1a (9)'!e36\"))","v":""},{"$f":"IF(ISERROR(INDIRECT(\"'3.09.1a (9)'!f36\"))=TRUE,\"\",INDIRECT(\"'3.09.1a (9)'!f36\"))","v":""},{"$f":"IF(ISERROR(INDIRECT(\"'3.09.1a (9)'!g36\"))=TRUE,\"\",INDIRECT(\"'3.09.1a (9)'!g36\"))","v":""},{"$f":"IF(ISERROR(INDIRECT(\"'3.09.1a (9)'!h36\"))=TRUE,\"\",INDIRECT(\"'3.09.1a (9)'!h36\"))","v":""},{"$f":"IF(ISERROR(INDIRECT(\"'3.09.1a (9)'!i36\"))=TRUE,\"\",INDIRECT(\"'3.09.1a (9)'!i36\"))","v":""},{"$f":"IF(ISERROR(INDIRECT(\"'3.09.1a (9)'!j36\"))=TRUE,\"\",INDIRECT(\"'3.09.1a (9)'!j36\"))","v":""},{"$f":"IF(ISERROR(INDIRECT(\"'3.09.1a (9)'!o36\"))=TRUE,\"\",INDIRECT(\"'3.09.1a (9)'!o36\"))","v":""},{"$f":"IF(ISERROR(INDIRECT(\"'3.09.1a (9)'!p36\"))=TRUE,\"\",INDIRECT(\"'3.09.1a (9)'!p36\"))","v":""},{"$f":"IF(ISERROR(INDIRECT(\"'3.09.1a (9)'!q36\"))=TRUE,\"\",INDIRECT(\"'3.09.1a (9)'!q36\"))","v":""},{"$f":"IF(ISERROR(INDIRECT(\"'3.09.1a (9)'!s36\"))=TRUE,\"\",INDIRECT(\"'3.09.1a (9)'!s36\"))","v":""},{"$f":"IF(ISERROR(INDIRECT(\"'3.09.1a (9)'!t36\"))=TRUE,\"\",INDIRECT(\"'3.09.1a (9)'!t36\"))","v":""},{"$f":"IF(ISERROR(INDIRECT(\"'3.09.1a (9)'!u36\"))=TRUE,\"\",INDIRECT(\"'3.09.1a (9)'!u36\"))","v":""},{"$f":"IF(ISERROR(INDIRECT(\"'3.09.1a (9)'!v36\"))=TRUE,\"\",INDIRECT(\"'3.09.1a (9)'!v36\"))","v":""},{"$f":"IF(ISERROR(INDIRECT(\"'3.09.1a (9)'!w36\"))=TRUE,\"\",INDIRECT(\"'3.09.1a (9)'!w36\"))","v":""},{"$f":"IF(ISERROR(INDIRECT(\"'3.09.1a (9)'!x36\"))=TRUE,\"\",INDIRECT(\"'3.09.1a (9)'!x36\"))","v":""},{"$f":"IF(ISERROR(INDIRECT(\"'3.09.1a (9)'!aa36\"))=TRUE,\"\",INDIRECT(\"'3.09.1a (9)'!aa36\"))","v":""},{"$f":"IF(ISERROR(INDIRECT(\"'3.09.1a (9)'!ad36\"))=TRUE,\"\",INDIRECT(\"'3.09.1a (9)'!ad36\"))","v":""},{"$f":"IF(ISERROR(INDIRECT(\"'3.09.1a (9)'!ah36\"))=TRUE,\"\",INDIRECT(\"'3.09.1a (9)'!ah36\"))","v":""},{"$f":"IF(ISERROR(INDIRECT(\"'3.09.1a (9)'!am36\"))=TRUE,\"\",INDIRECT(\"'3.09.1a (9)'!am36\"))","v":""}]
[0,"3.09.1a (9)",{"$f":"IF(ISERROR(INDIRECT(\"'3.09.1a (9)'!b37\"))=TRUE,\"\",INDIRECT(\"'3.09.1a (9)'!b37\"))","v":""},{"$f":"IF(ISERROR(INDIRECT(\"'3.09.1a (9)'!c37\"))=TRUE,\"\",INDIRECT(\"'3.09.1a (9)'!c37\"))","v":""},{"$f":"IF(ISERROR(INDIRECT(\"'3.09.1a (9)'!d37\"))=TRUE,\"\",INDIRECT(\"'3.09.1a (9)'!d37\"))","v":""},{"$f":"IF(ISERROR(INDIRECT(\"'3.09.1a (9)'!e37\"))=TRUE,\"\",INDIRECT(\"'3.09.1a (9)'!e37\"))","v":""},{"$f":"IF(ISERROR(INDIRECT(\"'3.09.1a (9)'!f37\"))=TRUE,\"\",INDIRECT(\"'3.09.1a (9)'!f37\"))","v":""},{"$f":"IF(ISERROR(INDIRECT(\"'3.09.1a (9)'!g37\"))=TRUE,\"\",INDIRECT(\"'3.09.1a (9)'!g37\"))","v":""},{"$f":"IF(ISERROR(INDIRECT(\"'3.09.1a (9)'!h37\"))=TRUE,\"\",INDIRECT(\"'3.09.1a (9)'!h37\"))","v":""},{"$f":"IF(ISERROR(INDIRECT(\"'3.09.1a (9)'!i37\"))=TRUE,\"\",INDIRECT(\"'3.09.1a (9)'!i37\"))","v":""},{"$f":"IF(ISERROR(INDIRECT(\"'3.09.1a (9)'!j37\"))=TRUE,\"\",INDIRECT(\"'3.09.1a (9)'!j37\"))","v":""},{"$f":"IF(ISERROR(INDIRECT(\"'3.09.1a (9)'!o37\"))=TRUE,\"\",INDIRECT(\"'3.09.1a (9)'!o37\"))","v":""},{"$f":"IF(ISERROR(INDIRECT(\"'3.09.1a (9)'!p37\"))=TRUE,\"\",INDIRECT(\"'3.09.1a (9)'!p37\"))","v":""},{"$f":"IF(ISERROR(INDIRECT(\"'3.09.1a (9)'!q37\"))=TRUE,\"\",INDIRECT(\"'3.09.1a (9)'!q37\"))","v":""},{"$f":"IF(ISERROR(INDIRECT(\"'3.09.1a (9)'!s37\"))=TRUE,\"\",INDIRECT(\"'3.09.1a (9)'!s37\"))","v":""},{"$f":"IF(ISERROR(INDIRECT(\"'3.09.1a (9)'!t37\"))=TRUE,\"\",INDIRECT(\"'3.09.1a (9)'!t37\"))","v":""},{"$f":"IF(ISERROR(INDIRECT(\"'3.09.1a (9)'!u37\"))=TRUE,\"\",INDIRECT(\"'3.09.1a (9)'!u37\"))","v":""},{"$f":"IF(ISERROR(INDIRECT(\"'3.09.1a (9)'!v37\"))=TRUE,\"\",INDIRECT(\"'3.09.1a (9)'!v37\"))","v":""},{"$f":"IF(ISERROR(INDIRECT(\"'3.09.1a (9)'!w37\"))=TRUE,\"\",INDIRECT(\"'3.09.1a (9)'!w37\"))","v":""},{"$f":"IF(ISERROR(INDIRECT(\"'3.09.1a (9)'!x37\"))=TRUE,\"\",INDIRECT(\"'3.09.1a (9)'!x37\"))","v":""},{"$f":"IF(ISERROR(INDIRECT(\"'3.09.1a (9)'!aa37\"))=TRUE,\"\",INDIRECT(\"'3.09.1a (9)'!aa37\"))","v":""},{"$f":"IF(ISERROR(INDIRECT(\"'3.09.1a (9)'!ad37\"))=TRUE,\"\",INDIRECT(\"'3.09.1a (9)'!ad37\"))","v":""},{"$f":"IF(ISERROR(INDIRECT(\"'3.09.1a (9)'!ah37\"))=TRUE,\"\",INDIRECT(\"'3.09.1a (9)'!ah37\"))","v":""},{"$f":"IF(ISERROR(INDIRECT(\"'3.09.1a (9)'!am37\"))=TRUE,\"\",INDIRECT(\"'3.09.1a (9)'!am37\"))","v":""}]
[0,"3.09.1a (9)",{"$f":"IF(ISERROR(INDIRECT(\"'3.09.1a (9)'!b38\"))=TRUE,\"\",INDIRECT(\"'3.09.1a (9)'!b38\"))","v":""},{"$f":"IF(ISERROR(INDIRECT(\"'3.09.1a (9)'!c38\"))=TRUE,\"\",INDIRECT(\"'3.09.1a (9)'!c38\"))","v":""},{"$f":"IF(ISERROR(INDIRECT(\"'3.09.1a (9)'!d38\"))=TRUE,\"\",INDIRECT(\"'3.09.1a (9)'!d38\"))","v":""},{"$f":"IF(ISERROR(INDIRECT(\"'3.09.1a (9)'!e38\"))=TRUE,\"\",INDIRECT(\"'3.09.1a (9)'!e38\"))","v":""},{"$f":"IF(ISERROR(INDIRECT(\"'3.09.1a (9)'!f38\"))=TRUE,\"\",INDIRECT(\"'3.09.1a (9)'!f38\"))","v":""},{"$f":"IF(ISERROR(INDIRECT(\"'3.09.1a (9)'!g38\"))=TRUE,\"\",INDIRECT(\"'3.09.1a (9)'!g38\"))","v":""},{"$f":"IF(ISERROR(INDIRECT(\"'3.09.1a (9)'!h38\"))=TRUE,\"\",INDIRECT(\"'3.09.1a (9)'!h38\"))","v":""},{"$f":"IF(ISERROR(INDIRECT(\"'3.09.1a (9)'!i38\"))=TRUE,\"\",INDIRECT(\"'3.09.1a (9)'!i38\"))","v":""},{"$f":"IF(ISERROR(INDIRECT(\"'3.09.1a (9)'!j38\"))=TRUE,\"\",INDIRECT(\"'3.09.1a (9)'!j38\"))","v":""},{"$f":"IF(ISERROR(INDIRECT(\"'3.09.1a (9)'!o38\"))=TRUE,\"\",INDIRECT(\"'3.09.1a (9)'!o38\"))","v":""},{"$f":"IF(ISERROR(INDIRECT(\"'3.09.1a (9)'!p38\"))=TRUE,\"\",INDIRECT(\"'3.09.1a (9)'!p38\"))","v":""},{"$f":"IF(ISERROR(INDIRECT(\"'3.09.1a (9)'!q38\"))=TRUE,\"\",INDIRECT(\"'3.09.1a (9)'!q38\"))","v":""},{"$f":"IF(ISERROR(INDIRECT(\"'3.09.1a (9)'!s38\"))=TRUE,\"\",INDIRECT(\"'3.09.1a (9)'!s38\"))","v":""},{"$f":"IF(ISERROR(INDIRECT(\"'3.09.1a (9)'!t38\"))=TRUE,\"\",INDIRECT(\"'3.09.1a (9)'!t38\"))","v":""},{"$f":"IF(ISERROR(INDIRECT(\"'3.09.1a (9)'!u38\"))=TRUE,\"\",INDIRECT(\"'3.09.1a (9)'!u38\"))","v":""},{"$f":"IF(ISERROR(INDIRECT(\"'3.09.1a (9)'!v38\"))=TRUE,\"\",INDIRECT(\"'3.09.1a (9)'!v38\"))","v":""},{"$f":"IF(ISERROR(INDIRECT(\"'3.09.1a (9)'!w38\"))=TRUE,\"\",INDIRECT(\"'3.09.1a (9)'!w38\"))","v":""},{"$f":"IF(ISERROR(INDIRECT(\"'3.09.1a (9)'!x38\"))=TRUE,\"\",INDIRECT(\"'3.09.1a (9)'!x38\"))","v":""},{"$f":"IF(ISERROR(INDIRECT(\"'3.09.1a (9)'!aa38\"))=TRUE,\"\",INDIRECT(\"'3.09.1a (9)'!aa38\"))","v":""},{"$f":"IF(ISERROR(INDIRECT(\"'3.09.1a (9)'!ad38\"))=TRUE,\"\",INDIRECT(\"'3.09.1a (9)'!ad38\"))","v":""},{"$f":"IF(ISERROR(INDIRECT(\"'3.09.1a (9)'!ah38\"))=TRUE,\"\",INDIRECT(\"'3.09.1a (9)'!ah38\"))","v":""},{"$f":"IF(ISERROR(INDIRECT(\"'3.09.1a (9)'!am38\"))=TRUE,\"\",INDIRECT(\"'3.09.1a (9)'!am38\"))","v":""}]
[0,"3.09.1a (9)",{"$f":"IF(ISERROR(INDIRECT(\"'3.09.1a (9)'!b39\"))=TRUE,\"\",INDIRECT(\"'3.09.1a (9)'!b39\"))","v":""},{"$f":"IF(ISERROR(INDIRECT(\"'3.09.1a (9)'!c39\"))=TRUE,\"\",INDIRECT(\"'3.09.1a (9)'!c39\"))","v":""},{"$f":"IF(ISERROR(INDIRECT(\"'3.09.1a (9)'!d39\"))=TRUE,\"\",INDIRECT(\"'3.09.1a (9)'!d39\"))","v":""},{"$f":"IF(ISERROR(INDIRECT(\"'3.09.1a (9)'!e39\"))=TRUE,\"\",INDIRECT(\"'3.09.1a (9)'!e39\"))","v":""},{"$f":"IF(ISERROR(INDIRECT(\"'3.09.1a (9)'!f39\"))=TRUE,\"\",INDIRECT(\"'3.09.1a (9)'!f39\"))","v":""},{"$f":"IF(ISERROR(INDIRECT(\"'3.09.1a (9)'!g39\"))=TRUE,\"\",INDIRECT(\"'3.09.1a (9)'!g39\"))","v":""},{"$f":"IF(ISERROR(INDIRECT(\"'3.09.1a (9)'!h39\"))=TRUE,\"\",INDIRECT(\"'3.09.1a (9)'!h39\"))","v":""},{"$f":"IF(ISERROR(INDIRECT(\"'3.09.1a (9)'!i39\"))=TRUE,\"\",INDIRECT(\"'3.09.1a (9)'!i39\"))","v":""},{"$f":"IF(ISERROR(INDIRECT(\"'3.09.1a (9)'!j39\"))=TRUE,\"\",INDIRECT(\"'3.09.1a (9)'!j39\"))","v":""},{"$f":"IF(ISERROR(INDIRECT(\"'3.09.1a (9)'!o39\"))=TRUE,\"\",INDIRECT(\"'3.09.1a (9)'!o39\"))","v":""},{"$f":"IF(ISERROR(INDIRECT(\"'3.09.1a (9)'!p39\"))=TRUE,\"\",INDIRECT(\"'3.09.1a (9)'!p39\"))","v":""},{"$f":"IF(ISERROR(INDIRECT(\"'3.09.1a (9)'!q39\"))=TRUE,\"\",INDIRECT(\"'3.09.1a (9)'!q39\"))","v":""},{"$f":"IF(ISERROR(INDIRECT(\"'3.09.1a (9)'!s39\"))=TRUE,\"\",INDIRECT(\"'3.09.1a (9)'!s39\"))","v":""},{"$f":"IF(ISERROR(INDIRECT(\"'3.09.1a (9)'!t39\"))=TRUE,\"\",INDIRECT(\"'3.09.1a (9)'!t39\"))","v":""},{"$f":"IF(ISERROR(INDIRECT(\"'3.09.1a (9)'!u39\"))=TRUE,\"\",INDIRECT(\"'3.09.1a (9)'!u39\"))","v":""},{"$f":"IF(ISERROR(INDIRECT(\"'3.09.1a (9)'!v39\"))=TRUE,\"\",INDIRECT(\"'3.09.1a (9)'!v39\"))","v":""},{"$f":"IF(ISERROR(INDIRECT(\"'3.09.1a (9)'!w39\"))=TRUE,\"\",INDIRECT(\"'3.09.1a (9)'!w39\"))","v":""},{"$f":"IF(ISERROR(INDIRECT(\"'3.09.1a (9)'!x39\"))=TRUE,\"\",INDIRECT(\"'3.09.1a (9)'!x39\"))","v":""},{"$f":"IF(ISERROR(INDIRECT(\"'3.09.1a (9)'!aa39\"))=TRUE,\"\",INDIRECT(\"'3.09.1a (9)'!aa39\"))","v":""},{"$f":"IF(ISERROR(INDIRECT(\"'3.09.1a (9)'!ad39\"))=TRUE,\"\",INDIRECT(\"'3.09.1a (9)'!ad39\"))","v":""},{"$f":"IF(ISERROR(INDIRECT(\"'3.09.1a (9)'!ah39\"))=TRUE,\"\",INDIRECT(\"'3.09.1a (9)'!ah39\"))","v":""},{"$f":"IF(ISERROR(INDIRECT(\"'3.09.1a (9)'!am39\"))=TRUE,\"\",INDIRECT(\"'3.09.1a (9)'!am39\"))","v":""}]
[0,"3.09.1a (9)",{"$f":"IF(ISERROR(INDIRECT(\"'3.09.1a (9)'!b40\"))=TRUE,\"\",INDIRECT(\"'3.09.1a (9)'!b40\"))","v":""},{"$f":"IF(ISERROR(INDIRECT(\"'3.09.1a (9)'!c40\"))=TRUE,\"\",INDIRECT(\"'3.09.1a (9)'!c40\"))","v":""},{"$f":"IF(ISERROR(INDIRECT(\"'3.09.1a (9)'!d40\"))=TRUE,\"\",INDIRECT(\"'3.09.1a (9)'!d40\"))","v":""},{"$f":"IF(ISERROR(INDIRECT(\"'3.09.1a (9)'!e40\"))=TRUE,\"\",INDIRECT(\"'3.09.1a (9)'!e40\"))","v":""},{"$f":"IF(ISERROR(INDIRECT(\"'3.09.1a (9)'!f40\"))=TRUE,\"\",INDIRECT(\"'3.09.1a (9)'!f40\"))","v":""},{"$f":"IF(ISERROR(INDIRECT(\"'3.09.1a (9)'!g40\"))=TRUE,\"\",INDIRECT(\"'3.09.1a (9)'!g40\"))","v":""},{"$f":"IF(ISERROR(INDIRECT(\"'3.09.1a (9)'!h40\"))=TRUE,\"\",INDIRECT(\"'3.09.1a (9)'!h40\"))","v":""},{"$f":"IF(ISERROR(INDIRECT(\"'3.09.1a (9)'!i40\"))=TRUE,\"\",INDIRECT(\"'3.09.1a (9)'!i40\"))","v":""},{"$f":"IF(ISERROR(INDIRECT(\"'3.09.1a (9)'!j40\"))=TRUE,\"\",INDIRECT(\"'3.09.1a (9)'!j40\"))","v":""},{"$f":"IF(ISERROR(INDIRECT(\"'3.09.1a (9)'!o40\"))=TRUE,\"\",INDIRECT(\"'3.09.1a (9)'!o40\"))","v":""},{"$f":"IF(ISERROR(INDIRECT(\"'3.09.1a (9)'!p40\"))=TRUE,\"\",INDIRECT(\"'3.09.1a (9)'!p40\"))","v":""},{"$f":"IF(ISERROR(INDIRECT(\"'3.09.1a (9)'!q40\"))=TRUE,\"\",INDIRECT(\"'3.09.1a (9)'!q40\"))","v":""},{"$f":"IF(ISERROR(INDIRECT(\"'3.09.1a (9)'!s40\"))=TRUE,\"\",INDIRECT(\"'3.09.1a (9)'!s40\"))","v":""},{"$f":"IF(ISERROR(INDIRECT(\"'3.09.1a (9)'!t40\"))=TRUE,\"\",INDIRECT(\"'3.09.1a (9)'!t40\"))","v":""},{"$f":"IF(ISERROR(INDIRECT(\"'3.09.1a (9)'!u40\"))=TRUE,\"\",INDIRECT(\"'3.09.1a (9)'!u40\"))","v":""},{"$f":"IF(ISERROR(INDIRECT(\"'3.09.1a (9)'!v40\"))=TRUE,\"\",INDIRECT(\"'3.09.1a (9)'!v40\"))","v":""},{"$f":"IF(ISERROR(INDIRECT(\"'3.09.1a (9)'!w40\"))=TRUE,\"\",INDIRECT(\"'3.09.1a (9)'!w40\"))","v":""},{"$f":"IF(ISERROR(INDIRECT(\"'3.09.1a (9)'!x40\"))=TRUE,\"\",INDIRECT(\"'3.09.1a (9)'!x40\"))","v":""},{"$f":"IF(ISERROR(INDIRECT(\"'3.09.1a (9)'!aa40\"))=TRUE,\"\",INDIRECT(\"'3.09.1a (9)'!aa40\"))","v":""},{"$f":"IF(ISERROR(INDIRECT(\"'3.09.1a (9)'!ad40\"))=TRUE,\"\",INDIRECT(\"'3.09.1a (9)'!ad40\"))","v":""},{"$f":"IF(ISERROR(INDIRECT(\"'3.09.1a (9)'!ah40\"))=TRUE,\"\",INDIRECT(\"'3.09.1a (9)'!ah40\"))","v":""},{"$f":"IF(ISERROR(INDIRECT(\"'3.09.1a (9)'!am40\"))=TRUE,\"\",INDIRECT(\"'3.09.1a (9)'!am40\"))","v":""}]
[0,"3.09.1a (9)",{"$f":"IF(ISERROR(INDIRECT(\"'3.09.1a (9)'!b41\"))=TRUE,\"\",INDIRECT(\"'3.09.1a (9)'!b41\"))","v":""},{"$f":"IF(ISERROR(INDIRECT(\"'3.09.1a (9)'!c41\"))=TRUE,\"\",INDIRECT(\"'3.09.1a (9)'!c41\"))","v":""},{"$f":"IF(ISERROR(INDIRECT(\"'3.09.1a (9)'!d41\"))=TRUE,\"\",INDIRECT(\"'3.09.1a (9)'!d41\"))","v":""},{"$f":"IF(ISERROR(INDIRECT(\"'3.09.1a (9)'!e41\"))=TRUE,\"\",INDIRECT(\"'3.09.1a (9)'!e41\"))","v":""},{"$f":"IF(ISERROR(INDIRECT(\"'3.09.1a (9)'!f41\"))=TRUE,\"\",INDIRECT(\"'3.09.1a (9)'!f41\"))","v":""},{"$f":"IF(ISERROR(INDIRECT(\"'3.09.1a (9)'!g41\"))=TRUE,\"\",INDIRECT(\"'3.09.1a (9)'!g41\"))","v":""},{"$f":"IF(ISERROR(INDIRECT(\"'3.09.1a (9)'!h41\"))=TRUE,\"\",INDIRECT(\"'3.09.1a (9)'!h41\"))","v":""},{"$f":"IF(ISERROR(INDIRECT(\"'3.09.1a (9)'!i41\"))=TRUE,\"\",INDIRECT(\"'3.09.1a (9)'!i41\"))","v":""},{"$f":"IF(ISERROR(INDIRECT(\"'3.09.1a (9)'!j41\"))=TRUE,\"\",INDIRECT(\"'3.09.1a (9)'!j41\"))","v":""},{"$f":"IF(ISERROR(INDIRECT(\"'3.09.1a (9)'!o41\"))=TRUE,\"\",INDIRECT(\"'3.09.1a (9)'!o41\"))","v":""},{"$f":"IF(ISERROR(INDIRECT(\"'3.09.1a (9)'!p41\"))=TRUE,\"\",INDIRECT(\"'3.09.1a (9)'!p41\"))","v":""},{"$f":"IF(ISERROR(INDIRECT(\"'3.09.1a (9)'!q41\"))=TRUE,\"\",INDIRECT(\"'3.09.1a (9)'!q41\"))","v":""},{"$f":"IF(ISERROR(INDIRECT(\"'3.09.1a (9)'!s41\"))=TRUE,\"\",INDIRECT(\"'3.09.1a (9)'!s41\"))","v":""},{"$f":"IF(ISERROR(INDIRECT(\"'3.09.1a (9)'!t41\"))=TRUE,\"\",INDIRECT(\"'3.09.1a (9)'!t41\"))","v":""},{"$f":"IF(ISERROR(INDIRECT(\"'3.09.1a (9)'!u41\"))=TRUE,\"\",INDIRECT(\"'3.09.1a (9)'!u41\"))","v":""},{"$f":"IF(ISERROR(INDIRECT(\"'3.09.1a (9)'!v41\"))=TRUE,\"\",INDIRECT(\"'3.09.1a (9)'!v41\"))","v":""},{"$f":"IF(ISERROR(INDIRECT(\"'3.09.1a (9)'!w41\"))=TRUE,\"\",INDIRECT(\"'3.09.1a (9)'!w41\"))","v":""},{"$f":"IF(ISERROR(INDIRECT(\"'3.09.1a (9)'!x41\"))=TRUE,\"\",INDIRECT(\"'3.09.1a (9)'!x41\"))","v":""},{"$f":"IF(ISERROR(INDIRECT(\"'3.09.1a (9)'!aa41\"))=TRUE,\"\",INDIRECT(\"'3.09.1a (9)'!aa41\"))","v":""},{"$f":"IF(ISERROR(INDIRECT(\"'3.09.1a (9)'!ad41\"))=TRUE,\"\",INDIRECT(\"'3.09.1a (9)'!ad41\"))","v":""},{"$f":"IF(ISERROR(INDIRECT(\"'3.09.1a (9)'!ah41\"))=TRUE,\"\",INDIRECT(\"'3.09.1a (9)'!ah41\"))","v":""},{"$f":"IF(ISERROR(INDIRECT(\"'3.09.1a (9)'!am41\"))=TRUE,\"\",INDIRECT(\"'3.09.1a (9)'!am41\"))","v":""}]
[0,"3.09.1a (9)",{"$f":"IF(ISERROR(INDIRECT(\"'3.09.1a (9)'!b42\"))=TRUE,\"\",INDIRECT(\"'3.09.1a (9)'!b42\"))","v":""},{"$f":"IF(ISERROR(INDIRECT(\"'3.09.1a (9)'!c42\"))=TRUE,\"\",INDIRECT(\"'3.09.1a (9)'!c42\"))","v":""},{"$f":"IF(ISERROR(INDIRECT(\"'3.09.1a (9)'!d42\"))=TRUE,\"\",INDIRECT(\"'3.09.1a (9)'!d42\"))","v":""},{"$f":"IF(ISERROR(INDIRECT(\"'3.09.1a (9)'!e42\"))=TRUE,\"\",INDIRECT(\"'3.09.1a (9)'!e42\"))","v":""},{"$f":"IF(ISERROR(INDIRECT(\"'3.09.1a (9)'!f42\"))=TRUE,\"\",INDIRECT(\"'3.09.1a (9)'!f42\"))","v":""},{"$f":"IF(ISERROR(INDIRECT(\"'3.09.1a (9)'!g42\"))=TRUE,\"\",INDIRECT(\"'3.09.1a (9)'!g42\"))","v":""},{"$f":"IF(ISERROR(INDIRECT(\"'3.09.1a (9)'!h42\"))=TRUE,\"\",INDIRECT(\"'3.09.1a (9)'!h42\"))","v":""},{"$f":"IF(ISERROR(INDIRECT(\"'3.09.1a (9)'!i42\"))=TRUE,\"\",INDIRECT(\"'3.09.1a (9)'!i42\"))","v":""},{"$f":"IF(ISERROR(INDIRECT(\"'3.09.1a (9)'!j42\"))=TRUE,\"\",INDIRECT(\"'3.09.1a (9)'!j42\"))","v":""},{"$f":"IF(ISERROR(INDIRECT(\"'3.09.1a (9)'!o42\"))=TRUE,\"\",INDIRECT(\"'3.09.1a (9)'!o42\"))","v":""},{"$f":"IF(ISERROR(INDIRECT(\"'3.09.1a (9)'!p42\"))=TRUE,\"\",INDIRECT(\"'3.09.1a (9)'!p42\"))","v":""},{"$f":"IF(ISERROR(INDIRECT(\"'3.09.1a (9)'!q42\"))=TRUE,\"\",INDIRECT(\"'3.09.1a (9)'!q42\"))","v":""},{"$f":"IF(ISERROR(INDIRECT(\"'3.09.1a (9)'!s42\"))=TRUE,\"\",INDIRECT(\"'3.09.1a (9)'!s42\"))","v":""},{"$f":"IF(ISERROR(INDIRECT(\"'3.09.1a (9)'!t42\"))=TRUE,\"\",INDIRECT(\"'3.09.1a (9)'!t42\"))","v":""},{"$f":"IF(ISERROR(INDIRECT(\"'3.09.1a (9)'!u42\"))=TRUE,\"\",INDIRECT(\"'3.09.1a (9)'!u42\"))","v":""},{"$f":"IF(ISERROR(INDIRECT(\"'3.09.1a (9)'!v42\"))=TRUE,\"\",INDIRECT(\"'3.09.1a (9)'!v42\"))","v":""},{"$f":"IF(ISERROR(INDIRECT(\"'3.09.1a (9)'!w42\"))=TRUE,\"\",INDIRECT(\"'3.09.1a (9)'!w42\"))","v":""},{"$f":"IF(ISERROR(INDIRECT(\"'3.09.1a (9)'!x42\"))=TRUE,\"\",INDIRECT(\"'3.09.1a (9)'!x42\"))","v":""},{"$f":"IF(ISERROR(INDIRECT(\"'3.09.1a (9)'!aa42\"))=TRUE,\"\",INDIRECT(\"'3.09.1a (9)'!aa42\"))","v":""},{"$f":"IF(ISERROR(INDIRECT(\"'3.09.1a (9)'!ad42\"))=TRUE,\"\",INDIRECT(\"'3.09.1a (9)'!ad42\"))","v":""},{"$f":"IF(ISERROR(INDIRECT(\"'3.09.1a (9)'!ah42\"))=TRUE,\"\",INDIRECT(\"'3.09.1a (9)'!ah42\"))","v":""},{"$f":"IF(ISERROR(INDIRECT(\"'3.09.1a (9)'!am42\"))=TRUE,\"\",INDIRECT(\"'3.09.1a (9)'!am42\"))","v":""}]
[0,"3.09.1a (9)",{"$f":"IF(ISERROR(INDIRECT(\"'3.09.1a (9)'!b43\"))=TRUE,\"\",INDIRECT(\"'3.09.1a (9)'!b43\"))","v":""},{"$f":"IF(ISERROR(INDIRECT(\"'3.09.1a (9)'!c43\"))=TRUE,\"\",INDIRECT(\"'3.09.1a (9)'!c43\"))","v":""},{"$f":"IF(ISERROR(INDIRECT(\"'3.09.1a (9)'!d43\"))=TRUE,\"\",INDIRECT(\"'3.09.1a (9)'!d43\"))","v":""},{"$f":"IF(ISERROR(INDIRECT(\"'3.09.1a (9)'!e43\"))=TRUE,\"\",INDIRECT(\"'3.09.1a (9)'!e43\"))","v":""},{"$f":"IF(ISERROR(INDIRECT(\"'3.09.1a (9)'!f43\"))=TRUE,\"\",INDIRECT(\"'3.09.1a (9)'!f43\"))","v":""},{"$f":"IF(ISERROR(INDIRECT(\"'3.09.1a (9)'!g43\"))=TRUE,\"\",INDIRECT(\"'3.09.1a (9)'!g43\"))","v":""},{"$f":"IF(ISERROR(INDIRECT(\"'3.09.1a (9)'!h43\"))=TRUE,\"\",INDIRECT(\"'3.09.1a (9)'!h43\"))","v":""},{"$f":"IF(ISERROR(INDIRECT(\"'3.09.1a (9)'!i43\"))=TRUE,\"\",INDIRECT(\"'3.09.1a (9)'!i43\"))","v":""},{"$f":"IF(ISERROR(INDIRECT(\"'3.09.1a (9)'!j43\"))=TRUE,\"\",INDIRECT(\"'3.09.1a (9)'!j43\"))","v":""},{"$f":"IF(ISERROR(INDIRECT(\"'3.09.1a (9)'!o43\"))=TRUE,\"\",INDIRECT(\"'3.09.1a (9)'!o43\"))","v":""},{"$f":"IF(ISERROR(INDIRECT(\"'3.09.1a (9)'!p43\"))=TRUE,\"\",INDIRECT(\"'3.09.1a (9)'!p43\"))","v":""},{"$f":"IF(ISERROR(INDIRECT(\"'3.09.1a (9)'!q43\"))=TRUE,\"\",INDIRECT(\"'3.09.1a (9)'!q43\"))","v":""},{"$f":"IF(ISERROR(INDIRECT(\"'3.09.1a (9)'!s43\"))=TRUE,\"\",INDIRECT(\"'3.09.1a (9)'!s43\"))","v":""},{"$f":"IF(ISERROR(INDIRECT(\"'3.09.1a (9)'!t43\"))=TRUE,\"\",INDIRECT(\"'3.09.1a (9)'!t43\"))","v":""},{"$f":"IF(ISERROR(INDIRECT(\"'3.09.1a (9)'!u43\"))=TRUE,\"\",INDIRECT(\"'3.09.1a (9)'!u43\"))","v":""},{"$f":"IF(ISERROR(INDIRECT(\"'3.09.1a (9)'!v43\"))=TRUE,\"\",INDIRECT(\"'3.09.1a (9)'!v43\"))","v":""},{"$f":"IF(ISERROR(INDIRECT(\"'3.09.1a (9)'!w43\"))=TRUE,\"\",INDIRECT(\"'3.09.1a (9)'!w43\"))","v":""},{"$f":"IF(ISERROR(INDIRECT(\"'3.09.1a (9)'!x43\"))=TRUE,\"\",INDIRECT(\"'3.09.1a (9)'!x43\"))","v":""},{"$f":"IF(ISERROR(INDIRECT(\"'3.09.1a (9)'!aa43\"))=TRUE,\"\",INDIRECT(\"'3.09.1a (9)'!aa43\"))","v":""},{"$f":"IF(ISERROR(INDIRECT(\"'3.09.1a (9)'!ad43\"))=TRUE,\"\",INDIRECT(\"'3.09.1a (9)'!ad43\"))","v":""},{"$f":"IF(ISERROR(INDIRECT(\"'3.09.1a (9)'!ah43\"))=TRUE,\"\",INDIRECT(\"'3.09.1a (9)'!ah43\"))","v":""},{"$f":"IF(ISERROR(INDIRECT(\"'3.09.1a (9)'!am43\"))=TRUE,\"\",INDIRECT(\"'3.09.1a (9)'!am43\"))","v":""}]
[{"$f":"AgencyCode","v":0},"3.09.1a (10)",{"$f":"IF(ISERROR(INDIRECT(\"'3.09.1a (10)'!b19\"))=TRUE,\"\",INDIRECT(\"'3.09.1a (10)'!b19\"))","v":""},{"$f":"IF(ISERROR(INDIRECT(\"'3.09.1a (10)'!c19\"))=TRUE,\"\",INDIRECT(\"'3.09.1a (10)'!c19\"))","v":""},{"$f":"IF(ISERROR(INDIRECT(\"'3.09.1a (10)'!D19\"))=TRUE,\"\",INDIRECT(\"'3.09.1a (10)'!D19\"))","v":""},{"$f":"IF(ISERROR(INDIRECT(\"'3.09.1a (10)'!e19\"))=TRUE,\"\",INDIRECT(\"'3.09.1a (10)'!e19\"))","v":""},{"$f":"IF(ISERROR(INDIRECT(\"'3.09.1a (10)'!f19\"))=TRUE,\"\",INDIRECT(\"'3.09.1a (10)'!f19\"))","v":""},{"$f":"IF(ISERROR(INDIRECT(\"'3.09.1a (10)'!g19\"))=TRUE,\"\",INDIRECT(\"'3.09.1a (10)'!g19\"))","v":""},{"$f":"IF(ISERROR(INDIRECT(\"'3.09.1a (10)'!h19\"))=TRUE,\"\",INDIRECT(\"'3.09.1a (10)'!h19\"))","v":""},{"$f":"IF(ISERROR(INDIRECT(\"'3.09.1a (10)'!i19\"))=TRUE,\"\",INDIRECT(\"'3.09.1a (10)'!i19\"))","v":""},{"$f":"IF(ISERROR(INDIRECT(\"'3.09.1a (10)'!j19\"))=TRUE,\"\",INDIRECT(\"'3.09.1a (10)'!j19\"))","v":""},{"$f":"IF(ISERROR(INDIRECT(\"'3.09.1a (10)'!o19\"))=TRUE,\"\",INDIRECT(\"'3.09.1a (10)'!o19\"))","v":""},{"$f":"IF(ISERROR(INDIRECT(\"'3.09.1a (10)'!p19\"))=TRUE,\"\",INDIRECT(\"'3.09.1a (10)'!p19\"))","v":""},{"$f":"IF(ISERROR(INDIRECT(\"'3.09.1a (10)'!q19\"))=TRUE,\"\",INDIRECT(\"'3.09.1a (10)'!q19\"))","v":""},{"$f":"IF(ISERROR(INDIRECT(\"'3.09.1a (10)'!s19\"))=TRUE,\"\",INDIRECT(\"'3.09.1a (10)'!s19\"))","v":""},{"$f":"IF(ISERROR(INDIRECT(\"'3.09.1a (10)'!t19\"))=TRUE,\"\",INDIRECT(\"'3.09.1a (10)'!t19\"))","v":""},{"$f":"IF(ISERROR(INDIRECT(\"'3.09.1a (10)'!u19\"))=TRUE,\"\",INDIRECT(\"'3.09.1a (10)'!u19\"))","v":""},{"$f":"IF(ISERROR(INDIRECT(\"'3.09.1a (10)'!v19\"))=TRUE,\"\",INDIRECT(\"'3.09.1a (10)'!v19\"))","v":""},{"$f":"IF(ISERROR(INDIRECT(\"'3.09.1a (10)'!w19\"))=TRUE,\"\",INDIRECT(\"'3.09.1a (10)'!w19\"))","v":""},{"$f":"IF(ISERROR(INDIRECT(\"'3.09.1a (10)'!x19\"))=TRUE,\"\",INDIRECT(\"'3.09.1a (10)'!x19\"))","v":""},{"$f":"IF(ISERROR(INDIRECT(\"'3.09.1a (10)'!aa19\"))=TRUE,\"\",INDIRECT(\"'3.09.1a (10)'!aa19\"))","v":""},{"$f":"IF(ISERROR(INDIRECT(\"'3.09.1a (10)'!ad19\"))=TRUE,\"\",INDIRECT(\"'3.09.1a (10)'!ad19\"))","v":""},{"$f":"IF(ISERROR(INDIRECT(\"'3.09.1a (10)'!ah19\"))=TRUE,\"\",INDIRECT(\"'3.09.1a (10)'!ah19\"))","v":""},{"$f":"IF(ISERROR(INDIRECT(\"'3.09.1a (10)'!am19\"))=TRUE,\"\",INDIRECT(\"'3.09.1a (10)'!am19\"))","v":""}]
[0,"3.09.1a (10)",{"$f":"IF(ISERROR(INDIRECT(\"'3.09.1a (10)'!b20\"))=TRUE,\"\",INDIRECT(\"'3.09.1a (10)'!b20\"))","v":""},{"$f":"IF(ISERROR(INDIRECT(\"'3.09.1a (10)'!c20\"))=TRUE,\"\",INDIRECT(\"'3.09.1a (10)'!c20\"))","v":""},{"$f":"IF(ISERROR(INDIRECT(\"'3.09.1a (10)'!d20\"))=TRUE,\"\",INDIRECT(\"'3.09.1a (10)'!d20\"))","v":""},{"$f":"IF(ISERROR(INDIRECT(\"'3.09.1a (10)'!e20\"))=TRUE,\"\",INDIRECT(\"'3.09.1a (10)'!e20\"))","v":""},{"$f":"IF(ISERROR(INDIRECT(\"'3.09.1a (10)'!f20\"))=TRUE,\"\",INDIRECT(\"'3.09.1a (10)'!f20\"))","v":""},{"$f":"IF(ISERROR(INDIRECT(\"'3.09.1a (10)'!g20\"))=TRUE,\"\",INDIRECT(\"'3.09.1a (10)'!g20\"))","v":""},{"$f":"IF(ISERROR(INDIRECT(\"'3.09.1a (10)'!h20\"))=TRUE,\"\",INDIRECT(\"'3.09.1a (10)'!h20\"))","v":""},{"$f":"IF(ISERROR(INDIRECT(\"'3.09.1a (10)'!i20\"))=TRUE,\"\",INDIRECT(\"'3.09.1a (10)'!i20\"))","v":""},{"$f":"IF(ISERROR(INDIRECT(\"'3.09.1a (10)'!j20\"))=TRUE,\"\",INDIRECT(\"'3.09.1a (10)'!j20\"))","v":""},{"$f":"IF(ISERROR(INDIRECT(\"'3.09.1a (10)'!o20\"))=TRUE,\"\",INDIRECT(\"'3.09.1a (10)'!o20\"))","v":""},{"$f":"IF(ISERROR(INDIRECT(\"'3.09.1a (10)'!p20\"))=TRUE,\"\",INDIRECT(\"'3.09.1a (10)'!p20\"))","v":""},{"$f":"IF(ISERROR(INDIRECT(\"'3.09.1a (10)'!q20\"))=TRUE,\"\",INDIRECT(\"'3.09.1a (10)'!q20\"))","v":""},{"$f":"IF(ISERROR(INDIRECT(\"'3.09.1a (10)'!s20\"))=TRUE,\"\",INDIRECT(\"'3.09.1a (10)'!s20\"))","v":""},{"$f":"IF(ISERROR(INDIRECT(\"'3.09.1a (10)'!t20\"))=TRUE,\"\",INDIRECT(\"'3.09.1a (10)'!t20\"))","v":""},{"$f":"IF(ISERROR(INDIRECT(\"'3.09.1a (10)'!u20\"))=TRUE,\"\",INDIRECT(\"'3.09.1a (10)'!u20\"))","v":""},{"$f":"IF(ISERROR(INDIRECT(\"'3.09.1a (10)'!v20\"))=TRUE,\"\",INDIRECT(\"'3.09.1a (10)'!v20\"))","v":""},{"$f":"IF(ISERROR(INDIRECT(\"'3.09.1a (10)'!w20\"))=TRUE,\"\",INDIRECT(\"'3.09.1a (10)'!w20\"))","v":""},{"$f":"IF(ISERROR(INDIRECT(\"'3.09.1a (10)'!x20\"))=TRUE,\"\",INDIRECT(\"'3.09.1a (10)'!x20\"))","v":""},{"$f":"IF(ISERROR(INDIRECT(\"'3.09.1a (10)'!aa20\"))=TRUE,\"\",INDIRECT(\"'3.09.1a (10)'!aa20\"))","v":""},{"$f":"IF(ISERROR(INDIRECT(\"'3.09.1a (10)'!ad20\"))=TRUE,\"\",INDIRECT(\"'3.09.1a (10)'!ad20\"))","v":""},{"$f":"IF(ISERROR(INDIRECT(\"'3.09.1a (10)'!ah20\"))=TRUE,\"\",INDIRECT(\"'3.09.1a (10)'!ah20\"))","v":""},{"$f":"IF(ISERROR(INDIRECT(\"'3.09.1a (10)'!am20\"))=TRUE,\"\",INDIRECT(\"'3.09.1a (10)'!am20\"))","v":""}]
[0,"3.09.1a (10)",{"$f":"IF(ISERROR(INDIRECT(\"'3.09.1a (10)'!b21\"))=TRUE,\"\",INDIRECT(\"'3.09.1a (10)'!b21\"))","v":""},{"$f":"IF(ISERROR(INDIRECT(\"'3.09.1a (10)'!c21\"))=TRUE,\"\",INDIRECT(\"'3.09.1a (10)'!c21\"))","v":""},{"$f":"IF(ISERROR(INDIRECT(\"'3.09.1a (10)'!d21\"))=TRUE,\"\",INDIRECT(\"'3.09.1a (10)'!d21\"))","v":""},{"$f":"IF(ISERROR(INDIRECT(\"'3.09.1a (10)'!e21\"))=TRUE,\"\",INDIRECT(\"'3.09.1a (10)'!e21\"))","v":""},{"$f":"IF(ISERROR(INDIRECT(\"'3.09.1a (10)'!f21\"))=TRUE,\"\",INDIRECT(\"'3.09.1a (10)'!f21\"))","v":""},{"$f":"IF(ISERROR(INDIRECT(\"'3.09.1a (10)'!g21\"))=TRUE,\"\",INDIRECT(\"'3.09.1a (10)'!g21\"))","v":""},{"$f":"IF(ISERROR(INDIRECT(\"'3.09.1a (10)'!h21\"))=TRUE,\"\",INDIRECT(\"'3.09.1a (10)'!h21\"))","v":""},{"$f":"IF(ISERROR(INDIRECT(\"'3.09.1a (10)'!i21\"))=TRUE,\"\",INDIRECT(\"'3.09.1a (10)'!i21\"))","v":""},{"$f":"IF(ISERROR(INDIRECT(\"'3.09.1a (10)'!j21\"))=TRUE,\"\",INDIRECT(\"'3.09.1a (10)'!j21\"))","v":""},{"$f":"IF(ISERROR(INDIRECT(\"'3.09.1a (10)'!o21\"))=TRUE,\"\",INDIRECT(\"'3.09.1a (10)'!o21\"))","v":""},{"$f":"IF(ISERROR(INDIRECT(\"'3.09.1a (10)'!p21\"))=TRUE,\"\",INDIRECT(\"'3.09.1a (10)'!p21\"))","v":""},{"$f":"IF(ISERROR(INDIRECT(\"'3.09.1a (10)'!q21\"))=TRUE,\"\",INDIRECT(\"'3.09.1a (10)'!q21\"))","v":""},{"$f":"IF(ISERROR(INDIRECT(\"'3.09.1a (10)'!s21\"))=TRUE,\"\",INDIRECT(\"'3.09.1a (10)'!s21\"))","v":""},{"$f":"IF(ISERROR(INDIRECT(\"'3.09.1a (10)'!t21\"))=TRUE,\"\",INDIRECT(\"'3.09.1a (10)'!t21\"))","v":""},{"$f":"IF(ISERROR(INDIRECT(\"'3.09.1a (10)'!u21\"))=TRUE,\"\",INDIRECT(\"'3.09.1a (10)'!u21\"))","v":""},{"$f":"IF(ISERROR(INDIRECT(\"'3.09.1a (10)'!v21\"))=TRUE,\"\",INDIRECT(\"'3.09.1a (10)'!v21\"))","v":""},{"$f":"IF(ISERROR(INDIRECT(\"'3.09.1a (10)'!w21\"))=TRUE,\"\",INDIRECT(\"'3.09.1a (10)'!w21\"))","v":""},{"$f":"IF(ISERROR(INDIRECT(\"'3.09.1a (10)'!x21\"))=TRUE,\"\",INDIRECT(\"'3.09.1a (10)'!x21\"))","v":""},{"$f":"IF(ISERROR(INDIRECT(\"'3.09.1a (10)'!aa21\"))=TRUE,\"\",INDIRECT(\"'3.09.1a (10)'!aa21\"))","v":""},{"$f":"IF(ISERROR(INDIRECT(\"'3.09.1a (10)'!ad21\"))=TRUE,\"\",INDIRECT(\"'3.09.1a (10)'!ad21\"))","v":""},{"$f":"IF(ISERROR(INDIRECT(\"'3.09.1a (10)'!ah21\"))=TRUE,\"\",INDIRECT(\"'3.09.1a (10)'!ah21\"))","v":""},{"$f":"IF(ISERROR(INDIRECT(\"'3.09.1a (10)'!am21\"))=TRUE,\"\",INDIRECT(\"'3.09.1a (10)'!am21\"))","v":""}]
[0,"3.09.1a (10)",{"$f":"IF(ISERROR(INDIRECT(\"'3.09.1a (10)'!b22\"))=TRUE,\"\",INDIRECT(\"'3.09.1a (10)'!b22\"))","v":""},{"$f":"IF(ISERROR(INDIRECT(\"'3.09.1a (10)'!c22\"))=TRUE,\"\",INDIRECT(\"'3.09.1a (10)'!c22\"))","v":""},{"$f":"IF(ISERROR(INDIRECT(\"'3.09.1a (10)'!d22\"))=TRUE,\"\",INDIRECT(\"'3.09.1a (10)'!d22\"))","v":""},{"$f":"IF(ISERROR(INDIRECT(\"'3.09.1a (10)'!e22\"))=TRUE,\"\",INDIRECT(\"'3.09.1a (10)'!e22\"))","v":""},{"$f":"IF(ISERROR(INDIRECT(\"'3.09.1a (10)'!f22\"))=TRUE,\"\",INDIRECT(\"'3.09.1a (10)'!f22\"))","v":""},{"$f":"IF(ISERROR(INDIRECT(\"'3.09.1a (10)'!g22\"))=TRUE,\"\",INDIRECT(\"'3.09.1a (10)'!g22\"))","v":""},{"$f":"IF(ISERROR(INDIRECT(\"'3.09.1a (10)'!h22\"))=TRUE,\"\",INDIRECT(\"'3.09.1a (10)'!h22\"))","v":""},{"$f":"IF(ISERROR(INDIRECT(\"'3.09.1a (10)'!i22\"))=TRUE,\"\",INDIRECT(\"'3.09.1a (10)'!i22\"))","v":""},{"$f":"IF(ISERROR(INDIRECT(\"'3.09.1a (10)'!j22\"))=TRUE,\"\",INDIRECT(\"'3.09.1a (10)'!j22\"))","v":""},{"$f":"IF(ISERROR(INDIRECT(\"'3.09.1a (10)'!o22\"))=TRUE,\"\",INDIRECT(\"'3.09.1a (10)'!o22\"))","v":""},{"$f":"IF(ISERROR(INDIRECT(\"'3.09.1a (10)'!p22\"))=TRUE,\"\",INDIRECT(\"'3.09.1a (10)'!p22\"))","v":""},{"$f":"IF(ISERROR(INDIRECT(\"'3.09.1a (10)'!q22\"))=TRUE,\"\",INDIRECT(\"'3.09.1a (10)'!q22\"))","v":""},{"$f":"IF(ISERROR(INDIRECT(\"'3.09.1a (10)'!s22\"))=TRUE,\"\",INDIRECT(\"'3.09.1a (10)'!s22\"))","v":""},{"$f":"IF(ISERROR(INDIRECT(\"'3.09.1a (10)'!t22\"))=TRUE,\"\",INDIRECT(\"'3.09.1a (10)'!t22\"))","v":""},{"$f":"IF(ISERROR(INDIRECT(\"'3.09.1a (10)'!u22\"))=TRUE,\"\",INDIRECT(\"'3.09.1a (10)'!u22\"))","v":""},{"$f":"IF(ISERROR(INDIRECT(\"'3.09.1a (10)'!v22\"))=TRUE,\"\",INDIRECT(\"'3.09.1a (10)'!v22\"))","v":""},{"$f":"IF(ISERROR(INDIRECT(\"'3.09.1a (10)'!w22\"))=TRUE,\"\",INDIRECT(\"'3.09.1a (10)'!w22\"))","v":""},{"$f":"IF(ISERROR(INDIRECT(\"'3.09.1a (10)'!x22\"))=TRUE,\"\",INDIRECT(\"'3.09.1a (10)'!x22\"))","v":""},{"$f":"IF(ISERROR(INDIRECT(\"'3.09.1a (10)'!aa22\"))=TRUE,\"\",INDIRECT(\"'3.09.1a (10)'!aa22\"))","v":""},{"$f":"IF(ISERROR(INDIRECT(\"'3.09.1a (10)'!ad22\"))=TRUE,\"\",INDIRECT(\"'3.09.1a (10)'!ad22\"))","v":""},{"$f":"IF(ISERROR(INDIRECT(\"'3.09.1a (10)'!ah22\"))=TRUE,\"\",INDIRECT(\"'3.09.1a (10)'!ah22\"))","v":""},{"$f":"IF(ISERROR(INDIRECT(\"'3.09.1a (10)'!am22\"))=TRUE,\"\",INDIRECT(\"'3.09.1a (10)'!am22\"))","v":""}]
[0,"3.09.1a (10)",{"$f":"IF(ISERROR(INDIRECT(\"'3.09.1a (10)'!b23\"))=TRUE,\"\",INDIRECT(\"'3.09.1a (10)'!b23\"))","v":""},{"$f":"IF(ISERROR(INDIRECT(\"'3.09.1a (10)'!c23\"))=TRUE,\"\",INDIRECT(\"'3.09.1a (10)'!c23\"))","v":""},{"$f":"IF(ISERROR(INDIRECT(\"'3.09.1a (10)'!d23\"))=TRUE,\"\",INDIRECT(\"'3.09.1a (10)'!d23\"))","v":""},{"$f":"IF(ISERROR(INDIRECT(\"'3.09.1a (10)'!e23\"))=TRUE,\"\",INDIRECT(\"'3.09.1a (10)'!e23\"))","v":""},{"$f":"IF(ISERROR(INDIRECT(\"'3.09.1a (10)'!f23\"))=TRUE,\"\",INDIRECT(\"'3.09.1a (10)'!f23\"))","v":""},{"$f":"IF(ISERROR(INDIRECT(\"'3.09.1a (10)'!g23\"))=TRUE,\"\",INDIRECT(\"'3.09.1a (10)'!g23\"))","v":""},{"$f":"IF(ISERROR(INDIRECT(\"'3.09.1a (10)'!h23\"))=TRUE,\"\",INDIRECT(\"'3.09.1a (10)'!h23\"))","v":""},{"$f":"IF(ISERROR(INDIRECT(\"'3.09.1a (10)'!i23\"))=TRUE,\"\",INDIRECT(\"'3.09.1a (10)'!i23\"))","v":""},{"$f":"IF(ISERROR(INDIRECT(\"'3.09.1a (10)'!j23\"))=TRUE,\"\",INDIRECT(\"'3.09.1a (10)'!j23\"))","v":""},{"$f":"IF(ISERROR(INDIRECT(\"'3.09.1a (10)'!o23\"))=TRUE,\"\",INDIRECT(\"'3.09.1a (10)'!o23\"))","v":""},{"$f":"IF(ISERROR(INDIRECT(\"'3.09.1a (10)'!p23\"))=TRUE,\"\",INDIRECT(\"'3.09.1a (10)'!p23\"))","v":""},{"$f":"IF(ISERROR(INDIRECT(\"'3.09.1a (10)'!q23\"))=TRUE,\"\",INDIRECT(\"'3.09.1a (10)'!q23\"))","v":""},{"$f":"IF(ISERROR(INDIRECT(\"'3.09.1a (10)'!s23\"))=TRUE,\"\",INDIRECT(\"'3.09.1a (10)'!s23\"))","v":""},{"$f":"IF(ISERROR(INDIRECT(\"'3.09.1a (10)'!t23\"))=TRUE,\"\",INDIRECT(\"'3.09.1a (10)'!t23\"))","v":""},{"$f":"IF(ISERROR(INDIRECT(\"'3.09.1a (10)'!u23\"))=TRUE,\"\",INDIRECT(\"'3.09.1a (10)'!u23\"))","v":""},{"$f":"IF(ISERROR(INDIRECT(\"'3.09.1a (10)'!v23\"))=TRUE,\"\",INDIRECT(\"'3.09.1a (10)'!v23\"))","v":""},{"$f":"IF(ISERROR(INDIRECT(\"'3.09.1a (10)'!w23\"))=TRUE,\"\",INDIRECT(\"'3.09.1a (10)'!w23\"))","v":""},{"$f":"IF(ISERROR(INDIRECT(\"'3.09.1a (10)'!x23\"))=TRUE,\"\",INDIRECT(\"'3.09.1a (10)'!x23\"))","v":""},{"$f":"IF(ISERROR(INDIRECT(\"'3.09.1a (10)'!aa23\"))=TRUE,\"\",INDIRECT(\"'3.09.1a (10)'!aa23\"))","v":""},{"$f":"IF(ISERROR(INDIRECT(\"'3.09.1a (10)'!ad23\"))=TRUE,\"\",INDIRECT(\"'3.09.1a (10)'!ad23\"))","v":""},{"$f":"IF(ISERROR(INDIRECT(\"'3.09.1a (10)'!ah23\"))=TRUE,\"\",INDIRECT(\"'3.09.1a (10)'!ah23\"))","v":""},{"$f":"IF(ISERROR(INDIRECT(\"'3.09.1a (10)'!am23\"))=TRUE,\"\",INDIRECT(\"'3.09.1a (10)'!am23\"))","v":""}]
[0,"3.09.1a (10)",{"$f":"IF(ISERROR(INDIRECT(\"'3.09.1a (10)'!b24\"))=TRUE,\"\",INDIRECT(\"'3.09.1a (10)'!b24\"))","v":""},{"$f":"IF(ISERROR(INDIRECT(\"'3.09.1a (10)'!c24\"))=TRUE,\"\",INDIRECT(\"'3.09.1a (10)'!c24\"))","v":""},{"$f":"IF(ISERROR(INDIRECT(\"'3.09.1a (10)'!d24\"))=TRUE,\"\",INDIRECT(\"'3.09.1a (10)'!d24\"))","v":""},{"$f":"IF(ISERROR(INDIRECT(\"'3.09.1a (10)'!e24\"))=TRUE,\"\",INDIRECT(\"'3.09.1a (10)'!e24\"))","v":""},{"$f":"IF(ISERROR(INDIRECT(\"'3.09.1a (10)'!f24\"))=TRUE,\"\",INDIRECT(\"'3.09.1a (10)'!f24\"))","v":""},{"$f":"IF(ISERROR(INDIRECT(\"'3.09.1a (10)'!g24\"))=TRUE,\"\",INDIRECT(\"'3.09.1a (10)'!g24\"))","v":""},{"$f":"IF(ISERROR(INDIRECT(\"'3.09.1a (10)'!h24\"))=TRUE,\"\",INDIRECT(\"'3.09.1a (10)'!h24\"))","v":""},{"$f":"IF(ISERROR(INDIRECT(\"'3.09.1a (10)'!i24\"))=TRUE,\"\",INDIRECT(\"'3.09.1a (10)'!i24\"))","v":""},{"$f":"IF(ISERROR(INDIRECT(\"'3.09.1a (10)'!j24\"))=TRUE,\"\",INDIRECT(\"'3.09.1a (10)'!j24\"))","v":""},{"$f":"IF(ISERROR(INDIRECT(\"'3.09.1a (10)'!o24\"))=TRUE,\"\",INDIRECT(\"'3.09.1a (10)'!o24\"))","v":""},{"$f":"IF(ISERROR(INDIRECT(\"'3.09.1a (10)'!p24\"))=TRUE,\"\",INDIRECT(\"'3.09.1a (10)'!p24\"))","v":""},{"$f":"IF(ISERROR(INDIRECT(\"'3.09.1a (10)'!q24\"))=TRUE,\"\",INDIRECT(\"'3.09.1a (10)'!q24\"))","v":""},{"$f":"IF(ISERROR(INDIRECT(\"'3.09.1a (10)'!s24\"))=TRUE,\"\",INDIRECT(\"'3.09.1a (10)'!s24\"))","v":""},{"$f":"IF(ISERROR(INDIRECT(\"'3.09.1a (10)'!t24\"))=TRUE,\"\",INDIRECT(\"'3.09.1a (10)'!t24\"))","v":""},{"$f":"IF(ISERROR(INDIRECT(\"'3.09.1a (10)'!u24\"))=TRUE,\"\",INDIRECT(\"'3.09.1a (10)'!u24\"))","v":""},{"$f":"IF(ISERROR(INDIRECT(\"'3.09.1a (10)'!v24\"))=TRUE,\"\",INDIRECT(\"'3.09.1a (10)'!v24\"))","v":""},{"$f":"IF(ISERROR(INDIRECT(\"'3.09.1a (10)'!w24\"))=TRUE,\"\",INDIRECT(\"'3.09.1a (10)'!w24\"))","v":""},{"$f":"IF(ISERROR(INDIRECT(\"'3.09.1a (10)'!x24\"))=TRUE,\"\",INDIRECT(\"'3.09.1a (10)'!x24\"))","v":""},{"$f":"IF(ISERROR(INDIRECT(\"'3.09.1a (10)'!aa24\"))=TRUE,\"\",INDIRECT(\"'3.09.1a (10)'!aa24\"))","v":""},{"$f":"IF(ISERROR(INDIRECT(\"'3.09.1a (10)'!ad24\"))=TRUE,\"\",INDIRECT(\"'3.09.1a (10)'!ad24\"))","v":""},{"$f":"IF(ISERROR(INDIRECT(\"'3.09.1a (10)'!ah24\"))=TRUE,\"\",INDIRECT(\"'3.09.1a (10)'!ah24\"))","v":""},{"$f":"IF(ISERROR(INDIRECT(\"'3.09.1a (10)'!am24\"))=TRUE,\"\",INDIRECT(\"'3.09.1a (10)'!am24\"))","v":""}]
[0,"3.09.1a (10)",{"$f":"IF(ISERROR(INDIRECT(\"'3.09.1a (10)'!b25\"))=TRUE,\"\",INDIRECT(\"'3.09.1a (10)'!b25\"))","v":""},{"$f":"IF(ISERROR(INDIRECT(\"'3.09.1a (10)'!c25\"))=TRUE,\"\",INDIRECT(\"'3.09.1a (10)'!c25\"))","v":""},{"$f":"IF(ISERROR(INDIRECT(\"'3.09.1a (10)'!d25\"))=TRUE,\"\",INDIRECT(\"'3.09.1a (10)'!d25\"))","v":""},{"$f":"IF(ISERROR(INDIRECT(\"'3.09.1a (10)'!e25\"))=TRUE,\"\",INDIRECT(\"'3.09.1a (10)'!e25\"))","v":""},{"$f":"IF(ISERROR(INDIRECT(\"'3.09.1a (10)'!f25\"))=TRUE,\"\",INDIRECT(\"'3.09.1a (10)'!f25\"))","v":""},{"$f":"IF(ISERROR(INDIRECT(\"'3.09.1a (10)'!g25\"))=TRUE,\"\",INDIRECT(\"'3.09.1a (10)'!g25\"))","v":""},{"$f":"IF(ISERROR(INDIRECT(\"'3.09.1a (10)'!h25\"))=TRUE,\"\",INDIRECT(\"'3.09.1a (10)'!h25\"))","v":""},{"$f":"IF(ISERROR(INDIRECT(\"'3.09.1a (10)'!i25\"))=TRUE,\"\",INDIRECT(\"'3.09.1a (10)'!i25\"))","v":""},{"$f":"IF(ISERROR(INDIRECT(\"'3.09.1a (10)'!j25\"))=TRUE,\"\",INDIRECT(\"'3.09.1a (10)'!j25\"))","v":""},{"$f":"IF(ISERROR(INDIRECT(\"'3.09.1a (10)'!o25\"))=TRUE,\"\",INDIRECT(\"'3.09.1a (10)'!o25\"))","v":""},{"$f":"IF(ISERROR(INDIRECT(\"'3.09.1a (10)'!p25\"))=TRUE,\"\",INDIRECT(\"'3.09.1a (10)'!p25\"))","v":""},{"$f":"IF(ISERROR(INDIRECT(\"'3.09.1a (10)'!q25\"))=TRUE,\"\",INDIRECT(\"'3.09.1a (10)'!q25\"))","v":""},{"$f":"IF(ISERROR(INDIRECT(\"'3.09.1a (10)'!s25\"))=TRUE,\"\",INDIRECT(\"'3.09.1a (10)'!s25\"))","v":""},{"$f":"IF(ISERROR(INDIRECT(\"'3.09.1a (10)'!t25\"))=TRUE,\"\",INDIRECT(\"'3.09.1a (10)'!t25\"))","v":""},{"$f":"IF(ISERROR(INDIRECT(\"'3.09.1a (10)'!u25\"))=TRUE,\"\",INDIRECT(\"'3.09.1a (10)'!u25\"))","v":""},{"$f":"IF(ISERROR(INDIRECT(\"'3.09.1a (10)'!v25\"))=TRUE,\"\",INDIRECT(\"'3.09.1a (10)'!v25\"))","v":""},{"$f":"IF(ISERROR(INDIRECT(\"'3.09.1a (10)'!w25\"))=TRUE,\"\",INDIRECT(\"'3.09.1a (10)'!w25\"))","v":""},{"$f":"IF(ISERROR(INDIRECT(\"'3.09.1a (10)'!x25\"))=TRUE,\"\",INDIRECT(\"'3.09.1a (10)'!x25\"))","v":""},{"$f":"IF(ISERROR(INDIRECT(\"'3.09.1a (10)'!aa25\"))=TRUE,\"\",INDIRECT(\"'3.09.1a (10)'!aa25\"))","v":""},{"$f":"IF(ISERROR(INDIRECT(\"'3.09.1a (10)'!ad25\"))=TRUE,\"\",INDIRECT(\"'3.09.1a (10)'!ad25\"))","v":""},{"$f":"IF(ISERROR(INDIRECT(\"'3.09.1a (10)'!ah25\"))=TRUE,\"\",INDIRECT(\"'3.09.1a (10)'!ah25\"))","v":""},{"$f":"IF(ISERROR(INDIRECT(\"'3.09.1a (10)'!am25\"))=TRUE,\"\",INDIRECT(\"'3.09.1a (10)'!am25\"))","v":""}]
[0,"3.09.1a (10)",{"$f":"IF(ISERROR(INDIRECT(\"'3.09.1a (10)'!b26\"))=TRUE,\"\",INDIRECT(\"'3.09.1a (10)'!b26\"))","v":""},{"$f":"IF(ISERROR(INDIRECT(\"'3.09.1a (10)'!c26\"))=TRUE,\"\",INDIRECT(\"'3.09.1a (10)'!c26\"))","v":""},{"$f":"IF(ISERROR(INDIRECT(\"'3.09.1a (10)'!d26\"))=TRUE,\"\",INDIRECT(\"'3.09.1a (10)'!d26\"))","v":""},{"$f":"IF(ISERROR(INDIRECT(\"'3.09.1a (10)'!e26\"))=TRUE,\"\",INDIRECT(\"'3.09.1a (10)'!e26\"))","v":""},{"$f":"IF(ISERROR(INDIRECT(\"'3.09.1a (10)'!f26\"))=TRUE,\"\",INDIRECT(\"'3.09.1a (10)'!f26\"))","v":""},{"$f":"IF(ISERROR(INDIRECT(\"'3.09.1a (10)'!g26\"))=TRUE,\"\",INDIRECT(\"'3.09.1a (10)'!g26\"))","v":""},{"$f":"IF(ISERROR(INDIRECT(\"'3.09.1a (10)'!h26\"))=TRUE,\"\",INDIRECT(\"'3.09.1a (10)'!h26\"))","v":""},{"$f":"IF(ISERROR(INDIRECT(\"'3.09.1a (10)'!i26\"))=TRUE,\"\",INDIRECT(\"'3.09.1a (10)'!i26\"))","v":""},{"$f":"IF(ISERROR(INDIRECT(\"'3.09.1a (10)'!j26\"))=TRUE,\"\",INDIRECT(\"'3.09.1a (10)'!j26\"))","v":""},{"$f":"IF(ISERROR(INDIRECT(\"'3.09.1a (10)'!o26\"))=TRUE,\"\",INDIRECT(\"'3.09.1a (10)'!o26\"))","v":""},{"$f":"IF(ISERROR(INDIRECT(\"'3.09.1a (10)'!p26\"))=TRUE,\"\",INDIRECT(\"'3.09.1a (10)'!p26\"))","v":""},{"$f":"IF(ISERROR(INDIRECT(\"'3.09.1a (10)'!q26\"))=TRUE,\"\",INDIRECT(\"'3.09.1a (10)'!q26\"))","v":""},{"$f":"IF(ISERROR(INDIRECT(\"'3.09.1a (10)'!s26\"))=TRUE,\"\",INDIRECT(\"'3.09.1a (10)'!s26\"))","v":""},{"$f":"IF(ISERROR(INDIRECT(\"'3.09.1a (10)'!t26\"))=TRUE,\"\",INDIRECT(\"'3.09.1a (10)'!t26\"))","v":""},{"$f":"IF(ISERROR(INDIRECT(\"'3.09.1a (10)'!u26\"))=TRUE,\"\",INDIRECT(\"'3.09.1a (10)'!u26\"))","v":""},{"$f":"IF(ISERROR(INDIRECT(\"'3.09.1a (10)'!v26\"))=TRUE,\"\",INDIRECT(\"'3.09.1a (10)'!v26\"))","v":""},{"$f":"IF(ISERROR(INDIRECT(\"'3.09.1a (10)'!w26\"))=TRUE,\"\",INDIRECT(\"'3.09.1a (10)'!w26\"))","v":""},{"$f":"IF(ISERROR(INDIRECT(\"'3.09.1a (10)'!x26\"))=TRUE,\"\",INDIRECT(\"'3.09.1a (10)'!x26\"))","v":""},{"$f":"IF(ISERROR(INDIRECT(\"'3.09.1a (10)'!aa26\"))=TRUE,\"\",INDIRECT(\"'3.09.1a (10)'!aa26\"))","v":""},{"$f":"IF(ISERROR(INDIRECT(\"'3.09.1a (10)'!ad26\"))=TRUE,\"\",INDIRECT(\"'3.09.1a (10)'!ad26\"))","v":""},{"$f":"IF(ISERROR(INDIRECT(\"'3.09.1a (10)'!ah26\"))=TRUE,\"\",INDIRECT(\"'3.09.1a (10)'!ah26\"))","v":""},{"$f":"IF(ISERROR(INDIRECT(\"'3.09.1a (10)'!am26\"))=TRUE,\"\",INDIRECT(\"'3.09.1a (10)'!am26\"))","v":""}]
[0,"3.09.1a (10)",{"$f":"IF(ISERROR(INDIRECT(\"'3.09.1a (10)'!b27\"))=TRUE,\"\",INDIRECT(\"'3.09.1a (10)'!b27\"))","v":""},{"$f":"IF(ISERROR(INDIRECT(\"'3.09.1a (10)'!c27\"))=TRUE,\"\",INDIRECT(\"'3.09.1a (10)'!c27\"))","v":""},{"$f":"IF(ISERROR(INDIRECT(\"'3.09.1a (10)'!d27\"))=TRUE,\"\",INDIRECT(\"'3.09.1a (10)'!d27\"))","v":""},{"$f":"IF(ISERROR(INDIRECT(\"'3.09.1a (10)'!e27\"))=TRUE,\"\",INDIRECT(\"'3.09.1a (10)'!e27\"))","v":""},{"$f":"IF(ISERROR(INDIRECT(\"'3.09.1a (10)'!f27\"))=TRUE,\"\",INDIRECT(\"'3.09.1a (10)'!f27\"))","v":""},{"$f":"IF(ISERROR(INDIRECT(\"'3.09.1a (10)'!g27\"))=TRUE,\"\",INDIRECT(\"'3.09.1a (10)'!g27\"))","v":""},{"$f":"IF(ISERROR(INDIRECT(\"'3.09.1a (10)'!h27\"))=TRUE,\"\",INDIRECT(\"'3.09.1a (10)'!h27\"))","v":""},{"$f":"IF(ISERROR(INDIRECT(\"'3.09.1a (10)'!i27\"))=TRUE,\"\",INDIRECT(\"'3.09.1a (10)'!i27\"))","v":""},{"$f":"IF(ISERROR(INDIRECT(\"'3.09.1a (10)'!j27\"))=TRUE,\"\",INDIRECT(\"'3.09.1a (10)'!j27\"))","v":""},{"$f":"IF(ISERROR(INDIRECT(\"'3.09.1a (10)'!o27\"))=TRUE,\"\",INDIRECT(\"'3.09.1a (10)'!o27\"))","v":""},{"$f":"IF(ISERROR(INDIRECT(\"'3.09.1a (10)'!p27\"))=TRUE,\"\",INDIRECT(\"'3.09.1a (10)'!p27\"))","v":""},{"$f":"IF(ISERROR(INDIRECT(\"'3.09.1a (10)'!q27\"))=TRUE,\"\",INDIRECT(\"'3.09.1a (10)'!q27\"))","v":""},{"$f":"IF(ISERROR(INDIRECT(\"'3.09.1a (10)'!s27\"))=TRUE,\"\",INDIRECT(\"'3.09.1a (10)'!s27\"))","v":""},{"$f":"IF(ISERROR(INDIRECT(\"'3.09.1a (10)'!t27\"))=TRUE,\"\",INDIRECT(\"'3.09.1a (10)'!t27\"))","v":""},{"$f":"IF(ISERROR(INDIRECT(\"'3.09.1a (10)'!u27\"))=TRUE,\"\",INDIRECT(\"'3.09.1a (10)'!u27\"))","v":""},{"$f":"IF(ISERROR(INDIRECT(\"'3.09.1a (10)'!v27\"))=TRUE,\"\",INDIRECT(\"'3.09.1a (10)'!v27\"))","v":""},{"$f":"IF(ISERROR(INDIRECT(\"'3.09.1a (10)'!w27\"))=TRUE,\"\",INDIRECT(\"'3.09.1a (10)'!w27\"))","v":""},{"$f":"IF(ISERROR(INDIRECT(\"'3.09.1a (10)'!x27\"))=TRUE,\"\",INDIRECT(\"'3.09.1a (10)'!x27\"))","v":""},{"$f":"IF(ISERROR(INDIRECT(\"'3.09.1a (10)'!aa27\"))=TRUE,\"\",INDIRECT(\"'3.09.1a (10)'!aa27\"))","v":""},{"$f":"IF(ISERROR(INDIRECT(\"'3.09.1a (10)'!ad27\"))=TRUE,\"\",INDIRECT(\"'3.09.1a (10)'!ad27\"))","v":""},{"$f":"IF(ISERROR(INDIRECT(\"'3.09.1a (10)'!ah27\"))=TRUE,\"\",INDIRECT(\"'3.09.1a (10)'!ah27\"))","v":""},{"$f":"IF(ISERROR(INDIRECT(\"'3.09.1a (10)'!am27\"))=TRUE,\"\",INDIRECT(\"'3.09.1a (10)'!am27\"))","v":""}]
[0,"3.09.1a (10)",{"$f":"IF(ISERROR(INDIRECT(\"'3.09.1a (10)'!b28\"))=TRUE,\"\",INDIRECT(\"'3.09.1a (10)'!b28\"))","v":""},{"$f":"IF(ISERROR(INDIRECT(\"'3.09.1a (10)'!c28\"))=TRUE,\"\",INDIRECT(\"'3.09.1a (10)'!c28\"))","v":""},{"$f":"IF(ISERROR(INDIRECT(\"'3.09.1a (10)'!d28\"))=TRUE,\"\",INDIRECT(\"'3.09.1a (10)'!d28\"))","v":""},{"$f":"IF(ISERROR(INDIRECT(\"'3.09.1a (10)'!e28\"))=TRUE,\"\",INDIRECT(\"'3.09.1a (10)'!e28\"))","v":""},{"$f":"IF(ISERROR(INDIRECT(\"'3.09.1a (10)'!f28\"))=TRUE,\"\",INDIRECT(\"'3.09.1a (10)'!f28\"))","v":""},{"$f":"IF(ISERROR(INDIRECT(\"'3.09.1a (10)'!g28\"))=TRUE,\"\",INDIRECT(\"'3.09.1a (10)'!g28\"))","v":""},{"$f":"IF(ISERROR(INDIRECT(\"'3.09.1a (10)'!h28\"))=TRUE,\"\",INDIRECT(\"'3.09.1a (10)'!h28\"))","v":""},{"$f":"IF(ISERROR(INDIRECT(\"'3.09.1a (10)'!i28\"))=TRUE,\"\",INDIRECT(\"'3.09.1a (10)'!i28\"))","v":""},{"$f":"IF(ISERROR(INDIRECT(\"'3.09.1a (10)'!j28\"))=TRUE,\"\",INDIRECT(\"'3.09.1a (10)'!j28\"))","v":""},{"$f":"IF(ISERROR(INDIRECT(\"'3.09.1a (10)'!o28\"))=TRUE,\"\",INDIRECT(\"'3.09.1a (10)'!o28\"))","v":""},{"$f":"IF(ISERROR(INDIRECT(\"'3.09.1a (10)'!p28\"))=TRUE,\"\",INDIRECT(\"'3.09.1a (10)'!p28\"))","v":""},{"$f":"IF(ISERROR(INDIRECT(\"'3.09.1a (10)'!q28\"))=TRUE,\"\",INDIRECT(\"'3.09.1a (10)'!q28\"))","v":""},{"$f":"IF(ISERROR(INDIRECT(\"'3.09.1a (10)'!s28\"))=TRUE,\"\",INDIRECT(\"'3.09.1a (10)'!s28\"))","v":""},{"$f":"IF(ISERROR(INDIRECT(\"'3.09.1a (10)'!t28\"))=TRUE,\"\",INDIRECT(\"'3.09.1a (10)'!t28\"))","v":""},{"$f":"IF(ISERROR(INDIRECT(\"'3.09.1a (10)'!u28\"))=TRUE,\"\",INDIRECT(\"'3.09.1a (10)'!u28\"))","v":""},{"$f":"IF(ISERROR(INDIRECT(\"'3.09.1a (10)'!v28\"))=TRUE,\"\",INDIRECT(\"'3.09.1a (10)'!v28\"))","v":""},{"$f":"IF(ISERROR(INDIRECT(\"'3.09.1a (10)'!w28\"))=TRUE,\"\",INDIRECT(\"'3.09.1a (10)'!w28\"))","v":""},{"$f":"IF(ISERROR(INDIRECT(\"'3.09.1a (10)'!x28\"))=TRUE,\"\",INDIRECT(\"'3.09.1a (10)'!x28\"))","v":""},{"$f":"IF(ISERROR(INDIRECT(\"'3.09.1a (10)'!aa28\"))=TRUE,\"\",INDIRECT(\"'3.09.1a (10)'!aa28\"))","v":""},{"$f":"IF(ISERROR(INDIRECT(\"'3.09.1a (10)'!ad28\"))=TRUE,\"\",INDIRECT(\"'3.09.1a (10)'!ad28\"))","v":""},{"$f":"IF(ISERROR(INDIRECT(\"'3.09.1a (10)'!ah28\"))=TRUE,\"\",INDIRECT(\"'3.09.1a (10)'!ah28\"))","v":""},{"$f":"IF(ISERROR(INDIRECT(\"'3.09.1a (10)'!am28\"))=TRUE,\"\",INDIRECT(\"'3.09.1a (10)'!am28\"))","v":""}]
[0,"3.09.1a (10)",{"$f":"IF(ISERROR(INDIRECT(\"'3.09.1a (10)'!b29\"))=TRUE,\"\",INDIRECT(\"'3.09.1a (10)'!b29\"))","v":""},{"$f":"IF(ISERROR(INDIRECT(\"'3.09.1a (10)'!c29\"))=TRUE,\"\",INDIRECT(\"'3.09.1a (10)'!c29\"))","v":""},{"$f":"IF(ISERROR(INDIRECT(\"'3.09.1a (10)'!d29\"))=TRUE,\"\",INDIRECT(\"'3.09.1a (10)'!d29\"))","v":""},{"$f":"IF(ISERROR(INDIRECT(\"'3.09.1a (10)'!e29\"))=TRUE,\"\",INDIRECT(\"'3.09.1a (10)'!e29\"))","v":""},{"$f":"IF(ISERROR(INDIRECT(\"'3.09.1a (10)'!f29\"))=TRUE,\"\",INDIRECT(\"'3.09.1a (10)'!f29\"))","v":""},{"$f":"IF(ISERROR(INDIRECT(\"'3.09.1a (10)'!g29\"))=TRUE,\"\",INDIRECT(\"'3.09.1a (10)'!g29\"))","v":""},{"$f":"IF(ISERROR(INDIRECT(\"'3.09.1a (10)'!h29\"))=TRUE,\"\",INDIRECT(\"'3.09.1a (10)'!h29\"))","v":""},{"$f":"IF(ISERROR(INDIRECT(\"'3.09.1a (10)'!i29\"))=TRUE,\"\",INDIRECT(\"'3.09.1a (10)'!i29\"))","v":""},{"$f":"IF(ISERROR(INDIRECT(\"'3.09.1a (10)'!j29\"))=TRUE,\"\",INDIRECT(\"'3.09.1a (10)'!j29\"))","v":""},{"$f":"IF(ISERROR(INDIRECT(\"'3.09.1a (10)'!o29\"))=TRUE,\"\",INDIRECT(\"'3.09.1a (10)'!o29\"))","v":""},{"$f":"IF(ISERROR(INDIRECT(\"'3.09.1a (10)'!p29\"))=TRUE,\"\",INDIRECT(\"'3.09.1a (10)'!p29\"))","v":""},{"$f":"IF(ISERROR(INDIRECT(\"'3.09.1a (10)'!q29\"))=TRUE,\"\",INDIRECT(\"'3.09.1a (10)'!q29\"))","v":""},{"$f":"IF(ISERROR(INDIRECT(\"'3.09.1a (10)'!s29\"))=TRUE,\"\",INDIRECT(\"'3.09.1a (10)'!s29\"))","v":""},{"$f":"IF(ISERROR(INDIRECT(\"'3.09.1a (10)'!t29\"))=TRUE,\"\",INDIRECT(\"'3.09.1a (10)'!t29\"))","v":""},{"$f":"IF(ISERROR(INDIRECT(\"'3.09.1a (10)'!u29\"))=TRUE,\"\",INDIRECT(\"'3.09.1a (10)'!u29\"))","v":""},{"$f":"IF(ISERROR(INDIRECT(\"'3.09.1a (10)'!v29\"))=TRUE,\"\",INDIRECT(\"'3.09.1a (10)'!v29\"))","v":""},{"$f":"IF(ISERROR(INDIRECT(\"'3.09.1a (10)'!w29\"))=TRUE,\"\",INDIRECT(\"'3.09.1a (10)'!w29\"))","v":""},{"$f":"IF(ISERROR(INDIRECT(\"'3.09.1a (10)'!x29\"))=TRUE,\"\",INDIRECT(\"'3.09.1a (10)'!x29\"))","v":""},{"$f":"IF(ISERROR(INDIRECT(\"'3.09.1a (10)'!aa29\"))=TRUE,\"\",INDIRECT(\"'3.09.1a (10)'!aa29\"))","v":""},{"$f":"IF(ISERROR(INDIRECT(\"'3.09.1a (10)'!ad29\"))=TRUE,\"\",INDIRECT(\"'3.09.1a (10)'!ad29\"))","v":""},{"$f":"IF(ISERROR(INDIRECT(\"'3.09.1a (10)'!ah29\"))=TRUE,\"\",INDIRECT(\"'3.09.1a (10)'!ah29\"))","v":""},{"$f":"IF(ISERROR(INDIRECT(\"'3.09.1a (10)'!am29\"))=TRUE,\"\",INDIRECT(\"'3.09.1a (10)'!am29\"))","v":""}]
[0,"3.09.1a (10)",{"$f":"IF(ISERROR(INDIRECT(\"'3.09.1a (10)'!b30\"))=TRUE,\"\",INDIRECT(\"'3.09.1a (10)'!b30\"))","v":""},{"$f":"IF(ISERROR(INDIRECT(\"'3.09.1a (10)'!c30\"))=TRUE,\"\",INDIRECT(\"'3.09.1a (10)'!c30\"))","v":""},{"$f":"IF(ISERROR(INDIRECT(\"'3.09.1a (10)'!d30\"))=TRUE,\"\",INDIRECT(\"'3.09.1a (10)'!d30\"))","v":""},{"$f":"IF(ISERROR(INDIRECT(\"'3.09.1a (10)'!e30\"))=TRUE,\"\",INDIRECT(\"'3.09.1a (10)'!e30\"))","v":""},{"$f":"IF(ISERROR(INDIRECT(\"'3.09.1a (10)'!f30\"))=TRUE,\"\",INDIRECT(\"'3.09.1a (10)'!f30\"))","v":""},{"$f":"IF(ISERROR(INDIRECT(\"'3.09.1a (10)'!g30\"))=TRUE,\"\",INDIRECT(\"'3.09.1a (10)'!g30\"))","v":""},{"$f":"IF(ISERROR(INDIRECT(\"'3.09.1a (10)'!h30\"))=TRUE,\"\",INDIRECT(\"'3.09.1a (10)'!h30\"))","v":""},{"$f":"IF(ISERROR(INDIRECT(\"'3.09.1a (10)'!i30\"))=TRUE,\"\",INDIRECT(\"'3.09.1a (10)'!i30\"))","v":""},{"$f":"IF(ISERROR(INDIRECT(\"'3.09.1a (10)'!j30\"))=TRUE,\"\",INDIRECT(\"'3.09.1a (10)'!j30\"))","v":""},{"$f":"IF(ISERROR(INDIRECT(\"'3.09.1a (10)'!o30\"))=TRUE,\"\",INDIRECT(\"'3.09.1a (10)'!o30\"))","v":""},{"$f":"IF(ISERROR(INDIRECT(\"'3.09.1a (10)'!p30\"))=TRUE,\"\",INDIRECT(\"'3.09.1a (10)'!p30\"))","v":""},{"$f":"IF(ISERROR(INDIRECT(\"'3.09.1a (10)'!q30\"))=TRUE,\"\",INDIRECT(\"'3.09.1a (10)'!q30\"))","v":""},{"$f":"IF(ISERROR(INDIRECT(\"'3.09.1a (10)'!s30\"))=TRUE,\"\",INDIRECT(\"'3.09.1a (10)'!s30\"))","v":""},{"$f":"IF(ISERROR(INDIRECT(\"'3.09.1a (10)'!t30\"))=TRUE,\"\",INDIRECT(\"'3.09.1a (10)'!t30\"))","v":""},{"$f":"IF(ISERROR(INDIRECT(\"'3.09.1a (10)'!u30\"))=TRUE,\"\",INDIRECT(\"'3.09.1a (10)'!u30\"))","v":""},{"$f":"IF(ISERROR(INDIRECT(\"'3.09.1a (10)'!v30\"))=TRUE,\"\",INDIRECT(\"'3.09.1a (10)'!v30\"))","v":""},{"$f":"IF(ISERROR(INDIRECT(\"'3.09.1a (10)'!w30\"))=TRUE,\"\",INDIRECT(\"'3.09.1a (10)'!w30\"))","v":""},{"$f":"IF(ISERROR(INDIRECT(\"'3.09.1a (10)'!x30\"))=TRUE,\"\",INDIRECT(\"'3.09.1a (10)'!x30\"))","v":""},{"$f":"IF(ISERROR(INDIRECT(\"'3.09.1a (10)'!aa30\"))=TRUE,\"\",INDIRECT(\"'3.09.1a (10)'!aa30\"))","v":""},{"$f":"IF(ISERROR(INDIRECT(\"'3.09.1a (10)'!ad30\"))=TRUE,\"\",INDIRECT(\"'3.09.1a (10)'!ad30\"))","v":""},{"$f":"IF(ISERROR(INDIRECT(\"'3.09.1a (10)'!ah30\"))=TRUE,\"\",INDIRECT(\"'3.09.1a (10)'!ah30\"))","v":""},{"$f":"IF(ISERROR(INDIRECT(\"'3.09.1a (10)'!am30\"))=TRUE,\"\",INDIRECT(\"'3.09.1a (10)'!am30\"))","v":""}]
[0,"3.09.1a (10)",{"$f":"IF(ISERROR(INDIRECT(\"'3.09.1a (10)'!b31\"))=TRUE,\"\",INDIRECT(\"'3.09.1a (10)'!b31\"))","v":""},{"$f":"IF(ISERROR(INDIRECT(\"'3.09.1a (10)'!c31\"))=TRUE,\"\",INDIRECT(\"'3.09.1a (10)'!c31\"))","v":""},{"$f":"IF(ISERROR(INDIRECT(\"'3.09.1a (10)'!d31\"))=TRUE,\"\",INDIRECT(\"'3.09.1a (10)'!d31\"))","v":""},{"$f":"IF(ISERROR(INDIRECT(\"'3.09.1a (10)'!e31\"))=TRUE,\"\",INDIRECT(\"'3.09.1a (10)'!e31\"))","v":""},{"$f":"IF(ISERROR(INDIRECT(\"'3.09.1a (10)'!f31\"))=TRUE,\"\",INDIRECT(\"'3.09.1a (10)'!f31\"))","v":""},{"$f":"IF(ISERROR(INDIRECT(\"'3.09.1a (10)'!g31\"))=TRUE,\"\",INDIRECT(\"'3.09.1a (10)'!g31\"))","v":""},{"$f":"IF(ISERROR(INDIRECT(\"'3.09.1a (10)'!h31\"))=TRUE,\"\",INDIRECT(\"'3.09.1a (10)'!h31\"))","v":""},{"$f":"IF(ISERROR(INDIRECT(\"'3.09.1a (10)'!i31\"))=TRUE,\"\",INDIRECT(\"'3.09.1a (10)'!i31\"))","v":""},{"$f":"IF(ISERROR(INDIRECT(\"'3.09.1a (10)'!j31\"))=TRUE,\"\",INDIRECT(\"'3.09.1a (10)'!j31\"))","v":""},{"$f":"IF(ISERROR(INDIRECT(\"'3.09.1a (10)'!o31\"))=TRUE,\"\",INDIRECT(\"'3.09.1a (10)'!o31\"))","v":""},{"$f":"IF(ISERROR(INDIRECT(\"'3.09.1a (10)'!p31\"))=TRUE,\"\",INDIRECT(\"'3.09.1a (10)'!p31\"))","v":""},{"$f":"IF(ISERROR(INDIRECT(\"'3.09.1a (10)'!q31\"))=TRUE,\"\",INDIRECT(\"'3.09.1a (10)'!q31\"))","v":""},{"$f":"IF(ISERROR(INDIRECT(\"'3.09.1a (10)'!s31\"))=TRUE,\"\",INDIRECT(\"'3.09.1a (10)'!s31\"))","v":""},{"$f":"IF(ISERROR(INDIRECT(\"'3.09.1a (10)'!t31\"))=TRUE,\"\",INDIRECT(\"'3.09.1a (10)'!t31\"))","v":""},{"$f":"IF(ISERROR(INDIRECT(\"'3.09.1a (10)'!u31\"))=TRUE,\"\",INDIRECT(\"'3.09.1a (10)'!u31\"))","v":""},{"$f":"IF(ISERROR(INDIRECT(\"'3.09.1a (10)'!v31\"))=TRUE,\"\",INDIRECT(\"'3.09.1a (10)'!v31\"))","v":""},{"$f":"IF(ISERROR(INDIRECT(\"'3.09.1a (10)'!w31\"))=TRUE,\"\",INDIRECT(\"'3.09.1a (10)'!w31\"))","v":""},{"$f":"IF(ISERROR(INDIRECT(\"'3.09.1a (10)'!x31\"))=TRUE,\"\",INDIRECT(\"'3.09.1a (10)'!x31\"))","v":""},{"$f":"IF(ISERROR(INDIRECT(\"'3.09.1a (10)'!aa31\"))=TRUE,\"\",INDIRECT(\"'3.09.1a (10)'!aa31\"))","v":""},{"$f":"IF(ISERROR(INDIRECT(\"'3.09.1a (10)'!ad31\"))=TRUE,\"\",INDIRECT(\"'3.09.1a (10)'!ad31\"))","v":""},{"$f":"IF(ISERROR(INDIRECT(\"'3.09.1a (10)'!ah31\"))=TRUE,\"\",INDIRECT(\"'3.09.1a (10)'!ah31\"))","v":""},{"$f":"IF(ISERROR(INDIRECT(\"'3.09.1a (10)'!am31\"))=TRUE,\"\",INDIRECT(\"'3.09.1a (10)'!am31\"))","v":""}]
[0,"3.09.1a (10)",{"$f":"IF(ISERROR(INDIRECT(\"'3.09.1a (10)'!b32\"))=TRUE,\"\",INDIRECT(\"'3.09.1a (10)'!b32\"))","v":""},{"$f":"IF(ISERROR(INDIRECT(\"'3.09.1a (10)'!c32\"))=TRUE,\"\",INDIRECT(\"'3.09.1a (10)'!c32\"))","v":""},{"$f":"IF(ISERROR(INDIRECT(\"'3.09.1a (10)'!d32\"))=TRUE,\"\",INDIRECT(\"'3.09.1a (10)'!d32\"))","v":""},{"$f":"IF(ISERROR(INDIRECT(\"'3.09.1a (10)'!e32\"))=TRUE,\"\",INDIRECT(\"'3.09.1a (10)'!e32\"))","v":""},{"$f":"IF(ISERROR(INDIRECT(\"'3.09.1a (10)'!f32\"))=TRUE,\"\",INDIRECT(\"'3.09.1a (10)'!f32\"))","v":""},{"$f":"IF(ISERROR(INDIRECT(\"'3.09.1a (10)'!g32\"))=TRUE,\"\",INDIRECT(\"'3.09.1a (10)'!g32\"))","v":""},{"$f":"IF(ISERROR(INDIRECT(\"'3.09.1a (10)'!h32\"))=TRUE,\"\",INDIRECT(\"'3.09.1a (10)'!h32\"))","v":""},{"$f":"IF(ISERROR(INDIRECT(\"'3.09.1a (10)'!i32\"))=TRUE,\"\",INDIRECT(\"'3.09.1a (10)'!i32\"))","v":""},{"$f":"IF(ISERROR(INDIRECT(\"'3.09.1a (10)'!j32\"))=TRUE,\"\",INDIRECT(\"'3.09.1a (10)'!j32\"))","v":""},{"$f":"IF(ISERROR(INDIRECT(\"'3.09.1a (10)'!o32\"))=TRUE,\"\",INDIRECT(\"'3.09.1a (10)'!o32\"))","v":""},{"$f":"IF(ISERROR(INDIRECT(\"'3.09.1a (10)'!p32\"))=TRUE,\"\",INDIRECT(\"'3.09.1a (10)'!p32\"))","v":""},{"$f":"IF(ISERROR(INDIRECT(\"'3.09.1a (10)'!q32\"))=TRUE,\"\",INDIRECT(\"'3.09.1a (10)'!q32\"))","v":""},{"$f":"IF(ISERROR(INDIRECT(\"'3.09.1a (10)'!s32\"))=TRUE,\"\",INDIRECT(\"'3.09.1a (10)'!s32\"))","v":""},{"$f":"IF(ISERROR(INDIRECT(\"'3.09.1a (10)'!t32\"))=TRUE,\"\",INDIRECT(\"'3.09.1a (10)'!t32\"))","v":""},{"$f":"IF(ISERROR(INDIRECT(\"'3.09.1a (10)'!u32\"))=TRUE,\"\",INDIRECT(\"'3.09.1a (10)'!u32\"))","v":""},{"$f":"IF(ISERROR(INDIRECT(\"'3.09.1a (10)'!v32\"))=TRUE,\"\",INDIRECT(\"'3.09.1a (10)'!v32\"))","v":""},{"$f":"IF(ISERROR(INDIRECT(\"'3.09.1a (10)'!w32\"))=TRUE,\"\",INDIRECT(\"'3.09.1a (10)'!w32\"))","v":""},{"$f":"IF(ISERROR(INDIRECT(\"'3.09.1a (10)'!x32\"))=TRUE,\"\",INDIRECT(\"'3.09.1a (10)'!x32\"))","v":""},{"$f":"IF(ISERROR(INDIRECT(\"'3.09.1a (10)'!aa32\"))=TRUE,\"\",INDIRECT(\"'3.09.1a (10)'!aa32\"))","v":""},{"$f":"IF(ISERROR(INDIRECT(\"'3.09.1a (10)'!ad32\"))=TRUE,\"\",INDIRECT(\"'3.09.1a (10)'!ad32\"))","v":""},{"$f":"IF(ISERROR(INDIRECT(\"'3.09.1a (10)'!ah32\"))=TRUE,\"\",INDIRECT(\"'3.09.1a (10)'!ah32\"))","v":""},{"$f":"IF(ISERROR(INDIRECT(\"'3.09.1a (10)'!am32\"))=TRUE,\"\",INDIRECT(\"'3.09.1a (10)'!am32\"))","v":""}]
[0,"3.09.1a (10)",{"$f":"IF(ISERROR(INDIRECT(\"'3.09.1a (10)'!b33\"))=TRUE,\"\",INDIRECT(\"'3.09.1a (10)'!b33\"))","v":""},{"$f":"IF(ISERROR(INDIRECT(\"'3.09.1a (10)'!c33\"))=TRUE,\"\",INDIRECT(\"'3.09.1a (10)'!c33\"))","v":""},{"$f":"IF(ISERROR(INDIRECT(\"'3.09.1a (10)'!d33\"))=TRUE,\"\",INDIRECT(\"'3.09.1a (10)'!d33\"))","v":""},{"$f":"IF(ISERROR(INDIRECT(\"'3.09.1a (10)'!e33\"))=TRUE,\"\",INDIRECT(\"'3.09.1a (10)'!e33\"))","v":""},{"$f":"IF(ISERROR(INDIRECT(\"'3.09.1a (10)'!f33\"))=TRUE,\"\",INDIRECT(\"'3.09.1a (10)'!f33\"))","v":""},{"$f":"IF(ISERROR(INDIRECT(\"'3.09.1a (10)'!g33\"))=TRUE,\"\",INDIRECT(\"'3.09.1a (10)'!g33\"))","v":""},{"$f":"IF(ISERROR(INDIRECT(\"'3.09.1a (10)'!h33\"))=TRUE,\"\",INDIRECT(\"'3.09.1a (10)'!h33\"))","v":""},{"$f":"IF(ISERROR(INDIRECT(\"'3.09.1a (10)'!i33\"))=TRUE,\"\",INDIRECT(\"'3.09.1a (10)'!i33\"))","v":""},{"$f":"IF(ISERROR(INDIRECT(\"'3.09.1a (10)'!j33\"))=TRUE,\"\",INDIRECT(\"'3.09.1a (10)'!j33\"))","v":""},{"$f":"IF(ISERROR(INDIRECT(\"'3.09.1a (10)'!o33\"))=TRUE,\"\",INDIRECT(\"'3.09.1a (10)'!o33\"))","v":""},{"$f":"IF(ISERROR(INDIRECT(\"'3.09.1a (10)'!p33\"))=TRUE,\"\",INDIRECT(\"'3.09.1a (10)'!p33\"))","v":""},{"$f":"IF(ISERROR(INDIRECT(\"'3.09.1a (10)'!q33\"))=TRUE,\"\",INDIRECT(\"'3.09.1a (10)'!q33\"))","v":""},{"$f":"IF(ISERROR(INDIRECT(\"'3.09.1a (10)'!s33\"))=TRUE,\"\",INDIRECT(\"'3.09.1a (10)'!s33\"))","v":""},{"$f":"IF(ISERROR(INDIRECT(\"'3.09.1a (10)'!t33\"))=TRUE,\"\",INDIRECT(\"'3.09.1a (10)'!t33\"))","v":""},{"$f":"IF(ISERROR(INDIRECT(\"'3.09.1a (10)'!u33\"))=TRUE,\"\",INDIRECT(\"'3.09.1a (10)'!u33\"))","v":""},{"$f":"IF(ISERROR(INDIRECT(\"'3.09.1a (10)'!v33\"))=TRUE,\"\",INDIRECT(\"'3.09.1a (10)'!v33\"))","v":""},{"$f":"IF(ISERROR(INDIRECT(\"'3.09.1a (10)'!w33\"))=TRUE,\"\",INDIRECT(\"'3.09.1a (10)'!w33\"))","v":""},{"$f":"IF(ISERROR(INDIRECT(\"'3.09.1a (10)'!x33\"))=TRUE,\"\",INDIRECT(\"'3.09.1a (10)'!x33\"))","v":""},{"$f":"IF(ISERROR(INDIRECT(\"'3.09.1a (10)'!aa33\"))=TRUE,\"\",INDIRECT(\"'3.09.1a (10)'!aa33\"))","v":""},{"$f":"IF(ISERROR(INDIRECT(\"'3.09.1a (10)'!ad33\"))=TRUE,\"\",INDIRECT(\"'3.09.1a (10)'!ad33\"))","v":""},{"$f":"IF(ISERROR(INDIRECT(\"'3.09.1a (10)'!ah33\"))=TRUE,\"\",INDIRECT(\"'3.09.1a (10)'!ah33\"))","v":""},{"$f":"IF(ISERROR(INDIRECT(\"'3.09.1a (10)'!am33\"))=TRUE,\"\",INDIRECT(\"'3.09.1a (10)'!am33\"))","v":""}]
[0,"3.09.1a (10)",{"$f":"IF(ISERROR(INDIRECT(\"'3.09.1a (10)'!b34\"))=TRUE,\"\",INDIRECT(\"'3.09.1a (10)'!b34\"))","v":""},{"$f":"IF(ISERROR(INDIRECT(\"'3.09.1a (10)'!c34\"))=TRUE,\"\",INDIRECT(\"'3.09.1a (10)'!c34\"))","v":""},{"$f":"IF(ISERROR(INDIRECT(\"'3.09.1a (10)'!d34\"))=TRUE,\"\",INDIRECT(\"'3.09.1a (10)'!d34\"))","v":""},{"$f":"IF(ISERROR(INDIRECT(\"'3.09.1a (10)'!e34\"))=TRUE,\"\",INDIRECT(\"'3.09.1a (10)'!e34\"))","v":""},{"$f":"IF(ISERROR(INDIRECT(\"'3.09.1a (10)'!f34\"))=TRUE,\"\",INDIRECT(\"'3.09.1a (10)'!f34\"))","v":""},{"$f":"IF(ISERROR(INDIRECT(\"'3.09.1a (10)'!g34\"))=TRUE,\"\",INDIRECT(\"'3.09.1a (10)'!g34\"))","v":""},{"$f":"IF(ISERROR(INDIRECT(\"'3.09.1a (10)'!h34\"))=TRUE,\"\",INDIRECT(\"'3.09.1a (10)'!h34\"))","v":""},{"$f":"IF(ISERROR(INDIRECT(\"'3.09.1a (10)'!i34\"))=TRUE,\"\",INDIRECT(\"'3.09.1a (10)'!i34\"))","v":""},{"$f":"IF(ISERROR(INDIRECT(\"'3.09.1a (10)'!j34\"))=TRUE,\"\",INDIRECT(\"'3.09.1a (10)'!j34\"))","v":""},{"$f":"IF(ISERROR(INDIRECT(\"'3.09.1a (10)'!o34\"))=TRUE,\"\",INDIRECT(\"'3.09.1a (10)'!o34\"))","v":""},{"$f":"IF(ISERROR(INDIRECT(\"'3.09.1a (10)'!p34\"))=TRUE,\"\",INDIRECT(\"'3.09.1a (10)'!p34\"))","v":""},{"$f":"IF(ISERROR(INDIRECT(\"'3.09.1a (10)'!q34\"))=TRUE,\"\",INDIRECT(\"'3.09.1a (10)'!q34\"))","v":""},{"$f":"IF(ISERROR(INDIRECT(\"'3.09.1a (10)'!s34\"))=TRUE,\"\",INDIRECT(\"'3.09.1a (10)'!s34\"))","v":""},{"$f":"IF(ISERROR(INDIRECT(\"'3.09.1a (10)'!t34\"))=TRUE,\"\",INDIRECT(\"'3.09.1a (10)'!t34\"))","v":""},{"$f":"IF(ISERROR(INDIRECT(\"'3.09.1a (10)'!u34\"))=TRUE,\"\",INDIRECT(\"'3.09.1a (10)'!u34\"))","v":""},{"$f":"IF(ISERROR(INDIRECT(\"'3.09.1a (10)'!v34\"))=TRUE,\"\",INDIRECT(\"'3.09.1a (10)'!v34\"))","v":""},{"$f":"IF(ISERROR(INDIRECT(\"'3.09.1a (10)'!w34\"))=TRUE,\"\",INDIRECT(\"'3.09.1a (10)'!w34\"))","v":""},{"$f":"IF(ISERROR(INDIRECT(\"'3.09.1a (10)'!x34\"))=TRUE,\"\",INDIRECT(\"'3.09.1a (10)'!x34\"))","v":""},{"$f":"IF(ISERROR(INDIRECT(\"'3.09.1a (10)'!aa34\"))=TRUE,\"\",INDIRECT(\"'3.09.1a (10)'!aa34\"))","v":""},{"$f":"IF(ISERROR(INDIRECT(\"'3.09.1a (10)'!ad34\"))=TRUE,\"\",INDIRECT(\"'3.09.1a (10)'!ad34\"))","v":""},{"$f":"IF(ISERROR(INDIRECT(\"'3.09.1a (10)'!ah34\"))=TRUE,\"\",INDIRECT(\"'3.09.1a (10)'!ah34\"))","v":""},{"$f":"IF(ISERROR(INDIRECT(\"'3.09.1a (10)'!am34\"))=TRUE,\"\",INDIRECT(\"'3.09.1a (10)'!am34\"))","v":""}]
[0,"3.09.1a (10)",{"$f":"IF(ISERROR(INDIRECT(\"'3.09.1a (10)'!b35\"))=TRUE,\"\",INDIRECT(\"'3.09.1a (10)'!b35\"))","v":""},{"$f":"IF(ISERROR(INDIRECT(\"'3.09.1a (10)'!c35\"))=TRUE,\"\",INDIRECT(\"'3.09.1a (10)'!c35\"))","v":""},{"$f":"IF(ISERROR(INDIRECT(\"'3.09.1a (10)'!d35\"))=TRUE,\"\",INDIRECT(\"'3.09.1a (10)'!d35\"))","v":""},{"$f":"IF(ISERROR(INDIRECT(\"'3.09.1a (10)'!e35\"))=TRUE,\"\",INDIRECT(\"'3.09.1a (10)'!e35\"))","v":""},{"$f":"IF(ISERROR(INDIRECT(\"'3.09.1a (10)'!f35\"))=TRUE,\"\",INDIRECT(\"'3.09.1a (10)'!f35\"))","v":""},{"$f":"IF(ISERROR(INDIRECT(\"'3.09.1a (10)'!g35\"))=TRUE,\"\",INDIRECT(\"'3.09.1a (10)'!g35\"))","v":""},{"$f":"IF(ISERROR(INDIRECT(\"'3.09.1a (10)'!h35\"))=TRUE,\"\",INDIRECT(\"'3.09.1a (10)'!h35\"))","v":""},{"$f":"IF(ISERROR(INDIRECT(\"'3.09.1a (10)'!i35\"))=TRUE,\"\",INDIRECT(\"'3.09.1a (10)'!i35\"))","v":""},{"$f":"IF(ISERROR(INDIRECT(\"'3.09.1a (10)'!j35\"))=TRUE,\"\",INDIRECT(\"'3.09.1a (10)'!j35\"))","v":""},{"$f":"IF(ISERROR(INDIRECT(\"'3.09.1a (10)'!o35\"))=TRUE,\"\",INDIRECT(\"'3.09.1a (10)'!o35\"))","v":""},{"$f":"IF(ISERROR(INDIRECT(\"'3.09.1a (10)'!p35\"))=TRUE,\"\",INDIRECT(\"'3.09.1a (10)'!p35\"))","v":""},{"$f":"IF(ISERROR(INDIRECT(\"'3.09.1a (10)'!q35\"))=TRUE,\"\",INDIRECT(\"'3.09.1a (10)'!q35\"))","v":""},{"$f":"IF(ISERROR(INDIRECT(\"'3.09.1a (10)'!s35\"))=TRUE,\"\",INDIRECT(\"'3.09.1a (10)'!s35\"))","v":""},{"$f":"IF(ISERROR(INDIRECT(\"'3.09.1a (10)'!t35\"))=TRUE,\"\",INDIRECT(\"'3.09.1a (10)'!t35\"))","v":""},{"$f":"IF(ISERROR(INDIRECT(\"'3.09.1a (10)'!u35\"))=TRUE,\"\",INDIRECT(\"'3.09.1a (10)'!u35\"))","v":""},{"$f":"IF(ISERROR(INDIRECT(\"'3.09.1a (10)'!v35\"))=TRUE,\"\",INDIRECT(\"'3.09.1a (10)'!v35\"))","v":""},{"$f":"IF(ISERROR(INDIRECT(\"'3.09.1a (10)'!w35\"))=TRUE,\"\",INDIRECT(\"'3.09.1a (10)'!w35\"))","v":""},{"$f":"IF(ISERROR(INDIRECT(\"'3.09.1a (10)'!x35\"))=TRUE,\"\",INDIRECT(\"'3.09.1a (10)'!x35\"))","v":""},{"$f":"IF(ISERROR(INDIRECT(\"'3.09.1a (10)'!aa35\"))=TRUE,\"\",INDIRECT(\"'3.09.1a (10)'!aa35\"))","v":""},{"$f":"IF(ISERROR(INDIRECT(\"'3.09.1a (10)'!ad35\"))=TRUE,\"\",INDIRECT(\"'3.09.1a (10)'!ad35\"))","v":""},{"$f":"IF(ISERROR(INDIRECT(\"'3.09.1a (10)'!ah35\"))=TRUE,\"\",INDIRECT(\"'3.09.1a (10)'!ah35\"))","v":""},{"$f":"IF(ISERROR(INDIRECT(\"'3.09.1a (10)'!am35\"))=TRUE,\"\",INDIRECT(\"'3.09.1a (10)'!am35\"))","v":""}]
[0,"3.09.1a (10)",{"$f":"IF(ISERROR(INDIRECT(\"'3.09.1a (10)'!b36\"))=TRUE,\"\",INDIRECT(\"'3.09.1a (10)'!b36\"))","v":""},{"$f":"IF(ISERROR(INDIRECT(\"'3.09.1a (10)'!c36\"))=TRUE,\"\",INDIRECT(\"'3.09.1a (10)'!c36\"))","v":""},{"$f":"IF(ISERROR(INDIRECT(\"'3.09.1a (10)'!d36\"))=TRUE,\"\",INDIRECT(\"'3.09.1a (10)'!d36\"))","v":""},{"$f":"IF(ISERROR(INDIRECT(\"'3.09.1a (10)'!e36\"))=TRUE,\"\",INDIRECT(\"'3.09.1a (10)'!e36\"))","v":""},{"$f":"IF(ISERROR(INDIRECT(\"'3.09.1a (10)'!f36\"))=TRUE,\"\",INDIRECT(\"'3.09.1a (10)'!f36\"))","v":""},{"$f":"IF(ISERROR(INDIRECT(\"'3.09.1a (10)'!g36\"))=TRUE,\"\",INDIRECT(\"'3.09.1a (10)'!g36\"))","v":""},{"$f":"IF(ISERROR(INDIRECT(\"'3.09.1a (10)'!h36\"))=TRUE,\"\",INDIRECT(\"'3.09.1a (10)'!h36\"))","v":""},{"$f":"IF(ISERROR(INDIRECT(\"'3.09.1a (10)'!i36\"))=TRUE,\"\",INDIRECT(\"'3.09.1a (10)'!i36\"))","v":""},{"$f":"IF(ISERROR(INDIRECT(\"'3.09.1a (10)'!j36\"))=TRUE,\"\",INDIRECT(\"'3.09.1a (10)'!j36\"))","v":""},{"$f":"IF(ISERROR(INDIRECT(\"'3.09.1a (10)'!o36\"))=TRUE,\"\",INDIRECT(\"'3.09.1a (10)'!o36\"))","v":""},{"$f":"IF(ISERROR(INDIRECT(\"'3.09.1a (10)'!p36\"))=TRUE,\"\",INDIRECT(\"'3.09.1a (10)'!p36\"))","v":""},{"$f":"IF(ISERROR(INDIRECT(\"'3.09.1a (10)'!q36\"))=TRUE,\"\",INDIRECT(\"'3.09.1a (10)'!q36\"))","v":""},{"$f":"IF(ISERROR(INDIRECT(\"'3.09.1a (10)'!s36\"))=TRUE,\"\",INDIRECT(\"'3.09.1a (10)'!s36\"))","v":""},{"$f":"IF(ISERROR(INDIRECT(\"'3.09.1a (10)'!t36\"))=TRUE,\"\",INDIRECT(\"'3.09.1a (10)'!t36\"))","v":""},{"$f":"IF(ISERROR(INDIRECT(\"'3.09.1a (10)'!u36\"))=TRUE,\"\",INDIRECT(\"'3.09.1a (10)'!u36\"))","v":""},{"$f":"IF(ISERROR(INDIRECT(\"'3.09.1a (10)'!v36\"))=TRUE,\"\",INDIRECT(\"'3.09.1a (10)'!v36\"))","v":""},{"$f":"IF(ISERROR(INDIRECT(\"'3.09.1a (10)'!w36\"))=TRUE,\"\",INDIRECT(\"'3.09.1a (10)'!w36\"))","v":""},{"$f":"IF(ISERROR(INDIRECT(\"'3.09.1a (10)'!x36\"))=TRUE,\"\",INDIRECT(\"'3.09.1a (10)'!x36\"))","v":""},{"$f":"IF(ISERROR(INDIRECT(\"'3.09.1a (10)'!aa36\"))=TRUE,\"\",INDIRECT(\"'3.09.1a (10)'!aa36\"))","v":""},{"$f":"IF(ISERROR(INDIRECT(\"'3.09.1a (10)'!ad36\"))=TRUE,\"\",INDIRECT(\"'3.09.1a (10)'!ad36\"))","v":""},{"$f":"IF(ISERROR(INDIRECT(\"'3.09.1a (10)'!ah36\"))=TRUE,\"\",INDIRECT(\"'3.09.1a (10)'!ah36\"))","v":""},{"$f":"IF(ISERROR(INDIRECT(\"'3.09.1a (10)'!am36\"))=TRUE,\"\",INDIRECT(\"'3.09.1a (10)'!am36\"))","v":""}]
[0,"3.09.1a (10)",{"$f":"IF(ISERROR(INDIRECT(\"'3.09.1a (10)'!b37\"))=TRUE,\"\",INDIRECT(\"'3.09.1a (10)'!b37\"))","v":""},{"$f":"IF(ISERROR(INDIRECT(\"'3.09.1a (10)'!c37\"))=TRUE,\"\",INDIRECT(\"'3.09.1a (10)'!c37\"))","v":""},{"$f":"IF(ISERROR(INDIRECT(\"'3.09.1a (10)'!d37\"))=TRUE,\"\",INDIRECT(\"'3.09.1a (10)'!d37\"))","v":""},{"$f":"IF(ISERROR(INDIRECT(\"'3.09.1a (10)'!e37\"))=TRUE,\"\",INDIRECT(\"'3.09.1a (10)'!e37\"))","v":""},{"$f":"IF(ISERROR(INDIRECT(\"'3.09.1a (10)'!f37\"))=TRUE,\"\",INDIRECT(\"'3.09.1a (10)'!f37\"))","v":""},{"$f":"IF(ISERROR(INDIRECT(\"'3.09.1a (10)'!g37\"))=TRUE,\"\",INDIRECT(\"'3.09.1a (10)'!g37\"))","v":""},{"$f":"IF(ISERROR(INDIRECT(\"'3.09.1a (10)'!h37\"))=TRUE,\"\",INDIRECT(\"'3.09.1a (10)'!h37\"))","v":""},{"$f":"IF(ISERROR(INDIRECT(\"'3.09.1a (10)'!i37\"))=TRUE,\"\",INDIRECT(\"'3.09.1a (10)'!i37\"))","v":""},{"$f":"IF(ISERROR(INDIRECT(\"'3.09.1a (10)'!j37\"))=TRUE,\"\",INDIRECT(\"'3.09.1a (10)'!j37\"))","v":""},{"$f":"IF(ISERROR(INDIRECT(\"'3.09.1a (10)'!o37\"))=TRUE,\"\",INDIRECT(\"'3.09.1a (10)'!o37\"))","v":""},{"$f":"IF(ISERROR(INDIRECT(\"'3.09.1a (10)'!p37\"))=TRUE,\"\",INDIRECT(\"'3.09.1a (10)'!p37\"))","v":""},{"$f":"IF(ISERROR(INDIRECT(\"'3.09.1a (10)'!q37\"))=TRUE,\"\",INDIRECT(\"'3.09.1a (10)'!q37\"))","v":""},{"$f":"IF(ISERROR(INDIRECT(\"'3.09.1a (10)'!s37\"))=TRUE,\"\",INDIRECT(\"'3.09.1a (10)'!s37\"))","v":""},{"$f":"IF(ISERROR(INDIRECT(\"'3.09.1a (10)'!t37\"))=TRUE,\"\",INDIRECT(\"'3.09.1a (10)'!t37\"))","v":""},{"$f":"IF(ISERROR(INDIRECT(\"'3.09.1a (10)'!u37\"))=TRUE,\"\",INDIRECT(\"'3.09.1a (10)'!u37\"))","v":""},{"$f":"IF(ISERROR(INDIRECT(\"'3.09.1a (10)'!v37\"))=TRUE,\"\",INDIRECT(\"'3.09.1a (10)'!v37\"))","v":""},{"$f":"IF(ISERROR(INDIRECT(\"'3.09.1a (10)'!w37\"))=TRUE,\"\",INDIRECT(\"'3.09.1a (10)'!w37\"))","v":""},{"$f":"IF(ISERROR(INDIRECT(\"'3.09.1a (10)'!x37\"))=TRUE,\"\",INDIRECT(\"'3.09.1a (10)'!x37\"))","v":""},{"$f":"IF(ISERROR(INDIRECT(\"'3.09.1a (10)'!aa37\"))=TRUE,\"\",INDIRECT(\"'3.09.1a (10)'!aa37\"))","v":""},{"$f":"IF(ISERROR(INDIRECT(\"'3.09.1a (10)'!ad37\"))=TRUE,\"\",INDIRECT(\"'3.09.1a (10)'!ad37\"))","v":""},{"$f":"IF(ISERROR(INDIRECT(\"'3.09.1a (10)'!ah37\"))=TRUE,\"\",INDIRECT(\"'3.09.1a (10)'!ah37\"))","v":""},{"$f":"IF(ISERROR(INDIRECT(\"'3.09.1a (10)'!am37\"))=TRUE,\"\",INDIRECT(\"'3.09.1a (10)'!am37\"))","v":""}]
[0,"3.09.1a (10)",{"$f":"IF(ISERROR(INDIRECT(\"'3.09.1a (10)'!b38\"))=TRUE,\"\",INDIRECT(\"'3.09.1a (10)'!b38\"))","v":""},{"$f":"IF(ISERROR(INDIRECT(\"'3.09.1a (10)'!c38\"))=TRUE,\"\",INDIRECT(\"'3.09.1a (10)'!c38\"))","v":""},{"$f":"IF(ISERROR(INDIRECT(\"'3.09.1a (10)'!d38\"))=TRUE,\"\",INDIRECT(\"'3.09.1a (10)'!d38\"))","v":""},{"$f":"IF(ISERROR(INDIRECT(\"'3.09.1a (10)'!e38\"))=TRUE,\"\",INDIRECT(\"'3.09.1a (10)'!e38\"))","v":""},{"$f":"IF(ISERROR(INDIRECT(\"'3.09.1a (10)'!f38\"))=TRUE,\"\",INDIRECT(\"'3.09.1a (10)'!f38\"))","v":""},{"$f":"IF(ISERROR(INDIRECT(\"'3.09.1a (10)'!g38\"))=TRUE,\"\",INDIRECT(\"'3.09.1a (10)'!g38\"))","v":""},{"$f":"IF(ISERROR(INDIRECT(\"'3.09.1a (10)'!h38\"))=TRUE,\"\",INDIRECT(\"'3.09.1a (10)'!h38\"))","v":""},{"$f":"IF(ISERROR(INDIRECT(\"'3.09.1a (10)'!i38\"))=TRUE,\"\",INDIRECT(\"'3.09.1a (10)'!i38\"))","v":""},{"$f":"IF(ISERROR(INDIRECT(\"'3.09.1a (10)'!j38\"))=TRUE,\"\",INDIRECT(\"'3.09.1a (10)'!j38\"))","v":""},{"$f":"IF(ISERROR(INDIRECT(\"'3.09.1a (10)'!o38\"))=TRUE,\"\",INDIRECT(\"'3.09.1a (10)'!o38\"))","v":""},{"$f":"IF(ISERROR(INDIRECT(\"'3.09.1a (10)'!p38\"))=TRUE,\"\",INDIRECT(\"'3.09.1a (10)'!p38\"))","v":""},{"$f":"IF(ISERROR(INDIRECT(\"'3.09.1a (10)'!q38\"))=TRUE,\"\",INDIRECT(\"'3.09.1a (10)'!q38\"))","v":""},{"$f":"IF(ISERROR(INDIRECT(\"'3.09.1a (10)'!s38\"))=TRUE,\"\",INDIRECT(\"'3.09.1a (10)'!s38\"))","v":""},{"$f":"IF(ISERROR(INDIRECT(\"'3.09.1a (10)'!t38\"))=TRUE,\"\",INDIRECT(\"'3.09.1a (10)'!t38\"))","v":""},{"$f":"IF(ISERROR(INDIRECT(\"'3.09.1a (10)'!u38\"))=TRUE,\"\",INDIRECT(\"'3.09.1a (10)'!u38\"))","v":""},{"$f":"IF(ISERROR(INDIRECT(\"'3.09.1a (10)'!v38\"))=TRUE,\"\",INDIRECT(\"'3.09.1a (10)'!v38\"))","v":""},{"$f":"IF(ISERROR(INDIRECT(\"'3.09.1a (10)'!w38\"))=TRUE,\"\",INDIRECT(\"'3.09.1a (10)'!w38\"))","v":""},{"$f":"IF(ISERROR(INDIRECT(\"'3.09.1a (10)'!x38\"))=TRUE,\"\",INDIRECT(\"'3.09.1a (10)'!x38\"))","v":""},{"$f":"IF(ISERROR(INDIRECT(\"'3.09.1a (10)'!aa38\"))=TRUE,\"\",INDIRECT(\"'3.09.1a (10)'!aa38\"))","v":""},{"$f":"IF(ISERROR(INDIRECT(\"'3.09.1a (10)'!ad38\"))=TRUE,\"\",INDIRECT(\"'3.09.1a (10)'!ad38\"))","v":""},{"$f":"IF(ISERROR(INDIRECT(\"'3.09.1a (10)'!ah38\"))=TRUE,\"\",INDIRECT(\"'3.09.1a (10)'!ah38\"))","v":""},{"$f":"IF(ISERROR(INDIRECT(\"'3.09.1a (10)'!am38\"))=TRUE,\"\",INDIRECT(\"'3.09.1a (10)'!am38\"))","v":""}]
[0,"3.09.1a (10)",{"$f":"IF(ISERROR(INDIRECT(\"'3.09.1a (10)'!b39\"))=TRUE,\"\",INDIRECT(\"'3.09.1a (10)'!b39\"))","v":""},{"$f":"IF(ISERROR(INDIRECT(\"'3.09.1a (10)'!c39\"))=TRUE,\"\",INDIRECT(\"'3.09.1a (10)'!c39\"))","v":""},{"$f":"IF(ISERROR(INDIRECT(\"'3.09.1a (10)'!d39\"))=TRUE,\"\",INDIRECT(\"'3.09.1a (10)'!d39\"))","v":""},{"$f":"IF(ISERROR(INDIRECT(\"'3.09.1a (10)'!e39\"))=TRUE,\"\",INDIRECT(\"'3.09.1a (10)'!e39\"))","v":""},{"$f":"IF(ISERROR(INDIRECT(\"'3.09.1a (10)'!f39\"))=TRUE,\"\",INDIRECT(\"'3.09.1a (10)'!f39\"))","v":""},{"$f":"IF(ISERROR(INDIRECT(\"'3.09.1a (10)'!g39\"))=TRUE,\"\",INDIRECT(\"'3.09.1a (10)'!g39\"))","v":""},{"$f":"IF(ISERROR(INDIRECT(\"'3.09.1a (10)'!h39\"))=TRUE,\"\",INDIRECT(\"'3.09.1a (10)'!h39\"))","v":""},{"$f":"IF(ISERROR(INDIRECT(\"'3.09.1a (10)'!i39\"))=TRUE,\"\",INDIRECT(\"'3.09.1a (10)'!i39\"))","v":""},{"$f":"IF(ISERROR(INDIRECT(\"'3.09.1a (10)'!j39\"))=TRUE,\"\",INDIRECT(\"'3.09.1a (10)'!j39\"))","v":""},{"$f":"IF(ISERROR(INDIRECT(\"'3.09.1a (10)'!o39\"))=TRUE,\"\",INDIRECT(\"'3.09.1a (10)'!o39\"))","v":""},{"$f":"IF(ISERROR(INDIRECT(\"'3.09.1a (10)'!p39\"))=TRUE,\"\",INDIRECT(\"'3.09.1a (10)'!p39\"))","v":""},{"$f":"IF(ISERROR(INDIRECT(\"'3.09.1a (10)'!q39\"))=TRUE,\"\",INDIRECT(\"'3.09.1a (10)'!q39\"))","v":""},{"$f":"IF(ISERROR(INDIRECT(\"'3.09.1a (10)'!s39\"))=TRUE,\"\",INDIRECT(\"'3.09.1a (10)'!s39\"))","v":""},{"$f":"IF(ISERROR(INDIRECT(\"'3.09.1a (10)'!t39\"))=TRUE,\"\",INDIRECT(\"'3.09.1a (10)'!t39\"))","v":""},{"$f":"IF(ISERROR(INDIRECT(\"'3.09.1a (10)'!u39\"))=TRUE,\"\",INDIRECT(\"'3.09.1a (10)'!u39\"))","v":""},{"$f":"IF(ISERROR(INDIRECT(\"'3.09.1a (10)'!v39\"))=TRUE,\"\",INDIRECT(\"'3.09.1a (10)'!v39\"))","v":""},{"$f":"IF(ISERROR(INDIRECT(\"'3.09.1a (10)'!w39\"))=TRUE,\"\",INDIRECT(\"'3.09.1a (10)'!w39\"))","v":""},{"$f":"IF(ISERROR(INDIRECT(\"'3.09.1a (10)'!x39\"))=TRUE,\"\",INDIRECT(\"'3.09.1a (10)'!x39\"))","v":""},{"$f":"IF(ISERROR(INDIRECT(\"'3.09.1a (10)'!aa39\"))=TRUE,\"\",INDIRECT(\"'3.09.1a (10)'!aa39\"))","v":""},{"$f":"IF(ISERROR(INDIRECT(\"'3.09.1a (10)'!ad39\"))=TRUE,\"\",INDIRECT(\"'3.09.1a (10)'!ad39\"))","v":""},{"$f":"IF(ISERROR(INDIRECT(\"'3.09.1a (10)'!ah39\"))=TRUE,\"\",INDIRECT(\"'3.09.1a (10)'!ah39\"))","v":""},{"$f":"IF(ISERROR(INDIRECT(\"'3.09.1a (10)'!am39\"))=TRUE,\"\",INDIRECT(\"'3.09.1a (10)'!am39\"))","v":""}]
[0,"3.09.1a (10)",{"$f":"IF(ISERROR(INDIRECT(\"'3.09.1a (10)'!b40\"))=TRUE,\"\",INDIRECT(\"'3.09.1a (10)'!b40\"))","v":""},{"$f":"IF(ISERROR(INDIRECT(\"'3.09.1a (10)'!c40\"))=TRUE,\"\",INDIRECT(\"'3.09.1a (10)'!c40\"))","v":""},{"$f":"IF(ISERROR(INDIRECT(\"'3.09.1a (10)'!d40\"))=TRUE,\"\",INDIRECT(\"'3.09.1a (10)'!d40\"))","v":""},{"$f":"IF(ISERROR(INDIRECT(\"'3.09.1a (10)'!e40\"))=TRUE,\"\",INDIRECT(\"'3.09.1a (10)'!e40\"))","v":""},{"$f":"IF(ISERROR(INDIRECT(\"'3.09.1a (10)'!f40\"))=TRUE,\"\",INDIRECT(\"'3.09.1a (10)'!f40\"))","v":""},{"$f":"IF(ISERROR(INDIRECT(\"'3.09.1a (10)'!g40\"))=TRUE,\"\",INDIRECT(\"'3.09.1a (10)'!g40\"))","v":""},{"$f":"IF(ISERROR(INDIRECT(\"'3.09.1a (10)'!h40\"))=TRUE,\"\",INDIRECT(\"'3.09.1a (10)'!h40\"))","v":""},{"$f":"IF(ISERROR(INDIRECT(\"'3.09.1a (10)'!i40\"))=TRUE,\"\",INDIRECT(\"'3.09.1a (10)'!i40\"))","v":""},{"$f":"IF(ISERROR(INDIRECT(\"'3.09.1a (10)'!j40\"))=TRUE,\"\",INDIRECT(\"'3.09.1a (10)'!j40\"))","v":""},{"$f":"IF(ISERROR(INDIRECT(\"'3.09.1a (10)'!o40\"))=TRUE,\"\",INDIRECT(\"'3.09.1a (10)'!o40\"))","v":""},{"$f":"IF(ISERROR(INDIRECT(\"'3.09.1a (10)'!p40\"))=TRUE,\"\",INDIRECT(\"'3.09.1a (10)'!p40\"))","v":""},{"$f":"IF(ISERROR(INDIRECT(\"'3.09.1a (10)'!q40\"))=TRUE,\"\",INDIRECT(\"'3.09.1a (10)'!q40\"))","v":""},{"$f":"IF(ISERROR(INDIRECT(\"'3.09.1a (10)'!s40\"))=TRUE,\"\",INDIRECT(\"'3.09.1a (10)'!s40\"))","v":""},{"$f":"IF(ISERROR(INDIRECT(\"'3.09.1a (10)'!t40\"))=TRUE,\"\",INDIRECT(\"'3.09.1a (10)'!t40\"))","v":""},{"$f":"IF(ISERROR(INDIRECT(\"'3.09.1a (10)'!u40\"))=TRUE,\"\",INDIRECT(\"'3.09.1a (10)'!u40\"))","v":""},{"$f":"IF(ISERROR(INDIRECT(\"'3.09.1a (10)'!v40\"))=TRUE,\"\",INDIRECT(\"'3.09.1a (10)'!v40\"))","v":""},{"$f":"IF(ISERROR(INDIRECT(\"'3.09.1a (10)'!w40\"))=TRUE,\"\",INDIRECT(\"'3.09.1a (10)'!w40\"))","v":""},{"$f":"IF(ISERROR(INDIRECT(\"'3.09.1a (10)'!x40\"))=TRUE,\"\",INDIRECT(\"'3.09.1a (10)'!x40\"))","v":""},{"$f":"IF(ISERROR(INDIRECT(\"'3.09.1a (10)'!aa40\"))=TRUE,\"\",INDIRECT(\"'3.09.1a (10)'!aa40\"))","v":""},{"$f":"IF(ISERROR(INDIRECT(\"'3.09.1a (10)'!ad40\"))=TRUE,\"\",INDIRECT(\"'3.09.1a (10)'!ad40\"))","v":""},{"$f":"IF(ISERROR(INDIRECT(\"'3.09.1a (10)'!ah40\"))=TRUE,\"\",INDIRECT(\"'3.09.1a (10)'!ah40\"))","v":""},{"$f":"IF(ISERROR(INDIRECT(\"'3.09.1a (10)'!am40\"))=TRUE,\"\",INDIRECT(\"'3.09.1a (10)'!am40\"))","v":""}]
[0,"3.09.1a (10)",{"$f":"IF(ISERROR(INDIRECT(\"'3.09.1a (10)'!b41\"))=TRUE,\"\",INDIRECT(\"'3.09.1a (10)'!b41\"))","v":""},{"$f":"IF(ISERROR(INDIRECT(\"'3.09.1a (10)'!c41\"))=TRUE,\"\",INDIRECT(\"'3.09.1a (10)'!c41\"))","v":""},{"$f":"IF(ISERROR(INDIRECT(\"'3.09.1a (10)'!d41\"))=TRUE,\"\",INDIRECT(\"'3.09.1a (10)'!d41\"))","v":""},{"$f":"IF(ISERROR(INDIRECT(\"'3.09.1a (10)'!e41\"))=TRUE,\"\",INDIRECT(\"'3.09.1a (10)'!e41\"))","v":""},{"$f":"IF(ISERROR(INDIRECT(\"'3.09.1a (10)'!f41\"))=TRUE,\"\",INDIRECT(\"'3.09.1a (10)'!f41\"))","v":""},{"$f":"IF(ISERROR(INDIRECT(\"'3.09.1a (10)'!g41\"))=TRUE,\"\",INDIRECT(\"'3.09.1a (10)'!g41\"))","v":""},{"$f":"IF(ISERROR(INDIRECT(\"'3.09.1a (10)'!h41\"))=TRUE,\"\",INDIRECT(\"'3.09.1a (10)'!h41\"))","v":""},{"$f":"IF(ISERROR(INDIRECT(\"'3.09.1a (10)'!i41\"))=TRUE,\"\",INDIRECT(\"'3.09.1a (10)'!i41\"))","v":""},{"$f":"IF(ISERROR(INDIRECT(\"'3.09.1a (10)'!j41\"))=TRUE,\"\",INDIRECT(\"'3.09.1a (10)'!j41\"))","v":""},{"$f":"IF(ISERROR(INDIRECT(\"'3.09.1a (10)'!o41\"))=TRUE,\"\",INDIRECT(\"'3.09.1a (10)'!o41\"))","v":""},{"$f":"IF(ISERROR(INDIRECT(\"'3.09.1a (10)'!p41\"))=TRUE,\"\",INDIRECT(\"'3.09.1a (10)'!p41\"))","v":""},{"$f":"IF(ISERROR(INDIRECT(\"'3.09.1a (10)'!q41\"))=TRUE,\"\",INDIRECT(\"'3.09.1a (10)'!q41\"))","v":""},{"$f":"IF(ISERROR(INDIRECT(\"'3.09.1a (10)'!s41\"))=TRUE,\"\",INDIRECT(\"'3.09.1a (10)'!s41\"))","v":""},{"$f":"IF(ISERROR(INDIRECT(\"'3.09.1a (10)'!t41\"))=TRUE,\"\",INDIRECT(\"'3.09.1a (10)'!t41\"))","v":""},{"$f":"IF(ISERROR(INDIRECT(\"'3.09.1a (10)'!u41\"))=TRUE,\"\",INDIRECT(\"'3.09.1a (10)'!u41\"))","v":""},{"$f":"IF(ISERROR(INDIRECT(\"'3.09.1a (10)'!v41\"))=TRUE,\"\",INDIRECT(\"'3.09.1a (10)'!v41\"))","v":""},{"$f":"IF(ISERROR(INDIRECT(\"'3.09.1a (10)'!w41\"))=TRUE,\"\",INDIRECT(\"'3.09.1a (10)'!w41\"))","v":""},{"$f":"IF(ISERROR(INDIRECT(\"'3.09.1a (10)'!x41\"))=TRUE,\"\",INDIRECT(\"'3.09.1a (10)'!x41\"))","v":""},{"$f":"IF(ISERROR(INDIRECT(\"'3.09.1a (10)'!aa41\"))=TRUE,\"\",INDIRECT(\"'3.09.1a (10)'!aa41\"))","v":""},{"$f":"IF(ISERROR(INDIRECT(\"'3.09.1a (10)'!ad41\"))=TRUE,\"\",INDIRECT(\"'3.09.1a (10)'!ad41\"))","v":""},{"$f":"IF(ISERROR(INDIRECT(\"'3.09.1a (10)'!ah41\"))=TRUE,\"\",INDIRECT(\"'3.09.1a (10)'!ah41\"))","v":""},{"$f":"IF(ISERROR(INDIRECT(\"'3.09.1a (10)'!am41\"))=TRUE,\"\",INDIRECT(\"'3.09.1a (10)'!am41\"))","v":""}]
[0,"3.09.1a (10)",{"$f":"IF(ISERROR(INDIRECT(\"'3.09.1a (10)'!b42\"))=TRUE,\"\",INDIRECT(\"'3.09.1a (10)'!b42\"))","v":""},{"$f":"IF(ISERROR(INDIRECT(\"'3.09.1a (10)'!c42\"))=TRUE,\"\",INDIRECT(\"'3.09.1a (10)'!c42\"))","v":""},{"$f":"IF(ISERROR(INDIRECT(\"'3.09.1a (10)'!d42\"))=TRUE,\"\",INDIRECT(\"'3.09.1a (10)'!d42\"))","v":""},{"$f":"IF(ISERROR(INDIRECT(\"'3.09.1a (10)'!e42\"))=TRUE,\"\",INDIRECT(\"'3.09.1a (10)'!e42\"))","v":""},{"$f":"IF(ISERROR(INDIRECT(\"'3.09.1a (10)'!f42\"))=TRUE,\"\",INDIRECT(\"'3.09.1a (10)'!f42\"))","v":""},{"$f":"IF(ISERROR(INDIRECT(\"'3.09.1a (10)'!g42\"))=TRUE,\"\",INDIRECT(\"'3.09.1a (10)'!g42\"))","v":""},{"$f":"IF(ISERROR(INDIRECT(\"'3.09.1a (10)'!h42\"))=TRUE,\"\",INDIRECT(\"'3.09.1a (10)'!h42\"))","v":""},{"$f":"IF(ISERROR(INDIRECT(\"'3.09.1a (10)'!i42\"))=TRUE,\"\",INDIRECT(\"'3.09.1a (10)'!i42\"))","v":""},{"$f":"IF(ISERROR(INDIRECT(\"'3.09.1a (10)'!j42\"))=TRUE,\"\",INDIRECT(\"'3.09.1a (10)'!j42\"))","v":""},{"$f":"IF(ISERROR(INDIRECT(\"'3.09.1a (10)'!o42\"))=TRUE,\"\",INDIRECT(\"'3.09.1a (10)'!o42\"))","v":""},{"$f":"IF(ISERROR(INDIRECT(\"'3.09.1a (10)'!p42\"))=TRUE,\"\",INDIRECT(\"'3.09.1a (10)'!p42\"))","v":""},{"$f":"IF(ISERROR(INDIRECT(\"'3.09.1a (10)'!q42\"))=TRUE,\"\",INDIRECT(\"'3.09.1a (10)'!q42\"))","v":""},{"$f":"IF(ISERROR(INDIRECT(\"'3.09.1a (10)'!s42\"))=TRUE,\"\",INDIRECT(\"'3.09.1a (10)'!s42\"))","v":""},{"$f":"IF(ISERROR(INDIRECT(\"'3.09.1a (10)'!t42\"))=TRUE,\"\",INDIRECT(\"'3.09.1a (10)'!t42\"))","v":""},{"$f":"IF(ISERROR(INDIRECT(\"'3.09.1a (10)'!u42\"))=TRUE,\"\",INDIRECT(\"'3.09.1a (10)'!u42\"))","v":""},{"$f":"IF(ISERROR(INDIRECT(\"'3.09.1a (10)'!v42\"))=TRUE,\"\",INDIRECT(\"'3.09.1a (10)'!v42\"))","v":""},{"$f":"IF(ISERROR(INDIRECT(\"'3.09.1a (10)'!w42\"))=TRUE,\"\",INDIRECT(\"'3.09.1a (10)'!w42\"))","v":""},{"$f":"IF(ISERROR(INDIRECT(\"'3.09.1a (10)'!x42\"))=TRUE,\"\",INDIRECT(\"'3.09.1a (10)'!x42\"))","v":""},{"$f":"IF(ISERROR(INDIRECT(\"'3.09.1a (10)'!aa42\"))=TRUE,\"\",INDIRECT(\"'3.09.1a (10)'!aa42\"))","v":""},{"$f":"IF(ISERROR(INDIRECT(\"'3.09.1a (10)'!ad42\"))=TRUE,\"\",INDIRECT(\"'3.09.1a (10)'!ad42\"))","v":""},{"$f":"IF(ISERROR(INDIRECT(\"'3.09.1a (10)'!ah42\"))=TRUE,\"\",INDIRECT(\"'3.09.1a (10)'!ah42\"))","v":""},{"$f":"IF(ISERROR(INDIRECT(\"'3.09.1a (10)'!am42\"))=TRUE,\"\",INDIRECT(\"'3.09.1a (10)'!am42\"))","v":""}]
[0,"3.09.1a (10)",{"$f":"IF(ISERROR(INDIRECT(\"'3.09.1a (10)'!b43\"))=TRUE,\"\",INDIRECT(\"'3.09.1a (10)'!b43\"))","v":""},{"$f":"IF(ISERROR(INDIRECT(\"'3.09.1a (10)'!c43\"))=TRUE,\"\",INDIRECT(\"'3.09.1a (10)'!c43\"))","v":""},{"$f":"IF(ISERROR(INDIRECT(\"'3.09.1a (10)'!d43\"))=TRUE,\"\",INDIRECT(\"'3.09.1a (10)'!d43\"))","v":""},{"$f":"IF(ISERROR(INDIRECT(\"'3.09.1a (10)'!e43\"))=TRUE,\"\",INDIRECT(\"'3.09.1a (10)'!e43\"))","v":""},{"$f":"IF(ISERROR(INDIRECT(\"'3.09.1a (10)'!f43\"))=TRUE,\"\",INDIRECT(\"'3.09.1a (10)'!f43\"))","v":""},{"$f":"IF(ISERROR(INDIRECT(\"'3.09.1a (10)'!g43\"))=TRUE,\"\",INDIRECT(\"'3.09.1a (10)'!g43\"))","v":""},{"$f":"IF(ISERROR(INDIRECT(\"'3.09.1a (10)'!h43\"))=TRUE,\"\",INDIRECT(\"'3.09.1a (10)'!h43\"))","v":""},{"$f":"IF(ISERROR(INDIRECT(\"'3.09.1a (10)'!i43\"))=TRUE,\"\",INDIRECT(\"'3.09.1a (10)'!i43\"))","v":""},{"$f":"IF(ISERROR(INDIRECT(\"'3.09.1a (10)'!j43\"))=TRUE,\"\",INDIRECT(\"'3.09.1a (10)'!j43\"))","v":""},{"$f":"IF(ISERROR(INDIRECT(\"'3.09.1a (10)'!o43\"))=TRUE,\"\",INDIRECT(\"'3.09.1a (10)'!o43\"))","v":""},{"$f":"IF(ISERROR(INDIRECT(\"'3.09.1a (10)'!p43\"))=TRUE,\"\",INDIRECT(\"'3.09.1a (10)'!p43\"))","v":""},{"$f":"IF(ISERROR(INDIRECT(\"'3.09.1a (10)'!q43\"))=TRUE,\"\",INDIRECT(\"'3.09.1a (10)'!q43\"))","v":""},{"$f":"IF(ISERROR(INDIRECT(\"'3.09.1a (10)'!s43\"))=TRUE,\"\",INDIRECT(\"'3.09.1a (10)'!s43\"))","v":""},{"$f":"IF(ISERROR(INDIRECT(\"'3.09.1a (10)'!t43\"))=TRUE,\"\",INDIRECT(\"'3.09.1a (10)'!t43\"))","v":""},{"$f":"IF(ISERROR(INDIRECT(\"'3.09.1a (10)'!u43\"))=TRUE,\"\",INDIRECT(\"'3.09.1a (10)'!u43\"))","v":""},{"$f":"IF(ISERROR(INDIRECT(\"'3.09.1a (10)'!v43\"))=TRUE,\"\",INDIRECT(\"'3.09.1a (10)'!v43\"))","v":""},{"$f":"IF(ISERROR(INDIRECT(\"'3.09.1a (10)'!w43\"))=TRUE,\"\",INDIRECT(\"'3.09.1a (10)'!w43\"))","v":""},{"$f":"IF(ISERROR(INDIRECT(\"'3.09.1a (10)'!x43\"))=TRUE,\"\",INDIRECT(\"'3.09.1a (10)'!x43\"))","v":""},{"$f":"IF(ISERROR(INDIRECT(\"'3.09.1a (10)'!aa43\"))=TRUE,\"\",INDIRECT(\"'3.09.1a (10)'!aa43\"))","v":""},{"$f":"IF(ISERROR(INDIRECT(\"'3.09.1a (10)'!ad43\"))=TRUE,\"\",INDIRECT(\"'3.09.1a (10)'!ad43\"))","v":""},{"$f":"IF(ISERROR(INDIRECT(\"'3.09.1a (10)'!ah43\"))=TRUE,\"\",INDIRECT(\"'3.09.1a (10)'!ah43\"))","v":""},{"$f":"IF(ISERROR(INDIRECT(\"'3.09.1a (10)'!am43\"))=TRUE,\"\",INDIRECT(\"'3.09.1a (10)'!am43\"))","v":""}]

{"sheet":"Last","index":9,"n_rows":1,"n_cols":1,"rows_kept":1,"cut":false,"hidden":true,"merged":[]}
["Do not delete sheet"]