Workbook
Name \b: #REF!
Name \c: #REF!
Name \d: #REF!
Name \e: '[1]K01 GO Bonds'!#REF!
Name \f: '[2]BF-00 - INDEX'!#REF!
Name \g: #REF!
Name \i: #REF!
Name \j: #REF!
Name \l: '[2]BF-00 - INDEX'!#REF!
Name \m: '[1]K01 GO Bonds'!#REF!
Name \n: #REF!
Name \o: #REF!
Name \p: '[1]K01 GO Bonds'!#REF!
Name \r: #REF!
Name \s: '[1]K01 GO Bonds'!#REF!
Name \t: #REF!
Name \u: #REF!
Name \x: #REF!
Name a: #REF!
Name AgencyCode: 'Lease Rollforward'!$B$1
Name AgencyName: '[3]Form 3.07.1 '!$G$7
Name Business_Area: #REF!
Name CAFR: [4]Inputs!$B$1
Name data: #REF!
Name DF_GRID_1: #REF!
Name DF_NAVPANEL_13: #REF!
Name DF_NAVPANEL_18: #REF!
Name Lease_Type_Excluded_for_GASB87: 'Lease Types with GL Accts'!$A$11:$A$13
Name Lease_Type_Included_for_GASB87: 'Lease Types with GL Accts'!$A$2:$A$9
Name not_copiers_1_List: #REF!
Name Print_Area_MI: '[2]BF-00 - INDEX'!#REF!
Name Print_Titles_MI: #REF!
Name Subtot: #REF!
Name subtotal: #REF!
Name SubtotArea: #REF!
Name we: #REF!
Name Year: '[5]3.04.1 '!$H$3
Name years: #REF!

Sheet ACFR Reporting
A1: Note 6: Assets - This must tie to the leased assets reporting package (ish) This includes all leased assets no matter the asset class. This will be an issue with assets to be purchased at the end of the lease.
B3: Beginning Balance | C3: Increases | D3: Decreases | E3: Ending Balance
A4: Leased Asset
A5: Leased Building | B5: =_xlfn.XLOOKUP(A:A,'BW Asset Listing'!$A$6:$A$14,'BW Asset Listing'!$H$6:$H$14) -> 0 | C5: =_xlfn.XLOOKUP(A:A,'BW Asset Listing'!$A$6:$A$14,'BW Asset Listing'!$I$6:$I$14) -> 0 | D5: =_xlfn.XLOOKUP(A:A,'BW Asset Listing'!$A$6:$A$14,'BW Asset Listing'!$J$6:$J$14) -> 0 | E5: =SUM(B5:D5) -> 0
A6: Leased Land | B6: =_xlfn.XLOOKUP(A:A,'BW Asset Listing'!$A$6:$A$14,'BW Asset Listing'!$H$6:$H$14) -> 0 | C6: =_xlfn.XLOOKUP(A:A,'BW Asset Listing'!$A$6:$A$14,'BW Asset Listing'!$I$6:$I$14) -> 0 | D6: =_xlfn.XLOOKUP(A:A,'BW Asset Listing'!$A$6:$A$14,'BW Asset Listing'!$J$6:$J$14) -> 0 | E6: =SUM(B6:D6) -> 0
A7: Leased Copy Equipment | B7: =_xlfn.XLOOKUP(A:A,'BW Asset Listing'!$A$6:$A$14,'BW Asset Listing'!$H$6:$H$14) -> 0 | C7: =_xlfn.XLOOKUP(A:A,'BW Asset Listing'!$A$6:$A$14,'BW Asset Listing'!$I$6:$I$14) -> 0 | D7: =_xlfn.XLOOKUP(A:A,'BW Asset Listing'!$A$6:$A$14,'BW Asset Listing'!$J$6:$J$14) -> 0 | E7: =SUM(B7:D7) -> 0
A8: Leased Computer Equipment | B8: =_xlfn.XLOOKUP(A:A,'BW Asset Listing'!$A$6:$A$14,'BW Asset Listing'!$H$6:$H$14) -> 0 | C8: =_xlfn.XLOOKUP(A:A,'BW Asset Listing'!$A$6:$A$14,'BW Asset Listing'!$I$6:$I$14) -> 0 | D8: =_xlfn.XLOOKUP(A:A,'BW Asset Listing'!$A$6:$A$14,'BW Asset Listing'!$J$6:$J$14) -> 0 | E8: =SUM(B8:D8) -> 0
A9: Leased Other Equipment | B9: =_xlfn.XLOOKUP(A:A,'BW Asset Listing'!$A$6:$A$14,'BW Asset Listing'!$H$6:$H$14) -> 0 | C9: =_xlfn.XLOOKUP(A:A,'BW Asset Listing'!$A$6:$A$14,'BW Asset Listing'!$I$6:$I$14) -> 0 | D9: =_xlfn.XLOOKUP(A:A,'BW Asset Listing'!$A$6:$A$14,'BW Asset Listing'!$J$6:$J$14) -> 0 | E9: =SUM(B9:D9) -> 0
A10: Leased Medical Equipment | B10: =_xlfn.XLOOKUP(A:A,'BW Asset Listing'!$A$6:$A$14,'BW Asset Listing'!$H$6:$H$14) -> 0 | C10: =_xlfn.XLOOKUP(A:A,'BW Asset Listing'!$A$6:$A$14,'BW Asset Listing'!$I$6:$I$14) -> 0 | D10: =_xlfn.XLOOKUP(A:A,'BW Asset Listing'!$A$6:$A$14,'BW Asset Listing'!$J$6:$J$14) -> 0 | E10: =SUM(B10:D10) -> 0
A11: Leased Heavy Equipment | B11: =_xlfn.XLOOKUP(A:A,'BW Asset Listing'!$A$6:$A$14,'BW Asset Listing'!$H$6:$H$14) -> 0 | C11: =_xlfn.XLOOKUP(A:A,'BW Asset Listing'!$A$6:$A$14,'BW Asset Listing'!$I$6:$I$14) -> 0 | D11: =_xlfn.XLOOKUP(A:A,'BW Asset Listing'!$A$6:$A$14,'BW Asset Listing'!$J$6:$J$14) -> 0 | E11: =SUM(B11:D11) -> 0
A12: SBITA | B12: =_xlfn.XLOOKUP(A:A,'BW Asset Listing'!$A$6:$A$14,'BW Asset Listing'!$H$6:$H$14) -> 0 | C12: =_xlfn.XLOOKUP(A:A,'BW Asset Listing'!$A$6:$A$14,'BW Asset Listing'!$I$6:$I$14) -> 905646.97 | D12: =_xlfn.XLOOKUP(A:A,'BW Asset Listing'!$A$6:$A$14,'BW Asset Listing'!$J$6:$J$14) -> 0 | E12: =SUM(B12:D12) -> 905646.97
B13: =SUM(B5:B12) -> 0 | C13: =SUM(C5:C12) -> 905646.97 | D13: =SUM(D5:D12) -> 0 | E13: =SUM(E5:E12) -> 905646.97
A15: Depreciation
A16: Leased Building | B16: =_xlfn.XLOOKUP(A:A,'BW Asset Listing'!$A$6:$A$14,'BW Asset Listing'!$P$6:$P$14) -> 0 | C16: =_xlfn.XLOOKUP(A:A,'BW Asset Listing'!$A$6:$A$14,'BW Asset Listing'!$Q$6:$Q$14) -> 0 | D16: =_xlfn.XLOOKUP(A:A,'BW Asset Listing'!$A$6:$A$14,'BW Asset Listing'!$R$6:$R$14) -> 0 | E16: =SUM(B16:D16) -> 0
A17: Leased Land | B17: =_xlfn.XLOOKUP(A:A,'BW Asset Listing'!$A$6:$A$14,'BW Asset Listing'!$P$6:$P$14) -> 0 | C17: =_xlfn.XLOOKUP(A:A,'BW Asset Listing'!$A$6:$A$14,'BW Asset Listing'!$Q$6:$Q$14) -> 0 | D17: =_xlfn.XLOOKUP(A:A,'BW Asset Listing'!$A$6:$A$14,'BW Asset Listing'!$R$6:$R$14) -> 0 | E17: =SUM(B17:D17) -> 0
A18: Leased Copy Equipment | B18: =_xlfn.XLOOKUP(A:A,'BW Asset Listing'!$A$6:$A$14,'BW Asset Listing'!$P$6:$P$14) -> 0 | C18: =_xlfn.XLOOKUP(A:A,'BW Asset Listing'!$A$6:$A$14,'BW Asset Listing'!$Q$6:$Q$14) -> 0 | D18: =_xlfn.XLOOKUP(A:A,'BW Asset Listing'!$A$6:$A$14,'BW Asset Listing'!$R$6:$R$14) -> 0 | E18: =SUM(B18:D18) -> 0
A19: Leased Computer Equipment | B19: =_xlfn.XLOOKUP(A:A,'BW Asset Listing'!$A$6:$A$14,'BW Asset Listing'!$P$6:$P$14) -> 0 | C19: =_xlfn.XLOOKUP(A:A,'BW Asset Listing'!$A$6:$A$14,'BW Asset Listing'!$Q$6:$Q$14) -> 0 | D19: =_xlfn.XLOOKUP(A:A,'BW Asset Listing'!$A$6:$A$14,'BW Asset Listing'!$R$6:$R$14) -> 0 | E19: =SUM(B19:D19) -> 0
A20: Leased Other Equipment | B20: =_xlfn.XLOOKUP(A:A,'BW Asset Listing'!$A$6:$A$14,'BW Asset Listing'!$P$6:$P$14) -> 0 | C20: =_xlfn.XLOOKUP(A:A,'BW Asset Listing'!$A$6:$A$14,'BW Asset Listing'!$Q$6:$Q$14) -> 0 | D20: =_xlfn.XLOOKUP(A:A,'BW Asset Listing'!$A$6:$A$14,'BW Asset Listing'!$R$6:$R$14) -> 0 | E20: =SUM(B20:D20) -> 0
A21: Leased Medical Equipment | B21: =_xlfn.XLOOKUP(A:A,'BW Asset Listing'!$A$6:$A$14,'BW Asset Listing'!$P$6:$P$14) -> 0 | C21: =_xlfn.XLOOKUP(A:A,'BW Asset Listing'!$A$6:$A$14,'BW Asset Listing'!$Q$6:$Q$14) -> 0 | D21: =_xlfn.XLOOKUP(A:A,'BW Asset Listing'!$A$6:$A$14,'BW Asset Listing'!$R$6:$R$14) -> 0 | E21: =SUM(B21:D21) -> 0
A22: Leased Heavy Equipment | B22: =_xlfn.XLOOKUP(A:A,'BW Asset Listing'!$A$6:$A$14,'BW Asset Listing'!$P$6:$P$14) -> 0 | C22: =_xlfn.XLOOKUP(A:A,'BW Asset Listing'!$A$6:$A$14,'BW Asset Listing'!$Q$6:$Q$14) -> 0 | D22: =_xlfn.XLOOKUP(A:A,'BW Asset Listing'!$A$6:$A$14,'BW Asset Listing'!$R$6:$R$14) -> 0 | E22: =SUM(B22:D22) -> 0
A23: SBITA | B23: =_xlfn.XLOOKUP(A:A,'BW Asset Listing'!$A$6:$A$14,'BW Asset Listing'!$P$6:$P$14) -> 0 | C23: =_xlfn.XLOOKUP(A:A,'BW Asset Listing'!$A$6:$A$14,'BW Asset Listing'!$Q$6:$Q$14) -> -356510.81 | D23: =_xlfn.XLOOKUP(A:A,'BW Asset Listing'!$A$6:$A$14,'BW Asset Listing'!$R$6:$R$14) -> 0 | E23: =SUM(B23:D23) -> -356510.81
B24: =SUM(B16:B23) -> 0 | C24: =SUM(C16:C23) -> -356510.81 | D24: =SUM(D16:D23) -> 0 | E24: =SUM(E16:E23) -> -356510.81
A26: Total Leased Assets | B26: =SUM(B13,B24) -> 0 | C26: =SUM(C13,C24) -> 549136.16 | D26: =SUM(D13,D24) -> 0 | E26: =SUM(E13,E24) -> 549136.16
E27: ='BW Asset Listing'!W16 -> 549136.16 | F27: Check to Ending Balance - BW Expense Report GL tab
E28: =E26-E27 -> 0
A30: Note 11: Leases
A32: The present value of future minimum lease payments…
A34: Fiscal Year Ending June 30 | B34: Total
A35: ='Lease Rollforward'!P11 -> 2025 | B35: ='Lease Rollforward'!P202 -> 355782.6
A36: ='Lease Rollforward'!Q11 -> 2026 | B36: ='Lease Rollforward'!Q202 -> 177877.63
A37: ='Lease Rollforward'!R11 -> 2027 | B37: ='Lease Rollforward'!R202 -> 0
A38: ='Lease Rollforward'!S11 -> 2028 | B38: ='Lease Rollforward'!S202 -> 0
A39: ='Lease Rollforward'!T11 -> 2029 | B39: ='Lease Rollforward'!T202 -> 0
A40: ='Lease Rollforward'!U11 -> 2030 - 2034 | B40: ='Lease Rollforward'!U202 -> 0
A41: ='Lease Rollforward'!V11 -> 2035 - 2039 | B41: ='Lease Rollforward'!V202 -> 0
A42: ='Lease Rollforward'!W11 -> 2040 - 2044 | B42: ='Lease Rollforward'!W202 -> 0
A43: ='Lease Rollforward'!X11 -> 2045 - 2049 | B43: ='Lease Rollforward'!X202 -> 0
A44: ='Lease Rollforward'!Y11 -> 2050 - 2054 | B44: ='Lease Rollforward'!Y202 -> 0
A45: Total minimum payments | B45: =SUM(B35:B44) -> 533660.23
A46: Less: interest and executory costs | B46: =-'Lease Rollforward'!AL202 -> -26032.71
...

Sheet Checklist
A1: 3.11 SBITA Reporting Package - Checklist | B1: =AgencyCode -> E120
A2: *Written instructions as well as instructional videos to assist in completing this package can be found on the CG's website.
A3: https://cg.sc.gov/gasb-87-96-lease-accounting
A5: General Questions
C6: Additional Requirements
A7: Can all amounts reported on the form be traced to the agency's accounting records? | B7: Yes | C7: =IF(B7="No","Submit memo by management attesting to why amounts cannot be traced to accounting records","")
A9: Are SBITA lease related expenditures recorded properly according to GASB 96? | B9: Yes | C9: =IF(B9="No","Submit memo by management attesting to why GASB 96 has not been applied","")
A11: Have all qualifying SBITA contracts in effect during the fiscal year been included in this reporting package? Note: It is the agency's responsbility to analyze each software subscription contract for SBITA qualification. | B11: Yes | C11: =IF(B11="No","Submit memo by management attesting to why certain SBITA's have been excluded","")
A13: Have the summations for the five-year intervals been tested for clerical accuracy? | B13: Yes | C13: =IF(B13="No","It is the responsibility of the Agency to ensure clerical accuracy of Package before submission","")
A15: Have the calculated fields (Totals) been examined for accuracy? | B15: Yes | C15: =IF(B15="No","It is the responsibility of the Agency to ensure clerical accuracy of Package before submission","")
A17: Does the agency have procedures in place to analyze each new software subscription contract for potential GASB 96 SBITA qualification. Please note, this will be an audit heavy area. | B17: Yes | C17: =IF(B17="No","It is the responsbility of management to properly account for qualifying SBITA contracts under GASB 96. Please submit a memo by management attesting to why proper managerial oversight is not occuring.","")
A19: Does the agency have procedures in place for preparing monthly reconciliations of GASB 96 SBITA expenditures including: correcting j/e's posting timely, managerial review and sign off, and proper training of GASB 96 accounting for staff posting related expenditures? Please note, this will be an audit heavy area. | B19: Yes | C19: =IF(B19="No","Submit memo by management attesting to why reconciliations, timely correcting j/e's and proper managerial oversight are not occuring.","")
A21: Are the monthly GASB 96 reconciliations with managerial review and sign-off available for auditor (internal and external) review? Please note, this will be an audit heavy area. | B21: Yes | C21: =IF(B21="No","Submit memo by management attesting to why reconciliations, timely correcting j/e's and proper managerial oversight are not occuring.","")
A23: Does your agency have any SBITA's using Enterprise or Internal Service Funds? If yes, please contact ACFR team. You will be required to submit two packages, one with governmental funds and another with Enterprise and Internal Service Funds. **See Indiv Code in column N on green tab Index of Funds if you are unsure** Enterprise Funds are Indiv Code 075-099 Internal Service Funds are Indiv Code 100-149 | B23: No | C23: =IF(B23="Yes","Your Agency is required to Submit a second package for funds coded to Enterprise/Internal Service Funds","")
A25: On the Lease Rollforward tab, does the debt outstanding in column F agree to previous year’s reporting package for debt outstanding at year end in column J? YOUR PACKAGE WILL NOT BE ACCEPTED IF THIS ROLLFORWARD BALANCES DON’T AGREE. | B25: Yes | C25: =IF(B25="No","Balance MUST agree to previous year's closing packge prior to submission.","")
A27: On the Lease Rollforward tab, columns A-C starting on line 207 - Are all reconciliation variances $0? *This MUST be yes for package to be accepted. | B27: Yes | C27: =IF(B27="No","Submit memo by management attesting to why amounts cannot be traced to accounting records","")
A29: Are all variances in column H on Expenditure Reconciliation tab $0? *This MUST be yes for package to be accepted. | B29: Yes | C29: =IF(B29="No","Variance must be zero before package may be submitted","")
A31: Have assets for SBITA leases subject to GASB 96 requirements been created and included on tab BW Asset Report and the Payment Schedule? | B31: Yes | C31: =IF(B31="No","Submit memo by management attesting to why all assets have not been created and/or recorded on this package that are subject to GASB 96.","")
A33: Have all expenses identified as Contingent ("variable expenses") posted to the correct corresponding G/L accounts? | B33: N/A | C33: =IF(B33="No","Your Agency must correct the G/L prior to submission of reporting package.",IF(B33="Yes","Submit a memo by management describing the Contingent expenses, including an brief explanation of the underlying variable/rate.",""))
A35: Have BW Expense Report and BW Asset Listing Reports been updated for the most recent month or year-end? | B35: Yes | C35: =IF(B35="No","Submit memo by management attesting to why amounts cannot be traced to accounting records","")
A37: Have all adjustments needed been posted prior to year end? | B37: Yes | C37: =IF(B37="No","Your Agency must correct the G/L prior to submission of reporting package.","")
A39: Have the annual amounts been tested for clerical accuracy based on the terms of the SBTIA agreements and payment schedules? | B39: Yes | C39: =IF(B39="No","It is the responsibility of the Agency to ensure clerical accuracy of Package before submission","")
A41: Does your agency have commitments for qualifying SBITAs, where the commencement of the subscription term is after current year end? For example, in process software implementation projects currently treated as CIP which will qualify as a SBITA upon commencement. | B41: No | C41: =IF(B41="Yes",CONCATENATE("The commitment should be included on the 3.08 Capital Assets Reporting Package. The commitment amount should equal the total of all payments to be made for the SBITA AFTER FY",'Lease Rollforward'!B2,". Any payments made DURING FY",'Lease Rollforward'!B2," should be captured in a SCEIS “I” Project to be treated as a work-in-process asset."),"")
A43: Did your agency record an impairment loss for a SBITA asset during the current fiscal year under GASB 96 impairment rules? | B43: No | C43: =IF(B43="Yes","Submit a memo by management describing the components of the impairment loss and any related change in the subscription liability.","")
A45: Agency Required Documentation for Internal Auditor Review
A47: For all SBITA's presented in this closing package, does the Agency have copies of ALL the SBITA contracts, and supporting terms, in ONE central location as of the due date of this reporting package? | B47: Yes | C47: =IF(B47="No","Submit memo by management attesting to why amounts cannot be traced to accounting records","")
A49: Verifying File Name is Properly Saved
A51: =CONCATENATE("Is the file properly named with your Agency Business Area ID first? As in: ",AgencyCode,"_3.11_SBITA_Reporting_Package_FY_",RIGHT('Lease Rollforward'!B2,2)) -> Is the file properly named with your Agency Business Area ID first? As in: E120_3.11_SBITA_Reporting_Package_FY_24 | B51: Yes | C51: {=IF(LEFT(MID(CELL("filename"),SEARCH("[",CELL("filename"))+1,SEARCH("]",CELL("filename"))-SEARCH("[",CELL("filename"))-1),4)=AgencyCode,"Properly Saved",CONCATENATE("Saved file name MUST begin with your Agency's Business Area Number: ",AgencyCode))} -> Properly Saved
A53: Responses for All Lease Reporting Package Forms:
A55: Is the reviewer of the form someone other than the person who prepared it? | B55: Yes | C55: =IF(B55="No","The reviewer must be different from the preparer for acceptance.","")
A57: Have the balances and activity reporting been compared with the prior year, documenting causes for any large fluctuations that can be easily obtained and explained to individuals not familiar with the daily operations of the agency? | B57: Yes | C57: =IF(B57="No","It is the responsibility of the Agency to ensure clerical accuracy of Package before submission and to explain and variances to auditors and/or ACFR staff.","")
A59: Have any modifications been made to any schedule included in this workbook that have not been approved by the ACFR team? | B59: No | C59: =IF(B59="Yes","Modifications to this package must be pre-approved by ACFR staff.","")

Sheet Signature
A1: 3.11 SBITA Reporting Package - Signature Page
A2: ACFR Reporting Year | B2: ='Lease Rollforward'!B2 -> 2024
A3: Due Date | B3: 45492
A4: Agency Number | B4: =AgencyCode -> E120
A5: Agency Name | B5: =VLOOKUP(B4,'ACFR Business Areas'!A:B,2,FALSE) -> Comptroller General
A7: Before completing this package, please select "Yes" to one of the following questions regarding year-end.
A9: No | B9: Is this package being submitted as the Mid-Year 3.11 SBITA Reporting Package?
A10: Yes | B10: Is this package being submitted as the Year-end 3.11 SBITA Reporting Package?
A12: Preparer Information:
A13: Date | B13: 45492
A14: Name | B14: Agency Preparer
A15: Title | B15: Manager
A16: e-mail | B16: Agencypreparer@agency.sc.gov
A17: Phone Number | B17: 803-123-4567
A18: Signature
A20: Reviewer Information:
A21: Date | B21: 45492
A22: Name | B22: Agency Reviewer
A23: Title | B23: Finance Director
A24: e-mail | B24: Agencyreviewer@agency.sc.gov
A25: Phone Number | B25: 803-123-4567
A26: Signature
B30: Please complete the above page where indicated by grey and red shading.
A32: Your signature on this form certifies that the information provided on the reporting packages is complete and accurate to the best of your knowledge. Representations made by signing as the approver: - I acknowledge and have fulfilled the responsibility for implementation and maintenance of internal control relevant to the preparation and fair presentation of the year end packets that are free from material misstatement, whether due to fraud or error. - We have recorded or disclosed all accounting estimates that could be material to the financial statements in accordance with the requirements of U.S. GAAP. - All events occurring subsequent to the date of the financial statements and for which U.S. GAAP requires adjustment or disclosure have been adjusted or disclosed. - Special and extraordinary items have been appropriately classified and reported. - The agency has no transfers, reservations or designations of fund equity or interfund borrowings that were not properly authorized and approved, or uncollectible interfund loans that have not been properly reflected in the reporting packets or disclosed to you.

Sheet Lease Rollforward
A1: Lease - Rollforward | B1: E120
A2: Fiscal Year | B2: 2024
A3: Source: Prior Year Balances and Agency Input (Columns A - E). Payment Schedule Tab (Columns F - AK).
D4: Grand Total | F4: {=VLOOKUP($D$4,$D$12:F$2405,COLUMN(F:F)-COLUMN($D:$D)+1,FALSE)} -> 0 | G4: {=VLOOKUP($D$4,$D$12:G$2405,COLUMN(G:G)-COLUMN($D:$D)+1,FALSE)} -> 905646.97 | H4: {=VLOOKUP($D$4,$D$12:H$2405,COLUMN(H:H)-COLUMN($D:$D)+1,FALSE)} -> -371986.74 | J4: {=VLOOKUP($D$4,$D$12:J$2405,COLUMN(J:J)-COLUMN($D:$D)+1,FALSE)} -> 533660.23 | L4: {=VLOOKUP($D$4,$D$12:L$2405,COLUMN(L:L)-COLUMN($D:$D)+1,FALSE)} -> 355782.6 | M4: {=VLOOKUP($D$4,$D$12:M$2405,COLUMN(M:M)-COLUMN($D:$D)+1,FALSE)} -> 177877.63 | O4: {=VLOOKUP($D$4,$D$12:O$2405,COLUMN(O:O)-COLUMN($D:$D)+1,FALSE)} -> 371986.74 | P4: {=VLOOKUP($D$4,$D$12:P$2405,COLUMN(P:P)-COLUMN($D:$D)+1,FALSE)} -> 355782.6 | Q4: {=VLOOKUP($D$4,$D$12:Q$2405,COLUMN(Q:Q)-COLUMN($D:$D)+1,FALSE)} -> 177877.63 | R4: {=VLOOKUP($D$4,$D$12:R$2405,COLUMN(R:R)-COLUMN($D:$D)+1,FALSE)} -> 0 | S4: {=VLOOKUP($D$4,$D$12:S$2405,COLUMN(S:S)-COLUMN($D:$D)+1,FALSE)} -> 0 | T4: {=VLOOKUP($D$4,$D$12:T$2405,COLUMN(T:T)-COLUMN($D:$D)+1,FALSE)} -> 0 | U4: {=VLOOKUP($D$4,$D$12:U$2405,COLUMN(U:U)-COLUMN($D:$D)+1,FALSE)} -> 0 | V4: {=VLOOKUP($D$4,$D$12:V$2405,COLUMN(V:V)-COLUMN($D:$D)+1,FALSE)} -> 0 | W4: {=VLOOKUP($D$4,$D$12:W$2405,COLUMN(W:W)-COLUMN($D:$D)+1,FALSE)} -> 0 | X4: {=VLOOKUP($D$4,$D$12:X$2405,COLUMN(X:X)-COLUMN($D:$D)+1,FALSE)} -> 0 | Y4: {=VLOOKUP($D$4,$D$12:Y$2405,COLUMN(Y:Y)-COLUMN($D:$D)+1,FALSE)} -> 0 | Z4: {=VLOOKUP($D$4,$D$12:Z$2405,COLUMN(Z:Z)-COLUMN($D:$D)+1,FALSE)} -> 533660.23 | AA4: {=VLOOKUP($D$4,$D$12:AA$2405,COLUMN(AA:AA)-COLUMN($D:$D)+1,FALSE)} -> 22112.23 | AB4: {=VLOOKUP($D$4,$D$12:AB$2405,COLUMN(AB:AB)-COLUMN($D:$D)+1,FALSE)} -> 19601.37 | AC4: {=VLOOKUP($D$4,$D$12:AC$2405,COLUMN(AC:AC)-COLUMN($D:$D)+1,FALSE)} -> 6431.34 | AD4: {=VLOOKUP($D$4,$D$12:AD$2405,COLUMN(AD:AD)-COLUMN($D:$D)+1,FALSE)} -> 0 | AE4: {=VLOOKUP($D$4,$D$12:AE$2405,COLUMN(AE:AE)-COLUMN($D:$D)+1,FALSE)} -> 0 | AF4: {=VLOOKUP($D$4,$D$12:AF$2405,COLUMN(AF:AF)-COLUMN($D:$D)+1,FALSE)} -> 0 | AG4: {=VLOOKUP($D$4,$D$12:AG$2405,COLUMN(AG:AG)-COLUMN($D:$D)+1,FALSE)} -> 0 | AH4: {=VLOOKUP($D$4,$D$12:AH$2405,COLUMN(AH:AH)-COLUMN($D:$D)+1,FALSE)} -> 0 | AI4: {=VLOOKUP($D$4,$D$12:AI$2405,COLUMN(AI:AI)-COLUMN($D:$D)+1,FALSE)} -> 0 | AJ4: {=VLOOKUP($D$4,$D$12:AJ$2405,COLUMN(AJ:AJ)-COLUMN($D:$D)+1,FALSE)} -> 0 | AK4: {=VLOOKUP($D$4,$D$12:AK$2405,COLUMN(AK:AK)-COLUMN($D:$D)+1,FALSE)} -> 0 | AL4: {=VLOOKUP($D$4,$D$12:AL$2405,COLUMN(AL:AL)-COLUMN($D:$D)+1,FALSE)} -> 26032.71
U5: =T$11+1 -> 2030 | V5: =U9+1 -> 2035 | W5: =V9+1 -> 2040 | X5: =W9+1 -> 2045 | Y5: =X9+1 -> 2050 | AG5: =AF$11+1 -> 2030 | AH5: =AG9+1 -> 2035 | AI5: =AH9+1 -> 2040 | AJ5: =AI9+1 -> 2045 | AK5: =AJ9+1 -> 2050
U6: =U5+1 -> 2031 | V6: =V5+1 -> 2036 | W6: =W5+1 -> 2041 | X6: =X5+1 -> 2046 | Y6: =Y5+1 -> 2051 | AG6: =AG5+1 -> 2031 | AH6: =AH5+1 -> 2036 | AI6: =AI5+1 -> 2041 | AJ6: =AJ5+1 -> 2046 | AK6: =AK5+1 -> 2051
H7: CY | U7: =U6+1 -> 2032 | V7: =V6+1 -> 2037 | W7: =W6+1 -> 2042 | X7: =X6+1 -> 2047 | Y7: =Y6+1 -> 2052 | AG7: =AG6+1 -> 2032 | AH7: =AH6+1 -> 2037 | AI7: =AI6+1 -> 2042 | AJ7: =AJ6+1 -> 2047 | AK7: =AK6+1 -> 2052
U8: =U7+1 -> 2033 | V8: =V7+1 -> 2038 | W8: =W7+1 -> 2043 | X8: =X7+1 -> 2048 | Y8: =Y7+1 -> 2053 | AG8: =AG7+1 -> 2033 | AH8: =AH7+1 -> 2038 | AI8: =AI7+1 -> 2043 | AJ8: =AJ7+1 -> 2048 | AK8: =AK7+1 -> 2053
U9: =U8+1 -> 2034 | V9: =V8+1 -> 2039 | W9: =W8+1 -> 2044 | X9: =X8+1 -> 2049 | Y9: =Y8+1 -> 2054 | AG9: =AG8+1 -> 2034 | AH9: =AH8+1 -> 2039 | AI9: =AI8+1 -> 2044 | AJ9: =AJ8+1 -> 2049 | AK9: =AK8+1 -> 2054
G10: Yes | H10: =B2 -> 2024 | I10: adj2024 | L10: =H10+1 -> 2025 | O10: Principal Payments | AA10: Interest and Executory Costs | AQ10: (ACFR Only)
A11: Lease ID | B11: Type of Debt/Lease | C11: Agency | D11: Interest Rate | E11: Asset Retired in Current Year? | F11: ="Debt Outstanding 6/30/"& (RIGHT(B2,2)-1) -> Debt Outstanding 6/30/23 | G11: Increases/ (Revenue) | H11: Decreases/ (Expenditures) | I11: Adjustments | J11: ="Debt Outstanding 6/30/"& RIGHT(B2,2) -> Debt Outstanding 6/30/24 | K11: x | L11: Due Within One Year | M11: Net Long-Term Liability | N11: x | O11: =B2 -> 2024 | P11: =O11+1 -> 2025 | Q11: =P11+1 -> 2026 | R11: =Q11+1 -> 2027 | S11: =R11+1 -> 2028 | T11: =S11+1 -> 2029 | U11: =T11+1&" - "&T11+5 -> 2030 - 2034 | V11: =T11+6&" - "&T11+10 -> 2035 - 2039 | W11: =T11+11&" - "&T11+15 -> 2040 - 2044 | X11: =T11+16&" - "&T11+20 -> 2045 - 2049 | Y11: =T11+21&" - "&T11+25 -> 2050 - 2054 | Z11: Total Future Principal Payments | AA11: =O11 -> 2024 | AB11: =P11 -> 2025 | AC11: =Q11 -> 2026 | AD11: =R11 -> 2027 | AE11: =S11 -> 2028 | AF11: =T11 -> 2029 | AG11: =U11 -> 2030 - 2034 | AH11: =V11 -> 2035 - 2039 | ... AK11: =Y11 -> 2050 - 2054 | AL11: Total Future Interest & Executory Costs | AM11: Total Payments Less Interest & Executory Costs | AN11: GL Account Principal | AO11: GL Account Interest | AP11: GL Account Executory | AQ11: GL Account Revenue | AR11: GL Account Current | AS11: GL Account Non-Current | AT11: ACFR BA | AU11: Does column I = the sum of future payments? | AV11: Asset Number
A12: 123 | B12: SBITA | C12: =$B$1 -> E120 | D12: 0.035 | F12: 0 | G12: =SUMIFS('Payment Schedule'!Y:Y,'Payment Schedule'!J:J,$G$10,'Payment Schedule'!D:D,A:A) -> 376073.65 | H12: =-SUMIFS('Payment Schedule'!M:M,'Payment Schedule'!K:K,$H$10,'Payment Schedule'!D:D,A:A) -> -138227.05 | I12: =-SUMIFS('Payment Schedule'!M:M,'Payment Schedule'!K:K,$I$10,'Payment Schedule'!D:D,A:A) -> 0 | J12: =SUM(F12:I12) -> 237846.6 | L12: =SUMIFS('Payment Schedule'!M:M,'Payment Schedule'!K:K,$L$10,'Payment Schedule'!D:D,A:A) -> 147698.38 | M12: =J12-L12 -> 90148.22 | N12: =ROUND(SUM(P12:Y12),0)=ROUND(J12,0) -> TRUE | O12: =SUMIFS('Payment Schedule'!$M:$M,'Payment Schedule'!$K:$K,O$11,'Payment Schedule'!$D:$D,$A:$A) -> 138227.05 | P12: =SUMIFS('Payment Schedule'!$M:$M,'Payment Schedule'!$K:$K,P$11,'Payment Schedule'!$D:$D,$A:$A) -> 147698.38 | Q12: =SUMIFS('Payment Schedule'!$M:$M,'Payment Schedule'!$K:$K,Q$11,'Payment Schedule'!$D:$D,$A:$A) -> 90148.22 | R12: =SUMIFS('Payment Schedule'!$M:$M,'Payment Schedule'!$K:$K,R$11,'Payment Schedule'!$D:$D,$A:$A) -> 0 | S12: =SUMIFS('Payment Schedule'!$M:$M,'Payment Schedule'!$K:$K,S$11,'Payment Schedule'!$D:$D,$A:$A) -> 0 | T12: =SUMIFS('Payment Schedule'!$M:$M,'Payment Schedule'!$K:$K,T$11,'Payment Schedule'!$D:$D,$A:$A) -> 0 | U12: =SUMIFS('Payment Schedule'!$M:$M,'Payment Schedule'!$K:$K,U$5,'Payment Schedule'!$D:$D,$A:$A)+SUMIFS('Payment Schedule'!$M:$M,'Payment Schedule'!$K:$K,U$6,'Payment Schedule'!$D:$D,$A:$A)+SUMIFS('Payment Schedule'!$M:$M,'Payment Schedule'!$K:$K,U$7,'Payment Schedule'!$D:$D,$A:$A)+SUMIFS('Payment Schedule'!$M:$M,'Payment Schedule'!$K:$K,U$8,'Payment Schedule'!$D:$D,$A:$A)+SUMIFS('Payment Schedule'!$M:$M,'Payment Schedule'!$K:$K,U$9,'Payment Schedule'!$D:$D,$A:$A) -> 0 | V12: =SUMIFS('Payment Schedule'!$M:$M,'Payment Schedule'!$K:$K,V$5,'Payment Schedule'!$D:$D,$A:$A)+SUMIFS('Payment Schedule'!$M:$M,'Payment Schedule'!$K:$K,V$6,'Payment Schedule'!$D:$D,$A:$A)+SUMIFS('Payment Schedule'!$M:$M,'Payment Schedule'!$K:$K,V$7,'Payment Schedule'!$D:$D,$A:$A)+SUMIFS('Payment Schedule'!$M:$M,'Payment Schedule'!$K:$K,V$8,'Payment Schedule'!$D:$D,$A:$A)+SUMIFS('Payment Schedule'!$M:$M,'Payment Schedule'!$K:$K,V$9,'Payment Schedule'!$D:$D,$A:$A) -> 0 | W12: =SUMIFS('Payment Schedule'!$M:$M,'Payment Schedule'!$K:$K,W$5,'Payment Schedule'!$D:$D,$A:$A)+SUMIFS('Payment Schedule'!$M:$M,'Payment Schedule'!$K:$K,W$6,'Payment Schedule'!$D:$D,$A:$A)+SUMIFS('Payment Schedule'!$M:$M,'Payment Schedule'!$K:$K,W$7,'Payment Schedule'!$D:$D,$A:$A)+SUMIFS('Payment Schedule'!$M:$M,'Payment Schedule'!$K:$K,W$8,'Payment Schedule'!$D:$D,$A:$A)+SUMIFS('Payment Schedule'!$M:$M,'Payment Schedule'!$K:$K,W$9,'Payment Schedule'!$D:$D,$A:$A) -> 0 | X12: =SUMIFS('Payment Schedule'!$M:$M,'Payment Schedule'!$K:$K,X$5,'Payment Schedule'!$D:$D,$A:$A)+SUMIFS('Payment Schedule'!$M:$M,'Payment Schedule'!$K:$K,X$6,'Payment Schedule'!$D:$D,$A:$A)+SUMIFS('Payment Schedule'!$M:$M,'Payment Schedule'!$K:$K,X$7,'Payment Schedule'!$D:$D,$A:$A)+SUMIFS('Payment Schedule'!$M:$M,'Payment Schedule'!$K:$K,X$8,'Payment Schedule'!$D:$D,$A:$A)+SUMIFS('Payment Schedule'!$M:$M,'Payment Schedule'!$K:$K,X$9,'Payment Schedule'!$D:$D,$A:$A) -> 0 | Y12: =SUMIFS('Payment Schedule'!$M:$M,'Payment Schedule'!$K:$K,Y$5,'Payment Schedule'!$D:$D,$A:$A)+SUMIFS('Payment Schedule'!$M:$M,'Payment Schedule'!$K:$K,Y$6,'Payment Schedule'!$D:$D,$A:$A)+SUMIFS('Payment Schedule'!$M:$M,'Payment Schedule'!$K:$K,Y$7,'Payment Schedule'!$D:$D,$A:$A)+SUMIFS('Payment Schedule'!$M:$M,'Payment Schedule'!$K:$K,Y$8,'Payment Schedule'!$D:$D,$A:$A)+SUMIFS('Payment Schedule'!$M:$M,'Payment Schedule'!$K:$K,Y$9,'Payment Schedule'!$D:$D,$A:$A) -> 0 | Z12: =SUM(P12:Y12) -> 237846.6 | AA12: =SUMIFS('Payment Schedule'!$N:$N,'Payment Schedule'!$K:$K,AA$11,'Payment Schedule'!$D:$D,$A:$A)+SUMIFS('Payment Schedule'!$O:$O,'Payment Schedule'!$K:$K,AA$11,'Payment Schedule'!$D:$D,$A:$A) -> 10977.95 | AB12: =SUMIFS('Payment Schedule'!$N:$N,'Payment Schedule'!$K:$K,AB$11,'Payment Schedule'!$D:$D,$A:$A)+SUMIFS('Payment Schedule'!$O:$O,'Payment Schedule'!$K:$K,AB$11,'Payment Schedule'!$D:$D,$A:$A) -> 5989.62 | AC12: =SUMIFS('Payment Schedule'!$N:$N,'Payment Schedule'!$K:$K,AC$11,'Payment Schedule'!$D:$D,$A:$A)+SUMIFS('Payment Schedule'!$O:$O,'Payment Schedule'!$K:$K,AC$11,'Payment Schedule'!$D:$D,$A:$A) -> 1054.78 | AD12: =SUMIFS('Payment Schedule'!$N:$N,'Payment Schedule'!$K:$K,AD$11,'Payment Schedule'!$D:$D,$A:$A)+SUMIFS('Payment Schedule'!$O:$O,'Payment Schedule'!$K:$K,AD$11,'Payment Schedule'!$D:$D,$A:$A) -> 0 | AE12: =SUMIFS('Payment Schedule'!$N:$N,'Payment Schedule'!$K:$K,AE$11,'Payment Schedule'!$D:$D,$A:$A)+SUMIFS('Payment Schedule'!$O:$O,'Payment Schedule'!$K:$K,AE$11,'Payment Schedule'!$D:$D,$A:$A) -> 0 | AF12: =SUMIFS('Payment Schedule'!$N:$N,'Payment Schedule'!$K:$K,AF$11,'Payment Schedule'!$D:$D,$A:$A)+SUMIFS('Payment Schedule'!$O:$O,'Payment Schedule'!$K:$K,AF$11,'Payment Schedule'!$D:$D,$A:$A) -> 0 | AG12: =SUMIFS('Payment Schedule'!$N:$N,'Payment Schedule'!$K:$K,AG$5,'Payment Schedule'!$D:$D,$A:$A)+SUMIFS('Payment Schedule'!$N:$N,'Payment Schedule'!$K:$K,AG$6,'Payment Schedule'!$D:$D,$A:$A)+SUMIFS('Payment Schedule'!$N:$N,'Payment Schedule'!$K:$K,AG$7,'Payment Schedule'!$D:$D,$A:$A)+SUMIFS('Payment Schedule'!$N:$N,'Payment Schedule'!$K:$K,AG$8,'Payment Schedule'!$D:$D,$A:$A)+SUMIFS('Payment Schedule'!$N:$N,'Payment Schedule'!$K:$K,AG$9,'Payment Schedule'!$D:$D,$A:$A)+SUMIFS('Payment Schedule'!$O:$O,'Payment Schedule'!$K:$K,AG$5,'Payment Schedule'!$D:$D,$A:$A)+SUMIFS('Payment Schedule'!$O:$O,'Payment Schedule'!$K:$K,AG$6,'Payment Schedule'!$D:$D,$A:$A)+SUMIFS('Payment Schedule'!$O:$O,'Payment Schedule'!$K:$K,AG$7,'Payment Schedule'!$D:$D,$A:$A)+SUMIFS('Payment Schedule'!$O:$O,'Payment Schedule'!$K:$K,AG$8,'Payment Schedule'!$D:$D,$A:$A)+SUMIFS('Payment Schedule'!$O:$O,'Payment Schedule'!$K:$K,AG$9,'Payment Schedule'!$D:$D,$A:$A) -> 0 | AH12: =SUMIFS('Payment Schedule'!$N:$N,'Payment Schedule'!$K:$K,AH$5,'Payment Schedule'!$D:$D,$A:$A)+SUMIFS('Payment Schedule'!$N:$N,'Payment Schedule'!$K:$K,AH$6,'Payment Schedule'!$D:$D,$A:$A)+SUMIFS('Payment Schedule'!$N:$N,'Payment Schedule'!$K:$K,AH$7,'Payment Schedule'!$D:$D,$A:$A)+SUMIFS('Payment Schedule'!$N:$N,'Payment Schedule'!$K:$K,AH$8,'Payment Schedule'!$D:$D,$A:$A)+SUMIFS('Payment Schedule'!$N:$N,'Payment Schedule'!$K:$K,AH$9,'Payment Schedule'!$D:$D,$A:$A)+SUMIFS('Payment Schedule'!$O:$O,'Payment Schedule'!$K:$K,AH$5,'Payment Schedule'!$D:$D,$A:$A)+SUMIFS('Payment Schedule'!$O:$O,'Payment Schedule'!$K:$K,AH$6,'Payment Schedule'!$D:$D,$A:$A)+SUMIFS('Payment Schedule'!$O:$O,'Payment Schedule'!$K:$K,AH$7,'Payment Schedule'!$D:$D,$A:$A)+SUMIFS('Payment Schedule'!$O:$O,'Payment Schedule'!$K:$K,AH$8,'Payment Schedule'!$D:$D,$A:$A)+SUMIFS('Payment Schedule'!$O:$O,'Payment Schedule'!$K:$K,AH$9,'Payment Schedule'!$D:$D,$A:$A) -> 0 | AI12: =SUMIFS('Payment Schedule'!$N:$N,'Payment Schedule'!$K:$K,AI$5,'Payment Schedule'!$D:$D,$A:$A)+SUMIFS('Payment Schedule'!$N:$N,'Payment Schedule'!$K:$K,AI$6,'Payment Schedule'!$D:$D,$A:$A)+SUMIFS('Payment Schedule'!$N:$N,'Payment Schedule'!$K:$K,AI$7,'Payment Schedule'!$D:$D,$A:$A)+SUMIFS('Payment Schedule'!$N:$N,'Payment Schedule'!$K:$K,AI$8,'Payment Schedule'!$D:$D,$A:$A)+SUMIFS('Payment Schedule'!$N:$N,'Payment Schedule'!$K:$K,AI$9,'Payment Schedule'!$D:$D,$A:$A)+SUMIFS('Payment Schedule'!$O:$O,'Payment Schedule'!$K:$K,AI$5,'Payment Schedule'!$D:$D,$A:$A)+SUMIFS('Payment Schedule'!$O:$O,'Payment Schedule'!$K:$K,AI$6,'Payment Schedule'!$D:$D,$A:$A)+SUMIFS('Payment Schedule'!$O:$O,'Payment Schedule'!$K:$K,AI$7,'Payment Schedule'!$D:$D,$A:$A)+SUMIFS('Payment Schedule'!$O:$O,'Payment Schedule'!$K:$K,AI$8,'Payment Schedule'!$D:$D,$A:$A)+SUMIFS('Payment Schedule'!$O:$O,'Payment Schedule'!$K:$K,AI$9,'Payment Schedule'!$D:$D,$A:$A) -> 0 | AJ12: =SUMIFS('Payment Schedule'!$N:$N,'Payment Schedule'!$K:$K,AJ$5,'Payment Schedule'!$D:$D,$A:$A)+SUMIFS('Payment Schedule'!$N:$N,'Payment Schedule'!$K:$K,AJ$6,'Payment Schedule'!$D:$D,$A:$A)+SUMIFS('Payment Schedule'!$N:$N,'Payment Schedule'!$K:$K,AJ$7,'Payment Schedule'!$D:$D,$A:$A)+SUMIFS('Payment Schedule'!$N:$N,'Payment Schedule'!$K:$K,AJ$8,'Payment Schedule'!$D:$D,$A:$A)+SUMIFS('Payment Schedule'!$N:$N,'Payment Schedule'!$K:$K,AJ$9,'Payment Schedule'!$D:$D,$A:$A)+SUMIFS('Payment Schedule'!$O:$O,'Payment Schedule'!$K:$K,AJ$5,'Payment Schedule'!$D:$D,$A:$A)+SUMIFS('Payment Schedule'!$O:$O,'Payment Schedule'!$K:$K,AJ$6,'Payment Schedule'!$D:$D,$A:$A)+SUMIFS('Payment Schedule'!$O:$O,'Payment Schedule'!$K:$K,AJ$7,'Payment Schedule'!$D:$D,$A:$A)+SUMIFS('Payment Schedule'!$O:$O,'Payment Schedule'!$K:$K,AJ$8,'Payment Schedule'!$D:$D,$A:$A)+SUMIFS('Payment Schedule'!$O:$O,'Payment Schedule'!$K:$K,AJ$9,'Payment Schedule'!$D:$D,$A:$A) -> 0 | AK12: =SUMIFS('Payment Schedule'!$N:$N,'Payment Schedule'!$K:$K,AK$5,'Payment Schedule'!$D:$D,$A:$A)+SUMIFS('Payment Schedule'!$N:$N,'Payment Schedule'!$K:$K,AK$6,'Payment Schedule'!$D:$D,$A:$A)+SUMIFS('Payment Schedule'!$N:$N,'Payment Schedule'!$K:$K,AK$7,'Payment Schedule'!$D:$D,$A:$A)+SUMIFS('Payment Schedule'!$N:$N,'Payment Schedule'!$K:$K,AK$8,'Payment Schedule'!$D:$D,$A:$A)+SUMIFS('Payment Schedule'!$N:$N,'Payment Schedule'!$K:$K,AK$9,'Payment Schedule'!$D:$D,$A:$A)+SUMIFS('Payment Schedule'!$O:$O,'Payment Schedule'!$K:$K,AK$5,'Payment Schedule'!$D:$D,$A:$A)+SUMIFS('Payment Schedule'!$O:$O,'Payment Schedule'!$K:$K,AK$6,'Payment Schedule'!$D:$D,$A:$A)+SUMIFS('Payment Schedule'!$O:$O,'Payment Schedule'!$K:$K,AK$7,'Payment Schedule'!$D:$D,$A:$A)+SUMIFS('Payment Schedule'!$O:$O,'Payment Schedule'!$K:$K,AK$8,'Payment Schedule'!$D:$D,$A:$A)+SUMIFS('Payment Schedule'!$O:$O,'Payment Schedule'!$K:$K,AK$9,'Payment Schedule'!$D:$D,$A:$A) -> 0 | AL12: =SUM(AB12:AK12) -> 7044.4 | AM12: =Z12-AL12 -> 230802.2 | AN12: =IFERROR(VLOOKUP($B:$B,'Lease Types with GL Accts'!$A:$B,2,FALSE),0) -> 5041827000 | AO12: =IFERROR(VLOOKUP($B:$B,'Lease Types with GL Accts'!$A:$C,3,FALSE),0) -> 5041837000 | AP12: =IFERROR(VLOOKUP($B:$B,'Lease Types with GL Accts'!$A:$D,4,FALSE),0) -> 5041817000 | AT12: =VLOOKUP(C:C,'ACFR Business Areas'!A:C,3) -> A000 | AU12: =ROUND(SUM(P12:U12),0)-ROUND(J12,0) -> 0 | AV12: =IFERROR(VLOOKUP(A12,'Payment Schedule'!D:U,18,FALSE),0) -> 260000000123
A13: 1234 | B13: SBITA | C13: =$B$1 -> E120 | D13: 0.055 | F13: 0 | G13: =SUMIFS('Payment Schedule'!Y:Y,'Payment Schedule'!J:J,$G$10,'Payment Schedule'!D:D,A:A) -> 266060.73 | H13: =-SUMIFS('Payment Schedule'!M:M,'Payment Schedule'!K:K,$H$10,'Payment Schedule'!D:D,A:A) -> -140653.72 | I13: =-SUMIFS('Payment Schedule'!M:M,'Payment Schedule'!K:K,$I$10,'Payment Schedule'!D:D,A:A) -> 0 | J13: =SUM(F13:I13) -> 125407.01 | L13: =SUMIFS('Payment Schedule'!M:M,'Payment Schedule'!K:K,$L$10,'Payment Schedule'!D:D,A:A) -> 125407.01 | M13: =J13-L13 -> 0 | N13: =ROUND(SUM(P13:Y13),0)=ROUND(J13,0) -> TRUE | O13: =SUMIFS('Payment Schedule'!$M:$M,'Payment Schedule'!$K:$K,O$11,'Payment Schedule'!$D:$D,$A:$A) -> 140653.72 | P13: =SUMIFS('Payment Schedule'!$M:$M,'Payment Schedule'!$K:$K,P$11,'Payment Schedule'!$D:$D,$A:$A) -> 125407.01 | Q13: =SUMIFS('Payment Schedule'!$M:$M,'Payment Schedule'!$K:$K,Q$11,'Payment Schedule'!$D:$D,$A:$A) -> 0 | R13: =SUMIFS('Payment Schedule'!$M:$M,'Payment Schedule'!$K:$K,R$11,'Payment Schedule'!$D:$D,$A:$A) -> 0 | S13: =SUMIFS('Payment Schedule'!$M:$M,'Payment Schedule'!$K:$K,S$11,'Payment Schedule'!$D:$D,$A:$A) -> 0 | T13: =SUMIFS('Payment Schedule'!$M:$M,'Payment Schedule'!$K:$K,T$11,'Payment Schedule'!$D:$D,$A:$A) -> 0 | U13: =SUMIFS('Payment Schedule'!$M:$M,'Payment Schedule'!$K:$K,U$5,'Payment Schedule'!$D:$D,$A:$A)+SUMIFS('Payment Schedule'!$M:$M,'Payment Schedule'!$K:$K,U$6,'Payment Schedule'!$D:$D,$A:$A)+SUMIFS('Payment Schedule'!$M:$M,'Payment Schedule'!$K:$K,U$7,'Payment Schedule'!$D:$D,$A:$A)+SUMIFS('Payment Schedule'!$M:$M,'Payment Schedule'!$K:$K,U$8,'Payment Schedule'!$D:$D,$A:$A)+SUMIFS('Payment Schedule'!$M:$M,'Payment Schedule'!$K:$K,U$9,'Payment Schedule'!$D:$D,$A:$A) -> 0 | V13: =SUMIFS('Payment Schedule'!$M:$M,'Payment Schedule'!$K:$K,V$5,'Payment Schedule'!$D:$D,$A:$A)+SUMIFS('Payment Schedule'!$M:$M,'Payment Schedule'!$K:$K,V$6,'Payment Schedule'!$D:$D,$A:$A)+SUMIFS('Payment Schedule'!$M:$M,'Payment Schedule'!$K:$K,V$7,'Payment Schedule'!$D:$D,$A:$A)+SUMIFS('Payment Schedule'!$M:$M,'Payment Schedule'!$K:$K,V$8,'Payment Schedule'!$D:$D,$A:$A)+SUMIFS('Payment Schedule'!$M:$M,'Payment Schedule'!$K:$K,V$9,'Payment Schedule'!$D:$D,$A:$A) -> 0 | W13: =SUMIFS('Payment Schedule'!$M:$M,'Payment Schedule'!$K:$K,W$5,'Payment Schedule'!$D:$D,$A:$A)+SUMIFS('Payment Schedule'!$M:$M,'Payment Schedule'!$K:$K,W$6,'Payment Schedule'!$D:$D,$A:$A)+SUMIFS('Payment Schedule'!$M:$M,'Payment Schedule'!$K:$K,W$7,'Payment Schedule'!$D:$D,$A:$A)+SUMIFS('Payment Schedule'!$M:$M,'Payment Schedule'!$K:$K,W$8,'Payment Schedule'!$D:$D,$A:$A)+SUMIFS('Payment Schedule'!$M:$M,'Payment Schedule'!$K:$K,W$9,'Payment Schedule'!$D:$D,$A:$A) -> 0 | X13: =SUMIFS('Payment Schedule'!$M:$M,'Payment Schedule'!$K:$K,X$5,'Payment Schedule'!$D:$D,$A:$A)+SUMIFS('Payment Schedule'!$M:$M,'Payment Schedule'!$K:$K,X$6,'Payment Schedule'!$D:$D,$A:$A)+SUMIFS('Payment Schedule'!$M:$M,'Payment Schedule'!$K:$K,X$7,'Payment Schedule'!$D:$D,$A:$A)+SUMIFS('Payment Schedule'!$M:$M,'Payment Schedule'!$K:$K,X$8,'Payment Schedule'!$D:$D,$A:$A)+SUMIFS('Payment Schedule'!$M:$M,'Payment Schedule'!$K:$K,X$9,'Payment Schedule'!$D:$D,$A:$A) -> 0 | Y13: =SUMIFS('Payment Schedule'!$M:$M,'Payment Schedule'!$K:$K,Y$5,'Payment Schedule'!$D:$D,$A:$A)+SUMIFS('Payment Schedule'!$M:$M,'Payment Schedule'!$K:$K,Y$6,'Payment Schedule'!$D:$D,$A:$A)+SUMIFS('Payment Schedule'!$M:$M,'Payment Schedule'!$K:$K,Y$7,'Payment Schedule'!$D:$D,$A:$A)+SUMIFS('Payment Schedule'!$M:$M,'Payment Schedule'!$K:$K,Y$8,'Payment Schedule'!$D:$D,$A:$A)+SUMIFS('Payment Schedule'!$M:$M,'Payment Schedule'!$K:$K,Y$9,'Payment Schedule'!$D:$D,$A:$A) -> 0 | Z13: =SUM(P13:Y13) -> 125407.01 | AA13: =SUMIFS('Payment Schedule'!$N:$N,'Payment Schedule'!$K:$K,AA$11,'Payment Schedule'!$D:$D,$A:$A)+SUMIFS('Payment Schedule'!$O:$O,'Payment Schedule'!$K:$K,AA$11,'Payment Schedule'!$D:$D,$A:$A) -> 11134.28 | AB13: =SUMIFS('Payment Schedule'!$N:$N,'Payment Schedule'!$K:$K,AB$11,'Payment Schedule'!$D:$D,$A:$A)+SUMIFS('Payment Schedule'!$O:$O,'Payment Schedule'!$K:$K,AB$11,'Payment Schedule'!$D:$D,$A:$A) -> 3182.99 | AC13: =SUMIFS('Payment Schedule'!$N:$N,'Payment Schedule'!$K:$K,AC$11,'Payment Schedule'!$D:$D,$A:$A)+SUMIFS('Payment Schedule'!$O:$O,'Payment Schedule'!$K:$K,AC$11,'Payment Schedule'!$D:$D,$A:$A) -> 0 | AD13: =SUMIFS('Payment Schedule'!$N:$N,'Payment Schedule'!$K:$K,AD$11,'Payment Schedule'!$D:$D,$A:$A)+SUMIFS('Payment Schedule'!$O:$O,'Payment Schedule'!$K:$K,AD$11,'Payment Schedule'!$D:$D,$A:$A) -> 0 | AE13: =SUMIFS('Payment Schedule'!$N:$N,'Payment Schedule'!$K:$K,AE$11,'Payment Schedule'!$D:$D,$A:$A)+SUMIFS('Payment Schedule'!$O:$O,'Payment Schedule'!$K:$K,AE$11,'Payment Schedule'!$D:$D,$A:$A) -> 0 | AF13: =SUMIFS('Payment Schedule'!$N:$N,'Payment Schedule'!$K:$K,AF$11,'Payment Schedule'!$D:$D,$A:$A)+SUMIFS('Payment Schedule'!$O:$O,'Payment Schedule'!$K:$K,AF$11,'Payment Schedule'!$D:$D,$A:$A) -> 0 | AG13: =SUMIFS('Payment Schedule'!$N:$N,'Payment Schedule'!$K:$K,AG$5,'Payment Schedule'!$D:$D,$A:$A)+SUMIFS('Payment Schedule'!$N:$N,'Payment Schedule'!$K:$K,AG$6,'Payment Schedule'!$D:$D,$A:$A)+SUMIFS('Payment Schedule'!$N:$N,'Payment Schedule'!$K:$K,AG$7,'Payment Schedule'!$D:$D,$A:$A)+SUMIFS('Payment Schedule'!$N:$N,'Payment Schedule'!$K:$K,AG$8,'Payment Schedule'!$D:$D,$A:$A)+SUMIFS('Payment Schedule'!$N:$N,'Payment Schedule'!$K:$K,AG$9,'Payment Schedule'!$D:$D,$A:$A)+SUMIFS('Payment Schedule'!$O:$O,'Payment Schedule'!$K:$K,AG$5,'Payment Schedule'!$D:$D,$A:$A)+SUMIFS('Payment Schedule'!$O:$O,'Payment Schedule'!$K:$K,AG$6,'Payment Schedule'!$D:$D,$A:$A)+SUMIFS('Payment Schedule'!$O:$O,'Payment Schedule'!$K:$K,AG$7,'Payment Schedule'!$D:$D,$A:$A)+SUMIFS('Payment Schedule'!$O:$O,'Payment Schedule'!$K:$K,AG$8,'Payment Schedule'!$D:$D,$A:$A)+SUMIFS('Payment Schedule'!$O:$O,'Payment Schedule'!$K:$K,AG$9,'Payment Schedule'!$D:$D,$A:$A) -> 0 | AH13: =SUMIFS('Payment Schedule'!$N:$N,'Payment Schedule'!$K:$K,AH$5,'Payment Schedule'!$D:$D,$A:$A)+SUMIFS('Payment Schedule'!$N:$N,'Payment Schedule'!$K:$K,AH$6,'Payment Schedule'!$D:$D,$A:$A)+SUMIFS('Payment Schedule'!$N:$N,'Payment Schedule'!$K:$K,AH$7,'Payment Schedule'!$D:$D,$A:$A)+SUMIFS('Payment Schedule'!$N:$N,'Payment Schedule'!$K:$K,AH$8,'Payment Schedule'!$D:$D,$A:$A)+SUMIFS('Payment Schedule'!$N:$N,'Payment Schedule'!$K:$K,AH$9,'Payment Schedule'!$D:$D,$A:$A)+SUMIFS('Payment Schedule'!$O:$O,'Payment Schedule'!$K:$K,AH$5,'Payment Schedule'!$D:$D,$A:$A)+SUMIFS('Payment Schedule'!$O:$O,'Payment Schedule'!$K:$K,AH$6,'Payment Schedule'!$D:$D,$A:$A)+SUMIFS('Payment Schedule'!$O:$O,'Payment Schedule'!$K:$K,AH$7,'Payment Schedule'!$D:$D,$A:$A)+SUMIFS('Payment Schedule'!$O:$O,'Payment Schedule'!$K:$K,AH$8,'Payment Schedule'!$D:$D,$A:$A)+SUMIFS('Payment Schedule'!$O:$O,'Payment Schedule'!$K:$K,AH$9,'Payment Schedule'!$D:$D,$A:$A) -> 0 | AI13: =SUMIFS('Payment Schedule'!$N:$N,'Payment Schedule'!$K:$K,AI$5,'Payment Schedule'!$D:$D,$A:$A)+SUMIFS('Payment Schedule'!$N:$N,'Payment Schedule'!$K:$K,AI$6,'Payment Schedule'!$D:$D,$A:$A)+SUMIFS('Payment Schedule'!$N:$N,'Payment Schedule'!$K:$K,AI$7,'Payment Schedule'!$D:$D,$A:$A)+SUMIFS('Payment Schedule'!$N:$N,'Payment Schedule'!$K:$K,AI$8,'Payment Schedule'!$D:$D,$A:$A)+SUMIFS('Payment Schedule'!$N:$N,'Payment Schedule'!$K:$K,AI$9,'Payment Schedule'!$D:$D,$A:$A)+SUMIFS('Payment Schedule'!$O:$O,'Payment Schedule'!$K:$K,AI$5,'Payment Schedule'!$D:$D,$A:$A)+SUMIFS('Payment Schedule'!$O:$O,'Payment Schedule'!$K:$K,AI$6,'Payment Schedule'!$D:$D,$A:$A)+SUMIFS('Payment Schedule'!$O:$O,'Payment Schedule'!$K:$K,AI$7,'Payment Schedule'!$D:$D,$A:$A)+SUMIFS('Payment Schedule'!$O:$O,'Payment Schedule'!$K:$K,AI$8,'Payment Schedule'!$D:$D,$A:$A)+SUMIFS('Payment Schedule'!$O:$O,'Payment Schedule'!$K:$K,AI$9,'Payment Schedule'!$D:$D,$A:$A) -> 0 | AJ13: =SUMIFS('Payment Schedule'!$N:$N,'Payment Schedule'!$K:$K,AJ$5,'Payment Schedule'!$D:$D,$A:$A)+SUMIFS('Payment Schedule'!$N:$N,'Payment Schedule'!$K:$K,AJ$6,'Payment Schedule'!$D:$D,$A:$A)+SUMIFS('Payment Schedule'!$N:$N,'Payment Schedule'!$K:$K,AJ$7,'Payment Schedule'!$D:$D,$A:$A)+SUMIFS('Payment Schedule'!$N:$N,'Payment Schedule'!$K:$K,AJ$8,'Payment Schedule'!$D:$D,$A:$A)+SUMIFS('Payment Schedule'!$N:$N,'Payment Schedule'!$K:$K,AJ$9,'Payment Schedule'!$D:$D,$A:$A)+SUMIFS('Payment Schedule'!$O:$O,'Payment Schedule'!$K:$K,AJ$5,'Payment Schedule'!$D:$D,$A:$A)+SUMIFS('Payment Schedule'!$O:$O,'Payment Schedule'!$K:$K,AJ$6,'Payment Schedule'!$D:$D,$A:$A)+SUMIFS('Payment Schedule'!$O:$O,'Payment Schedule'!$K:$K,AJ$7,'Payment Schedule'!$D:$D,$A:$A)+SUMIFS('Payment Schedule'!$O:$O,'Payment Schedule'!$K:$K,AJ$8,'Payment Schedule'!$D:$D,$A:$A)+SUMIFS('Payment Schedule'!$O:$O,'Payment Schedule'!$K:$K,AJ$9,'Payment Schedule'!$D:$D,$A:$A) -> 0 | AK13: =SUMIFS('Payment Schedule'!$N:$N,'Payment Schedule'!$K:$K,AK$5,'Payment Schedule'!$D:$D,$A:$A)+SUMIFS('Payment Schedule'!$N:$N,'Payment Schedule'!$K:$K,AK$6,'Payment Schedule'!$D:$D,$A:$A)+SUMIFS('Payment Schedule'!$N:$N,'Payment Schedule'!$K:$K,AK$7,'Payment Schedule'!$D:$D,$A:$A)+SUMIFS('Payment Schedule'!$N:$N,'Payment Schedule'!$K:$K,AK$8,'Payment Schedule'!$D:$D,$A:$A)+SUMIFS('Payment Schedule'!$N:$N,'Payment Schedule'!$K:$K,AK$9,'Payment Schedule'!$D:$D,$A:$A)+SUMIFS('Payment Schedule'!$O:$O,'Payment Schedule'!$K:$K,AK$5,'Payment Schedule'!$D:$D,$A:$A)+SUMIFS('Payment Schedule'!$O:$O,'Payment Schedule'!$K:$K,AK$6,'Payment Schedule'!$D:$D,$A:$A)+SUMIFS('Payment Schedule'!$O:$O,'Payment Schedule'!$K:$K,AK$7,'Payment Schedule'!$D:$D,$A:$A)+SUMIFS('Payment Schedule'!$O:$O,'Payment Schedule'!$K:$K,AK$8,'Payment Schedule'!$D:$D,$A:$A)+SUMIFS('Payment Schedule'!$O:$O,'Payment Schedule'!$K:$K,AK$9,'Payment Schedule'!$D:$D,$A:$A) -> 0 | AL13: =SUM(AB13:AK13) -> 3182.99 | AM13: =Z13-AL13 -> 122224.02 | AN13: =IFERROR(VLOOKUP($B:$B,'Lease Types with GL Accts'!$A:$B,2,FALSE),0) -> 5041827000 | AO13: =IFERROR(VLOOKUP($B:$B,'Lease Types with GL Accts'!$A:$C,3,FALSE),0) -> 5041837000 | AP13: =IFERROR(VLOOKUP($B:$B,'Lease Types with GL Accts'!$A:$D,4,FALSE),0) -> 5041817000 | AT13: =VLOOKUP(C:C,'ACFR Business Areas'!A:C,3) -> A000 | AU13: =ROUND(SUM(P13:U13),0)-ROUND(J13,0) -> 0 | AV13: =IFERROR(VLOOKUP(A13,'Payment Schedule'!D:U,18,FALSE),0) -> 260000001234
A14: 12345 | B14: SBITA | C14: =$B$1 -> E120 | D14: 0.0475 | G14: =SUMIFS('Payment Schedule'!Y:Y,'Payment Schedule'!J:J,$G$10,'Payment Schedule'!D:D,A:A) -> 131346.66 | H14: =-SUMIFS('Payment Schedule'!M:M,'Payment Schedule'!K:K,$H$10,'Payment Schedule'!D:D,A:A) -> -45828.97 | I14: =-SUMIFS('Payment Schedule'!M:M,'Payment Schedule'!K:K,$I$10,'Payment Schedule'!D:D,A:A) -> 0 | J14: =SUM(F14:I14) -> 85517.69 | L14: =SUMIFS('Payment Schedule'!M:M,'Payment Schedule'!K:K,$L$10,'Payment Schedule'!D:D,A:A) -> 41766.88 | M14: =J14-L14 -> 43750.81 | N14: =ROUND(SUM(P14:Y14),0)=ROUND(J14,0) -> TRUE | O14: =SUMIFS('Payment Schedule'!$M:$M,'Payment Schedule'!$K:$K,O$11,'Payment Schedule'!$D:$D,$A:$A) -> 45828.97 | P14: =SUMIFS('Payment Schedule'!$M:$M,'Payment Schedule'!$K:$K,P$11,'Payment Schedule'!$D:$D,$A:$A) -> 41766.88 | Q14: =SUMIFS('Payment Schedule'!$M:$M,'Payment Schedule'!$K:$K,Q$11,'Payment Schedule'!$D:$D,$A:$A) -> 43750.81 | R14: =SUMIFS('Payment Schedule'!$M:$M,'Payment Schedule'!$K:$K,R$11,'Payment Schedule'!$D:$D,$A:$A) -> 0 | S14: =SUMIFS('Payment Schedule'!$M:$M,'Payment Schedule'!$K:$K,S$11,'Payment Schedule'!$D:$D,$A:$A) -> 0 | T14: =SUMIFS('Payment Schedule'!$M:$M,'Payment Schedule'!$K:$K,T$11,'Payment Schedule'!$D:$D,$A:$A) -> 0 | U14: =SUMIFS('Payment Schedule'!$M:$M,'Payment Schedule'!$K:$K,U$5,'Payment Schedule'!$D:$D,$A:$A)+SUMIFS('Payment Schedule'!$M:$M,'Payment Schedule'!$K:$K,U$6,'Payment Schedule'!$D:$D,$A:$A)+SUMIFS('Payment Schedule'!$M:$M,'Payment Schedule'!$K:$K,U$7,'Payment Schedule'!$D:$D,$A:$A)+SUMIFS('Payment Schedule'!$M:$M,'Payment Schedule'!$K:$K,U$8,'Payment Schedule'!$D:$D,$A:$A)+SUMIFS('Payment Schedule'!$M:$M,'Payment Schedule'!$K:$K,U$9,'Payment Schedule'!$D:$D,$A:$A) -> 0 | V14: =SUMIFS('Payment Schedule'!$M:$M,'Payment Schedule'!$K:$K,V$5,'Payment Schedule'!$D:$D,$A:$A)+SUMIFS('Payment Schedule'!$M:$M,'Payment Schedule'!$K:$K,V$6,'Payment Schedule'!$D:$D,$A:$A)+SUMIFS('Payment Schedule'!$M:$M,'Payment Schedule'!$K:$K,V$7,'Payment Schedule'!$D:$D,$A:$A)+SUMIFS('Payment Schedule'!$M:$M,'Payment Schedule'!$K:$K,V$8,'Payment Schedule'!$D:$D,$A:$A)+SUMIFS('Payment Schedule'!$M:$M,'Payment Schedule'!$K:$K,V$9,'Payment Schedule'!$D:$D,$A:$A) -> 0 | W14: =SUMIFS('Payment Schedule'!$M:$M,'Payment Schedule'!$K:$K,W$5,'Payment Schedule'!$D:$D,$A:$A)+SUMIFS('Payment Schedule'!$M:$M,'Payment Schedule'!$K:$K,W$6,'Payment Schedule'!$D:$D,$A:$A)+SUMIFS('Payment Schedule'!$M:$M,'Payment Schedule'!$K:$K,W$7,'Payment Schedule'!$D:$D,$A:$A)+SUMIFS('Payment Schedule'!$M:$M,'Payment Schedule'!$K:$K,W$8,'Payment Schedule'!$D:$D,$A:$A)+SUMIFS('Payment Schedule'!$M:$M,'Payment Schedule'!$K:$K,W$9,'Payment Schedule'!$D:$D,$A:$A) -> 0 | X14: =SUMIFS('Payment Schedule'!$M:$M,'Payment Schedule'!$K:$K,X$5,'Payment Schedule'!$D:$D,$A:$A)+SUMIFS('Payment Schedule'!$M:$M,'Payment Schedule'!$K:$K,X$6,'Payment Schedule'!$D:$D,$A:$A)+SUMIFS('Payment Schedule'!$M:$M,'Payment Schedule'!$K:$K,X$7,'Payment Schedule'!$D:$D,$A:$A)+SUMIFS('Payment Schedule'!$M:$M,'Payment Schedule'!$K:$K,X$8,'Payment Schedule'!$D:$D,$A:$A)+SUMIFS('Payment Schedule'!$M:$M,'Payment Schedule'!$K:$K,X$9,'Payment Schedule'!$D:$D,$A:$A) -> 0 | Y14: =SUMIFS('Payment Schedule'!$M:$M,'Payment Schedule'!$K:$K,Y$5,'Payment Schedule'!$D:$D,$A:$A)+SUMIFS('Payment Schedule'!$M:$M,'Payment Schedule'!$K:$K,Y$6,'Payment Schedule'!$D:$D,$A:$A)+SUMIFS('Payment Schedule'!$M:$M,'Payment Schedule'!$K:$K,Y$7,'Payment Schedule'!$D:$D,$A:$A)+SUMIFS('Payment Schedule'!$M:$M,'Payment Schedule'!$K:$K,Y$8,'Payment Schedule'!$D:$D,$A:$A)+SUMIFS('Payment Schedule'!$M:$M,'Payment Schedule'!$K:$K,Y$9,'Payment Schedule'!$D:$D,$A:$A) -> 0 | Z14: =SUM(P14:Y14) -> 85517.69 | AA14: =SUMIFS('Payment Schedule'!$N:$N,'Payment Schedule'!$K:$K,AA$11,'Payment Schedule'!$D:$D,$A:$A)+SUMIFS('Payment Schedule'!$O:$O,'Payment Schedule'!$K:$K,AA$11,'Payment Schedule'!$D:$D,$A:$A) -> 0 | AB14: =SUMIFS('Payment Schedule'!$N:$N,'Payment Schedule'!$K:$K,AB$11,'Payment Schedule'!$D:$D,$A:$A)+SUMIFS('Payment Schedule'!$O:$O,'Payment Schedule'!$K:$K,AB$11,'Payment Schedule'!$D:$D,$A:$A) -> 4062.09 | AC14: =SUMIFS('Payment Schedule'!$N:$N,'Payment Schedule'!$K:$K,AC$11,'Payment Schedule'!$D:$D,$A:$A)+SUMIFS('Payment Schedule'!$O:$O,'Payment Schedule'!$K:$K,AC$11,'Payment Schedule'!$D:$D,$A:$A) -> 2078.16 | AD14: =SUMIFS('Payment Schedule'!$N:$N,'Payment Schedule'!$K:$K,AD$11,'Payment Schedule'!$D:$D,$A:$A)+SUMIFS('Payment Schedule'!$O:$O,'Payment Schedule'!$K:$K,AD$11,'Payment Schedule'!$D:$D,$A:$A) -> 0 | AE14: =SUMIFS('Payment Schedule'!$N:$N,'Payment Schedule'!$K:$K,AE$11,'Payment Schedule'!$D:$D,$A:$A)+SUMIFS('Payment Schedule'!$O:$O,'Payment Schedule'!$K:$K,AE$11,'Payment Schedule'!$D:$D,$A:$A) -> 0 | AF14: =SUMIFS('Payment Schedule'!$N:$N,'Payment Schedule'!$K:$K,AF$11,'Payment Schedule'!$D:$D,$A:$A)+SUMIFS('Payment Schedule'!$O:$O,'Payment Schedule'!$K:$K,AF$11,'Payment Schedule'!$D:$D,$A:$A) -> 0 | AG14: =SUMIFS('Payment Schedule'!$N:$N,'Payment Schedule'!$K:$K,AG$5,'Payment Schedule'!$D:$D,$A:$A)+SUMIFS('Payment Schedule'!$N:$N,'Payment Schedule'!$K:$K,AG$6,'Payment Schedule'!$D:$D,$A:$A)+SUMIFS('Payment Schedule'!$N:$N,'Payment Schedule'!$K:$K,AG$7,'Payment Schedule'!$D:$D,$A:$A)+SUMIFS('Payment Schedule'!$N:$N,'Payment Schedule'!$K:$K,AG$8,'Payment Schedule'!$D:$D,$A:$A)+SUMIFS('Payment Schedule'!$N:$N,'Payment Schedule'!$K:$K,AG$9,'Payment Schedule'!$D:$D,$A:$A)+SUMIFS('Payment Schedule'!$O:$O,'Payment Schedule'!$K:$K,AG$5,'Payment Schedule'!$D:$D,$A:$A)+SUMIFS('Payment Schedule'!$O:$O,'Payment Schedule'!$K:$K,AG$6,'Payment Schedule'!$D:$D,$A:$A)+SUMIFS('Payment Schedule'!$O:$O,'Payment Schedule'!$K:$K,AG$7,'Payment Schedule'!$D:$D,$A:$A)+SUMIFS('Payment Schedule'!$O:$O,'Payment Schedule'!$K:$K,AG$8,'Payment Schedule'!$D:$D,$A:$A)+SUMIFS('Payment Schedule'!$O:$O,'Payment Schedule'!$K:$K,AG$9,'Payment Schedule'!$D:$D,$A:$A) -> 0 | AH14: =SUMIFS('Payment Schedule'!$N:$N,'Payment Schedule'!$K:$K,AH$5,'Payment Schedule'!$D:$D,$A:$A)+SUMIFS('Payment Schedule'!$N:$N,'Payment Schedule'!$K:$K,AH$6,'Payment Schedule'!$D:$D,$A:$A)+SUMIFS('Payment Schedule'!$N:$N,'Payment Schedule'!$K:$K,AH$7,'Payment Schedule'!$D:$D,$A:$A)+SUMIFS('Payment Schedule'!$N:$N,'Payment Schedule'!$K:$K,AH$8,'Payment Schedule'!$D:$D,$A:$A)+SUMIFS('Payment Schedule'!$N:$N,'Payment Schedule'!$K:$K,AH$9,'Payment Schedule'!$D:$D,$A:$A)+SUMIFS('Payment Schedule'!$O:$O,'Payment Schedule'!$K:$K,AH$5,'Payment Schedule'!$D:$D,$A:$A)+SUMIFS('Payment Schedule'!$O:$O,'Payment Schedule'!$K:$K,AH$6,'Payment Schedule'!$D:$D,$A:$A)+SUMIFS('Payment Schedule'!$O:$O,'Payment Schedule'!$K:$K,AH$7,'Payment Schedule'!$D:$D,$A:$A)+SUMIFS('Payment Schedule'!$O:$O,'Payment Schedule'!$K:$K,AH$8,'Payment Schedule'!$D:$D,$A:$A)+SUMIFS('Payment Schedule'!$O:$O,'Payment Schedule'!$K:$K,AH$9,'Payment Schedule'!$D:$D,$A:$A) -> 0 | AI14: =SUMIFS('Payment Schedule'!$N:$N,'Payment Schedule'!$K:$K,AI$5,'Payment Schedule'!$D:$D,$A:$A)+SUMIFS('Payment Schedule'!$N:$N,'Payment Schedule'!$K:$K,AI$6,'Payment Schedule'!$D:$D,$A:$A)+SUMIFS('Payment Schedule'!$N:$N,'Payment Schedule'!$K:$K,AI$7,'Payment Schedule'!$D:$D,$A:$A)+SUMIFS('Payment Schedule'!$N:$N,'Payment Schedule'!$K:$K,AI$8,'Payment Schedule'!$D:$D,$A:$A)+SUMIFS('Payment Schedule'!$N:$N,'Payment Schedule'!$K:$K,AI$9,'Payment Schedule'!$D:$D,$A:$A)+SUMIFS('Payment Schedule'!$O:$O,'Payment Schedule'!$K:$K,AI$5,'Payment Schedule'!$D:$D,$A:$A)+SUMIFS('Payment Schedule'!$O:$O,'Payment Schedule'!$K:$K,AI$6,'Payment Schedule'!$D:$D,$A:$A)+SUMIFS('Payment Schedule'!$O:$O,'Payment Schedule'!$K:$K,AI$7,'Payment Schedule'!$D:$D,$A:$A)+SUMIFS('Payment Schedule'!$O:$O,'Payment Schedule'!$K:$K,AI$8,'Payment Schedule'!$D:$D,$A:$A)+SUMIFS('Payment Schedule'!$O:$O,'Payment Schedule'!$K:$K,AI$9,'Payment Schedule'!$D:$D,$A:$A) -> 0 | AJ14: =SUMIFS('Payment Schedule'!$N:$N,'Payment Schedule'!$K:$K,AJ$5,'Payment Schedule'!$D:$D,$A:$A)+SUMIFS('Payment Schedule'!$N:$N,'Payment Schedule'!$K:$K,AJ$6,'Payment Schedule'!$D:$D,$A:$A)+SUMIFS('Payment Schedule'!$N:$N,'Payment Schedule'!$K:$K,AJ$7,'Payment Schedule'!$D:$D,$A:$A)+SUMIFS('Payment Schedule'!$N:$N,'Payment Schedule'!$K:$K,AJ$8,'Payment Schedule'!$D:$D,$A:$A)+SUMIFS('Payment Schedule'!$N:$N,'Payment Schedule'!$K:$K,AJ$9,'Payment Schedule'!$D:$D,$A:$A)+SUMIFS('Payment Schedule'!$O:$O,'Payment Schedule'!$K:$K,AJ$5,'Payment Schedule'!$D:$D,$A:$A)+SUMIFS('Payment Schedule'!$O:$O,'Payment Schedule'!$K:$K,AJ$6,'Payment Schedule'!$D:$D,$A:$A)+SUMIFS('Payment Schedule'!$O:$O,'Payment Schedule'!$K:$K,AJ$7,'Payment Schedule'!$D:$D,$A:$A)+SUMIFS('Payment Schedule'!$O:$O,'Payment Schedule'!$K:$K,AJ$8,'Payment Schedule'!$D:$D,$A:$A)+SUMIFS('Payment Schedule'!$O:$O,'Payment Schedule'!$K:$K,AJ$9,'Payment Schedule'!$D:$D,$A:$A) -> 0 | AK14: =SUMIFS('Payment Schedule'!$N:$N,'Payment Schedule'!$K:$K,AK$5,'Payment Schedule'!$D:$D,$A:$A)+SUMIFS('Payment Schedule'!$N:$N,'Payment Schedule'!$K:$K,AK$6,'Payment Schedule'!$D:$D,$A:$A)+SUMIFS('Payment Schedule'!$N:$N,'Payment Schedule'!$K:$K,AK$7,'Payment Schedule'!$D:$D,$A:$A)+SUMIFS('Payment Schedule'!$N:$N,'Payment Schedule'!$K:$K,AK$8,'Payment Schedule'!$D:$D,$A:$A)+SUMIFS('Payment Schedule'!$N:$N,'Payment Schedule'!$K:$K,AK$9,'Payment Schedule'!$D:$D,$A:$A)+SUMIFS('Payment Schedule'!$O:$O,'Payment Schedule'!$K:$K,AK$5,'Payment Schedule'!$D:$D,$A:$A)+SUMIFS('Payment Schedule'!$O:$O,'Payment Schedule'!$K:$K,AK$6,'Payment Schedule'!$D:$D,$A:$A)+SUMIFS('Payment Schedule'!$O:$O,'Payment Schedule'!$K:$K,AK$7,'Payment Schedule'!$D:$D,$A:$A)+SUMIFS('Payment Schedule'!$O:$O,'Payment Schedule'!$K:$K,AK$8,'Payment Schedule'!$D:$D,$A:$A)+SUMIFS('Payment Schedule'!$O:$O,'Payment Schedule'!$K:$K,AK$9,'Payment Schedule'!$D:$D,$A:$A) -> 0 | AL14: =SUM(AB14:AK14) -> 6140.25 | AM14: =Z14-AL14 -> 79377.44 | AN14: =IFERROR(VLOOKUP($B:$B,'Lease Types with GL Accts'!$A:$B,2,FALSE),0) -> 5041827000 | AO14: =IFERROR(VLOOKUP($B:$B,'Lease Types with GL Accts'!$A:$C,3,FALSE),0) -> 5041837000 | AP14: =IFERROR(VLOOKUP($B:$B,'Lease Types with GL Accts'!$A:$D,4,FALSE),0) -> 5041817000 | AT14: =VLOOKUP(C:C,'ACFR Business Areas'!A:C,3) -> A000 | AU14: =ROUND(SUM(P14:U14),0)-ROUND(J14,0) -> 0 | AV14: =IFERROR(VLOOKUP(A14,'Payment Schedule'!D:U,18,FALSE),0) -> 260000012345
